{"text_format":"1","workbook":"xlsx","n_sheets":45,"sheets":["INDEX","Revisions","RunOptions","Reconciliation","Revenue Requirement","Balance","Rate Base","Rev to Cost","Unit Costs","NPRateCalcs","Other Unit Costs","IslIntCos","LabIntCos","NLSOCos","AC","AS1","AS2","AS3","AS4","AS5 6","TrueUp","IslIsoCos","LabIsoCos","LALCos","Schedule 4.1","Schedules 4.2,4.3,4.4","AED","AllocDep","AllocMisc","AllocNBV","AllocPlt","Average Costs","Coverage","Customers","DistnDetails","LabourRatios","O&M Summary","SDEPDetails","SNBVDetails","SpecAssFuel","SPLTDetails","SystemizedPlant","IndexPlt","PrtRanges","Rev to Cost (OLD)"],"not_rendered":{"charts":0,"images":0,"macros":1,"external_links":5,"defined_names":3498,"comments":7,"pivot_tables":0},"unopened":[],"bounds":{"document_bytes":16777216,"sheet_cells":100000,"rows_first":2000,"rows_last":500,"rows_between":2000,"halvings":0,"cell_chars":16384,"cell_head_chars":4096},"cells_cut":0,"cells_raw":0,"read":"whole","date_system":"1900"}

{"sheet":"INDEX","index":0,"n_rows":106,"n_cols":4,"rows_kept":106,"cut":false,"hidden":false,"merged":[]}
[null,"NEWFOUNDLAND AND LABRADOR HYDRO"]
[null,"Cost of Service Model - Index"]
[]
[null,"Worksheet","Schedule","Description"]
[]
["A.","Model Integrity:"]
[null,"RunOptions",null,"Run options and model status"]
[null,"Reconciliation",null,"Reconciles General Ledger amounts to Cost of Service amounts."]
[null,"Balance",null,"Internal model balancing checks"]
[]
["B.","Cost of Service Schedules:"]
[null,"Revenue Requirement","Sch 1.1, p.1","Revenue Requirement"]
[]
[null,"Rate Base","Sch 1.1, p.2","Rate Base"]
[]
[null,"Rev to Cost","Sch 1.2","Comparison of Revenue and Allocated Revenue Requirement"]
[null,null,"Sch 1.2.1","Rural Deficit Allocation"]
[]
[null,"Unit Costs","Sch 1.3","Unit  Demand, Energy and Customer Amounts - all systems.  (Calculation of $/kWh and $/bill rates"]
[null,null,"Sch 1.3.1","Total Demand, Energy and Customer Amounts - all systems.  (Calculation of total $ per rate class)"]
[null,null,"Sch 1.3.2","Demands, Sales and Number of Bills - all systems.  (Units used to calculate unit rates)"]
[null,null,"Sch 1.4","Rate Calculations"]
[null,null,"Sch 1.5","Value of Newfoundland Power Thermal Generation Credit"]
[null,null,"Sch 1.6","Calculation of firming up charge"]
[null,null,"Sch 1.7","Calculation of wheeling charge"]
[]
[null,"IslIntCOS",null,"Island Interconnected System Functionalization, Classification and Allocation schedules"]
[null,null,null,"* (Documentation schedules are located to the right of the main schedule)"]
[null,null,"Sch 2.1A *","Functional Classification of Revenue Requirement"]
[null,null,"Sch 2.2A *","Functional Classification of Plant in Service for Allocation of O&M Expenses"]
[null,null,"Sch 2.3A","Functional Classification of Net Book Value"]
[null,null,"Sch 2.4A *","Functional Classification of Operating and Maintenance Expenses"]
[null,null,"Sch 2.5A","Functional Classification of Depreciation Expense"]
[null,null,"Sch 2.6A *","Functional Classification of Rate Base"]
[null,null,"Sch 3.1A","Basis of Allocation to Classes of Service"]
[null,null,"Sch 3.2A","Allocation of Functionalized Amounts to Classes of Service"]
[null,null,"Sch 3.3A","Allocation of Specifically Assigned Amounts to Classes of Service"]
[]
[null,"IslIsoCOS",null,"Island Isolated System Functionalization, Classification and Allocation schedules"]
[null,null,null,"* (Documentation schedules are located to the right of the main schedule)"]
[null,null,"Sch 2.1B *","Functional Classification of Revenue Requirement"]
[null,null,"Sch 2.2B *","Functional Classification of Plant in Service for Allocation of O&M Expenses"]
[null,null,"Sch 2.3B","Functional Classification of Net Book Value"]
[null,null,"Sch 2.4B *","Functional Classification of Operating and Maintenance Expenses"]
[null,null,"Sch 2.5B","Functional Classification of Depreciation Expense"]
[null,null,"Sch 2.6B *","Functional Classification of Rate Base"]
[null,null,"Sch 3.1B","Basis of Allocation to Classes of Service"]
[null,null,"Sch 3.2B","Allocation of Functionalized Amounts to Classes of Service"]
[]
[null,"LabIsoCOS",null,"Labrador Isolated System Functionalization, Classification and Allocation schedules"]
[null,null,null,"* (Documentation schedules are located to the right of the main schedule)"]
[null,null,"Sch 2.1C *","Functional Classification of Revenue Requirement"]
[null,null,"Sch 2.2C *","Functional Classification of Plant in Service for Allocation of O&M Expenses"]
[null,null,"Sch 2.3C","Functional Classification of Net Book Value"]
[null,null,"Sch 2.4C *","Functional Classification of Operating and Maintenance Expenses"]
[null,null,"Sch 2.5C","Functional Classification of Depreciation Expense"]
[null,null,"Sch 2.6C *","Functional Classification of Rate Base"]
[null,null,"Sch 3.1C","Basis of Allocation to Classes of Service"]
[null,null,"Sch 3.2C","Allocation of Functionalized Amounts to Classes of Service"]
[]
[null,"LALCOS",null,"L'Anse au Loup System Functionalization, Classification and Allocation schedules"]
[null,null,null,"* (Documentation schedules are located to the right of the main schedule)"]
[null,null,"Sch 2.1D *","Functional Classification of Revenue Requirement"]
[null,null,"Sch 2.2D *","Functional Classification of Plant in Service for Allocation of O&M Expenses"]
[null,null,"Sch 2.3D","Functional Classification of Net Book Value"]
[null,null,"Sch 2.4D *","Functional Classification of Operating and Maintenance Expenses"]
[null,null,"Sch 2.5D","Functional Classification of Depreciation Expense"]
[null,null,"Sch 2.6D *","Functional Classification of Rate Base"]
[null,null,"Sch 3.1D","Basis of Allocation to Classes of Service"]
[null,null,"Sch 3.2D","Allocation of Functionalized Amounts to Classes of Service"]
[]
[null,"LabIntCOS",null,"Labrador Interconnected System Functionalization, Classification and Allocation schedules"]
[null,null,null,"* (Documentation schedules are located to the right of the main schedule)"]
[null,null,"Sch 2.1E *","Functional Classification of Revenue Requirement"]
[null,null,"Sch 2.2E *","Functional Classification of Plant in Service for Allocation of O&M Expenses"]
[null,null,"Sch 2.3E","Functional Classification of Net Book Value"]
[null,null,"Sch 2.4E *","Functional Classification of Operating and Maintenance Expenses"]
[null,null,"Sch 2.5E","Functional Classification of Depreciation Expense"]
[null,null,"Sch 2.6E *","Functional Classification of Rate Base"]
[null,null,"Sch 3.1E","Basis of Allocation to Classes of Service"]
[null,null,"Sch 3.2E","Allocation of Functionalized Amounts to Classes of Service"]
[]
[null,"Schedule 4.1",null,"Functionalization and Classification Ratios"]
[]
[null,"Schedules 4.2,4.3,4.4","Sch 4.2","System Load Factors"]
[null,null,"Sch 4.3","Holyrood Capacity Factor"]
[null,null,"Sch 4.4","Power Purchases - Total System"]
[]
["C.","Backup Schedules"]
[]
[null,"AED",null,"Generation and Transmission Average and Excess Demand Ratios"]
[null,"AllocDep",null,"Reconciles Depreciation input with COS schedules."]
[null,"AllocMisc",null,"Performs O&M allocations, by function, across systems,  based on miscellaneous factors."]
[null,"AllocNBV",null,"Reconciles NBV input with COS schedules; Performs allocations based on Net Book Value"]
[null,"AllocPlt",null,"Reconciles Orig Cost Plt input with COS schedules; Performs allocations based on Orig Cost Plt"]
[null,"Average Costs",null,"Average Cost per kWh - all systems"]
[null,"Coverage",null,"Calculation of Gross Interest Coverage"]
[null,"Customers",null,"Schedule of customers and weighted customers"]
[null,"DistnDetails",null,"Factors used to split distribution assets"]
[null,"O&M Summary",null,"Summarization of O&M by system"]
[null,"SDEPDetails",null,"Supplemental depreciation details "]
[null,"SNBVDetails",null,"Supplemental net book value details"]
[null,"SpecAssFuel",null,"Schedule of specifically assigned fuel (used in exceptional circumstances)."]
[null,"SPLTDetails",null,"Supplemental original cost plant details"]
[null,"SystemizedPlant",null,"Performs Plant, NBV and depreciation allocations, across systems."]
[null,"Unit Costs",null,"Calculation of Thermal Demand Costs"]

{"sheet":"Revisions","index":1,"n_rows":33,"n_cols":4,"rows_kept":33,"cut":false,"hidden":false,"merged":[]}
["DATE","Adjustment","Location","Comments"]
["Starting Point:  July 2006 Filing"]
[]
["2006-10-30","Corrected the formula in row 7 (Aur Resources), column 10 of Schedule 3.3A."]
["2006-10-31","Added \"Demand Rate ($ per kW)\" row to Other Inputs.xls file."]
["2006-10-31","Made the necessary adjustments to the formulas in the 'NPRateCalcs' sheet to reflect the $4.00 per kW Demand rate."]
["2006-10-31","Made the necessary adjustments to the formulas in the 'Wholesale' sheet of the rates.xls file to reflect the $4.00 per kW Demand rate."]
["2006-11-06","Load revised for:  NP Gen Credit Proposal\nRevised Load Forecast;\nNatuashish removed from Labrador Isolated Load\n(A. Dunphy)"]
["2006-11-06","COS revised for changed lookup reference for CP re system Load Factor, Schedule 4.2\n(A. Dunphy)"]
["2006-11-06","Revised Schedule 1.2.1 (Rural Deficit Allocation) by putting 0% in column 3 of row 14 and 100% in column 3 of row 16.\nThis zeros out the RSP credit for Newfoundland Power in Schedule 1.2 and reduces the Revenue requirement from them by the amount of that credit.\n(P. Rossiter)"]
["2006-11-06","Removed note from page 1 of Schedule 1.2 (Comparison of Revenue & Allocated Revenue Requirement) pertaining to NP's RSP activity credit.\n(P. Rossiter)"]
["2006-11-06","Added new schedule 1.5 for Value of NP Thermal Generation Credit.  Renamed existing 1.5 and 1.6 schedules to 1.6 and 1.7.  Revised print ranges. (A. Dwyer)","+NPRateCalcs!A38"]
["2006-11-07","Updated Fuel, Power Purchases and O&M:"]
[null,"Fuel:  Net decrease of $7,216,361"]
[null,"Power Purchases:  Net increase of $15,208."]
[null,"O&M:  Net decrease of $1,299,878.  This net number includes an increase of $363,500 reflecting the O&M impact of two cancelled capital proposals."]
["2006-11-08","O&M:  Net decrease of $1,488,623.  This net number includes an increase of $174,755 reflecting the O&M impact of two cancelled capital proposals."]
["2011-10-13","100% of CFB Goose Bay Revenue Credit applied to reduce total Rural Deficit"]
["2011-10-13","Change Rural Isl Int Margin Switch to Rural Margin Switch to reflect return on all rate base."]
["2011-10-13","Updated Rate Base tab line 20 for return on equity component for Isl Iso, Lab Iso and LAL"]
["2011-11-09","Included ARO in capital structure computation in Other Inputs file and COS Rate Base tab."]
["2011-11-28","Recalculate customer weighting factors."]
[]
["2016-01-29","Conversion to Excel 2010.  The COS file opens independently of any other file, without error.  I used a workspace file, but you will have to re-create this for whatever directory you will be using.  I ran into some issues with the OAM file with multiple range names and #REF for some of them.  If Excel queries are launched from this file, this functionality should be tested."]
["2016-01-29","Export Transmission switch on RunOptions worksheet.  This will report plant values as either Export Transmission (value of 1) or the existing Common Transmission (value of 0), and costs will be allocated accordingly."]
["2016-01-29","On the IslIntCOS worksheet, there is a new column for Export Transmission.  The Island Interconnected Revenue Requirement schedule shows the total, but no unit cost schedule has been included yet."]
["2016-01-29","Plant data was arbitrarily modified to include the new function codes of 203 and 205, just to test the model functionality.  One more function was added (208) to accommodate transmission assets which were previously functionalized to hydraulic generation.  The previous function code column is now labeled FunctionOrig and the column labeled Function now includes the new function codes for a few assets.  I also included the change to historical cost average for P02184, but this made very little difference.\nPrior to using this plant file to establish the correct function codes for export transmission, the Function column should be re-set using the FunctionOrig column.\n"]
["2016-01-29","The small change in customer revenue requirement is due to switching some assets from hydraulic function to Export TX function."]
["2016-01-29","The plant data was not re-run, but I copied the data to the latest COSAssetSummary v2"]
["2016-01-29","Added named variable \"NoOne\" and modified line counters use the coded value.",null,"Allows a check for cells containing numbers."]
["2016-02-04","Added IFERROR function to [AllocPlt]F16 and L16 to prevent no find error."]
["2016-02-04","Added IFERROR function to [AllocNBV]F16 and L16 to prevent no find error."]
["2016-02-04","Added IFERROR function to [AllocDep]F16 and L16 to prevent no find error."]

{"sheet":"RunOptions","index":2,"n_rows":39,"n_cols":3,"rows_kept":39,"cut":false,"hidden":false,"merged":[]}
["NEWFOUNDLAND AND LABRADOR HYDRO"]
["Cost of Service Model - Run Options"]
[]
[null,null,"Comments"]
[]
["This File:",{"$f":"CELL(\"Filename\")","v":"http://sjspwfeprd01/sites/ra/fp/2017GRA/_vti_history/1024/Shared Documents/CoS/2018/[COS.xlsm]SystemizedPlant"},"Directory and file from which COS is produced."]
["Linked Files:","H:\\Regulatory Affairs\\Rates Internal\\From Old Rates\\COS Runs\\COS2019TY\\Iterations\\NP163 Iteration 1\\OAM.2019TY.xlsm","List of linked files is updated before schedules are"]
[null,"H:\\Regulatory Affairs\\Rates Internal\\From Old Rates\\COS Runs\\COS2019TY\\Iterations\\NP163 Iteration 1\\Other Inputs.xlsx","printed with Ctrl+T. Current links may be viewed"]
[null,"H:\\Regulatory Affairs\\Rates Internal\\From Old Rates\\COS Runs\\COS2019TY\\Iterations\\NP163 Iteration 1\\Load Loss Model.xlsx","through Edit / Links."]
[null,"H:\\Regulatory Affairs\\Rates Internal\\From Old Rates\\COS Runs\\COS2019TY\\Iterations\\NP163 Iteration 1\\Rural Revenue and Load Summary Model.xlsx"]
[null,"H:\\Regulatory Affairs\\Rates Internal\\From Old Rates\\COS Runs\\COS2019TY\\Iterations\\NP163 Iteration 1\\COSAssetSummary.xlsm"]
[null,"H:\\Regulatory Affairs\\Rates Internal\\From Old Rates\\COS Runs\\COS2019TY\\Iterations\\NP163 Iteration 1\\PriorYrRevAlloc.xlsx"]
[null,"H:\\Regulatory Affairs\\Rates Internal\\From Old Rates\\COS Runs\\COS2019TY\\Iterations\\NP163 Iteration 1\\Copy of Weighted MC shares.xlsx"]
[null,"http://sjspwfeprd01/sites/ra/dc/Data Center/Rates Forecast Data.xlsx"]
[]
[]
["Test Year Switch:",1,"1 = Test Year; 0 = Fallout Year"]
["Rural Margin Switch",0,"1 = Partial ROE/Margin Allocation \n0 = Full ROE/Margin Allocation"]
["Lab Int, Iso Systems CP/AED Switch",1,"1 = CP (Test Year Proposal - Production demand in Isolated Systems and Lab Interconnected changed from AED to CP);\n0 = AED (Original Generic Methodology, other than Island Interconnected, which is board-approved at CP)"]
["ExportTX",0,"1 = Yes:  Show Export Transmsn; 0 = No, include as Common TX"]
["Revenue Cr Applied to Deficit",1,"Enter percentage of CFB Goose Bay Revenue Credit to be applied to reduce total Rural Deficit"]
["OAM Overhead Allocation","Expenses","Expenses; or Labour"]
["Run Name:","2019 Test Year Cost of Service Study","Enter Cost of Service run description"]
["# of Hours in Run Year:",{"$f":"24*365","v":8760}]
["Define named range for NoOne",1]
["Marginal Cost Switch",0,"(0=Existing method Cos, 1=Marginal Cost, 2=Equivalent Peaker)"]
["Thermal Capacity Factor",1,"(1=2015 Cos, 2=100% demand, 3=marginal energy)"]
["Gas Turbines & Diesel",1,"(1=2015 Cos, 2=100% demand, 3=marginal energy)"]
["Wind Capacity Factor",0,"(0=use 100% energy, 1=use wind capacity factor as entered)"]
["Use Handy Whitman Plant",1,"Use indexed plant balances to allocate specifically assigned operating and maintenance charges."]
["Rounding",1000000]
["Year",2019,"Cost of Service Year"]
["NLSO True-up in play",0,"Include a true-up calculation in the NLSO rate design."]
[]
["Model Status:",{"$f":"+Balance!B5","v":"Out of Balance"}]
[]
[]
["Run Date and Time:",{"$f":"+NOW()","v":"2017-06-09T14:56:01.390"}]
["Print Label (Leave blank if not req'd):"]

{"sheet":"Reconciliation","index":3,"n_rows":75,"n_cols":16,"rows_kept":75,"cut":false,"hidden":false,"merged":[]}
[]
["NEWFOUNDLAND AND LABRADOR HYDRO"]
[{"$f":"RunName","v":"2019 Test Year Cost of Service Study"}]
["General Ledger to Cost of Service Reconciliations"]
[]
[null,{"$f":"MAX(A6)+NoOne","v":1},2,3,4,5,6,7,8,9,10]
["Line",null,"General",null,"Subtotal",null,"Other COS",null,"Cost of"]
["No.","Description ","Ledger","Adjustments (1)","(Fin Rv Rq)","Reclassification","Adjustments (2)","Total","Service","Difference","  Notes"]
[null,null,"($)","($)","($)","($)","($)","($)","($)","($)"]
[null,null,null,null,null,null,null,null,null,null," "]
[{"$f":"MAX(A8:A10)+NoOne","v":1},"Revenues:",694984734,null,{"$f":"SUM(C11:D11)","v":694984734},null,null,{"$f":"SUM(E11:G11)","v":694984734}]
[2,"Expense Credits",null,null,0,{"$f":"'Revenue Requirement'!C32","v":-2134269},null,{"$f":"SUM(E12:G12)","v":-2134269}]
[3,"RSP Activity",null,null,0,0,null,0,null,null,"Removed from Fuel Expense, included as revenue"]
[4,"Forecast RSP Activity - NP Revenues",null,{"$f":"+'Rev to Cost'!C47","v":0},null,null,null,0]
[5,"Reverse out Hydro Quebec Revenue",null,-1548560,-1548560,null,null,-1548560,null,null,"Non-regulated"]
[6,"Reverse out RSP Rural Rate Alteration",null,null,0,0,null,0,null,null,"Removed from Fuel Expense, included as revenue"]
[7,"Rural Rate Alteration adjustment",null,null,null,null,0,{"$f":"SUM(E17:G17)","v":0}]
[8,"Reverse year end accrual",null,null,null,null,0]
[9,"Reverse rebates should be accrued receivable",null,null,null,null,0,null,null,null,"Removed from revenue, should be receivable/payable"]
[10,"Rural Rev Diff: Cash flows v. Rate Design",null,null,0,null,0,0]
[11,"Labrador Industrial Revenues",null,null,0,null,1391789.9829385635,{"$f":"SUM(E21:G21)","v":1391789.9829385635},null,null,"For Fin RvRq, all Labrador Industrial revenues already removed, no adj necessary; whereas the COS deems regulated costs allocated to Labrador Industrial as revenues.",null,null,null,null,{"$f":"113820+1304+219390+58674+51656+843","v":445687}]
[12,"CIAC",null,0,0,null,null,0,null,null,"Remove revenue from contribution in Aid of Construction"]
[13,"Total Revenues",{"$f":"SUM(C11:C21)","v":694984734},{"$f":"SUM(D11:D22)","v":-1548560},{"$f":"SUM(C23:D23)","v":693436174},{"$f":"SUM(F11:F22)","v":-2134269},{"$f":"SUM(G11:G22)","v":1391789.9829385635},{"$f":"SUM(E23:G23)","v":692693694.98293853},{"$f":"'Rev to Cost'!C40","v":692705625.06343937},{"$f":"I23-H23","v":11930.080500841141},null,null,null,null,null,{"$f":"+P21-568093","v":-122406}]
[null,"Expenses:"]
[{"$f":"MAX(A22:A24)+NoOne","v":14},"O & M:",145333000]
[]
[{"$f":"MAX(A24:A26)+NoOne","v":15},"Labrador Industrial Costs",0,null,null,null,{"$f":"G21","v":1391789.9829385635},null,null,{"$f":"C27+G27","v":1391789.9829385635},"For Fin RvRq, Labrador Industrial allocated expenses are removed; whereas allocated expenses are determined and reported in the COS.  Labrador Industrial is out of balance between GL and COS until iterations are complete."]
[{"$f":"MAX(A25:A27)+NoOne","v":16},"Labrador Industrial Costs Diff between COS and GL",null,null,null,null,{"$f":"-J27","v":-1391789.9829385635}]
[{"$f":"MAX(A26:A28)+NoOne","v":17},"Excluded",null,0,null,null,null,null,null,null,"Non-regulated business units, including:  Donations, Advertising, Mfalls, etc."]
[{"$f":"MAX(A27:A29)+NoOne","v":18},"Total O&M",{"$f":"SUM(C25:C29)","v":145333000},{"$f":"SUM(D25:D29)","v":0},{"$f":"SUM(C30:D30)","v":145333000},{"$f":"SUM(F25:F29)","v":0},{"$f":"SUM(G25:G29)","v":0},{"$f":"SUM(E30:G30)","v":145333000},{"$f":"'Revenue Requirement'!C12","v":145333861.5},{"$f":"I30-H30","v":861.5}]
[]
[{"$f":"MAX(A29:A31)+NoOne","v":19},"Fuel",255157000]
[20,"RSP GL Adjustment"]
[21,"RSP Lab Int WO (Test Year Only)",null,0,null,null,0]
[22,"NLP,  IND and Unallocated Hydraulic Activity",null,null,null,{"$f":"F13","v":0},null,null,null,null,"Removed from Fuel Expense, included as revenue"]
[23,"Rural RSP",null,null,null,{"$f":"F16","v":0},null,null,null,null,"Removed from Fuel Expense, included as revenue"]
[24,"Unregulated Fuel",null,0]
[25,"Total Fuel",{"$f":"SUM(C32:C37)","v":255157000},{"$f":"SUM(D32:D37)","v":0},{"$f":"SUM(C38:D38)","v":255157000},{"$f":"SUM(F32:F37)","v":0},{"$f":"SUM(G32:G36)","v":0},{"$f":"SUM(E38:G38)","v":255157000},{"$f":"SUM('Revenue Requirement'!C13:C16)","v":255162931.5},{"$f":"I38-H38","v":5931.5}]
[]
[{"$f":"MAX(A37:A39)+NoOne","v":26},"Depreciation",93189000]
[27,"CIAC Adjustment",null,-1658000,null,null,null,null,null,null,"Finance records CIAC dep'n in dep'n exp with offset in Other revenue, for net nil NI impact. COS excludes CIAC dep'n expense.  "]
[28,"Accretion Adjustment",null,null,null,364000,null,null,null,null,"Accretion expense recorded in COS as dep'n expense. Recorded as separate line item in Fin Rev Req't."]
[29,"Excluded",null,null,null,null,{"$f":"AllocDep!D17","v":-1427219.9259282551},null,null,null,"Assets not in operation"]
[30,"Holyrood Impairment Inventory Allowance",null,null,null,{"$f":"AllocDep!D28","v":2081000}]
[31,"Total Depreciation ",{"$f":"SUM(C40:C43)","v":93189000},{"$f":"SUM(D40:D43)","v":-1658000},{"$f":"SUM(C45:D45)","v":91531000},{"$f":"SUM(F40:F44)","v":2445000},{"$f":"SUM(G40:G43)","v":-1427219.9259282551},{"$f":"SUM(E45:G45)","v":92548780.07407175},{"$f":"'Revenue Requirement'!C22","v":92529450.962409332},{"$f":"I45-H45","v":-19329.11166241765}]
[]
[{"$f":"MAX(A43:A46)+NoOne","v":32},"Accretion"]
[{"$f":"MAX(A45:A47)+NoOne","v":33},"Total Accretion Expense",364000,null,{"$f":"SUM(C48:D48)","v":364000},{"$f":"-F42","v":-364000},null,{"$f":"SUM(E48:G48)","v":0},0,{"$f":"I48-H48","v":0},"Accretion expense recorded in COS as dep'n expense. Recorded as separate line item in Fin Rev Req't."]
[]
[{"$f":"MAX(A47:A49)+NoOne","v":34},"Expense Credits","  ",null,{"$f":"SUM(C50:D50)","v":0},{"$f":"+F12","v":-2134269}]
[{"$f":"MAX(A48:A50)+NoOne","v":35},"Total Expense Credits",{"$f":"SUM(C50:C50)","v":0},{"$f":"SUM(D50:D50)","v":0},{"$f":"SUM(C51:D51)","v":0},{"$f":"SUM(F50:F50)","v":-2134269},{"$f":"SUM(G50:G50)","v":0},{"$f":"SUM(E51:G51)","v":-2134269},{"$f":"'Revenue Requirement'!C32","v":-2134269},{"$f":"I51-H51","v":0}]
[]
[{"$f":"MAX(A50:A52)+NoOne","v":36},"Disposal (Gain)/Loss",0,null,{"$f":"SUM(C53:D53)","v":0},null,null,{"$f":"SUM(E53:G53)","v":0},{"$f":"'Revenue Requirement'!C35","v":0},{"$f":"I53-H53","v":0},"Gain/Loss on Disposal recorded as separate line item in Rev Req't and COS."]
[]
[{"$f":"MAX(A52:A54)+NoOne","v":37},"Purchased Power",111122796]
[{"$f":"MAX(A53:A55)+NoOne","v":38},"Non-regulated",null,-43695104,null,null,null,null,null,null,"Non-regulated"]
[{"$f":"MAX(A54:A56)+NoOne","v":39},"Total Purchased Power",{"$f":"SUM(C55:C56)","v":111122796},{"$f":"SUM(D55:D56)","v":-43695104},{"$f":"SUM(C57:D57)","v":67427692},{"$f":"SUM(F55:F56)","v":0},{"$f":"SUM(G55:G56)","v":0},{"$f":"SUM(E57:G57)","v":67427692},{"$f":"SUM('Revenue Requirement'!C17:C21)","v":67427692},{"$f":"I57-H57","v":0}]
[null,null,null,null,null,null,null,null,null," "]
[{"$f":"MAX(A56:A58)+NoOne","v":40},"SUBTOTAL EXPENSES BEFORE RETURN",{"$f":"SUM(C30,C38,C45,C48,C51:C53,C57)","v":605165796},{"$f":"SUM(D30,D38,D45,D51:D53,D57)","v":-45353104},{"$f":"SUM(E30,E38,E45,E51:E53,E48,E57)","v":559812692},{"$f":"SUM(F30,F38,F45,F51:F53,F57)","v":310731},{"$f":"SUM(G30,G38,G45,G51:G53,G57)","v":-1427219.9259282551},{"$f":"SUM(H30,H38,H45,H51:H53,H57)","v":558332203.07407176},{"$f":"SUM(I30,I38,I45,I51:I53,I57)","v":558319666.96240926},{"$f":"SUM(J30,J38,J45,J51:J53,J57)","v":-12536.11166241765}]
[]
[{"$f":"MAX(A58:A60)+NoOne","v":41},"Assets NIS (Depreciation)",null,{"$f":"+E61","v":0},{"$f":"-AllocDep!D31","v":0},{"$f":"+E61","v":0}]
[]
[{"$f":"MAX(A60:A62)+NoOne","v":42},"Total Return",{"$f":"+C23-C59","v":89818938},{"$f":"+D23-D59+D61","v":43804544},{"$f":"+E23-E59-E61","v":133623482},{"$f":"+F23-F59","v":-2445000},{"$f":"+G23-G59","v":2819009.9088668185},{"$f":"+H23-H59","v":134361491.90886676},{"$f":"+I23-I59","v":134385958.10103011},{"$f":"I63-H63","v":24466.192163348198}]
[]
[{"$f":"MAX(A62:A64)+NoOne","v":43},"Interest",97889000,null,null,null,null,null,null,{"$f":"I65-H65","v":0}]
[{"$f":"MAX(A63:A65)+NoOne","v":44},"Excluded Interest",null,{"$f":"-AllocNBV!L38","v":-287355.13803412078},null,null,null,null,null,null,"Interest on not in service assets"]
[{"$f":"MAX(A64:A66)+NoOne","v":45},"Recall Revenue & Excess Dividend Impact",null,0]
[{"$f":"MAX(A65:A67)+NoOne","v":46},"Total Interest",{"$f":"SUM(C65:C67)","v":97889000},{"$f":"SUM(D65:D67)","v":-287355.13803412078},{"$f":"SUM(C68:D68)","v":97601644.86196588},{"$f":"SUM(F65:F67)","v":0},{"$f":"SUM(G65:G67)","v":0},{"$f":"SUM(E68:G68)","v":97601644.86196588}]
[]
[{"$f":"MAX(A67:A69)+NoOne","v":47},"TOTAL EXPENSES",{"$f":"SUM(C59,C68)","v":703054796},-45640459.13803412,657414336.86196589,310731,-1427219.9259282551,655933847.93603766]
[]
[{"$f":"MAX(A69:A71)+NoOne","v":48},"NET INCOME",{"$f":"C23-C70","v":-8070062},{"$f":"D23-D70","v":44091899.13803412},{"$f":"SUM(C72:D72)","v":36021837.13803412},{"$f":"F23-F70","v":-2445000},{"$f":"G23-G70","v":2819009.9088668185},{"$f":"H23-H70","v":36759847.046900868}]
["Notes:"]
["(1)","Adjustments available through GL accounts."]
["(2)","Adjustments determined by the COS."]

{"sheet":"Revenue Requirement","index":4,"n_rows":41,"n_cols":9,"rows_kept":41,"cut":false,"hidden":false,"merged":[]}
[" ",null,null,null,null,null,null,null,"Schedule 1.1"]
[null,null,null,null,null,null,null,null,"Page 1 of 2"]
["NEWFOUNDLAND AND LABRADOR HYDRO"]
[{"$f":"RunName","v":"2019 Test Year Cost of Service Study"}]
["Total System Revenue Requirement"]
[]
[null,{"$f":"MAX(A7)+NoOne","v":1},2,3,4,5,6,7,8]
["Line ",null,"Total","Island ","Island","Labrador","L'Anse au","Labrador"]
["No.","Description","Amount","Interconnected","Isolated","Isolated","Loup","Interconnected","Basis of Proration"]
[null,"Revenue Requirement","($)","($)","($)","($)","($)","($)"]
[null,"Expenses"]
[{"$f":"MAX(A10:A11)+NoOne","v":1},"Operating, Maintenance and Admin.",{"$f":"SUM(D12:H12)","v":145333861.5},{"$f":"IslIntCos!F287","v":109154478.10200948},{"$f":"IslIsoCos!F236","v":7201895.5445871726},{"$f":"LabIsoCos!F236","v":15961567.781486383},{"$f":"LALCos!F236","v":1552473.0419806368},{"$f":"LabIntCos!F242","v":11463447.029936356},"Detailed Analysis"]
[{"$f":"MAX(A11:A12)+NoOne","v":2},"Fuels - No. 6 Fuel",221114563,{"$f":"IslIntCos!F288","v":221114563},{"$f":"IslIsoCos!F254","v":0},{"$f":"LabIsoCos!F254","v":0},{"$f":"LALCos!F254","v":0},{"$f":"LabIntCos!F260","v":0},"Detailed Analysis"]
[{"$f":"MAX(A11:A13)+NoOne","v":3},"Fuels - Diesel",21156020,{"$f":"IslIntCos!F289","v":138012},{"$f":"IslIsoCos!F255","v":2641700},{"$f":"LabIsoCos!F255","v":17625400},{"$f":"LALCos!F255","v":708500},{"$f":"LabIntCos!F261","v":42408},"Detailed Analysis"]
[4,"Fuels - Gas Turbine",12892348.5,{"$f":"IslIntCos!F290","v":12632138},{"$f":"IslIsoCos!F256","v":0},{"$f":"LabIsoCos!F256","v":0},{"$f":"LALCos!F256","v":0},{"$f":"LabIntCos!F262","v":260210.5}]
[5,"Fuel Supply Deferral",0,{"$f":"IslIntCos!F291","v":0}]
[6,"Power Purchases -CF(L)Co",1428356,{"$f":"IslIntCos!F292","v":0},{"$f":"IslIsoCos!F257","v":0},{"$f":"LabIsoCos!F257","v":0},{"$f":"LALCos!F257","v":0},{"$f":"LabIntCos!F263","v":1428356},"Detailed Analysis"]
[7,"Power Purchases - Other",{"$f":"SUM(D18:H18)","v":65999336},{"$f":"IslIntCos!F293","v":62054740},{"$f":"IslIsoCos!F258","v":227200},{"$f":"LabIsoCos!F258","v":0},{"$f":"LALCos!F258","v":3717396},{"$f":"LabIntCos!F264","v":0},"Detailed Analysis"]
[8,"Power Purchases - MF",{"$f":"SUM(D19:H19)","v":0},{"$f":"IslIntCos!F294","v":0}]
[9,"Power Purchases - LTA",{"$f":"SUM(D20:H20)","v":0},{"$f":"IslIntCos!F295","v":0}]
[10,"Power Purchases - LIL",{"$f":"SUM(D21:H21)","v":0},{"$f":"IslIntCos!F296","v":0}]
[11,"Depreciation",92529450.962409332,{"$f":"IslIntCos!F297","v":79898089.121001795},{"$f":"IslIsoCos!F259","v":1023808.2310629364},{"$f":"LabIsoCos!F259","v":4904110.2604116201},{"$f":"LALCos!F259","v":925128.33077851753},{"$f":"LabIntCos!F265","v":5778315.0191544574},"Detailed Analysis"]
[null,"Expense Credits:"]
[{"$f":"MAX(A21:A23)+NoOne","v":12},"Sundry ",{"$f":"SUM(D24:H24)","v":-456000},{"$f":"IslIntCos!F300","v":-342483.44811588392},{"$f":"IslIsoCos!F262","v":-22596.691056280444},{"$f":"LabIsoCos!F262","v":-50081.067366105803},{"$f":"LALCos!F262","v":-4871.0445028887534},{"$f":"LabIntCos!F268","v":-35967.748958841083},"Total O&M Expenses"]
[13,"Building Rental Income",-15600,{"$f":"IslIntCos!F301","v":-15600},{"$f":"IslIsoCos!F263","v":0},{"$f":"LabIsoCos!F263","v":0},{"$f":"LALCos!F263","v":0},{"$f":"LabIntCos!F269","v":0},"Detailed Analysis"]
[14,"Tax Refunds",0,{"$f":"IslIntCos!F302","v":0},{"$f":"IslIsoCos!F264","v":0},{"$f":"LabIsoCos!F264","v":0},{"$f":"LALCos!F264","v":0},{"$f":"LabIntCos!F270","v":0},"Total O&M Expenses"]
[15,"Suppliers' Discounts",-39600,{"$f":"IslIntCos!F303","v":-29741.983652168867},{"$f":"IslIsoCos!F265","v":-1962.3442233085648},{"$f":"LabIsoCos!F265","v":-4349.1453238986614},{"$f":"LALCos!F265","v":-423.01175946139176},{"$f":"LabIntCos!F271","v":-3123.515041162515},"Total O&M Expenses"]
[16,"Pole Attachments",-1598389,{"$f":"IslIntCos!F304","v":-1151878},{"$f":"IslIsoCos!F266","v":-23750},{"$f":"LabIsoCos!F266","v":-103327},{"$f":"LALCos!F266","v":-68522},{"$f":"LabIntCos!F272","v":-250912},"Detailed Analysis"]
[{"$f":"MAX(A27:A28)+NoOne","v":17},"Wheeling Revenues",{"$f":"SUM(D29:H29)","v":0},{"$f":"IslIntCos!F306","v":0},{"$f":"IslIsoCos!F268","v":0},{"$f":"LabIsoCos!F268","v":0},{"$f":"LALCos!F268","v":0},{"$f":"LabIntCos!F274","v":0},"Island Interconnected"]
[{"$f":"MAX(A28:A29)+NoOne","v":18},"Application Fees",{"$f":"SUM(D30:H30)","v":-24680},{"$f":"IslIntCos!F307","v":-12200},{"$f":"IslIsoCos!F269","v":-300},{"$f":"LabIsoCos!F269","v":-1654},{"$f":"LALCos!F269","v":-406},{"$f":"LabIntCos!F275","v":-10120},"Detailed Analysis"]
[{"$f":"MAX(A29:A30)+NoOne","v":19},"Meter Test Revenues",{"$f":"SUM(D31:H31)","v":0},{"$f":"IslIntCos!F308","v":0},{"$f":"IslIsoCos!F270","v":0},{"$f":"LabIsoCos!F270","v":0},{"$f":"LALCos!F270","v":0},{"$f":"LabIntCos!F276","v":0},"Weighted Customers"]
[{"$f":"MAX(A29:A31)+NoOne","v":20},"Total Expense Credits",{"$f":"SUM(D32:H32)","v":-2134269},{"$f":"SUM(D24:D31)","v":-1551903.4317680527},{"$f":"SUM(E24:E31)","v":-48609.035279589007},{"$f":"SUM(F24:F31)","v":-159411.21269000447},{"$f":"SUM(G24:G31)","v":-74222.056262350146},{"$f":"SUM(H24:H31)","v":-300123.26400000358}]
[]
[{"$f":"MAX(A31:A33)+NoOne","v":21},"Subtotal Expenses",{"$f":"SUM(C32,C12:C22)","v":558319666.96240938},{"$f":"SUM(D12:D22,D32)","v":483440116.7912432},{"$f":"SUM(E12:E22,E32)","v":11045994.740370519},{"$f":"SUM(F12:F22,F32)","v":38331666.829208001},{"$f":"SUM(G12:G22,G32)","v":6829275.3164968053},{"$f":"SUM(H12:H22,H32)","v":18672613.285090812}]
[{"$f":"MAX(A34:A34)+NoOne","v":22},"Disposal Gain/Loss",{"$f":"SUM(D35:H35)","v":0},{"$f":"IslIntCos!F313","v":0},{"$f":"IslIsoCos!F275","v":0},{"$f":"LabIsoCos!F275","v":0},{"$f":"LALCos!F275","v":0},{"$f":"LabIntCos!F281","v":0},"Detailed Analysis"]
[{"$f":"MAX(A35:A35)+NoOne","v":23},"Subtotal Rev Reqt Excl Return",{"$f":"SUM(C34,C35)","v":558319666.96240938},483440116.7912432,11045994.740370519,38331666.829208001,6829275.3164968053,18672613.285090812]
[]
[{"$f":"MAX(A36:A37)+NoOne","v":24},"Return on Debt",{"$f":"SUM(D38:H38)","v":95594234.416873246},{"$f":"IslIntCos!F316","v":84767028.678827539},{"$f":"IslIsoCos!F278","v":746170.72392953723},{"$f":"LabIsoCos!F278","v":3856595.2545063854},{"$f":"LALCos!F278","v":649543.80686815968},{"$f":"LabIntCos!F284","v":5574895.9527416211},"Rate Base"]
[{"$f":"MAX(A36:A38)+NoOne","v":25},"Return on Equity",{"$f":"SUM(D39:H39)","v":38825487.618353829},{"$f":"IslIntCos!F317","v":34428030.544837445},{"$f":"IslIsoCos!F279","v":303056.37552122946},{"$f":"LabIsoCos!F279","v":1566351.6970058025},{"$f":"LALCos!F279","v":263811.46504256956},{"$f":"LabIntCos!F285","v":2264237.5359467878},"Rate Base"]
[]
[{"$f":"MAX(A38:A40)+NoOne","v":26},"Total Revenue Requirement ",{"$f":"SUM(C34,C38,C35,C39)","v":692739388.99763644},602635176.01490819,12095221.839821286,43754613.780720189,7742630.5884075342,26511746.773779221]

{"sheet":"Balance","index":5,"n_rows":150,"n_cols":17,"rows_kept":150,"cut":false,"hidden":false,"merged":[]}
["NEWFOUNDLAND AND LABRADOR HYDRO"]
[{"$f":"+RunName","v":"2019 Test Year Cost of Service Study"}]
["Cost of Service Balancing Checks"]
[]
["Model is:",{"$f":"IF(ROUND(E150,0)=0,\"Balanced\",\"Out of Balance\")","v":"Out of Balance"}]
[]
[]
[null,null,null,null,null,null,"Island","Island","Labrador",null,"Labrador"]
["No.","Item","Source","Standard","Difference","Total","Intercnctd","Isolated","Isolated","LAL","Intercnctd"]
[]
[{"$f":"MAX(A8:A10)+NoOne","v":1},"Plant Original Cost","Individual COS Schedules",null,null,{"$f":"SUM(G11:K11)","v":3359674823.3647456},{"$f":"+IslIntCos!$F$58","v":2954138278.4863162},{"$f":"+IslIsoCos!$F$47","v":20546859.655453872},{"$f":"+LabIsoCos!$F$47","v":140836840.67101935},{"$f":"+LALCos!$F$47","v":27744329.854464054},{"$f":"+LabIntCos!$F$49","v":216408514.69749194}]
[null,null,"Plant Inputs",null,null,{"$f":"+AllocPlt!$E$35","v":3359674823.3647451},{"$f":"+AllocPlt!$F$35","v":2954138278.4863162},{"$f":"+AllocPlt!$G$35","v":20546859.655453872},{"$f":"+AllocPlt!$H$35","v":140836840.67101935},{"$f":"+AllocPlt!$I$35","v":27744329.85446405},{"$f":"+AllocPlt!$L$35","v":216408514.69749194}]
[null,null,"Difference",5,{"$f":"IF(ABS(SUM(F13:K13))<=D13,\"OK\",ABS(SUM(F13:K13)))","v":"OK"},{"$f":"+F11-F12","v":0},0,0,0,0,0]
[]
[{"$f":"MAX(A11:A14)+NoOne","v":2},"Plant Net Book Value","Individual COS Schedules",null,null,{"$f":"SUM(G15:K15)","v":2179000425.830225},{"$f":"+IslIntCos!$F$116","v":1927122840.0911996},{"$f":"+IslIsoCos!$F$96","v":17495172.628719382},{"$f":"+LabIsoCos!$F$96","v":88383254.452083141},{"$f":"+LALCos!$F$96","v":15213195.991212122},{"$f":"+LabIntCos!$F$99","v":130785962.66701102}]
[null,null,"Plant Inputs",null,null,{"$f":"+AllocNBV!$D$26","v":2179000425.8302259},{"$f":"+AllocNBV!$E$26","v":1927122840.0912001},{"$f":"+AllocNBV!$F$26","v":17495172.628719378},{"$f":"+AllocNBV!$G$26","v":88383254.452083141},{"$f":"+AllocNBV!$H$26","v":15213195.991212122},{"$f":"+AllocNBV!$K$26","v":130785962.66701105}]
[null,null,"Difference",5,{"$f":"IF(ABS(SUM(F17:K17))<=D17,\"OK\",ABS(SUM(F17:K17)))","v":"OK"},{"$f":"+F15-F16","v":0},0,0,0,0,0]
[]
[{"$f":"MAX(A15:A18)+NoOne","v":3},"Plant Depreciation","Individual COS Schedules",null,null,{"$f":"SUM(G19:K19)","v":92529450.962409362},{"$f":"+IslIntCos!$F$176","v":79898089.121001825},{"$f":"+IslIsoCos!$F$146","v":1023808.2310629362},{"$f":"+LabIsoCos!$F$146","v":4904110.2604116211},{"$f":"+LALCos!$F$146","v":925128.33077851753},{"$f":"+LabIntCos!$F$149","v":5778315.0191544564}]
[null,null,"Plant Inputs",null,null,{"$f":"+AllocDep!$D$29","v":92529450.962409317},{"$f":"+AllocDep!$E$29","v":79898089.121001795},{"$f":"+AllocDep!$F$29","v":1023808.2310629362},{"$f":"+AllocDep!$G$29","v":4904110.260411622},{"$f":"+AllocDep!$H$29","v":925128.33077851753},{"$f":"+AllocDep!$K$29","v":5778315.0191544602}]
[null,null,"Difference",5,{"$f":"IF(ABS(SUM(F21:K21))<=D21,\"OK\",ABS(SUM(F21:K21)))","v":"OK"},{"$f":"+F19-F20","v":0},0,0,0,0,0]
[]
[{"$f":"MAX(A19:A22)+NoOne","v":4},"Production Demand","Individual COS Schedules",null,null,null,{"$f":"+IslIntCos!$G$360","v":1477971.6206761375},{"$f":"+IslIsoCos!$G$320","v":1968.0703785743874},{"$f":"+LabIsoCos!$G$319","v":8870.0142417383158},{"$f":"+LALCos!$G$315","v":6090.1812074412192},{"$f":"+LabIntCos!$G$324","v":411123.90579282423}]
[null,null,"Load Inputs",null,null,null,1477971.6206761375,1968.0703785743874,8870.0142417383158,6090.1812074412192,411123.90579282423]
[null,null,"Difference",1,{"$f":"IF(ABS(SUM(F25:K25))<=D25,\"OK\",ABS(SUM(F25:K25)))","v":"OK"},null,{"$f":"+G23-G24","v":0},{"$f":"+H23-H24","v":0},{"$f":"+I23-I24","v":0},{"$f":"+J23-J24","v":0},{"$f":"+K23-K24","v":0}]
[null,null,null,null,null,null,"INTTOT","ISLISOTOT","LABISOTOT","LALTOT","LINTTOT"]
[{"$f":"MAX(A23:A26)+NoOne","v":5},"Prod/Trans Energy","Individual COS Schedules",null,null,null,{"$f":"+IslIntCos!$H$360","v":7234571.7021764824},{"$f":"+IslIsoCos!$H$320","v":7518.3179633507616},{"$f":"+LabIsoCos!$H$319","v":46128.879414912248},{"$f":"+LALCos!$H$315","v":27026.508409321472},{"$f":"+LabIntCos!$H$324","v":2571887.7335033165}]
[null,null,"Load Inputs",null,null,null,7234571.7021764824,7518.3179633507616,46128.879414912248,27026.508409321472,2571887.7335033165]
[null,null,"Difference",1,{"$f":"IF(ABS(SUM(F29:K29))<=D29,\"OK\",ABS(SUM(F29:K29)))","v":"OK"},null,{"$f":"+G27-G28","v":0},{"$f":"+H27-H28","v":0},{"$f":"+I27-I28","v":0},{"$f":"+J27-J28","v":0},{"$f":"+K27-K28","v":0}]
[]
[{"$f":"MAX(A27:A30)+NoOne","v":6},"Customers","Individual COS Schedules",null,null,null,{"$f":"+IslIntCos!$M$360","v":23853},{"$f":"+IslIsoCos!$L$320","v":826.5},{"$f":"+LabIsoCos!$L$319","v":2789},{"$f":"+LALCos!$L$315","v":933.5},{"$f":"+LabIntCos!$L$324","v":11659.25}]
[null,null,"Load Inputs",null,null,null,23853,826.5,2789,933.5,11659.25]
[null,null,"Difference",1,{"$f":"IF(ABS(SUM(F33:K33))<=D33,\"OK\",ABS(SUM(F33:K33)))","v":"OK"},null,{"$f":"+G31-G32","v":0},{"$f":"+H31-H32","v":0},{"$f":"+I31-I32","v":0},{"$f":"+J31-J32","v":0},{"$f":"+K31-K32","v":0}]
[]
[{"$f":"MAX(A31:A34)+NoOne","v":7},"Transmission Demand","Individual COS Schedules",null,null,null,{"$f":"IslIntCos!$I$360","v":1462501.8725891092},{"$f":"+IslIsoCos!$I$320","v":1968.0703785743874},{"$f":"+LabIsoCos!$I$319","v":8870.0142417383158},{"$f":"+LALCos!$I$315","v":6090.1812074412192},{"$f":"+LabIntCos!$I$324","v":379513.83669862442}]
[null,null,"Load Inputs",null,null,null,1462501.8725891092,1968.0703785743874,8870.0142417383158,6090.1812074412192,379513.83669862442]
[null,null,"Difference",1,{"$f":"IF(ABS(SUM(F37:K37))<=D37,\"OK\",ABS(SUM(F37:K37)))","v":"OK"},null,{"$f":"+G35-G36","v":0},{"$f":"+H35-H36","v":0},{"$f":"+I35-I36","v":0},{"$f":"+J35-J36","v":0},{"$f":"+K35-K36","v":0}]
[]
[{"$f":"MAX(A35:A38)+NoOne","v":8},"Rural Trans Demand","Individual COS Schedules",null,null,null,{"$f":"+IslIntCos!$J$360","v":89476.699369671798}]
[null,null,"Load Inputs",null,null,null,89476.699369671798]
[null,null,"Difference",1,{"$f":"IF(ABS(SUM(F41:K41))<=D41,\"OK\",ABS(SUM(F41:K41)))","v":"OK"},null,{"$f":"+G39-G40","v":0}]
[null,null,null,null,null,null,"INTRRL"]
[{"$f":"MAX(A39:A42)+NoOne","v":9},"Substn Demand","Individual COS Schedules",null,null,null,{"$f":"+IslIntCos!$K$360","v":84879.061875201078},{"$f":"+IslIsoCos!$J$320","v":1900.0645481121621},{"$f":"+LabIsoCos!$J$319","v":8581.831440472939},{"$f":"+LALCos!$J$315","v":5791.6233137794115},{"$f":"+LabIntCos!$J$324","v":153875.44972931483}]
[null,null,"Load Inputs",null,null,null,84879.061875201078,1900.0645481121621,8581.831440472939,5791.6233137794115,153875.44972931483]
[null,null,"Difference",1,{"$f":"IF(ABS(SUM(F45:K45))<=D45,\"OK\",ABS(SUM(F45:K45)))","v":"OK"},null,{"$f":"+G43-G44","v":0},{"$f":"+H43-H44","v":0},{"$f":"+I43-I44","v":0},{"$f":"+J43-J44","v":0},{"$f":"+K43-K44","v":0}]
[]
[{"$f":"MAX(A43:A46)+NoOne","v":10},"Primary Demand","Individual COS Schedules",null,null,null,{"$f":"+IslIntCos!$L$360","v":84879.061875201078},{"$f":"+IslIsoCos!$K$320","v":1900.0645481121621},{"$f":"+LabIsoCos!$K$319","v":8581.831440472939},{"$f":"+LALCos!$K$315","v":5791.6233137794115},{"$f":"+LabIntCos!$K$324","v":153875.44972931483}]
[null,null,"Load Inputs",null,null,null,84879.061875201078,1900.0645481121621,8581.831440472939,5791.6233137794115,153875.44972931483]
[null,null,"Difference",1,{"$f":"IF(ABS(SUM(F49:K49))<=D49,\"OK\",ABS(SUM(F49:K49)))","v":"OK"},null,{"$f":"+G47-G48","v":0},{"$f":"+H47-H48","v":0},{"$f":"+I47-I48","v":0},{"$f":"+J47-J48","v":0},{"$f":"+K47-K48","v":0}]
[]
[{"$f":"MAX(A47:A50)+NoOne","v":11},"Transformer Demand","Individual COS Schedules",null,null,null,{"$f":"+IslIntCos!$N$360","v":76919.602220217639},{"$f":"+IslIsoCos!$M$320","v":1797.4771761321329},{"$f":"+LabIsoCos!$M$319","v":8146.1753924136192},{"$f":"+LALCos!$M$315","v":5347.9955919218028},{"$f":"+LabIntCos!$M$324","v":137797.11505058783}]
[null,null,"Load Inputs",null,null,null,76919.602220217639,1797.4771761321329,8146.1753924136192,5347.9955919218028,137797.11505058783]
[null,null,"Difference",1,{"$f":"IF(ABS(SUM(F53:K53))<=D53,\"OK\",ABS(SUM(F53:K53)))","v":"OK"},null,{"$f":"+G51-G52","v":0},{"$f":"+H51-H52","v":0},{"$f":"+I51-I52","v":0},{"$f":"+J51-J52","v":0},{"$f":"+K51-K52","v":0}]
[]
[{"$f":"MAX(A51:A54)+NoOne","v":12},"Secondary Demand","Individual COS Schedules",null,null,null,{"$f":"+IslIntCos!$P$360","v":76919.602220217639},{"$f":"+IslIsoCos!$O$320","v":1797.4771761321329},{"$f":"+LabIsoCos!$O$319","v":8146.1753924136192},{"$f":"+LALCos!$O$315","v":5347.9955919218028},{"$f":"+LabIntCos!$O$324","v":137797.11505058783}]
[null,null,"Load Inputs",null,null,null,76919.602220217639,1797.4771761321329,8146.1753924136192,5347.9955919218028,137797.11505058783]
[null,null,"Difference",1,{"$f":"IF(ABS(SUM(F57:K57))<=D57,\"OK\",ABS(SUM(F57:K57)))","v":"OK"},null,{"$f":"+G55-G56","v":0},{"$f":"+H55-H56","v":0},{"$f":"+I55-I56","v":0},{"$f":"+J55-J56","v":0},{"$f":"+K55-K56","v":0}]
[]
[{"$f":"MAX(A55:A58)+NoOne","v":13},"Rural Revenues","Rev to Cost schedule",null,null,null,{"$f":"+'Rev to Cost'!C87","v":53526605.962164946},{"$f":"+'Rev to Cost'!C128","v":1740167.8632971486},{"$f":"+'Rev to Cost'!C166","v":9656445.569178151},{"$f":"+'Rev to Cost'!C198","v":3238389.2780072386},{"$f":"+'Rev to Cost'!C236","v":22507619.990959194}]
[null,null,"Rural Revenue Adjustments",null,null,null,null,0,0]
[null,null,"Load Inputs",null,null,null,53526605.962164946,1740167.8632971486,9656445.569178151,3238389.2780072386,22507619.990959194,null,"INTRRL","ISLISOTOT","LABISOTOT","LALTOT","LEINTTOT"]
[null,null,"Difference",1,{"$f":"IF(ABS(SUM(F62:K62))<=D62,\"OK\",ABS(SUM(F62:K62)))","v":"OK"},null,{"$f":"+G59-G61-G60","v":0},{"$f":"+H59-H61-H60","v":0},{"$f":"+I59-I61-I60","v":0},{"$f":"+J59-J61-J60","v":0},{"$f":"+K59-K61-K60","v":0}]
[]
[{"$f":"MAX(A59:A63)+NoOne","v":14},"Rural Revenues","Average Cost schedule",null,null,null,{"$f":"+'Average Costs'!G53","v":53526605.962164946},{"$f":"+'Average Costs'!G90","v":1740167.8632971486},{"$f":"+'Average Costs'!G103","v":9656445.5691781491},{"$f":"+'Average Costs'!G122","v":3238389.2780072386},{"$f":"+'Average Costs'!G138","v":22507619.990959194}]
[null,null,"Rural Revenue Adjustments",null,null,null,null,0,0]
[null,null,"Load Inputs",null,null,null,53526605.962164946,1740167.8632971486,9656445.569178151,3238389.2780072386,22507619.990959194,null,"INTRRL","ISLISOTOT","LABISOTOT","LALTOT","LEINTTOT"]
[null,null,"Difference",1,{"$f":"IF(ABS(SUM(F67:K67))<=D67,\"OK\",ABS(SUM(F67:K67)))","v":"OK"},null,{"$f":"+G64-G66-G65","v":0},{"$f":"+H64-H66-H65","v":0},{"$f":"+I64-I66-I65","v":-1.862645149230957E-9},{"$f":"+J64-J66-J65","v":0},{"$f":"+K64-K66-K65","v":0}]
[]
[{"$f":"MAX(A64:A68)+NoOne","v":15},"Sales (MWh)","Unit Cost schedule",null,null,null,{"$f":"+'Unit Costs'!$AB$31","v":6990304.5999999996},{"$f":"+'Unit Costs'!$AB$72","v":7108.97},{"$f":"+'Unit Costs'!$AB$81","v":43461},{"$f":"+'Unit Costs'!$AB$107","v":25142.080000000002},{"$f":"+'Unit Costs'!$AB$128","v":2388848.31}]
[null,null,"Load Inputs",null,null,null,6990304.5999999996,7108.97,43461,25142.080000000002,2388848.31]
[null,null,"Difference",1,{"$f":"IF(ABS(SUM(F71:K71))<=D71,\"OK\",ABS(SUM(F71:K71)))","v":"OK"},null,{"$f":"+G69-G70","v":0},{"$f":"+H69-H70","v":0},{"$f":"+I69-I70","v":0},{"$f":"+J69-J70","v":0},{"$f":"+K69-K70","v":0}]
[]
[{"$f":"MAX(A68:A72)+NoOne","v":16},"Sales (MWh)","Average Cost schedule",null,null,null,{"$f":"+'Average Costs'!$F$55","v":6990304.5999999996},{"$f":"+'Average Costs'!$F$90","v":7108.97},{"$f":"+'Average Costs'!$F$103","v":43461},{"$f":"+'Average Costs'!$F$122","v":25142.080000000002},{"$f":"+'Average Costs'!$F$140","v":2388848.31}]
[null,null,"Load Inputs",null,null,null,6990304.5999999996,7108.97,43461,25142.080000000002,2388848.31]
[null,null,"Difference",1,{"$f":"IF(ABS(SUM(F75:K75))<=D75,\"OK\",ABS(SUM(F75:K75)))","v":"OK"},null,{"$f":"+G73-G74","v":0},{"$f":"+H73-H74","v":0},{"$f":"+I73-I74","v":0},{"$f":"+J73-J74","v":0},{"$f":"+K73-K74","v":0}]
[]
[{"$f":"MAX(A72:A76)+NoOne","v":17},"Cross-Footing","Individual COS Schedules",1,{"$f":"IF(ABS(SUM(F77:K77))<=D77,\"OK\",ABS(SUM(F77:K77)))","v":"OK"},null,{"$f":"+IslIntCos!$A$13","v":0},{"$f":"+IslIsoCos!$A$14","v":0},{"$f":"+LabIsoCos!$A$14","v":0},{"$f":"+LALCos!$A$14","v":0},{"$f":"+LabIntCos!$A$15","v":0}]
[{"$f":"MAX(A73:A77)+NoOne","v":18},"Cross-Footing","Rate Base Schedule",1,{"$f":"IF(ABS(SUM(F78:K78))<=D78,\"OK\",ABS(SUM(F78:K78)))","v":"OK"},{"$f":"+'Rate Base'!$A$12","v":0}]
[{"$f":"MAX(A74:A78)+NoOne","v":19},"Cross-Footing","O&M Summary",1,{"$f":"IF(ABS(SUM(F79:K79))<=D79,\"OK\",ABS(SUM(F79:K79)))","v":"OK"},{"$f":"+'O&M Summary'!A7","v":0}]
[]
[{"$f":"MAX(A76:A80)+NoOne","v":20},"COS, Before Def/RevCr","Revenue Requirement schedule",null,null,{"$f":"+'Revenue Requirement'!$C$41","v":692739388.99763644},{"$f":"+'Revenue Requirement'!$D$41","v":602635176.01490819},{"$f":"+'Revenue Requirement'!$E$41","v":12095221.839821286},{"$f":"+'Revenue Requirement'!$F$41","v":43754613.780720189},{"$f":"+'Revenue Requirement'!$G$41","v":7742630.5884075342},{"$f":"+'Revenue Requirement'!$H$41","v":26511746.773779221}]
[null,null,"Individual COS Schedules",null,null,{"$f":"SUM(G82:K82)","v":692739388.99763656},{"$f":"+IslIntCos!$F$319","v":602635176.01490819},{"$f":"+IslIsoCos!$F$282","v":12095221.839821288},{"$f":"+LabIsoCos!$F$281","v":43754613.780720182},{"$f":"+LALCos!$F$281","v":7742630.5884075342},{"$f":"+LabIntCos!$F$287","v":26511746.773779213}]
[null,null,"Difference",1,{"$f":"IF(ABS(SUM(F83:K83))<=D83,\"OK\",ABS(SUM(F83:K83)))","v":"OK"},{"$f":"+F81-F82","v":0},0,0,0,0,0]
[]
[{"$f":"MAX(A80:A84)+NoOne","v":21},"COS, Before Def/RevCr","Rev to Cost schedule, by Customer",null,null,{"$f":"+'Rev to Cost'!$D$40","v":692739034.91471553},{"$f":"+'Rev to Cost'!$D$88","v":602635176.01490831},{"$f":"+'Rev to Cost'!$D$128","v":12094867.756900139},{"$f":"+'Rev to Cost'!$D$166","v":43754613.780720189},{"$f":"+'Rev to Cost'!$D$198","v":7742630.5884075342},{"$f":"+'Rev to Cost'!$D$237","v":26511746.773779213}]
[null,null,"Individual COS Schedules, by System",null,null,{"$f":"SUM(G86:K86)","v":692739388.99763656},{"$f":"+IslIntCos!$F$319","v":602635176.01490819},{"$f":"+IslIsoCos!$F$282","v":12095221.839821288},{"$f":"+LabIsoCos!$F$281","v":43754613.780720182},{"$f":"+LALCos!$F$281","v":7742630.5884075342},{"$f":"+LabIntCos!$F$287","v":26511746.773779213}]
[null,null,"Difference",15,{"$f":"IF(ABS(SUM(F87:K87))<=D87,\"OK\",ABS(SUM(F87:K87)))","v":708.16584217734635},{"$f":"+F85-F86","v":-354.08292102813721},0,-354.08292114920914,0,0,0]
[]
[{"$f":"MAX(A84:A88)+NoOne","v":22},"COS, Before Def/RevCr","Rev Reqmt, Individual COS Schedules",null,null,{"$f":"SUM(G89:K89)","v":692739388.99763656},{"$f":"+IslIntCos!$F$319","v":602635176.01490819},{"$f":"+IslIsoCos!$F$282","v":12095221.839821288},{"$f":"+LabIsoCos!$F$281","v":43754613.780720182},{"$f":"+LALCos!$F$281","v":7742630.5884075342},{"$f":"+LabIntCos!$F$287","v":26511746.773779213}]
[null,null,"Allocated COS, Individual COS Sch 3.2",null,null,{"$f":"SUM(G90:K90)","v":692739034.91471541},{"$f":"+IslIntCos!$F$466","v":602635176.01490831},{"$f":"+IslIsoCos!$F$403","v":12094867.756900137},{"$f":"+LabIsoCos!$F$404","v":43754613.780720174},{"$f":"+LALCos!F383","v":7742630.5884075351},{"$f":"+LabIntCos!F436","v":26511746.773779225}]
[null,null,"Difference",5,{"$f":"IF(ABS(SUM(F91:K91))<=D91,\"OK\",ABS(SUM(F91:K91)))","v":708.16584229841828},{"$f":"+F89-F90","v":354.0829211473465},0,354.08292115107179,0,0,0]
[]
[{"$f":"MAX(A88:A92)+NoOne","v":23},"Rev to Cost schedule","COS, Before Def/RevCr",null,null,{"$f":"+'Rev to Cost'!$D$40","v":692739034.91471553}]
[null,null,"COS, After Def/RevCr",null,null,{"$f":"+'Rev to Cost'!$H$40","v":692739034.91471541}]
[null,null,null,1,{"$f":"IF(ABS(SUM(F95:K95))<=D95,\"OK\",ABS(SUM(F95:K95)))","v":"OK"},{"$f":"+F93-F94","v":0}]
[]
[{"$f":"MAX(A92:A96)+NoOne","v":24},"COS, After Def/RevCr","Rev to Cost schedule",null,null,{"$f":"+'Rev to Cost'!$H$40","v":692739034.91471541}]
[null,null,"Average Cost",null,null,{"$f":"+'Average Costs'!$M$26","v":692739034.91471541}]
[null,null,"Difference",1,{"$f":"IF(ABS(SUM(F99:K99))<=D99,\"OK\",ABS(SUM(F99:K99)))","v":"OK"},{"$f":"+F97-F98","v":0}]
[]
[{"$f":"MAX(A96:A100)+NoOne","v":25},"COS, Before Def/RevCr","Rev to Cost schedule",null,null,{"$f":"+'Rev to Cost'!$D$40","v":692739034.91471553},{"$f":"+'Rev to Cost'!$D$88","v":602635176.01490831},{"$f":"+'Rev to Cost'!$D$128","v":12094867.756900139},{"$f":"+'Rev to Cost'!$D$166","v":43754613.780720189},{"$f":"+'Rev to Cost'!$D$198","v":7742630.5884075342},{"$f":"+'Rev to Cost'!$D$237","v":26511746.773779213}]
[null,null,"Unit Cost schedule",null,null,{"$f":"SUM(G102:K102)","v":692739034.91471553},{"$f":"+'Unit Costs'!$P$31","v":602635176.01490843},{"$f":"+'Unit Costs'!$P$72","v":12094867.756900137},{"$f":"+'Unit Costs'!$P$81","v":43754613.780720182},{"$f":"+'Unit Costs'!$P$107","v":7742630.5884075342},{"$f":"+'Unit Costs'!$P$128","v":26511746.773779213}]
[null,null,"Difference",1,{"$f":"IF(ABS(SUM(F103:K103))<=D103,\"OK\",ABS(SUM(F103:K103)))","v":"OK"},{"$f":"+F101-F102","v":0},0,0,0,0,0]
[]
[{"$f":"MAX(A100:A104)+NoOne","v":26},"Spec Assigned Costs","Spec Assigned Schedule",null,null,null,{"$f":"+IslIntCos!$F$545","v":4907053.4414569726}]
[null,null,"Island Interc Rev Reqmt",null,null,null,{"$f":"+IslIntCos!V496","v":4907053.4414569726}]
[null,null,"Difference",1,{"$f":"IF(ABS(SUM(F107:K107))<=D107,\"OK\",ABS(SUM(F107:K107)))","v":"OK"},null,{"$f":"+G105-G106","v":0}]
[]
[{"$f":"MAX(A104:A108)+NoOne","v":27},"Spec Assigned Deprec","Spec Assigned Schedule",null,null,null,{"$f":"SUM(IslIntCos!K545:N545)","v":1419229.1033789276}]
[null,null,"Depreciation Schedule",null,null,null,{"$f":"+IslIntCos!V176","v":1419229.1033789276}]
[null,null,null,1,{"$f":"IF(ABS(SUM(F111:K111))<=D111,\"OK\",ABS(SUM(F111:K111)))","v":"OK"},null,{"$f":"+G109-G110","v":0}]
[]
[{"$f":"MAX(A108:A112)+NoOne","v":28},"Spec Assigned Plant","Lines/Stations Spec Assigned Schedule",null,null,null,{"$f":"+IslIntCos!I522","v":180228220.74675286}]
[null,null,"Plant Schedule",null,null,null,{"$f":"+IslIntCos!V38","v":74589451.428149968}]
[null,null,null,1,{"$f":"IF(ABS(SUM(F115:K115))<=D115,\"OK\",ABS(SUM(F115:K115)))","v":105638769.31860289},null,{"$f":"+G113-G114","v":105638769.31860289}]
[]
[{"$f":"MAX(A112:A116)+NoOne","v":29},"Spec Assigned NBV","Spec Assigned Schedule",null,null,null,{"$f":"+IslIntCos!Q522","v":36983050.303217605}]
[null,null,"NBV Schedule",null,null,null,{"$f":"SUM(IslIntCos!V96,IslIntCos!V112)","v":36983050.303217605}]
[null,null,null,1,{"$f":"IF(ABS(SUM(F119:K119))<=D119,\"OK\",ABS(SUM(F119:K119)))","v":"OK"},null,{"$f":"+G117-G118","v":0}]
[]
[{"$f":"MAX(A116:A120)+NoOne","v":30},"Reconciliation Difference","Reconciliation Worksheet",25,{"$f":"IF(ABS(SUM(F121:K121))<=D121,\"OK\",ABS(SUM(F121:K121)))","v":606.03116157650948},{"$f":"SUM(Reconciliation!$J$23,Reconciliation!$J$59)","v":-606.03116157650948}]
[]
[{"$f":"MAX(A118:A122)+NoOne","v":31},"Total Return","Reconciliation Worksheet",null,null,{"$f":"+Reconciliation!I63","v":134385958.10103011}]
[null,null,"Revenue Requirement",null,null,{"$f":"SUM('Revenue Requirement'!C38:C39)","v":134419722.03522706}]
[null,null,"F/O Yr s/b balanced; TestYr N/A",5,{"$f":"IF(TestYrSwitch=0,IF(ABS(SUM(F125:K125))<=D125,\"OK\",ABS(SUM(F125:K125))),\"N/A\")","v":"N/A"},{"$f":"+F123-F124","v":-33763.934196949005}]
[]
[{"$f":"MAX(A122:A126)+NoOne","v":32},"Rev to Cost schedule","Revenues",null,null,{"$f":"+'Rev to Cost'!$C$40","v":692705625.06343937}]
[null,null,"COS, Before Def/RevCr",null,null,{"$f":"+'Rev to Cost'!$D$40","v":692739034.91471553}]
[null,null,"F/O Yr s/b balanced; TestYr N/A",5,{"$f":"IF(TestYrSwitch=0,IF(ABS(SUM(F129:K129))<=D129,\"OK\",ABS(SUM(F129:K129))),\"N/A\")","v":"N/A"},{"$f":"+F127-F128","v":-33409.851276159286}]
[]
[{"$f":"MAX(A126:A130)+NoOne","v":33},"Fallout ROE","Lab Int Rev Req ROE Sch 2.1E",null,null,{"$f":"+LabIntCos!F285","v":2264237.5359467878}]
[null,null,"Lab Int Allocated ROE Sch 3.2E",null,null,{"$f":"+LabIntCos!F410","v":2264237.5359467883}]
[null,null,"F/O Yr s/b balanced; TestYr N/A",1,{"$f":"IF(TestYrSwitch=0,IF(ABS(SUM(F133:K133))<=D133,\"OK\",ABS(SUM(F133:K133))),\"N/A\")","v":"N/A"},{"$f":"+F131-F132","v":0}]
[]
[{"$f":"MAX(A130:A134)+NoOne","v":34},"Revenues","Rev to Cost schedule",null,null,{"$f":"+'Rev to Cost'!$C$40","v":692705625.06343937}]
[null,null,"Coverage schedule",null,null,{"$f":"+Coverage!$D$45","v":692705625.06343937}]
[null,null,"Difference",1,{"$f":"IF(ABS(SUM(F137:K137))<=D137,\"OK\",ABS(SUM(F137:K137)))","v":"OK"},{"$f":"+F135-F136","v":0}]
[]
[{"$f":"MAX(A134:A138)+NoOne","v":35},"Revenues","Revenue Requirement schedule",null,null,{"$f":"+'Revenue Requirement'!$C$41","v":692739388.99763644}]
[null,null,"Coverage schedule",null,null,{"$f":"+Coverage!$D$45","v":692705625.06343937}]
[null,null,"F/O Yr s/b balanced; TestYr N/A",5,{"$f":"IF(TestYrSwitch=0,IF(ABS(SUM(F141:K141))<=D141,\"OK\",ABS(SUM(F141:K141))),\"N/A\")","v":"N/A"},{"$f":"+F139-F140","v":33763.934197068214}]
[]
[{"$f":"MAX(A138:A142)+NoOne","v":36},{"$f":"+NPRateCalcs!B46","v":"Average No. 6 Fuel Cost per Barrel"},{"$f":"NPRateCalcs!A6&\" schedule\"","v":"Cost Calculations for Newfoundland Power schedule"}]
[null,null,"Should be a number",null,{"$f":"IF(ISNUMBER(NPRateCalcs!C46),0,1)","v":0}]
[]
[{"$f":"MAX(A141:A145)+NoOne","v":37},"Rate Base","Rate Base schedule",null,null,{"$f":"+'Rate Base'!D27","v":2364466685.5525331}]
[null,null,"G/L Rate Base, Other input file",null,null,2368051000]
[null,null,null,1000,{"$f":"IF(TestYrSwitch=1,IF(ABS(SUM(F148:K148))<=D148,\"OK\",ABS(SUM(F148:K148))),\"N/A\")","v":3584314.4474668503},{"$f":"+F146-F147","v":-3584314.4474668503}]
[]
[null,null,"Grand Total, Balancing Checks",null,{"$f":"ABS(SUM(E11:E149))","v":109225106.12891579}]

{"sheet":"Rate Base","index":6,"n_rows":57,"n_cols":10,"rows_kept":57,"cut":false,"hidden":false,"merged":[]}
[null,null,null,null,null,null,null,null,null,"Schedule 1.1"]
[null,null,null,null,null,null,null,null,null,"Page 2 of 2"]
[null,"NEWFOUNDLAND AND LABRADOR HYDRO"]
[null,{"$f":"RunName","v":"2019 Test Year Cost of Service Study"}]
[null,"Total System"]
[null,"Return on Rate Base"]
[]
[null,null,{"$f":"MAX(B8)+NoOne","v":1},2,3,4,5,6,7,8]
[]
["Check","Line ",null,null,"Island","Island","Labrador","L'Anse au","Labrador"]
["Column","No",null,"Total","Interconnected","Isolated","Isolated","Loup","Interconnected","Basis of Proration"]
[{"$f":"SUM(A14:A46)","v":0},null,null,"$","$","$","$","$","$"]
[null,null,"Rate Base:"]
[{"$f":"SUM(E14:I14)-D14","v":0},{"$f":"MAX(B11:B13)+NoOne","v":1},"Average Net Book Value",{"$f":"SUM(E14:I14)","v":2179000425.830225},{"$f":"IslIntCos!F116","v":1927122840.0911996},{"$f":"IslIsoCos!F96","v":17495172.628719382},{"$f":"LabIsoCos!F96","v":88383254.452083141},{"$f":"LALCos!F96","v":15213195.991212122},{"$f":"LabIntCos!F99","v":130785962.66701102},"Schedule 2.3 "]
[0,2,"Cash Working Capital",2255000,{"$f":"$D15*E14/$D14","v":1994337.3818983566},{"$f":"$D15*F14/$D14","v":18105.372449723443},{"$f":"$D15*G14/$D14","v":91465.901716614026},{"$f":"$D15*H14/$D14","v":15743.804614958914},{"$f":"$D15*I14/$D14","v":135347.53932034731},"Prorated on Average Net Book Value - L. 1"]
[0,3,"Fuel Inventory - No. 6 Fuel",{"$f":"SUM(E16:I16)","v":66169663.358461581},66169663.358461581,0,0,0,0,"Specifically Assigned - Holyrood"]
[0,4,"Fuel Inventory - Diesel",{"$f":"SUM(E17:I17)","v":3025325.2453846158},371764.48999999993,131836.61187887116,2456424.5712364023,35265.224146958004,30034.348122384516,"Detailed Fuel Analysis"]
[0,5,"Fuel Inventory - Gas Turbine",{"$f":"SUM(E18:I18)","v":5174271.1184615381},4911126.9353846153,0,0,0,263144.18307692313,"Detailed Fuel Analysis"]
[0,6,"Inventory/Supplies",32884000,{"$f":"$D19*AllocPlt!F40","v":28914668.310802035},{"$f":"$D19*AllocPlt!G40","v":201109.62174406584},{"$f":"$D19*AllocPlt!H40","v":1378490.1551833912},{"$f":"$D19*AllocPlt!I40","v":271557.39495659713},{"$f":"$D19*AllocPlt!L40","v":2118174.5173139134},"Prorated on Total Plant in Service, Schedule 2.2"]
[{"$f":"SUM(E20:I20)-D20","v":0},7,"Deferred Charges: Holyrood",{"$f":"SUM(E20:I20)","v":0},0,null,null,null,null,"Detailed Analysis"]
[0,8,"Deferred Charges: Foreign Exchange Loss and Regulatory Costs",75958000,{"$f":"$D21*E14/$D14","v":67177773.327820554},{"$f":"$D21*F14/$D14","v":609866.02241068438},{"$f":"$D21*G14/$D14","v":3080960.9590202076},{"$f":"$D21*H14/$D14","v":530318.36405456718},{"$f":"$D21*I14/$D14","v":4559081.3266939865},"Prorated on Average Net Book Value - L. 1"]
[]
[{"$f":"SUM(D14:D21)-D23","v":0},{"$f":"MAX(B20:B22)+NoOne","v":9},"Total Rate Base",{"$f":"SUM(E23:I23)","v":2364466685.5525327},{"$f":"SUM(E14:E21)","v":2096662173.8955667},{"$f":"SUM(F14:F21)","v":18456090.257202726},{"$f":"SUM(G14:G21)","v":95390596.039239764},{"$f":"SUM(H14:H21)","v":16066080.778985206},{"$f":"SUM(I14:I21)","v":137891744.58153859}," "]
[]
[{"$f":"SUM(E25:I25)-D25","v":0},{"$f":"MAX(B22:B24)+NoOne","v":10},"Less: Rural Portion",{"$f":"SUM(E25:I25)","v":0},{"$f":"IslIntCos!F211","v":0},{"$f":"+IslIsoCos!F178","v":0},{"$f":"+LabIsoCos!F178","v":0},{"$f":"+LALCos!F178","v":0},{"$f":"+LabIntCos!F182","v":0},"Schedule 2.6, L. 9"]
[]
[{"$f":"SUM(D23:D25)-D27","v":0},{"$f":"MAX(B21:B21)+NoOne","v":9},"Rate Base Available for Equity Return",{"$f":"SUM(E27:I27)","v":2364466685.5525331},{"$f":"IslIntCos!F213","v":2096662173.8955669},{"$f":"SUM(F23:F25)","v":18456090.257202726},{"$f":"SUM(G23:G25)","v":95390596.039239764},{"$f":"SUM(H23:H25)","v":16066080.778985206},{"$f":"SUM(I23:I25)","v":137891744.58153859}," "]
[" "]
[null,null,"Corporate Targets:"]
[null,{"$f":"MAX(B27:B29)+NoOne","v":10},"Capital Structure:  Percent of Debt",0.77008594430498245,"(1)"]
[null,{"$f":"MAX(B28:B30)+NoOne","v":11},"Return",5.2499999999999998E-2]
[null,{"$f":"MAX(B29:B31)+NoOne","v":12},"Weighted Average Return:  Debt",{"$f":"D30*D31","v":4.042951207601158E-2}]
[]
[null,{"$f":"MAX(B31:B33)+NoOne","v":13},"Capital Structure:  Percent of Equity",0.19318117077303187,"(1)"]
[null,{"$f":"MAX(B32:B34)+NoOne","v":14},"Return",8.5000000000000006E-2]
[null,{"$f":"MAX(B33:B35)+NoOne","v":15},"Weighted Average Return:  Equity",{"$f":"D34*ROE","v":1.6420399515707711E-2}]
[]
[null,{"$f":"MAX(B35:B37)+NoOne","v":16},"Weighted Average Cost of Capital",{"$f":"D36+D32","v":5.6849911591719288E-2}]
[]
[null,null,"Return on Rate Base by System (%):"]
[null,{"$f":"MAX(B38:B40)+NoOne","v":17},"Return on Rate Base - Debt Component",0,{"$f":"+$D$32","v":4.042951207601158E-2},{"$f":"+$D$32","v":4.042951207601158E-2},{"$f":"+$D$32","v":4.042951207601158E-2},{"$f":"+$D$32","v":4.042951207601158E-2},{"$f":"+$D$32","v":4.042951207601158E-2}]
[null,{"$f":"MAX(B39:B41)+NoOne","v":18},"Return on Rate Base - Equity Component",0,{"$f":"+$D$36","v":1.6420399515707711E-2},{"$f":"+$D$36","v":1.6420399515707711E-2},{"$f":"+$D$36","v":1.6420399515707711E-2},{"$f":"+$D$36","v":1.6420399515707711E-2},{"$f":"+$D$36","v":1.6420399515707711E-2}]
[]
[null,null,"Return on Rate Base ($):"]
[null,{"$f":"MAX(B42:B44)+NoOne","v":19},"Return on Debt",{"$f":"SUM(E45:I45)","v":95594234.416873246},{"$f":"IslIntCos!F215","v":84767028.678827539},{"$f":"IslIsoCos!F182","v":746170.72392953723},{"$f":"LabIsoCos!F182","v":3856595.2545063854},{"$f":"LALCos!F182","v":649543.80686815968},{"$f":"LabIntCos!F186","v":5574895.9527416211},{"$f":"+\"Schedule 2.6, L.\"&IslIntCos!D215","v":"Schedule 2.6, L.12"}]
[{"$f":"SUM(E46:I46)-D46","v":0},{"$f":"MAX(B43:B45)+NoOne","v":20},"Return on Equity",{"$f":"IF(TestYrSwitch=1,SUM(E46:I46),Reconciliation!I63-'Rate Base'!D45)","v":38825487.618353829},{"$f":"IslIntCos!F217","v":34428030.544837445},{"$f":"IslIsoCos!F184","v":303056.37552122946},{"$f":"LabIsoCos!F184","v":1566351.6970058025},{"$f":"LALCos!F184","v":263811.46504256956},{"$f":"LabIntCos!F188","v":2264237.5359467878},{"$f":"+\"Schedule 2.6, L.\"&IslIntCos!D217","v":"Schedule 2.6, L.13"}]
[null,null,null,null," "," "," "," "," "]
[null,{"$f":"MAX(B45:B47)+NoOne","v":21},"Return on Rate Base ($)",{"$f":"SUM(E48:I48)","v":134419722.03522703},{"$f":"IslIntCos!F219","v":119195059.22366495},{"$f":"IslIsoCos!F186","v":1049227.0994507666},{"$f":"LabIsoCos!F186","v":5422946.9515121859},{"$f":"LALCos!F186","v":913355.27191072947},{"$f":"LabIntCos!F190","v":7839133.4886884084},{"$f":"+\"Schedule 2.6, L.\"&IslIntCos!D219","v":"Schedule 2.6, L.14"}]
[]
[null,null,"Return on Total Rate Base (%):"]
[null,{"$f":"MAX(B48:B50)+NoOne","v":22},"Return on Rate Base - Debt Component",{"$f":"+D45/D23","v":4.0429512076011601E-2},4.0429512076011594E-2,4.042951207601158E-2,4.0429512076011566E-2,4.0429512076011566E-2,4.0429512076011601E-2,{"$f":"+\"L. \"&B45&\" divided by L.\"&B$23","v":"L. 19 divided by L.9"}]
[null,{"$f":"MAX(B49:B51)+NoOne","v":23},"Return on Rate Base - Equity Component",{"$f":"+D46/D23","v":1.6420399515707711E-2},1.6420399515707715E-2,1.6420399515707711E-2,1.6420399515707711E-2,1.6420399515707704E-2,1.6420399515707711E-2,{"$f":"+\"L. \"&B46&\" divided by L.\"&B$23","v":"L. 20 divided by L.9"}]
[]
[null,{"$f":"MAX(B51:B53)+NoOne","v":24},"Return on Rate Base (%)",{"$f":"D48/D23","v":5.6849911591719295E-2},5.6849911591719295E-2,5.6849911591719281E-2,5.684991159171926E-2,5.6849911591719288E-2,5.6849911591719308E-2,{"$f":"+\"L. \"&B48&\" divided by L.\"&B$23","v":"L. 21 divided by L.9"}]
[]
[]
[null,"(1)","Debt and equity weightings reflect a 0.58% funded ARO and 3.09% component for Employee Future Benefits at 0% cost."]

{"sheet":"Rev to Cost","index":7,"n_rows":326,"n_cols":11,"rows_kept":326,"cut":false,"hidden":false,"merged":[]}
[]
[null,null,null,null,null,null,null,null,"Schedule 1.2"]
[null,null,null,null,null,null,null,null,"Page 1 of 6"]
[]
[]
["NEWFOUNDLAND AND LABRADOR HYDRO"]
[{"$f":"RunName","v":"2019 Test Year Cost of Service Study"}]
["Total System"]
["Comparison of Revenue & Allocated Revenue Requirement"]
[]
[null,{"$f":"MAX(A11)+NoOne","v":1},2,3,4,5,6,{"$f":"MAX(F11)+NoOne","v":6},7]
[]
[null,null,null,"Cost of Service Before",null,null,null,"Revenue Requirement ","Revenue"]
["Line",null,null,"Deficit and Revenue","Revenue",null,"RSP","After Deficit and Revenue","to Cost"]
["No.","Rate Class","Revenues","Credit Allocation","Credits","Deficit","Activity","Credit Allocation","Coverage"]
[null,null,null,null,null,null,null,"(Col.3+4+5)","(Col.2/3)"]
[null,null,"($)","($)","($)","($)","($)","($)"]
[]
[]
[null,"Total System"]
[{"$f":"MAX(A18:A20)+NoOne","v":1},"Newfoundland Power",{"$f":"C66","v":545410154},{"$f":"D66","v":475103607.91961205},0,70281307.337884873,0,{"$f":"SUM(D21:G21)","v":545384915.25749695},null,null,545427787]
[{"$f":"MAX(A19:A21)+NoOne","v":2},"RSP Activity",{"$f":"C67","v":0},0,0,0,0,{"$f":"SUM(D22:G22)","v":0}]
[{"$f":"MAX(A20:A21)+NoOne","v":2},"Subtotal Newfoundland Power",{"$f":"SUM(C21:C22)","v":545410154},475103607.91961205,0,70281307.337884873,0,545384915.25749695,{"$f":"IF(D23<>0,C23/D23,0)","v":1.1479815032098932},null,{"$f":"K21-H21","v":42871.742503046989}]
[]
[{"$f":"MAX(A22:A24)+NoOne","v":3},"Island Industrial ",{"$f":"C73","v":49754122.895168297},{"$f":"D73","v":49773741.238407478},{"$f":"E73","v":0},0,null,{"$f":"H73","v":49773741.238407478},{"$f":"IF(D25<>0,C25/D25,0)","v":0.99960584953529585}]
[{"$f":"MAX(A23:A25)+NoOne","v":4},"Unallocated RSP Hydraulic Variation",{"$f":"+C75","v":0},{"$f":"+D75","v":0},{"$f":"+E75","v":0},{"$f":"+F75","v":0},null,{"$f":"+H75","v":0},{"$f":"IF(D26<>0,C26/D26,0)","v":0}]
[{"$f":"MAX(A24:A25)+NoOne","v":4},"Labrador Industrial ",{"$f":"+C223","v":6872119.5046644444},{"$f":"+D223","v":6860189.9829385635},{"$f":"+E223","v":0},0,null,{"$f":"SUM(D27:F27)","v":6860189.9829385635},1.0017389491771438]
[{"$f":"MAX(A25:A27)+NoOne","v":5},"CFB - Goose Bay Secondary",{"$f":"+C225","v":0},{"$f":"+D225","v":0},{"$f":"+E225","v":0},0,null,{"$f":"+C28","v":0},0]
[{"$f":"MAX(A26:A28)+NoOne","v":6},"Rural Labrador Interconnected",{"$f":"C236","v":22507619.990959194},{"$f":"D236","v":19651556.790840652},{"$f":"E236","v":0},{"$f":"C324","v":2907022.9723842884},null,{"$f":"SUM(D29:F29)","v":22558579.763224941},1.1453352134142225]
[]
[null,"Rural Deficit Areas"]
[{"$f":"MAX(A29:A31)+NoOne","v":7},"Island Interconnected",{"$f":"C87","v":53526605.962164946},{"$f":"D87","v":77757826.856888786},{"$f":"E87","v":0},{"$f":"C32-D32-E32","v":-24231220.89472384},null,{"$f":"SUM(D32:F32)","v":53526605.962164946},0.68837579605560795]
[{"$f":"MAX(A30:A32)+NoOne","v":8},"Island Isolated",{"$f":"C128","v":1740167.8632971486},{"$f":"D128","v":12094867.756900139},{"$f":"E128","v":0},{"$f":"C33-D33-E33","v":-10354699.89360299},null,{"$f":"SUM(D33:F33)","v":1740167.8632971495},0.14387655146575543]
[{"$f":"MAX(A31:A33)+NoOne","v":9},"Labrador Isolated",{"$f":"C166","v":9656445.569178151},{"$f":"D166","v":43754613.780720189},{"$f":"E166","v":0},{"$f":"C34-D34-E34","v":-34098168.21154204},null,{"$f":"SUM(D34:F34)","v":9656445.5691781491},0.22069548179701035]
[{"$f":"MAX(A32:A34)+NoOne","v":10},"L'Anse au Loup",{"$f":"C198","v":3238389.2780072386},{"$f":"D198","v":7742630.5884075342},{"$f":"E198","v":0},{"$f":"C35-D35-E35","v":-4504241.310400296},null,{"$f":"SUM(D35:F35)","v":3238389.2780072382},0.41825439571608108]
[{"$f":"MAX(A33:A35)+NoOne","v":11},"CFB Revenue Credit Applied to Deficit",0,0,{"$f":"-E225","v":0},{"$f":"C36-D36-E36","v":0},null,{"$f":"SUM(D36:F36)","v":0},0]
[]
[{"$f":"MAX(A35:A37)+NoOne","v":12},"Subtotal",{"$f":"SUM(C32:C36)","v":68161608.672647476},141349938.98291665,0,-73188330.310269162,0,68161608.672647476,{"$f":"IF(D38<>0,C38/D38,0)","v":0.48221887581348999}]
[]
[{"$f":"MAX(A37:A39)+NoOne","v":13},"Total",{"$f":"SUM(C23:C29,C38)","v":692705625.06343937},692739034.91471553,0,0,0,692739034.91471541,{"$f":"IF(D40<>0,C40/D40,0)","v":0.99995177137480018}]
[]
[]
[]
[]
[]
[]
[]
[null,null,null,null,null,null,null,null,"Schedule 1.2"]
[null,null,null,null,null,null,null,null,"Page 2 of 6"]
[]
[]
[{"$f":"+A6","v":"NEWFOUNDLAND AND LABRADOR HYDRO"}]
[{"$f":"RunName","v":"2019 Test Year Cost of Service Study"}]
["Island Interconnected"]
["Comparison of Revenue & Allocated Revenue Requirement"]
[]
[null,{"$f":"MAX(A57)+NoOne","v":1},2,3,4,5,6,{"$f":"MAX(F57)+NoOne","v":6},7]
[]
[null,null,null,"Cost of Service Before",null,null,null,"Revenue Requirement ","Revenue"]
["Line",null,null,"Deficit and Revenue","Revenue","Deficit","RSP","After Deficit and Revenue","to Cost"]
["No.","Rate Class","Revenues","Credit Allocation","Credit","Allocation","Activity","Credit Allocation","Coverage"]
[null,null,null,null,null,null,null,"(Col.3+4+5)","(Col.2/3)"]
[null,null,"($)","($)","($)","($)","($)","($)"]
[]
[null,"Island Interconnected"]
[{"$f":"MAX(A63:A65)+NoOne","v":1},"Newfoundland Power",545410154,{"$f":"IslIntCos!F483","v":475103607.91961205},{"$f":"(D66/($D$66+$D$70+$D$87))*-$E$95","v":0},{"$f":"+C320","v":70281307.337884873},{"$f":"-G67","v":0},{"$f":"SUM(D66:G66)","v":545384915.25749695}]
[{"$f":"MAX(A64:A66)+NoOne","v":2},"NLP RSP Activity",0,null,null,null,null,{"$f":"SUM(D67:G67)","v":0}]
[{"$f":"MAX(A65:A66)+NoOne","v":2},"Subtotal Newfoundland Power",{"$f":"SUM(C66:C67)","v":545410154},475103607.91961205,0,70281307.337884873,0,545384915.25749695,{"$f":"IF(D68<>0,C68/D68,0)","v":1.1479815032098932}]
[]
[{"$f":"MAX(A67:A69)+NoOne","v":3},"Industrial - Firm",49754122.895168297,{"$f":"IslIntCos!F484","v":49773741.238407478},{"$f":"(D70/($D$66+$D$70+$D$87))*-$E$95","v":0},null,null,{"$f":"SUM(D70:F70)","v":49773741.238407478}]
[{"$f":"MAX(A68:A70)+NoOne","v":4},"Industrial - Non-Firm",0,{"$f":"IslIntCos!F485","v":0},{"$f":"+E95","v":0},null,null,{"$f":"+C71","v":0}]
[{"$f":"MAX(A69:A71)+NoOne","v":5},"Industrial RSP Activity",0,null,null,null,null,{"$f":"SUM(D72:F72)","v":0}]
[{"$f":"MAX(A70:A71)+NoOne","v":5},"Subtotal Industrial",{"$f":"SUM(C70:C72)","v":49754122.895168297},{"$f":"SUM(D70:D72)","v":49773741.238407478},{"$f":"SUM(E70:E72)","v":0},{"$f":"SUM(F70:F72)","v":0},null,{"$f":"SUM(H70:H72)","v":49773741.238407478},{"$f":"IF(D73<>0,C73/D73,0)","v":0.99960584953529585}]
[]
[{"$f":"MAX(A72:A74)+NoOne","v":6},"Unallocated RSP Hydraulic Variation",0]
[]
[null,"Rural"]
[{"$f":"MAX(A73:A73)+NoOne","v":6},"1.1 Domestic",14708835.44107319,{"$f":"IslIntCos!F487","v":24451582.191863324},{"$f":"(D78/($D$66+$D$70+$D$87))*-$E$95","v":0},{"$f":"C78-D78-E78","v":-9742746.7507901341},null,{"$f":"SUM(D78:F78)","v":14708835.44107319},{"$f":"IF(D78<>0,C78/D78,0)","v":0.60154943453793364},null,"ISLINT1.1"]
[{"$f":"MAX(A76:A78)+NoOne","v":7},"1.12 Domestic All Electric ",18533125.401324272,{"$f":"IslIntCos!F488","v":27851623.120448608},0,{"$f":"C79-D79-E79","v":-9318497.7191243358},null,18533125.401324272,{"$f":"IF(D79<>0,C79/D79,0)","v":0.66542353101558693},null,"ISLINT1.12"]
[8,"1.3 Special",21487.532051999999,{"$f":"IslIntCos!F489","v":76406.72854940535},0,-54919.196497405355,null,21487.532051999995,0.28122565198045285,null,"ISLINT1.3"]
[9,"2.1 General Service 0-100 kW",9613910.0404861346,{"$f":"IslIntCos!F490","v":12752792.762274554},0,-3138882.7217884194,null,9613910.0404861346,0.75386703286876144,null,"ISLINT2.1"]
[10,"2.2 General Service 10-100 kW",0,{"$f":"IslIntCos!F491","v":0},0,0,null,0,0,null,"ISLINT2.2"]
[{"$f":"MAX(A80:A81)+NoOne","v":10},"2.3 General Service 110-1,000 kVa",6160288.529852489,{"$f":"IslIntCos!F492","v":7392213.7042125827},0,-1231925.1743600937,null,6160288.529852489,0.83334827378460941,null,"ISLINT2.3"]
[11,"2.4 General Service Over 1,000 kVa",3378237.7086544633,{"$f":"IslIntCos!F493","v":3930235.7946861647},0,-551998.08603170142,null,3378237.7086544633,0.85955089850384425,null,"ISLINT2.4"]
[12,"4.1 Street and Area Lighting",1110721.3087224003,{"$f":"IslIntCos!F494","v":1302972.554854135},0,-192251.24613173469,null,1110721.3087224003,0.85245180689684075,null,"ISLINT4.1"]
[]
[{"$f":"MAX(A84:A86)+NoOne","v":13},"Subtotal Rural",{"$f":"SUM(C78:C85)","v":53526605.962164946},{"$f":"SUM(D78:D85)","v":77757826.856888786},{"$f":"SUM(E78:E85)","v":0},{"$f":"SUM(F78:F85)","v":-24231220.894723825},null,{"$f":"SUM(H78:H85)","v":53526605.962164946},{"$f":"IF(D87<>0,C87/D87,0)","v":0.68837579605560795}]
[{"$f":"MAX(A85:A87)+NoOne","v":14},"Total Island Interconnected",{"$f":"SUM(C87,C73,C68,C75)","v":648690882.85733318},{"$f":"SUM(D87,D73,D68,D75)","v":602635176.01490831},{"$f":"SUM(E87,E73,E68,E75)","v":0},{"$f":"SUM(F87,F73,F68,F75)","v":46050086.443161048},null,{"$f":"SUM(H87,H73,H68,H75)","v":648685262.45806932},{"$f":"IF(D88<>0,C88/D88,0)","v":1.0764238608621903}]
[]
[]
[null,"Note1:"]
[null,"Calculation of Island Industrial Non-Firm Revenue Credit"]
[null,"Island Industrial Non-Firm Revenues, Ln 5, Col 2",null,null,{"$f":"C71","v":0}]
[null,"Island Industrial Non-Firm Allocated Cost of Service, Ln 5, Col 3",null,null,{"$f":"-D71","v":0}]
[null,"Credit to be allocated to Island Interconnected Firm Customers ",null,null,{"$f":"SUM(E93:E94)","v":0}]
[]
[null,null,null,null,null,null,null,null,"Schedule 1.2"]
[null,null,null,null,null,null,null,null,"Page 3 of 6"]
[]
[]
[{"$f":"+A6","v":"NEWFOUNDLAND AND LABRADOR HYDRO"}]
[{"$f":"RunName","v":"2019 Test Year Cost of Service Study"}]
["Island Isolated"]
["Comparison of Revenue & Allocated Revenue Requirement"]
[]
[null,{"$f":"MAX(A106)+NoOne","v":1},2,3,4,5,6,{"$f":"MAX(F106)+NoOne","v":6},7]
[]
[null,null,null,"Cost of Service Before",null,null,null,"Revenue Requirement ","Revenue"]
["Line",null,null,"Deficit and Revenue","Revenue",null,"RSP","After Deficit and Revenue","to Cost"]
["No.","Rate Class","Revenues","Credit Allocation","Credit","Deficit","Activity","Credit Allocation","Coverage"]
[null,null,null,null,null,null,null,"(Col.3+4+5)","(Col.2/3)"]
[null,null,"($)","($)","($)","($)","($)","($)"]
[]
[]
[null,"Island Isolated"]
[{"$f":"MAX(A113:A115)+NoOne","v":1},"1.2 Domestic Diesel",848643.79843814182,{"$f":"IslIsoCos!F420","v":9274095.4044387098},null,{"$f":"C116-D116","v":-8425451.6060005687},null,{"$f":"SUM(D116,F116)","v":848643.79843814112},{"$f":"IF(D116<>0,C116/D116,0)","v":9.1506908375340756E-2},null,"ISLISO1.2"]
[2,"1.2G Government Domestic Diesel",0,{"$f":"IslIsoCos!F421","v":0},null,{"$f":"C117-D117","v":0},null,0,{"$f":"IF(D117<>0,C117/D117,0)","v":0},null,"ISLISO1.2G"]
[{"$f":"MAX(A115:A116)+NoOne","v":2},"1.23 Churches, Schools & Com Halls",68579.614287483317,{"$f":"IslIsoCos!F422","v":361612.23726291786},null,-293032.62297543453,null,68579.614287483331,0.18964959484383007,null,"ISLISO1.23"]
[3,"2.1 General Service 0-10 kW",232368.09529035405,{"$f":"IslIsoCos!F423","v":980765.62617039459},null,-748397.53088004049,null,232368.0952903541,0.2369252032187181,null,"ISLISO2.1D"]
[4,"2.2 GS 10-100 kW",541732.56168036966,{"$f":"IslIsoCos!F424","v":1247182.0959655303},null,-705449.5342851606,null,541732.56168036966,0.43436524901440066,null,"ISLISO2.2D"]
[5,"2.3 GS 110-1,000 kVa",0,{"$f":"IslIsoCos!F425","v":0},null,0,null,0,0,null,"ISLISO2.3"]
[6,"2.4 General Service Over 1,000 kVa",0,{"$f":"IslIsoCos!F426","v":0},null,0,null,0,0,null,"ISLISO2.4"]
[7,"2.5 GS Diesel",0,{"$f":"IslIsoCos!F427","v":0},null,0,null,0,0,null,"ISLISO2.5"]
[8,"2.5G Gov't General Service Diesel",0,{"$f":"IslIsoCos!F428","v":0},null,0,null,0,0,null,"ISLISO2.5G"]
[{"$f":"MAX(A120:A120)+NoOne","v":5},"4.1 Street and Area Lighting",42520.753600799981,{"$f":"IslIsoCos!F429","v":220898.11754990235},null,-178377.36394910238,null,42520.753600799973,0.19249033931307385,null,"ISLISO4.1"]
[{"$f":"MAX(A125:A125)+NoOne","v":6},"4.1G Gov't Street and Area Lighting",6323.04,{"$f":"IslIsoCos!F430","v":10314.275512684264},null,-3991.235512684264,null,6323.04,0.61303772545382051,null,"ISLISO4.1G"]
[]
[{"$f":"MAX(A125:A127)+NoOne","v":7},"      Total",{"$f":"SUM(C116:C126)","v":1740167.8632971486},{"$f":"SUM(D116:D126)","v":12094867.756900139},null,{"$f":"SUM(F116:F126)","v":-10354699.893602993},null,{"$f":"SUM(H116:H126)","v":1740167.8632971481},{"$f":"IF(D128<>0,C128/D128,0)","v":0.14387655146575543}]
[]
[]
[]
[]
[]
[]
[null,null,null,null,null,null,null,null,"Schedule 1.2"]
[null,null,null,null,null,null,null,null,"Page 4 of 6"]
[]
[]
[{"$f":"+A6","v":"NEWFOUNDLAND AND LABRADOR HYDRO"}]
[{"$f":"RunName","v":"2019 Test Year Cost of Service Study"}]
["Labrador Isolated"]
["Comparison of Revenue & Allocated Revenue Requirement"]
[]
[null,{"$f":"MAX(A144)+NoOne","v":1},2,3,4,5,6,{"$f":"MAX(F144)+NoOne","v":6},7]
[]
[null,null,null,"Cost of Service Before",null,null,null,"Revenue Requirement ","Revenue"]
["Line",null,null,"Deficit and Revenue","Revenue",null,"RSP","After Deficit and Revenue","to Cost"]
["No.","Rate Class","Revenues","Credit Allocation","Credit","Deficit","Activity","Credit Allocation","Coverage"]
[null,null,null,null,null,null,null,"(Col.3+4+5)","(Col.2/3)"]
[null,null,"($)","($)","($)","($)","($)","($)"]
[]
[]
[null,"Labrador Isolated"]
[{"$f":"MAX(A151:A153)+NoOne","v":1},"1.2 Domestic Diesel",3325540.7394235041,{"$f":"LabIsoCos!F421","v":23516331.125814438},null,{"$f":"C154-D154","v":-20190790.386390932},null,{"$f":"SUM(D154,F154)","v":3325540.739423506},{"$f":"IF(D154<>0,C154/D154,0)","v":0.1414140973620234},null,"LABISO1.2"]
[2,"1.2G Government Domestic Diesel",668148.84746889293,{"$f":"LabIsoCos!F422","v":628099.33194790233},null,{"$f":"C155-D155","v":40049.515520990593},null,668148.84746889293,{"$f":"IF(D155<>0,C155/D155,0)","v":1.0637630283681188},null,"LABISO1.2G"]
[3,"1.23 Churches, Schools & Com Halls",301419.01768583327,{"$f":"LabIsoCos!F423","v":1283899.6118939507},null,-982480.59420811746,null,301419.01768583327,0.23476836887674851,null,"LABISO1.23"]
[4,"2.1 General Service 0-10 kW",1397564.3994720904,{"$f":"LabIsoCos!F424","v":4345644.3631630223},null,-2948079.9636909319,null,1397564.3994720904,0.32160119022138728,null,"LABISO2.1D"]
[5,"2.2 GS 10-100 kW",3336130.8805633564,{"$f":"LabIsoCos!F425","v":10103273.797523256},null,-6767142.9169599004,null,3336130.880563356,0.33020295672687644,null,"LABISO2.2"]
[6,"2.3 GS 110-1,000 kVa",259744.19517038233,{"$f":"LabIsoCos!F426","v":1605874.3566697568},null,-1346130.1614993745,null,259744.19517038227,0.16174627491346008,null,"LABISO2.3"]
[7,"2.4 General Service Over 1,000 kVa",235104.00647968909,{"$f":"LabIsoCos!F427","v":1850536.26289166},null,-1615432.2564119708,null,235104.00647968915,0.12704641956721996,null,"LABISO2.4"]
[8,"2.5 GS Diesel",0,{"$f":"LabIsoCos!F428","v":0},null,0,null,0,0,null,"LABISO2.5"]
[9,"2.5G Gov't General Service Diesel",0,{"$f":"LabIsoCos!F429","v":0},null,0,null,0,0,null,"LABISO2.5G"]
[{"$f":"MAX(A160:A160)+NoOne","v":8},"4.1 Street and Area Lighting",123929.92291439998,{"$f":"LabIsoCos!F430","v":411064.95952958916},null,-287135.03661518916,null,123929.9229144,0.30148500873492551,null,"LABISO4.1"]
[{"$f":"MAX(A163:A163)+NoOne","v":9},"4.1G Gov't Street and Area Lighting",8863.56,{"$f":"LabIsoCos!F431","v":9889.9712866247046},null,{"$f":"C164-D164","v":-1026.4112866247051},null,8863.56,0.89621695990029482,null,"LABISO4.1G"]
[]
[{"$f":"MAX(A163:A165)+NoOne","v":10},"      Total",{"$f":"SUM(C154:C164)","v":9656445.569178151},{"$f":"SUM(D154:D164)","v":43754613.780720189},null,-34098168.21154204,null,{"$f":"SUM(H154:H164)","v":9656445.569178151},{"$f":"IF(D166<>0,C166/D166,0)","v":0.22069548179701035}]
[]
[]
[]
[]
[]
[]
[null,null,null,null,null,null,null,null,"Schedule 1.2"]
[null,null,null,null,null,null,null,null,"Page 5 of 6"]
[]
[]
[{"$f":"+A6","v":"NEWFOUNDLAND AND LABRADOR HYDRO"}]
[{"$f":"RunName","v":"2019 Test Year Cost of Service Study"}]
["L'Anse au Loup"]
["Comparison of Revenue & Allocated Revenue Requirement"]
[]
[null,{"$f":"MAX(A182)+NoOne","v":1},2,3,4,5,6,{"$f":"MAX(F182)+NoOne","v":6},7]
[]
[null,null,null,"Cost of Service Before",null,null,null,"Revenue Requirement ","Revenue"]
["Line",null,null,"Deficit and Revenue","Revenue",null,"RSP","After Deficit and Revenue","to Cost"]
["No.","Rate Class","Revenues","Credit Allocation","Credit","Deficit","Activity","Credit Allocation","Coverage"]
[null,null,null,null,null,null,null,"(Col.3+4+5)","(Col.2/3)"]
[null,null,"($)","($)","($)","($)","($)","($)"]
[]
[null,"L'Anse au Loup"]
[{"$f":"MAX(A188:A190)+NoOne","v":1},"1.1 Domestic",596496.26495162677,{"$f":"LALCos!F395","v":1603999.3196259073},null,{"$f":"C191-D191","v":-1007503.0546742806},null,{"$f":"SUM(D191,F191)","v":596496.26495162677},{"$f":"IF(D191<>0,C191/D191,0)","v":0.37188062217554091},null,"LAL1.2"]
[2,"1.12 Domestic All Electric ",1431038.465207919,{"$f":"LALCos!F396","v":3616545.6555972747},null,{"$f":"C192-D192","v":-2185507.1903893556},null,1431038.465207919,0.39569207787910038,null,"LAL1.12"]
[3,"2.1 General Service 0-100 kW",859548.49587483029,{"$f":"LALCos!F397","v":1826265.1471213726},null,-966716.65124654234,null,859548.49587483029,0.47065920150186447,null,"LAL2.1"]
[4,"2.2 General Service 10-100 kW",0,{"$f":"LALCos!F398","v":0},null,0,null,0,0,null,"LAL2.2"]
[{"$f":"MAX(A192:A192)+NoOne","v":3},"2.3 General Service 110-1,000 kVa",330152.37845126266,{"$f":"LALCos!F399","v":648270.03716497507},null,-318117.65871371242,null,330152.37845126266,0.50928218107239742,null,"LAL2.3"]
[{"$f":"MAX(A195:A195)+NoOne","v":4},"4.1 Street and Area Lighting",21153.673521600002,{"$f":"LALCos!F400","v":47550.428898004517},null,-26396.755376404515,null,21153.673521600002,0.44486819597304889,null,"LAL4.1"]
[]
[{"$f":"MAX(A195:A197)+NoOne","v":5},"Total L'Anse Au Loup",{"$f":"SUM(C191:C196)","v":3238389.2780072386},{"$f":"SUM(D191:D196)","v":7742630.5884075342},null,-4504241.310400296,null,{"$f":"SUM(H191:H196)","v":3238389.2780072386},{"$f":"IF(D198<>0,C198/D198,0)","v":0.41825439571608108}]
[]
[]
[]
[]
[]
[]
[null,null,null,null,null,null,null,null,"Schedule 1.2"]
[null,null,null,null,null,null,null,null,"Page 6 of 6"]
[]
[{"$f":"+A6","v":"NEWFOUNDLAND AND LABRADOR HYDRO"}]
[{"$f":"RunName","v":"2019 Test Year Cost of Service Study"}]
["Labrador Interconnected"]
["Comparison of Revenue & Allocated Revenue Requirement"]
[null,{"$f":"MAX(A212)+NoOne","v":1},2,3,4,5,6,{"$f":"MAX(F212)+NoOne","v":6},7]
[]
[null,null,null,"Cost of Service Before",null,null,null,"Revenue Requirement ","Revenue"]
["Line",null,null,"Deficit and Revenue","Revenue","Deficit","RSP","After Deficit and Revenue","to Cost"]
["No.","Rate Class","Revenues","Credit Allocation","Credit","Allocation","Activity","Credit Allocation","Coverage"]
[null,null,null,null,null,null,null,"(Col.3+4+5)","(Col.2/7)"]
[null,null,"($)","($)","($)","($)","($)","($)"]
[null,"Labrador Interconnected"]
[{"$f":"MAX(A218:A219)+NoOne","v":1},"Labrador Industrial Firm",6872119.5046644444,{"$f":"LabIntCos!F454","v":6860189.9829385635},null,{"$f":"$F$27*(D220/SUM($D$220:$D$221))","v":0},null,{"$f":"SUM(D220:F220)","v":6860189.9829385635},{"$f":"IF(H220<>0,C220/H220,0)","v":1.0017389491771438}]
[{"$f":"MAX(A219:A220)+NoOne","v":2},"Labrador Industrial Non-Firm",{"$f":"+D221","v":0},{"$f":"+LabIntCos!F455","v":0},null,{"$f":"$F$27*(D221/SUM($D$220:$D$221))","v":0},null,{"$f":"SUM(D221:F221)","v":0},0]
[]
[{"$f":"MAX(A220:A222)+NoOne","v":3},"Subtotal Industrial",{"$f":"+C220+C221+C222","v":6872119.5046644444},{"$f":"+D220+D221+D222","v":6860189.9829385635},{"$f":"+E220+E221+E222","v":0},{"$f":"+F220+F221","v":0},null,{"$f":"+H220+H221+H222","v":6860189.9829385635}]
[]
[{"$f":"MAX(A222:A224)+NoOne","v":4},"CFB - Goose Bay Secondary",0,{"$f":"LabIntCos!F453","v":0},{"$f":"+E246","v":0},0,null,{"$f":"SUM(D225:F225)","v":0},{"$f":"IF(H225<>0,C225/H225,0)","v":0}]
[]
[null,"Rural"]
[{"$f":"MAX(A225:A227)+NoOne","v":5},"1.1 Domestic ",109454.85680270228,{"$f":"LabIntCos!F458","v":215092.65899860079},{"$f":"-$E$249*(D228/$D$236)","v":0},{"$f":"(D228/$D$236)*$F$29","v":31818.308725117775},null,{"$f":"SUM(D228:F228)","v":246910.96772371855},{"$f":"IF(H228<>0,C228/H228,0)","v":0.4432968604504316},null,"LEINT1.1"]
[6,"1.1A Domestic All Electric ",12338690.184692886,{"$f":"LabIntCos!F459","v":12011207.327792181},0,1776798.4490794484,null,13788005.776871629,{"$f":"IF(H229<>0,C229/H229,0)","v":0.89488577132670888},null,"LEINT1.12"]
[7,"2.1 General Service 0-10 kW",455136.11659505049,{"$f":"LabIntCos!F460","v":394806.49354968488},0,58403.085242099369,null,453209.57879178424,1.0042508761805129,null,"LEINT2.1"]
[8,"2.2 General Service 10-100 kW",2508183.0379712135,{"$f":"LabIntCos!F461","v":1867500.4616819066},0,276256.31907075649,null,2143756.780752663,1.1699942178564688,null,"LEINT2.2"]
[9,"2.3 General Service 110-1,000 kVa",3890717.1723198113,{"$f":"LabIntCos!F462","v":2586689.6382659478},0,382644.80930957553,null,2969334.4475755235,1.3102994091812734,null,"LEINT2.3"]
[10,"2.4 General Service Over 1,000 kVa",2844173.4625775311,{"$f":"LabIntCos!F463","v":2272282.3225295786},0,336135.04424316081,null,2608417.3667727392,1.0903828117416965,null,"LEINT2.4"]
[11,"4.1 Street and Area Lighting",361265.16,{"$f":"LabIntCos!F464","v":303977.88802275388},0,44966.956714130269,null,348944.84473688412,1.0353073428335238,null,"LEINT4.1"]
[]
[{"$f":"MAX(A233:A235)+NoOne","v":12},"Subtotal Rural",{"$f":"SUM(C228:C234)","v":22507619.990959194},{"$f":"SUM(D228:D234)","v":19651556.790840652},{"$f":"SUM(E228:E234)","v":0},{"$f":"SUM(F228:F234)","v":2907022.9723842889},null,{"$f":"SUM(D236:F236)","v":22558579.763224941}]
[{"$f":"MAX(A234:A236)+NoOne","v":13},"Total Labrador Interconnected",{"$f":"+C236+C225+C223","v":29379739.495623637},{"$f":"+D236+D225+D223","v":26511746.773779213},{"$f":"+E236+E225+E223","v":0},{"$f":"+F236+F225+F223","v":2907022.9723842889},null,{"$f":"SUM(D237:F237)","v":29418769.746163502}]
[]
[null,"NOTES:"]
[null,"Revenue to Cost ratios include the deficit allocation when calculated for individual rate classes."]
[]
[null,"Calculation of CFB - Goose Bay Secondary Revenue Credit"]
[null,"CFB - Goose Bay Secondary Revenues, Ln 4, Col 2",null,null,{"$f":"+C225","v":0}]
[null,"CFB - Goose Bay Secondary Allocated Cost of Service, Ln 4, Col 3",null,null,{"$f":"-D225","v":0}]
[null,"CFB - Goose Bay Secondary Allocated Deficit, Ln 4, Col 5",null,null,0]
[null,"Revenue Credit",null,null,{"$f":"SUM(E243:E245)","v":0}]
[]
[null,"Revenue Credit Applied to Deficit",null,{"$f":"+RunOptions!B21","v":1},{"$f":"+E246*D248","v":0}]
[null,"Revenue Credit Applied to Firm Regulated Labrador Interconnected Customers",null,null,{"$f":"+E246-E248","v":0}]
[null,null,null,null,{"$f":"SUM(E248:E249)","v":0}]
[null,null,null,null,null,null,null,"Schedule 1.2.1"]
[null,null,null,null,null,null,null,"Page 1 of 2"]
[]
[]
[{"$f":"+A6","v":"NEWFOUNDLAND AND LABRADOR HYDRO"}]
[{"$f":"RunName","v":"2019 Test Year Cost of Service Study"}]
["Total System"]
["Rural Deficit Allocation"]
[]
[null,{"$f":"MAX(A260)+NoOne","v":1},2,3,4,5,null,{"$f":"MAX(F260)+NoOne","v":6}]
[]
[null,null,"Before Deficit and Revenue Credit Allocation"]
["Line",null,"Allocated"]
["No.","Rate Class","Revenue Reqt","Demand","Energy","Customer",null,"         Source"]
[null,null,"($)","($)","($)","($)"]
[]
[null,"CLASSIFICATION TO DEMAND, ENERGY, CUSTOMERS:"]
[{"$f":"MAX(A265:A267)+NoOne","v":1},"  Newfoundland Power",{"$f":"SUM(D268:F268)","v":475103607.91961211},{"$f":"'Unit Costs'!Q17","v":191763061.75673005},{"$f":"'Unit Costs'!R17","v":279710698.68565392},{"$f":"'Unit Costs'!S17","v":3629847.4772280767},null,"  Schedule 1.3.1, p. 1"]
[{"$f":"MAX(A266:A268)+NoOne","v":2},"  Rural Labrador Interconnected",{"$f":"SUM(D269:F269)","v":19651556.790840652},{"$f":"'Unit Costs'!Q126","v":12727263.161686681},{"$f":"'Unit Costs'!R126","v":1050258.6541835847},{"$f":"'Unit Costs'!S126","v":5874034.9749703864},null,"  Schedule 1.3.1, p. 3"]
[]
[{"$f":"MAX(A268:A270)+NoOne","v":3},"    Total",{"$f":"SUM(C268:C269)","v":494755164.71045274},{"$f":"SUM(D268:D269)","v":204490324.91841674},{"$f":"SUM(E268:E269)","v":280760957.33983749},{"$f":"SUM(F268:F269)","v":9503882.4521984626}]
[]
[{"$f":"MAX(A270:A272)+NoOne","v":4},"    Deficit Classified",{"$f":"-1*F38","v":73188330.310269162},{"$f":"C273-SUM(E273:F273)","v":30249922.614030987},{"$f":"E$271/$C$271*$C$273","v":41532513.755649306},{"$f":"F$271/$C$271*$C$273","v":1405893.9405888661},null,"  Prorated on Line 3"]
[]
[]
[null,"NOTE:  This page omitted from the print range in favour of Page 2 below."]
[]
[]
[]
[]
[]
[]
[]
[]
[]
[]
[]
[null,"* Specifically assigned costs are converted to equivalent unweighted customers"]
[null,"  by dividing the assigned cost by the allocated customer cost per unweighted customer."]
[]
[null,"  Rural Customer Costs per Rural Customer:"]
[null,"    Island Interconnected:  ",null,{"$f":"'Unit Costs'!$S$30/('Unit Costs'!$AD$30/12)","v":547.85368857151366}," "]
[null,"    Labrador Interconnected:   ",null,{"$f":"'Unit Costs'!$S$126/('Unit Costs'!$AD$126/12)","v":503.80899071298637}]
[null,null,null,null,null,null,null,"Schedule 1.2.1"]
[null,null,null,null,null,null,null,"Page 1 of 1"]
[]
[]
[{"$f":"+A6","v":"NEWFOUNDLAND AND LABRADOR HYDRO"}]
[{"$f":"RunName","v":"2019 Test Year Cost of Service Study"}]
["Total System"]
["Rural Deficit Allocation"]
[]
["Line",{"$f":"MAX(A303)+NoOne","v":1},{"$f":"MAX(B303)+NoOne","v":2}]
["No."]
[null,null,"Deficit Allocation"]
[null,null,"Allocated on"]
[null,null,"Revenue Requirment"]
[null,null,"($)"]
[]
[null,"ALLOCATION OF DEFICIT:"]
[]
[{"$f":"MAX(A309:A311)+NoOne","v":1},"  Island Interconnected",{"$f":"C268/C271*C273","v":70281307.337884873}]
[{"$f":"MAX(A310:A312)+NoOne","v":2},"  Labrador Interconnected",{"$f":"C269/C271*C273","v":2907022.9723842884}]
[]
[{"$f":"MAX(A312:A314)+NoOne","v":3},"    Allocated Totals",{"$f":"SUM(C312:C313)","v":73188330.310269162}]
[]
[null,"CUSTOMER DEFICIT ALLOCATION:"]
[null,null,"Amount","Revenue Requirement","Percent"]
[null,"  Island Interconnected:"]
[{"$f":"MAX(A315:A319)+NoOne","v":4},"    Newfoundland Power",{"$f":"C268/SUM($C$268:$C$268)*$C$312","v":70281307.337884873},{"$f":"SUM(D268:F268)","v":475103607.91961211},{"$f":"+C320/C326","v":0.96028023921217398}]
[{"$f":"MAX(A318:A320)+NoOne","v":5},"     Sub-Total Island Interconnected",{"$f":"SUM(C320:C320)","v":70281307.337884873}]
[]
[null,"  Labrador Interconnected:"]
[{"$f":"MAX(A320:A320)+NoOne","v":5},"    Rural Labrador Interconnected",{"$f":"C269/SUM($C$269:$C$269)*$C$313","v":2907022.9723842884},{"$f":"SUM(D269:F269)","v":19651556.790840652},{"$f":"+C324/C326","v":3.9719760787826033E-2}]
[{"$f":"MAX(A322:A324)+NoOne","v":6},"      Subtotal Labrador Interconnected",{"$f":"SUM(C324:C324)","v":2907022.9723842884}]
[{"$f":"MAX(A323:A324)+NoOne","v":6},"  Total",{"$f":"SUM(C325,C321)","v":73188330.310269162},null,{"$f":"+C326/$C$326","v":1}]

{"sheet":"Unit Costs","index":8,"n_rows":128,"n_cols":33,"rows_kept":128,"cut":false,"hidden":false,"merged":[]}
[]
[null,null,null,null,null,null,null,null,null,null,null,null,"Schedule 1.3",null,null,null,null,null,null,null,null,null,null,"Schedule 1.3.1",null,null,null,null,null,"Schedule 1.3.2"]
[null,null,null,null,null,null,null,null,null,null,null,null,"Page 1 of 3",null,null,null,null,null,null,null,null,null,null,"Page 1 of 3",null,null,null,null,null,"Page 1 of 3"]
[]
["NEWFOUNDLAND AND LABRADOR HYDRO",null,null,null,null,null,null,null,null,null,null,null,null,"NEWFOUNDLAND & LABRADOR HYDRO",null,null,null,null,null,null,null,null,null,null,"NEWFOUNDLAND & LABRADOR HYDRO"]
[{"$f":"RunName","v":"2019 Test Year Cost of Service Study"},null,null,null,null,null,null,null,null,null,null,null,null,{"$f":"RunName","v":"2019 Test Year Cost of Service Study"},null,null,null,null,null,null,null,null,null,null,{"$f":"RunName","v":"2019 Test Year Cost of Service Study"}]
["Unit Demand, Energy & Customer Amounts",null,null,null,null,null,null,null,null,null,null,null,null,"Total Demand, Energy & Customer Amounts",null,null,null,null,null,null,null,null,null,null,"Demands, Sales, & Number of Bills"]
[]
[]
[null,{"$f":"MAX(A10)+NoOne","v":1},2,3,4,5,6,null,{"$f":"MAX(G10)+NoOne","v":7},{"$f":"MAX(I10)+NoOne","v":8},{"$f":"MAX(J10)+NoOne","v":9},{"$f":"MAX(K10)+NoOne","v":10},{"$f":"MAX(L10)+NoOne","v":11},null,{"$f":"MAX(N10)+NoOne","v":1},{"$f":"MAX(O10)+NoOne","v":2},{"$f":"MAX(P10)+NoOne","v":3},{"$f":"MAX(Q10)+NoOne","v":4},{"$f":"MAX(R10)+NoOne","v":5},null,{"$f":"MAX(S10)+NoOne","v":6},{"$f":"MAX(U10)+NoOne","v":7},{"$f":"MAX(V10)+NoOne","v":8},{"$f":"MAX(W10)+NoOne","v":9},null,{"$f":"MAX(Y10)+NoOne","v":1},{"$f":"MAX(Z10)+NoOne","v":2},{"$f":"MAX(AA10)+NoOne","v":3},{"$f":"MAX(AB10)+NoOne","v":4},{"$f":"MAX(AC10)+NoOne","v":5}]
[]
[" ","Rate Class ","Before Deficit and Revenue Credit Allocation",null,null,null,null," "," After Deficit and Revenue Credit Allocation",null,null,null,null,null,null,null,null,null,null,null,null,null,null,null,null,null,"Units"]
["Line",null,"Demand",null,null,"Non-Demand",null,null,"Demand",null,null,"Non-Demand",null,"Line","Rate Class ","Before Deficit and Revenue Credit Allocation",null,null,null,null," After Deficit and Revenue Credit Allocation",null,null,null,"Line",null,"Billing"]
["No.",null,"Demand","Non-Demand","Energy","Demand & Energy","Customer",null,"Demand","Non-Demand","Energy","Demand & Energy","Customer","No.",null,"Total","Demand","Energy","Customer",null,"Total","Demand","Energy","Customer","No.","Rate Class ","Demands","Sales","Customers","Bills"]
[null,null,"($/kW)","($/kWh)","($/kWh)","($/kWh)","($/Bill)",null,"($/kW)","($/kWh)","($/kWh)","($/kWh)","($/Bill)",null,null,"($)","($)","($)","($)",null,"($)","($)","($)","($)",null,null,"(kW)","(MWh)",null,"(Total No)"]
[null,"Island Interconnected",null,null,null,null,null,null,null,null,null,null,null,null,"Island Interconnected"," ",null,null,null,null,null,null,null,null,null,"Island Interconnected"]
[{"$f":"MAX(A14:A16)+NoOne","v":1},"Newfoundland Power",{"$f":"IF(AA17<>0,Q17/AA17,0)","v":12.650553548981062},{"$f":"IF(AND(AA17<>0,AB17<>0),0,IF(AA17<>0,0,IF(AB17<>0,Q17/(AB17*1000),0)))","v":0},{"$f":"IF(AB17<>0,R17/(AB17*1000),0)","v":4.7948213570634585E-2},{"$f":"IF(AND(AA17<>0,AB17<>0),0,IF(AA17<>0,0,IF(AB17<>0,SUM(D17:E17),0)))","v":0},{"$f":"IF(AD17<>0,S17/AD17,0)","v":302487.28976900637},null,{"$f":"IF(AA17<>0,V17/AA17,0)","v":14.521929449205217},{"$f":"IF(AND(AA17<>0,AB17<>0),0,IF(AA17<>0,0,IF(AB17<>0,V17/(AB17*1000),0)))","v":0},{"$f":"IF(AB17<>0,W17/(AB17*1000),0)","v":5.5041115156914469E-2},{"$f":"IF(AND(AA17<>0,AB17<>0),0,IF(AA17<>0,0,IF(AB17<>0,SUM(J17:K17),0)))","v":0},{"$f":"IF(AD17<>0,X17/AD17,0)","v":347233.7446973311},{"$f":"MAX(N14:N16)+NoOne","v":1},"Newfoundland Power",{"$f":"SUM(Q17:S17)","v":475103607.91961211},{"$f":"SUM(IslIntCos!G483,IslIntCos!I483:L483,IslIntCos!N483,IslIntCos!P483)","v":191763061.75673005},{"$f":"SUM(IslIntCos!H483)","v":279710698.68565392},{"$f":"SUM(IslIntCos!M483,IslIntCos!O483,IslIntCos!Q483:V483)","v":3629847.4772280767},null,{"$f":"'Rev to Cost'!H68","v":545384915.25749695},{"$f":"IF($P17<>0,$U17/$P17*Q17,0)","v":220130260.9417527},321087849.37937623,4166804.9363679732,1,"Newfoundland Power",15158472,5833600,1,{"$f":"12*Customers!$D$29","v":12},"ISLINTNP"]
[{"$f":"MAX(A15:A17)+NoOne","v":2},"Industrial - Firm",{"$f":"IF(AA18<>0,Q18/AA18,0)","v":11.118252426641229},{"$f":"IF(AND(AA18<>0,AB18<>0),0,IF(AA18<>0,0,IF(AB18<>0,Q18/(AB18*1000),0)))","v":0},{"$f":"IF(AB18<>0,R18/(AB18*1000),0)","v":4.7923582623608275E-2},{"$f":"IF(AND(AA18<>0,AB18<>0),0,IF(AA18<>0,0,IF(AB18<>0,SUM(D18:E18),0)))","v":0},{"$f":"IF(AD18<>0,S18/AD18,0)","v":21286.766070481604},null,{"$f":"IF(AA18<>0,V18/AA18,0)","v":11.118252426641229},0,4.7923582623608275E-2,{"$f":"IF(AND(AA18<>0,AB18<>0),0,IF(AA18<>0,0,IF(AB18<>0,SUM(J18:K18),0)))","v":0},{"$f":"IF(AD18<>0,X18/AD18,0)","v":21286.766070481604},{"$f":"MAX(N15:N17)+NoOne","v":2},"Industrial - Firm",{"$f":"SUM(Q18:S18)","v":49773741.238407478},{"$f":"SUM(IslIntCos!G484,IslIntCos!I484:L484,IslIntCos!N484,IslIntCos!P484)","v":12874936.310050543},{"$f":"SUM(IslIntCos!H484)","v":35621598.964128032},{"$f":"SUM(IslIntCos!M484,IslIntCos!O484,IslIntCos!Q484:V484)","v":1277205.9642288962},null,{"$f":"'Rev to Cost'!H70","v":49773741.238407478},12874936.310050543,35621598.964128032,1277205.9642288962,{"$f":"+Y17+1","v":2},"Industrial - Firm",1158000,743300,5,{"$f":"12*Customers!$D$30","v":60},"ISLINTINDF"]
[{"$f":"MAX(A16:A18)+NoOne","v":3},"Industrial - Non-Firm",{"$f":"IF(AA19<>0,Q19/AA19,0)","v":0},{"$f":"IF(AND(AA19<>0,AB19<>0),0,IF(AA19<>0,0,IF(AB19<>0,Q19/(AB19*1000),0)))","v":0},{"$f":"IF(AB19<>0,R19/(AB19*1000),0)","v":0},{"$f":"IF(AND(AA19<>0,AB19<>0),0,IF(AA19<>0,0,IF(AB19<>0,SUM(D19:E19),0)))","v":0},{"$f":"IF(AD19<>0,S19/AD19,0)","v":0},null,{"$f":"IF(AA19<>0,V19/AA19,0)","v":0},0,0,{"$f":"IF(AND(AA19<>0,AB19<>0),0,IF(AA19<>0,0,IF(AB19<>0,SUM(J19:K19),0)))","v":0},{"$f":"IF(AD19<>0,X19/AD19,0)","v":0},{"$f":"MAX(N16:N18)+NoOne","v":3},"Industrial - Non-Firm",{"$f":"SUM(Q19:S19)","v":0},{"$f":"SUM(IslIntCos!G485,IslIntCos!I485:L485,IslIntCos!N485,IslIntCos!P485)","v":0},{"$f":"SUM(IslIntCos!H485)","v":0},{"$f":"SUM(IslIntCos!M485,IslIntCos!O485,IslIntCos!Q485:V485)","v":0},null,{"$f":"'Rev to Cost'!H71","v":0},0,0,0,{"$f":"+Y18+1","v":3},"Industrial - Non-Firm",0,0,0,0,"ISLINTINDNF"]
[" ","Rural",null,null,null,null,null,null,null,0,0,null,null," ","  Rural",null,null,null,null,null,null,null,null,null," ","  Rural"]
[{"$f":"MAX(A18:A20)+NoOne","v":4},"1.1 Domestic",{"$f":"IF(AA21<>0,Q21/AA21,0)","v":0},{"$f":"IF(AND(AA21<>0,AB21<>0),0,IF(AA21<>0,0,IF(AB21<>0,Q21/(AB21*1000),0)))","v":0.12545302729257335},{"$f":"IF(AB21<>0,R21/(AB21*1000),0)","v":5.308361581807905E-2},{"$f":"IF(AND(AA21<>0,AB21<>0),0,IF(AA21<>0,0,IF(AB21<>0,SUM(D21:E21),0)))","v":0.1785366431106524},{"$f":"IF(AD21<>0,S21/AD21,0)","v":42.390858187902239},null,{"$f":"IF(AA21<>0,V21/AA21,0)","v":0},0,0,{"$f":"IF(AND(AA21<>0,AB21<>0),0,IF(AA21<>0,0,IF(AB21<>0,SUM(J21:K21),0)))","v":0},{"$f":"IF(AD21<>0,X21/AD21,0)","v":0},{"$f":"MAX(N18:N20)+NoOne","v":4},"    1.1  Domestic",{"$f":"SUM(Q21:S21)","v":24451582.191863324},{"$f":"SUM(IslIntCos!G487,IslIntCos!I487:L487,IslIntCos!N487,IslIntCos!P487)","v":13103058.219319932},{"$f":"SUM(IslIntCos!H487)","v":5544367.6694558198},{"$f":"SUM(IslIntCos!M487,IslIntCos!O487,IslIntCos!Q487:V487)","v":5804156.3030875744},null,0,{"$f":"IF(P21<>0,$U21/$P21*Q21,0)","v":0},0,0,{"$f":"+Y19+1","v":4},"    1.1  Domestic",0,104445.93089620577,11410,{"$f":"12*Customers!$D32","v":136920},"ISLINT1.1"]
[5,"1.12 Domestic All Electric ",0,0.11213460153630835,5.3174006405137947E-2,0.16530860794144631,42.463041186337492,null,0,0,0,0,0,5,"    1.12 Domestic All Electric ",27851623.120448604,{"$f":"SUM(IslIntCos!G488,IslIntCos!I488:L488,IslIntCos!N488,IslIntCos!P488)","v":15944852.852859953},{"$f":"SUM(IslIntCos!H488)","v":7561017.7064965023},{"$f":"SUM(IslIntCos!M488,IslIntCos!O488,IslIntCos!Q488:V488)","v":4345752.5610921513},null,0,0,0,0,{"$f":"+Y21+1","v":5},"    1.12 Domestic All Electric ",0,142193.86910379425,8528.5,{"$f":"12*Customers!$D33","v":102342},"ISLINT1.12"]
[6,"1.3 Special",0,0.16736340187637191,5.2643146488341688E-2,0.22000654836471362,42.039113631596841,null,0,0,0,0,0,6,"    1.3  Special",76406.72854940535,{"$f":"SUM(IslIntCos!G489,IslIntCos!I489:L489,IslIntCos!N489,IslIntCos!P489)","v":57740.373647348308},{"$f":"SUM(IslIntCos!H489)","v":18161.885538477884},{"$f":"SUM(IslIntCos!M489,IslIntCos!O489,IslIntCos!Q489:V489)","v":504.46936357916206},null,0,0,0,0,6,"    1.3  Special",0,345,1,{"$f":"12*Customers!$D34","v":12},"ISLINT1.3"]
[7,"2.1 General Service 0-10 kW",54.283877650787126,0,5.3330335304566108E-2,0,59.401139310654088,null,0,0,0,0,0,7,"    2.1  General Service 0-10 kW",12752792.762274556,{"$f":"SUM(IslIntCos!G490,IslIntCos!I490:L490,IslIntCos!N490,IslIntCos!P490)","v":6783087.2802521354},{"$f":"SUM(IslIntCos!H490)","v":3932484.008224227},{"$f":"SUM(IslIntCos!M490,IslIntCos!O490,IslIntCos!Q490:V490)","v":2037221.4737981926},null,0,{"$f":"IF(P24<>0,$U24/$P24*Q24,0)","v":0},{"$f":"IF(Q24<>0,$U24/$P24*R24,0)","v":0},{"$f":"IF(R24<>0,$U24/$P24*S24,0)","v":0},7,"    2.1  General Service 0-10 kW",124955.83539349053,73738.220203680787,2858,{"$f":"12*Customers!$D35","v":34296},"ISLINT2.1"]
[8,"2.2 General Service 10-100 kW",0,0,0,0,0,null,0,0,0,0,0,8,"    2.2  General Service 10-100 kW",0,{"$f":"SUM(IslIntCos!G491,IslIntCos!I491:L491,IslIntCos!N491,IslIntCos!P491)","v":0},{"$f":"SUM(IslIntCos!H491)","v":0},{"$f":"SUM(IslIntCos!M491,IslIntCos!O491,IslIntCos!Q491:V491)","v":0},null,0,{"$f":"IF(P25<>0,$U25/$P25*Q25,0)","v":0},0,0,8,"    2.2  General Service 10-100 kW",0,0,0,{"$f":"12*Customers!$D36","v":0},"ISLINT2.2"]
[9,"2.3 General Service 110-1,000 kVa",23.9658909868017,0,5.3466066427412036E-2,0,75.886455054233139,null,0,0,0,0,0,9,"    2.3  General Service 110-1,000 kVa",7392213.7042125827,{"$f":"SUM(IslIntCos!G492,IslIntCos!I492:L492,IslIntCos!N492,IslIntCos!P492)","v":4350095.1838002866},{"$f":"SUM(IslIntCos!H492)","v":2956973.9178414466},{"$f":"SUM(IslIntCos!M492,IslIntCos!O492,IslIntCos!Q492:V492)","v":85144.602570849587},null,0,0,0,0,9,"    2.3  General Service 110-1,000 kVa",181511.93236237016,55305.619347478445,93.5,{"$f":"12*Customers!$D37","v":1122},"ISLINT2.3"]
[10,"2.4 General Service Over 1,000 kVa",21.161760788801335,0,5.2638900372002626E-2,0,75.899150644942011,null,0,0,0,0,0,10,"    2.4  General Service Over 1,000 kVa",3930235.7946861647,{"$f":"SUM(IslIntCos!G493,IslIntCos!I493:L493,IslIntCos!N493,IslIntCos!P493)","v":2101998.149083674},{"$f":"SUM(IslIntCos!H493)","v":1820040.537332837},{"$f":"SUM(IslIntCos!M493,IslIntCos!O493,IslIntCos!Q493:V493)","v":8197.1082696537378},null,0,0,0,0,10,"    2.4  General Service Over 1,000 kVa",99330.021261559552,34575.960448840859,9,{"$f":"12*Customers!$D38","v":108},"ISLINT2.4"]
[11,"4.1 Street and Area Lighting",0,0.13088664433094191,5.3397298361851635E-2,0.18428394269279355,68.8158023184954,null,0,0,0,0,0,11,"    4.1  Street and Area Lighting",1302972.5548541353,{"$f":"SUM(IslIntCos!G494,IslIntCos!I494:L494,IslIntCos!N494,IslIntCos!P494)","v":366482.60412663734},{"$f":"SUM(IslIntCos!H494)","v":149512.43541318458},{"$f":"SUM(IslIntCos!M494,IslIntCos!O494,IslIntCos!Q494:V494)","v":786977.51531431335},null,0,0,0,0,11,"    4.1  Street and Area Lighting",0,2800,953,{"$f":"12*Customers!$D39","v":11436},"ISLINT4.1"]
[]
[null,null,null,null,null,null,null,null,null,null,null,null,null,{"$f":"MAX(N27:N29)+NoOne","v":12},"    Subtotal Rural",{"$f":"SUM(P21:P28)","v":77757826.856888786},{"$f":"SUM(Q21:Q28)","v":42707314.663089968},{"$f":"SUM(R21:R28)","v":21982558.160302494},{"$f":"SUM(S21:S28)","v":13067954.033496317},null,null,null,null,null,{"$f":"+Y28+1","v":12},"    Subtotal Rural",{"$f":"SUM(AA21:AA28)","v":405797.78901742026},{"$f":"SUM(AB21:AB28)","v":413404.60000000009},{"$f":"SUM(AC21:AC28)","v":23853},{"$f":"SUM(AD21:AD28)","v":286236}]
[null,null,null,null,null,null,null,null,null,null,null,null,null,{"$f":"MAX(N28:N30)+NoOne","v":13}," Total Island Interconnected",{"$f":"SUM(P30,P17:P19)","v":602635176.01490843},{"$f":"SUM(Q30,Q17:Q19)","v":247345312.72987056},{"$f":"SUM(R30,R17:R19)","v":337314855.81008446},{"$f":"SUM(S30,S17:S19)","v":17975007.47495329},null,null,null,null,null,{"$f":"+Y30+1","v":13}," Total Island Interconnected",{"$f":"SUM(AA30,AA17:AA19)","v":16722269.78901742},{"$f":"SUM(AB30,AB17:AB19)","v":6990304.5999999996},{"$f":"SUM(AC30,AC17:AC19)","v":23859},{"$f":"SUM(AD30,AD17:AD19)","v":286308}]
[]
[]
[null,null,null," "]
[]
[]
[null,null,null,null,null,null,null,null,null,null,null,null,"Schedule 1.3",null,null,null,null,null,null,null,null,null,null,"Schedule 1.3.1",null,null,null,null,null,"Schedule 1.3.2"]
[null,null,null,null,null,null,null,null,null,null,null,null,"Page 2 of 3",null,null,null,null,null,null,null,null,null,null,"Page 2 of 3",null,null,null,null,null,"Page 2 of 3"]
[]
[{"$f":"+A5","v":"NEWFOUNDLAND AND LABRADOR HYDRO"},null,null,null,null,null,null,null,null,null,null,null,null,"NEWFOUNDLAND & LABRADOR HYDRO",null,null,null,null,null,null,null,null,null,null,"NEWFOUNDLAND & LABRADOR HYDRO"]
[{"$f":"RunName","v":"2019 Test Year Cost of Service Study"},null,null,null,null,null,null,null,null,null,null,null,null,{"$f":"RunName","v":"2019 Test Year Cost of Service Study"},null,null,null,null,null,null,null,null,null,null,{"$f":"RunName","v":"2019 Test Year Cost of Service Study"}]
["Unit Demand, Energy & Customer Amounts",null,null,null,null,null,null,null,null,null,null,null,null,"Total Demand, Energy & Customer Amounts",null,null,null,null,null,null,null,null,null,null,"Demands, Sales, & Number of Bills"]
[]
[]
[null,{"$f":"MAX(A45)+NoOne","v":1},2,3,4,5,6,null,{"$f":"MAX(G45)+NoOne","v":7},{"$f":"MAX(I45)+NoOne","v":8},{"$f":"MAX(J45)+NoOne","v":9},{"$f":"MAX(K45)+NoOne","v":10},{"$f":"MAX(L45)+NoOne","v":11},null,{"$f":"MAX(N45)+NoOne","v":1},{"$f":"MAX(O45)+NoOne","v":2},{"$f":"MAX(P45)+NoOne","v":3},{"$f":"MAX(Q45)+NoOne","v":4},{"$f":"MAX(R45)+NoOne","v":5},null,{"$f":"MAX(S45)+NoOne","v":6},{"$f":"MAX(U45)+NoOne","v":7},{"$f":"MAX(V45)+NoOne","v":8},{"$f":"MAX(W45)+NoOne","v":9},null,{"$f":"MAX(Y45)+NoOne","v":1},{"$f":"MAX(Z45)+NoOne","v":2},{"$f":"MAX(AA45)+NoOne","v":3},{"$f":"MAX(AB45)+NoOne","v":4},{"$f":"MAX(AC45)+NoOne","v":5}]
[]
[null,"Rate Class ","Before Deficit and Revenue Credit Allocation",null,null,null,null," "," After Deficit and Revenue Credit Allocation",null,null,null,null,null,null,null,null,null,null,null,null,null,null,null,null,null,"Units"]
["Line",null,"Demand",null,null,"Non-Demand",null,null,"Demand",null,null,"Non-Demand",null,"Line","Rate Class ","Before Deficit and Revenue Credit Allocation",null,null,null,null," After Deficit and Revenue Credit Allocation",null,null,null,"Line",null,"Billing"]
["No.",null,"Demand","Non-Demand","Energy","Demand & Energy","Customer",null,"Demand","Non-Demand","Energy","Demand & Energy","Customer","No.",null,"Total","Demand","Energy","Customer",null,"Total","Demand","Energy","Customer","No.","Rate Class ","Demands","Sales","Customers","Bills"]
[null,null,"($/kW)","($/kWh)","($/kWh)","($/kWh)","($/Bill)",null,"($/kW)","($/kWh)","($/kWh)","($/kWh)","($/Bill)",null,null,"($)","($)","($)","($)",null,"($)","($)","($)","($)",null,null,"(kW)","(MWh)",null,"(Total No)"]
[]
[]
[null,"Isolated Systems:",null,null,null,null,null,null,null,null,null,null,null,null,{"$f":"+B53","v":"Isolated Systems:"},null,null,null,null,null,null,null,null,null,null,{"$f":"+B53","v":"Isolated Systems:"}]
[{"$f":"MAX(A51:A53)+NoOne","v":1},"1.2 Domestic Diesel",{"$f":"IF(AA54<>0,Q54/AA54,0)","v":0},{"$f":"IF(AND(AA54<>0,AB54<>0),0,IF(AA54<>0,0,IF(AB54<>0,Q54/(AB54*1000),0)))","v":0.40288976859696946},{"$f":"IF(AB54<>0,R54/(AB54*1000),0)","v":0.72749823480616438},{"$f":"IF(AND(AA54<>0,AB54<>0),0,IF(AA54<>0,0,IF(AB54<>0,SUM(D54:E54),0)))","v":1.1303880034031337},{"$f":"IF(AD54<>0,S54/AD54,0)","v":64.042734473011905},null,null,null,null,null,null,{"$f":"MAX(N51:N53)+NoOne","v":1},"1.2 Domestic Diesel",{"$f":"SUM(Q54:S54)","v":35064037.711357906},{"$f":"SUM(Q66,Q75)","v":11740610.746684287},21200026.060486436,2123400.9041871829,null,null,null,null,null,{"$f":"MAX(Y51:Y53)+NoOne","v":1},{"$f":"+O54","v":"1.2 Domestic Diesel"},{"$f":"SUM(AA66,AA75)","v":0},29141,2789,33156]
[2,"2.1 General Service 0-10 kW",0,0.24261290060988178,0.72429022434088031,0.96690312495076203,68.327198914435286,null,null,null,null,null,null,2,"2.1 General Service 0-10 kW",5326409.9893334163,1224467.3093780733,3655492.762248423,446449.91770692018,null,null,null,null,null,2,"2.1 General Service 0-10 kW",0,5047,544.5,6534]
[3,"2.2 GS 10-100 kW",74.038903739700459,0,0.71565431102845112,0,86.852694785291547,null,null,null,null,null,null,3,"2.2 GS 10-100 kW",11350455.893488783,2960657.2777446089,8240759.3914926145,149039.22425156028,null,null,null,null,null,3,"2.2 GS 10-100 kW",39987.85946579423,11515,143,1716]
[4,"2.3 GS 110-1,000 kVa",14.231289503880678,0,0.70306224306449372,0,106.01212202444587,null,null,null,null,null,null,4,"2.3 GS 110-1,000 kVa",1605874.3566697566,135738.03928801391,1463775.590060276,6360.7273214667521,null,null,null,null,null,4,"2.3 GS 110-1,000 kVa",9538,2082,5,60]
[5,"2.4 General Service Over 1,000 kVa",29.285181524237061,0,0.70236135525560217,0,105.90643777720508,null,null,null,null,null,null,5,"2.4 General Service Over 1,000 kVa",1850536.26289166,179752.44419576708,1669512.9414425665,1270.877253326461,null,null,null,null,null,5,"2.4 General Service Over 1,000 kVa",6138,2377,1,12]
[6,"Subtotal Metered Demand Classes",58.855921825571613,0,0.71203505214695484,0,87.623506055007553,null,null,null,null,null,null,6,"Subtotal Metered Demand Classes",14806866.5130502,{"$f":"SUM(Q56:Q58)","v":3276147.7612283896},{"$f":"SUM(R56:R58)","v":11374047.922995457},{"$f":"SUM(S56:S58)","v":156670.82882635351},null,null,null,null,null,6,"Subtotal Metered Demand Classes",{"$f":"SUM(AA56:AA58)","v":55663.85946579423},{"$f":"SUM(AB56:AB58)","v":15974},{"$f":"SUM(AC56:AC58)","v":149},{"$f":"SUM(AD56:AD58)","v":1788}]
[]
[{"$f":"MAX(A58:A60)+NoOne","v":7},"4.1 Street and Area Lighting",{"$f":"IF(AA61<>0,Q61/AA61,0)","v":0},{"$f":"IF(AND(AA61<>0,AB61<>0),0,IF(AA61<>0,0,IF(AB61<>0,Q61/(AB61*1000),0)))","v":0.48315352735212486},{"$f":"IF(AB61<>0,R61/(AB61*1000),0)","v":0.7393952625994098},{"$f":"IF(AND(AA61<>0,AB61<>0),0,IF(AA61<>0,0,IF(AB61<>0,SUM(D61:E61),0)))","v":1.2225487899515346},{"$f":"IF(AD61<>0,S61/AD61,0)","v":99.872457058771374},null,null,null,null,null,null,{"$f":"MAX(N58:N60)+NoOne","v":7},{"$f":"+B61","v":"4.1 Street and Area Lighting"},{"$f":"SUM(Q61:S61)","v":652167.3238788005},{"$f":"SUM(Q71,Q80)","v":197112.14455384639},{"$f":"SUM(R71,R80)","v":301651.08528268122},{"$f":"SUM(S71,S80)","v":153404.09404227283},null,null,null,null,null,{"$f":"MAX(Y58:Y60)+NoOne","v":7},{"$f":"+O61","v":"4.1 Street and Area Lighting"},{"$f":"SUM(AA71,AA80)","v":0},{"$f":"SUM(AB71,AB80)","v":407.97},{"$f":"SUM(AC71,AC80)","v":133},{"$f":"SUM(AD71,AD80)","v":1536}]
[null,null,null,null,null,null,null,null,null,null,null,null,null,{"$f":"MAX(N59:N61)+NoOne","v":8},"  Total Isolated Systems",{"$f":"SUM(P54:P55,P59,P61)","v":55849481.537620321},{"$f":"SUM(Q54:Q55,Q59,Q61)","v":16438337.961844595},{"$f":"SUM(R54:R55,R59,R61)","v":36531217.831013002},{"$f":"SUM(S54:S55,S59,S61)","v":2879925.7447627294},null,null,null,null,null,{"$f":"MAX(Y59:Y61)+NoOne","v":8},{"$f":"+O62","v":"  Total Isolated Systems"},{"$f":"SUM(AA54:AA55,AA59,AA61)","v":55663.85946579423},{"$f":"SUM(AB54:AB55,AB59,AB61)","v":50569.97},{"$f":"SUM(AC54:AC55,AC59,AC61)","v":3615.5},{"$f":"SUM(AD54:AD55,AD59,AD61)","v":43014}]
[]
[]
[null,"Island Isolated",null,null,null,null,null,null,null,null,null,null,null,null,"Island Isolated",null,null,null,null,null,null,null,null,null,null,"Island Isolated"]
[{"$f":"MAX(A61:A65)+NoOne","v":8},"1.2 Domestic Diesel",{"$f":"IF(AA66<>0,Q66/AA66,0)","v":0},{"$f":"IF(AND(AA66<>0,AB66<>0),0,IF(AA66<>0,0,IF(AB66<>0,Q66/(AB66*1000),0)))","v":0.80485514041957351},{"$f":"IF(AB66<>0,R66/(AB66*1000),0)","v":0.83391678801559699},{"$f":"IF(AND(AA66<>0,AB66<>0),0,IF(AA66<>0,0,IF(AB66<>0,SUM(D66:E66),0)))","v":1.6387719284351705},{"$f":"IF(AD66<>0,S66/AD66,0)","v":86.260180226542644},null,{"$f":"IF(AA66<>0,V66/AA66,0)","v":0},{"$f":"IF(AND(AA66<>0,AB66<>0),0,IF(AA66<>0,0,IF(AB66<>0,W66/(AB66*1000),0)))","v":0},{"$f":"IF(AB66<>0,X66/(AB66*1000),0)","v":0},{"$f":"IF(AND(AA66<>0,AB66<>0),0,IF(AA66<>0,0,IF(AB66<>0,SUM(J66:K66),0)))","v":0},{"$f":"IF(AD66<>0,X66/AD66,0)","v":0},{"$f":"MAX(N62:N65)+NoOne","v":9},{"$f":"+B66","v":"1.2 Domestic Diesel"},{"$f":"SUM(Q66:S66)","v":9635707.6417016257},{"$f":"SUM(IslIsoCos!G420,IslIsoCos!I420:K420,IslIsoCos!M420,IslIsoCos!O420)+SUM(IslIsoCos!G422,IslIsoCos!I422:K422,IslIsoCos!M422,IslIsoCos!O422)","v":4386460.5152866757},{"$f":"SUM(IslIsoCos!H420)+SUM(IslIsoCos!H422)","v":4544846.4946850035},{"$f":"SUM(IslIsoCos!L420,IslIsoCos!N420,IslIsoCos!P420:U420)+SUM(IslIsoCos!L422,IslIsoCos!N422,IslIsoCos!P422:U422)","v":704400.63172994729},null,0,0,0,0,{"$f":"MAX(Y62:Y65)+NoOne","v":9},{"$f":"+O66","v":"1.2 Domestic Diesel"},0,5450,680.5,{"$f":"12*Customers!$D57","v":8166},"ISLISO1.2","ISLISO1.23"]
[{"$f":"MAX(A64:A66)+NoOne","v":9},"2.1 General Service 0-10 kW",0,0.3798545862264176,0.83671544938683862,1.2165700356132563,98.265317604791704,null,0,0,0,0,0,{"$f":"MAX(N64:N66)+NoOne","v":10},"2.1 General Service 0-10 kW",980765.62617039483,{"$f":"SUM(IslIsoCos!G423,IslIsoCos!I423:K423,IslIsoCos!M423,IslIsoCos!O423)","v":272355.73832434142},{"$f":"SUM(IslIsoCos!H423)","v":599924.97721036326},{"$f":"SUM(IslIsoCos!L423,IslIsoCos!N423,IslIsoCos!P423:U423)+SUM(IslIsoCos!L422,IslIsoCos!N422,IslIsoCos!P422:U422)","v":108484.91063569004},null,0,0,0,0,{"$f":"MAX(Y64:Y66)+NoOne","v":10},"2.1 General Service 0-10 kW",0,717,92,{"$f":"12*Customers!$D60","v":1104},"ISLISO2.1"]
[{"$f":"MAX(A65:A67)+NoOne","v":10},"2.2 GS 10-100 kW",176.75327137254436,0,0.84019449912156374,0,137.42242337441724,null,0,0,0,0,0,11,"2.2 GS 10-100 kW",1247182.0959655305,{"$f":"SUM(IslIsoCos!G424,IslIsoCos!I424:K424,IslIsoCos!M424,IslIsoCos!O424)","v":523341.59665349429},{"$f":"SUM(IslIsoCos!H424)","v":702402.60126562731},{"$f":"SUM(IslIsoCos!L424,IslIsoCos!N424,IslIsoCos!P424:U424)","v":21437.898046409089},null,0,0,0,0,11,"2.2 GS 10-100 kW",2960.8594657942303,836,13,{"$f":"12*Customers!$D61","v":156},"ISLISO2.2"]
[{"$f":"MAX(A66:A68)+NoOne","v":11},"2.3 GS 110-1,000 kVa",0,0,0,0,0,null,0,0,0,0,0,12,"2.3 GS 110-1,000 kVa",0,{"$f":"SUM(IslIsoCos!G425,IslIsoCos!I425:K425,IslIsoCos!M425,IslIsoCos!O425)","v":0},{"$f":"SUM(IslIsoCos!H425)","v":0},{"$f":"SUM(IslIsoCos!L425,IslIsoCos!N425,IslIsoCos!P425:U425)","v":0},null,0,0,0,0,12,"2.3 GS 110-1,000 kVa",0,0,0,{"$f":"12*Customers!$D62","v":0},"ISLISO2.3"]
[{"$f":"MAX(A67:A69)+NoOne","v":12},"2.4 General Service Over 1,000 kVa",0,0,0,0,0,null,0,0,0,0,0,13,"2.4 General Service Over 1,000 kVa",0,{"$f":"SUM(IslIsoCos!G426,IslIsoCos!I426:K426,IslIsoCos!M426,IslIsoCos!O426)","v":0},{"$f":"SUM(IslIsoCos!H426)","v":0},{"$f":"SUM(IslIsoCos!L426,IslIsoCos!N426,IslIsoCos!P426:U426)","v":0},null,0,0,0,0,13,"2.4 General Service Over 1,000 kVa",0,0,0,{"$f":"12*Customers!$D63","v":0},"ISLISO2.4"]
[{"$f":"MAX(A68:A70)+NoOne","v":13},"4.1 Street and Area Lighting",0,0.78776649393226816,0.83575014706126649,1.6235166409935347,129.75511977303009,null,0,0,0,0,0,14,"4.1 Street and Area Lighting",231212.39306258658,{"$f":"SUM(IslIsoCos!G429,IslIsoCos!I429:K429,IslIsoCos!M429,IslIsoCos!O429)+SUM(IslIsoCos!G430,IslIsoCos!I430:K430,IslIsoCos!M430,IslIsoCos!O430)","v":83479.615362002456},{"$f":"SUM(IslIsoCos!H429)+SUM(IslIsoCos!H430)","v":88564.443084082406},{"$f":"SUM(IslIsoCos!L429,IslIsoCos!N429,IslIsoCos!P429:U429)+SUM(IslIsoCos!L430,IslIsoCos!N430,IslIsoCos!P430:U430)","v":59168.334616501721},null,0,0,0,0,14,"4.1 Street and Area Lighting",0,105.97,41,{"$f":"12*Customers!$D66","v":456},"ISLISO4.1","ISLISO4.1G"]
[null,null,null,null,null,null,null,null,null,null,null,null,null,15,"  Total Island Isolated ",{"$f":"SUM(P66:P71)","v":12094867.756900137},{"$f":"SUM(Q66:Q71)","v":5265637.4656265136},{"$f":"SUM(R66:R71)","v":5935738.5162450764},{"$f":"SUM(S66:S71)","v":893491.7750285482},null,null,null,null,null,15,"  Total Island Isolated ",{"$f":"SUM(AA66:AA71)","v":2960.8594657942303},{"$f":"SUM(AB66:AB71)","v":7108.97},{"$f":"SUM(AC66:AC71)","v":826.5},{"$f":"SUM(AD66:AD71)","v":9882}]
[]
[null,"Labrador Isolated",null,null,null,null,null,null,null,null,null,null,null,null,"Labrador Isolated",null,null,null,null,null,null,null,null,null,null,"Labrador Isolated"]
[{"$f":"MAX(A71:A74)+NoOne","v":14},"1.2 Domestic Diesel",{"$f":"IF(AA75<>0,Q75/AA75,0)","v":0},{"$f":"IF(AND(AA75<>0,AB75<>0),0,IF(AA75<>0,0,IF(AB75<>0,Q75/(AB75*1000),0)))","v":0.31041957837987472},{"$f":"IF(AB75<>0,R75/(AB75*1000),0)","v":0.70301716119207436},{"$f":"IF(AND(AA75<>0,AB75<>0),0,IF(AA75<>0,0,IF(AB75<>0,SUM(D75:E75),0)))","v":1.013436739571949},{"$f":"IF(AD75<>0,S75/AD75,0)","v":56.78272398788458},null,{"$f":"IF(AA75<>0,V75/AA75,0)","v":0},{"$f":"IF(AND(AA75<>0,AB75<>0),0,IF(AA75<>0,0,IF(AB75<>0,W75/(AB75*1000),0)))","v":0},{"$f":"IF(AB75<>0,X75/(AB75*1000),0)","v":0},{"$f":"IF(AND(AA75<>0,AB75<>0),0,IF(AA75<>0,0,IF(AB75<>0,SUM(J75:K75),0)))","v":0},{"$f":"IF(AD75<>0,X75/AD75,0)","v":0},{"$f":"MAX(N72:N74)+NoOne","v":16},{"$f":"+B75","v":"1.2 Domestic Diesel"},{"$f":"SUM(Q75:S75)","v":25428330.069656283},{"$f":"SUM(LabIsoCos!G421,LabIsoCos!I421:K421,LabIsoCos!M421,LabIsoCos!O421)+SUM(LabIsoCos!G422,LabIsoCos!I422:K422,LabIsoCos!M422,LabIsoCos!O422)+SUM(LabIsoCos!G423,LabIsoCos!I423:K423,LabIsoCos!M423,LabIsoCos!O423)","v":7354150.231397612},{"$f":"SUM(LabIsoCos!H421)+SUM(LabIsoCos!H422)+SUM(LabIsoCos!H423)","v":16655179.565801434},{"$f":"SUM(LabIsoCos!L421,LabIsoCos!N421,LabIsoCos!P421:U421)+SUM(LabIsoCos!L422,LabIsoCos!N422,LabIsoCos!P422:U422)+SUM(LabIsoCos!L423,LabIsoCos!N423,LabIsoCos!P423:U423)","v":1419000.2724572357},null,0,0,0,0,{"$f":"MAX(Y72:Y74)+NoOne","v":16},{"$f":"+O75","v":"1.2 Domestic Diesel"},0,23691,2108.5,{"$f":"12*Customers!$D83","v":24990},"LABISO1.2","LABISO1.23","LABISO1.2G"]
[{"$f":"MAX(A73:A75)+NoOne","v":15},"2.1 General Service 0-10 kW",0,0.2198871988576748,0.70567385335751953,0.92556105221519436,62.240332793965038,null,0,0,0,0,0,17,"2.1 General Service 0-10 kW",4345644.3631630214,{"$f":"SUM(LabIsoCos!G424,LabIsoCos!I424:K424,LabIsoCos!M424,LabIsoCos!O424)","v":952111.57105373184},{"$f":"SUM(LabIsoCos!H424)","v":3055567.7850380596},{"$f":"SUM(LabIsoCos!L424,LabIsoCos!N424,LabIsoCos!P424:U424)","v":337965.00707123015},null,0,0,0,0,17,"2.1 General Service 0-10 kW",0,4330,452.5,{"$f":"12*Customers!$D86","v":5430},"LABISO2.1"]
[{"$f":"MAX(A74:A76)+NoOne","v":16},"2.2 GS 10-100 kW",65.82536206257906,0,0.70590474672038461,0,81.795721926378974,null,0,0,0,0,0,18,"2.2 GS 10-100 kW",10103273.797523255,{"$f":"SUM(LabIsoCos!G425,LabIsoCos!I425:K425,LabIsoCos!M425,LabIsoCos!O425)","v":2437315.6810911149},{"$f":"SUM(LabIsoCos!H425)","v":7538356.7902269876},{"$f":"SUM(LabIsoCos!L425,LabIsoCos!N425,LabIsoCos!P425:U425)","v":127601.3262051512},null,0,0,0,0,18,"2.2 GS 10-100 kW",37027,10679,130,{"$f":"12*Customers!$D87","v":1560},"LABISO2.2"]
[{"$f":"MAX(A75:A77)+NoOne","v":17},"2.3 GS 110-1,000 kVa",14.231289503880678,0,0.70306224306449372,0,106.01212202444587,null,0,0,0,0,0,19,"2.3 GS 110-1,000 kVa",1605874.3566697566,{"$f":"SUM(LabIsoCos!G426,LabIsoCos!I426:K426,LabIsoCos!M426,LabIsoCos!O426)","v":135738.03928801391},{"$f":"SUM(LabIsoCos!H426)","v":1463775.590060276},{"$f":"SUM(LabIsoCos!L426,LabIsoCos!N426,LabIsoCos!P426:U426)","v":6360.7273214667521},null,0,0,0,0,19,"2.3 GS 110-1,000 kVa",9538,2082,5,{"$f":"12*Customers!$D88","v":60},"LABISO2.3"]
[{"$f":"MAX(A76:A78)+NoOne","v":18},"2.4 General Service Over 1,000 kVa",29.285181524237061,0,0.70236135525560217,0,105.90643777720508,null,0,0,0,0,0,20,"2.4 General Service Over 1,000 kVa",1850536.26289166,{"$f":"SUM(LabIsoCos!G427,LabIsoCos!I427:K427,LabIsoCos!M427,LabIsoCos!O427)","v":179752.44419576708},{"$f":"SUM(LabIsoCos!H427)","v":1669512.9414425665},{"$f":"SUM(LabIsoCos!L427,LabIsoCos!N427,LabIsoCos!P427:U427)","v":1270.877253326461},null,0,0,0,0,20,"2.4 General Service Over 1,000 kVa",6138,2377,1,{"$f":"12*Customers!$D89","v":12},"LABISO2.4"]
[{"$f":"MAX(A77:A79)+NoOne","v":19},"4.1 Street and Area Lighting",0,0.37626665295312561,0.70558490794238027,1.0818515608955059,87.255332801639923,null,0,0,0,0,0,21,"4.1 Street and Area Lighting",420954.93081621389,{"$f":"SUM(LabIsoCos!G430,LabIsoCos!I430:K430,LabIsoCos!M430,LabIsoCos!O430)+SUM(LabIsoCos!G431,LabIsoCos!I431:K431,LabIsoCos!M431,LabIsoCos!O431)","v":113632.52919184393},{"$f":"SUM(LabIsoCos!H430)+SUM(LabIsoCos!H431)","v":213086.64219859883},{"$f":"SUM(LabIsoCos!L430,LabIsoCos!N430,LabIsoCos!P430:U430)+SUM(LabIsoCos!L431,LabIsoCos!N431,LabIsoCos!P431:U431)","v":94235.759425771117},null,0,0,0,0,21,"4.1 Street and Area Lighting",0,302,92,{"$f":"12*Customers!$D92","v":1080},"LABISO4.1","LABISO4.1G"]
[null,null,null,null,null,null,null,null,null,null,null,null,null,22,"  Total Labrador Isolated ",{"$f":"SUM(P75:P80)","v":43754613.780720182},{"$f":"SUM(Q75:Q80)","v":11172700.496218085},{"$f":"SUM(R75:R80)","v":30595479.314767927},{"$f":"SUM(S75:S80)","v":1986433.9697341812},null,null,null,null,null,22,"  Total Labrador Isolated ",{"$f":"SUM(AA75:AA80)","v":52703},{"$f":"SUM(AB75:AB80)","v":43461},{"$f":"SUM(AC75:AC80)","v":2789},{"$f":"SUM(AD75:AD80)","v":33132}]
[]
[]
[null,null,null,null,null,null,null,null,null,null,null,null,"Schedule 1.3",null,null,null,null,null,null,null,null,null,null,"Schedule 1.3.1",null,null,null,null,null,"Schedule 1.3.2"]
[null,null,null,null,null,null,null,null,null,null,null,null,"Page 3 of 3",null,null,null,null,null,null,null,null,null,null,"Page 3 of 3",null,null,null,null,null,"Page 3 of 3"]
[]
[{"$f":"+A5","v":"NEWFOUNDLAND AND LABRADOR HYDRO"},null,null,null,null,null,null,null,null,null,null,null,null,"NEWFOUNDLAND & LABRADOR HYDRO",null,null,null,null,null,null,null,null,null,null,"NEWFOUNDLAND & LABRADOR HYDRO"]
[{"$f":"RunName","v":"2019 Test Year Cost of Service Study"},null,null,null,null,null,null,null,null,null,null,null,null,{"$f":"RunName","v":"2019 Test Year Cost of Service Study"},null,null,null,null,null,null,null,null,null,null,{"$f":"RunName","v":"2019 Test Year Cost of Service Study"}]
["Unit Demand, Energy & Customer Amounts",null,null,null,null,null,null,null,null,null,null,null,null,"Total Demand, Energy & Customer Amounts",null,null,null,null,null,null,null,null,null,null,"Demands, Sales, & Number of Bills"]
[]
[]
[null,{"$f":"MAX(A92)+NoOne","v":1},2,3,4,5,6,null,{"$f":"MAX(G92)+NoOne","v":7},{"$f":"MAX(I92)+NoOne","v":8},{"$f":"MAX(J92)+NoOne","v":9},{"$f":"MAX(K92)+NoOne","v":10},{"$f":"MAX(L92)+NoOne","v":11},null,{"$f":"MAX(N92)+NoOne","v":1},{"$f":"MAX(O92)+NoOne","v":2},{"$f":"MAX(P92)+NoOne","v":3},{"$f":"MAX(Q92)+NoOne","v":4},{"$f":"MAX(R92)+NoOne","v":5},null,{"$f":"MAX(S92)+NoOne","v":6},{"$f":"MAX(U92)+NoOne","v":7},{"$f":"MAX(V92)+NoOne","v":8},{"$f":"MAX(W92)+NoOne","v":9},null,{"$f":"MAX(Y92)+NoOne","v":1},{"$f":"MAX(Z92)+NoOne","v":2},{"$f":"MAX(AA92)+NoOne","v":3},{"$f":"MAX(AB92)+NoOne","v":4},{"$f":"MAX(AC92)+NoOne","v":5}]
[]
[null,"Rate Class ","Before Deficit and Revenue Credit Allocation",null,null,null,null," "," After Deficit and Revenue Credit Allocation",null,null,null,null,null,null,null,null,null,null,null,null,null,null,null,null,null,"Units"]
["Line",null,"Demand",null,null,"Non-Demand",null,null,"Demand",null,null,"Non-Demand",null,"Line","Rate Class ","Before Deficit and Revenue Credit Allocation",null,null,null,null," After Deficit and Revenue Credit Allocation",null,null,null,"Line",null,"Billing"]
["No.",null,"Demand","Non-Demand","Energy","Demand & Energy","Customer",null,"Demand","Non-Demand","Energy","Demand & Energy","Customer","No.",null,"Total","Demand","Energy","Customer",null,"Total","Demand","Energy","Customer","No.","Rate Class ","Demands","Sales","Customers","Bills"]
[null,null,"($/kW)","($/kWh)","($/kWh)","($/kWh)","($/Bill)",null,"($/kW)","($/kWh)","($/kWh)","($/kWh)","($/Bill)",null,null,"($)","($)","($)","($)",null,"($)","($)","($)","($)",null,null,"(kW)","(MWh)",null,"(Total No)"]
[]
[]
[null,"L'Anse au Loup",null,null,null,null,null,null,null,null,null,null,null,null,"L'Anse au Loup",null,null,null,null,null,null,null,null,null,null,{"$f":"+O100","v":"L'Anse au Loup"}]
[{"$f":"MAX(A98:A100)+NoOne","v":1},"1.1 Domestic",{"$f":"IF(AA101<>0,Q101/AA101,0)","v":0},{"$f":"IF(AND(AA101<>0,AB101<>0),0,IF(AA101<>0,0,IF(AB101<>0,Q101/(AB101*1000),0)))","v":0.13742015889266124},{"$f":"IF(AB101<>0,R101/(AB101*1000),0)","v":0.17783184484650855},{"$f":"IF(AND(AA101<>0,AB101<>0),0,IF(AA101<>0,0,IF(AB101<>0,SUM(D101:E101),0)))","v":0.31525200373916978},{"$f":"IF(AD101<>0,S101/AD101,0)","v":48.084094100964073},null,{"$f":"IF(AA101<>0,V101/AA101,0)","v":0},{"$f":"IF(AND(AA101<>0,AB101<>0),0,IF(AA101<>0,0,IF(AB101<>0,W101/(AB101*1000),0)))","v":0},{"$f":"IF(AB101<>0,X101/(AB101*1000),0)","v":0},{"$f":"IF(AND(AA101<>0,AB101<>0),0,IF(AA101<>0,0,IF(AB101<>0,SUM(J101:K101),0)))","v":0},{"$f":"IF(AD101<>0,X101/AD101,0)","v":0},{"$f":"MAX(N98:N100)+NoOne","v":1},{"$f":"+B101","v":"1.1 Domestic"},{"$f":"SUM(Q101:S101)","v":1603999.3196259071},{"$f":"SUM(LALCos!G395,LALCos!I395:K395,LALCos!M395,LALCos!O395)","v":601350.61531428562},{"$f":"SUM(LALCos!H395)","v":778192.15304832137},{"$f":"SUM(LALCos!L395,LALCos!N395,LALCos!P395:U395)","v":224456.55126330029},null,0,0,0,0,{"$f":"MAX(Y98:Y100)+NoOne","v":1},"1.1 Domestic",0,4376,389,{"$f":"12*Customers!$D110","v":4668},"LAL1.2"]
[2,"1.12 Domestic All Electric ",0,0.11768774776012907,0.17790566359377885,0.29559341135390793,48.10405401080601,null,0,0,0,0,0,2,"1.12 Domestic All Electric ",3616545.6555972742,{"$f":"SUM(LALCos!G396,LALCos!I396:K396,LALCos!M396,LALCos!O396)","v":1341758.0122132315},{"$f":"SUM(LALCos!H396)","v":2028302.4706326728},{"$f":"SUM(LALCos!L396,LALCos!N396,LALCos!P396:U396)","v":246485.17275137},null,0,0,0,0,2,"1.12 Domestic All Electric ",0,11401,427,{"$f":"12*Customers!$D111","v":5124},"LAL1.12"]
[3,"2.1 General Service 0-10 kW",34.266557682526326,0,0.17828207080664468,0,67.980162369257357,null,0,0,0,0,0,3,"2.1 General Service 0-10 kW",1826265.1471213726,{"$f":"SUM(LALCos!G397,LALCos!I397:K397,LALCos!M397,LALCos!O397)","v":608806.87557708111},{"$f":"SUM(LALCos!H397)","v":1155460.3634635287},{"$f":"SUM(LALCos!L397,LALCos!N397,LALCos!P397:U397)","v":61997.908080762703},null,0,0,0,0,3,"2.1 General Service 0-10 kW",17766.794120891002,6481.08,76,{"$f":"12*Customers!$D112","v":912},"LAL2.1"]
[4,"2.2 General Service 10-100 kW",0,0,0,0,0,null,0,0,0,0,0,4,"2.2 General Service 10-100 kW",0,{"$f":"SUM(LALCos!G398,LALCos!I398:K398,LALCos!M398,LALCos!O398)","v":0},{"$f":"SUM(LALCos!H398)","v":0},{"$f":"SUM(LALCos!L398,LALCos!N398,LALCos!P398:U398)","v":0},null,0,0,0,0,4,"2.2 General Service 10-100 kW",0,0,0,{"$f":"12*Customers!$D113","v":0},"LAL2.2"]
[5,"2.3 General Service 110-1,000 kVa",12.282116992333698,0,0.17854231752032143,0,87.24797253909972,null,0,0,0,0,0,5,"2.3 General Service 110-1,000 kVa",648270.03716497519,{"$f":"SUM(LALCos!G399,LALCos!I399:K399,LALCos!M399,LALCos!O399)","v":135487.90657166083},{"$f":"SUM(LALCos!H399)","v":505453.30090002995},{"$f":"SUM(LALCos!L399,LALCos!N399,LALCos!P399:U399)","v":7328.8296932843768},null,0,0,0,0,5,"2.3 General Service 110-1,000 kVa",11031.315420316401,2831,7,{"$f":"12*Customers!$D114","v":84},"LAL2.3"]
[6,"4.1 Street and Area Lighting",0,0.12344739508103125,0.17784880386077814,0.30129619894180937,76.284372835962827,null,0,0,0,0,0,6,"4.1 Street and Area Lighting",47550.428898004509,{"$f":"SUM(LALCos!G400,LALCos!I400:K400,LALCos!M400,LALCos!O400)","v":6542.7119392946561},{"$f":"SUM(LALCos!H400)","v":9425.986604621241},{"$f":"SUM(LALCos!L400,LALCos!N400,LALCos!P400:U400)","v":31581.730354088613},null,0,0,0,0,6,"4.1 Street and Area Lighting",0,53,34.5,{"$f":"12*Customers!$D115","v":414},"LAL4.1"]
[null,null,null,null,null,null,null,null,null,null,null,null,null,7,"  Total L'Anse au Loup",{"$f":"SUM(P101:P106)","v":7742630.5884075342},{"$f":"SUM(Q101:Q106)","v":2693946.1216155537},{"$f":"SUM(R101:R106)","v":4476834.274649174},{"$f":"SUM(S101:S106)","v":571850.1921428059},null,null,null,null,null,7,"  Total L'Anse au Loup",{"$f":"SUM(AA101:AA106)","v":28798.109541207403},{"$f":"SUM(AB101:AB106)","v":25142.080000000002},{"$f":"SUM(AC101:AC106)","v":933.5},{"$f":"SUM(AD101:AD106)","v":11202}]
[]
[]
[null,"Labrador Interconnected",null,null,null,null,null,null,null,null,null,null,null,null,{"$f":"+B110","v":"Labrador Interconnected"},null,null,null,null,null,null,null,null,null,null,{"$f":"+O110","v":"Labrador Interconnected"}]
[{"$f":"MAX(A106:A110)+NoOne","v":7},"Labrador Industrial - Firm",{"$f":"IF(AA111<>0,Q111/AA111,0)","v":2.3333979533804636},{"$f":"IF(AND(AA111<>0,AB111<>0),0,IF(AA111<>0,0,IF(AB111<>0,Q111/(AB111*1000),0)))","v":0},{"$f":"IF(AB111<>0,R111/(AB111*1000),0)","v":0},{"$f":"IF(AND(AA111<>0,AB111<>0),0,IF(AA111<>0,0,IF(AB111<>0,SUM(D111:E111),0)))","v":0},{"$f":"IF(AD111<>0,S111/AD111,0)","v":0},null,{"$f":"IF(AA111<>0,V111/AA111,0)","v":2.3333979533804636},{"$f":"IF(AND(AA111<>0,AB111<>0),0,IF(AA111<>0,0,IF(AB111<>0,V111/(AB111*1000),0)))","v":0},{"$f":"IF(AB111<>0,W111/(AB111*1000),0)","v":0},{"$f":"IF(AND(AA111<>0,AB111<>0),0,IF(AA111<>0,0,IF(AB111<>0,SUM(J111:K111),0)))","v":0},{"$f":"IF(AD111<>0,X111/AD111,0)","v":0},{"$f":"MAX(N106:N110)+NoOne","v":8},{"$f":"+B111","v":"Labrador Industrial - Firm"},{"$f":"SUM(Q111:S111)","v":6860189.9829385635},{"$f":"SUM(LabIntCos!G454,LabIntCos!I454:K454,LabIntCos!M454,LabIntCos!O454)","v":6860189.9829385635},{"$f":"SUM(LabIntCos!H454)","v":0},{"$f":"SUM(LabIntCos!L454,LabIntCos!N454,LabIntCos!P454:U454)","v":0},null,{"$f":"+'Rev to Cost'!H220","v":6860189.9829385635},{"$f":"IF($P111<>0,$U111/$P111*Q111,0)","v":6860189.9829385635},0,0,{"$f":"MAX(Y107:Y110)+NoOne","v":8},{"$f":"+O111","v":"Labrador Industrial - Firm"},2940000,1733100,0,{"$f":"12*Customers!$D133","v":0},"LINTIOCF"]
[{"$f":"MAX(A109:A111)+NoOne","v":8},"Labrador Industrial - Non-Firm",{"$f":"IF(AA112<>0,Q112/AA112,0)","v":0},{"$f":"IF(AND(AA112<>0,AB112<>0),0,IF(AA112<>0,0,IF(AB112<>0,Q112/(AB112*1000),0)))","v":0},{"$f":"IF(AB112<>0,R112/(AB112*1000),0)","v":0},{"$f":"IF(AND(AA112<>0,AB112<>0),0,IF(AA112<>0,0,IF(AB112<>0,SUM(D112:E112),0)))","v":0},{"$f":"IF(AD112<>0,S112/AD112,0)","v":0},null,{"$f":"IF(AA112<>0,V112/AA112,\"-\")","v":"-"},{"$f":"IF(AND(AA112<>0,AB112<>0),0,IF(AA112<>0,0,IF(AB112<>0,V112/(AB112*1000),0)))","v":0},{"$f":"IF(AB112<>0,W112/(AB112*1000),0)","v":0},{"$f":"IF(AND(AA112<>0,AB112<>0),0,IF(AA112<>0,0,IF(AB112<>0,SUM(J112:K112),0)))","v":0},{"$f":"IF(AD112<>0,X112/AD112,0)","v":0},{"$f":"MAX(N109:N111)+NoOne","v":9},{"$f":"+B112","v":"Labrador Industrial - Non-Firm"},{"$f":"SUM(Q112:S112)","v":0},{"$f":"SUM(LabIntCos!G455,LabIntCos!I455:K455,LabIntCos!M455,LabIntCos!O455)","v":0},{"$f":"SUM(LabIntCos!H455)","v":0},{"$f":"SUM(LabIntCos!L455,LabIntCos!N455,LabIntCos!P455:U455)","v":0},null,{"$f":"+'Rev to Cost'!H221","v":0},0,0,0,{"$f":"MAX(Y109:Y111)+NoOne","v":9},{"$f":"+O112","v":"Labrador Industrial - Non-Firm"},0,0,0,null,"LINTIOCNF"]
[{"$f":"MAX(A110:A112)+NoOne","v":9},"CFB - Goose Bay Secondary",{"$f":"IF(AA113<>0,Q113/AA113,0)","v":0},{"$f":"IF(AND(AA113<>0,AB113<>0),0,IF(AA113<>0,0,IF(AB113<>0,Q113/(AB113*1000),0)))","v":0},{"$f":"IF(AB113<>0,R113/(AB113*1000),0)","v":0},{"$f":"IF(AND(AA113<>0,AB113<>0),0,IF(AA113<>0,0,IF(AB113<>0,SUM(D113:E113),0)))","v":0},{"$f":"IF(AD113<>0,S113/AD113,0)","v":0},null,{"$f":"IF(AA113<>0,V113/AA113,\"-\")","v":"-"},{"$f":"IF(AND(AA113<>0,AB113<>0),0,IF(AA113<>0,0,IF(AB113<>0,V113/(AB113*1000),0)))","v":0},{"$f":"IF(AB113<>0,W113/(AB113*1000),0)","v":0},{"$f":"IF(AND(AA113<>0,AB113<>0),0,IF(AA113<>0,0,IF(AB113<>0,SUM(J113:K113),0)))","v":0},{"$f":"IF(AD113<>0,X113/AD113,0)","v":0},{"$f":"MAX(N110:N112)+NoOne","v":10},{"$f":"+B113","v":"CFB - Goose Bay Secondary"},{"$f":"SUM(Q113:S113)","v":0},{"$f":"SUM(LabIntCos!G453,LabIntCos!I453:K453,LabIntCos!M453,LabIntCos!O453)","v":0},{"$f":"SUM(LabIntCos!H453)","v":0},{"$f":"SUM(LabIntCos!L453,LabIntCos!N453,LabIntCos!P453:U453)","v":0},null,{"$f":"+'Rev to Cost'!D225+'Rev to Cost'!F225","v":0},0,0,0,{"$f":"MAX(Y110:Y112)+NoOne","v":10},{"$f":"+O113","v":"CFB - Goose Bay Secondary"},0,0,0,{"$f":"12*Customers!$D132","v":0},"LINTCFB"]
[]
[null,"Rural",null,null,null,null,null,null,null,{"$f":"IF(AND(AA115<>0,AB115<>0),0,IF(AA115<>0,0,IF(AB115<>0,V115/(AB115*1000),0)))","v":0},{"$f":"IF(AB115<>0,W115/(AB115*1000),0)","v":0},null,null,null,{"$f":"+B115","v":"Rural"},null,null,null,null,null,null,null,null,null,null,{"$f":"+O115","v":"Rural"}]
[{"$f":"MAX(A113:A115)+NoOne","v":10},"1.1 Domestic ",{"$f":"IF(AA116<>0,Q116/AA116,0)","v":0},{"$f":"IF(AND(AA116<>0,AB116<>0),0,IF(AA116<>0,0,IF(AB116<>0,Q116/(AB116*1000),0)))","v":2.4977131577951332E-2},{"$f":"IF(AB116<>0,R116/(AB116*1000),0)","v":1.578267997776852E-3},{"$f":"IF(AND(AA116<>0,AB116<>0),0,IF(AA116<>0,0,IF(AB116<>0,SUM(D116:E116),0)))","v":2.6555399575728184E-2},{"$f":"IF(AD116<>0,S116/AD116,0)","v":38.961028491689532},null,{"$f":"IF(AA116<>0,V116/AA116,\"-\")","v":"-"},2.867195820436964E-2,1.8117386268445043E-3,{"$f":"IF(AND(AA116<>0,AB116<>0),0,IF(AA116<>0,0,IF(AB116<>0,SUM(J116:K116),0)))","v":3.0483696831214144E-2},{"$f":"IF(AD116<>0,X116/AD116,0)","v":44.724470343067416},{"$f":"MAX(N113:N115)+NoOne","v":11},{"$f":"+B116","v":"1.1 Domestic "},{"$f":"SUM(Q116:S116)","v":215092.65899860079},{"$f":"SUM(LabIntCos!G458,LabIntCos!I458:K458,LabIntCos!M458,LabIntCos!O458)","v":53015.460402096382},{"$f":"SUM(LabIntCos!H458)","v":3349.9685213612347},{"$f":"SUM(LabIntCos!L458,LabIntCos!N458,LabIntCos!P458:U458)","v":158727.23007514316},null,{"$f":"+'Rev to Cost'!H228","v":246910.96772371855},{"$f":"IF($P116<>0,$U116/$P116*Q116,0)","v":60857.951606266826},3845.5239397950709,182207.49217765665,{"$f":"MAX(Y113:Y115)+NoOne","v":11},{"$f":"+O116","v":"1.1 Domestic "},0,2122.56,339.5,{"$f":"12*Customers!$D135","v":4074},"LINT1.1"]
[{"$f":"MAX(A114:A116)+NoOne","v":11},"1.1A Domestic All Electric ",{"$f":"IF(AA117<>0,Q117/AA117,0)","v":0},{"$f":"IF(AND(AA117<>0,AB117<>0),0,IF(AA117<>0,0,IF(AB117<>0,Q117/(AB117*1000),0)))","v":2.2268138366438393E-2},{"$f":"IF(AB117<>0,R117/(AB117*1000),0)","v":1.5979358302404664E-3},{"$f":"IF(AND(AA117<>0,AB117<>0),0,IF(AA117<>0,0,IF(AB117<>0,SUM(D117:E117),0)))","v":2.3866074196678858E-2},{"$f":"IF(AD117<>0,S117/AD117,0)","v":39.446547416272708},null,{"$f":"IF(AA117<>0,V117/AA117,\"-\")","v":"-"},2.556222801401482E-2,1.8343158899144199E-3,{"$f":"IF(AND(AA117<>0,AB117<>0),0,IF(AA117<>0,0,IF(AB117<>0,SUM(J117:K117),0)))","v":2.7396543903929239E-2},{"$f":"IF(AD117<>0,X117/AD117,0)","v":45.281811295915993},{"$f":"MAX(N114:N116)+NoOne","v":12},{"$f":"+B117","v":"1.1A Domestic All Electric "},{"$f":"SUM(Q117:S117)","v":12011207.327792179},{"$f":"SUM(LabIntCos!G459,LabIntCos!I459:K459,LabIntCos!M459,LabIntCos!O459)","v":6989765.5478031095},{"$f":"SUM(LabIntCos!H459)","v":501577.48393771058},{"$f":"SUM(LabIntCos!L459,LabIntCos!N459,LabIntCos!P459:U459)","v":4519864.2960513597},null,{"$f":"+'Rev to Cost'!H229","v":13788005.776871629},8023750.2460797643,575775.0288832204,5188480.501908646,{"$f":"MAX(Y114:Y116)+NoOne","v":12},{"$f":"+O117","v":"1.1A Domestic All Electric "},0,313890.88,9548.5,{"$f":"12*Customers!$D136","v":114582},"LINT1.1A"]
[{"$f":"MAX(A115:A117)+NoOne","v":12},"   Subtotal  Domestic",{"$f":"IF(AA118<>0,Q118/AA118,0)","v":0},{"$f":"IF(AND(AA118<>0,AB118<>0),0,IF(AA118<>0,0,IF(AB118<>0,Q118/(AB118*1000),0)))","v":2.2286333797085358E-2},{"$f":"IF(AB118<>0,R118/(AB118*1000),0)","v":1.5978037277752232E-3},{"$f":"IF(AND(AA118<>0,AB118<>0),0,IF(AA118<>0,0,IF(AB118<>0,SUM(D118:E118),0)))","v":2.3884137524860582E-2},{"$f":"IF(AD118<>0,S118/AD118,0)","v":39.429877343973359},null,{"$f":"IF(AA118<>0,V118/AA118,\"-\")","v":"-"},2.5583115065251755E-2,1.8341642457454198E-3,{"$f":"IF(AND(AA118<>0,AB118<>0),0,IF(AA118<>0,0,IF(AB118<>0,SUM(J118:K118),0)))","v":2.7417279310997175E-2},{"$f":"IF(AD118<>0,X118/AD118,0)","v":45.262675246816869},{"$f":"MAX(N115:N117)+NoOne","v":13},{"$f":"+B118","v":"   Subtotal  Domestic"},{"$f":"SUM(P116:P117)","v":12226299.98679078},{"$f":"SUM(Q116:Q117)","v":7042781.0082052061},{"$f":"SUM(R116:R117)","v":504927.45245907182},{"$f":"SUM(S116:S117)","v":4678591.526126503},null,{"$f":"SUM(U116:U117)","v":14034916.744595347},{"$f":"SUM(V116:V117)","v":8084608.1976860315},{"$f":"SUM(W116:W117)","v":579620.55282301549},{"$f":"SUM(X116:X117)","v":5370687.9940863028},{"$f":"MAX(Y115:Y117)+NoOne","v":13},{"$f":"+O118","v":"   Subtotal  Domestic"},0,{"$f":"SUM(AB116:AB117)","v":316013.44},{"$f":"SUM(AC116:AC117)","v":9888},{"$f":"SUM(AD116:AD117)","v":118656}]
[null,null,null,null,null,null,null,null,null,0,0]
[{"$f":"MAX(A117:A119)+NoOne","v":13},"2.1 General Service 0-10 kW",{"$f":"IF(AA120<>0,Q120/AA120,0)","v":0},{"$f":"IF(AND(AA120<>0,AB120<>0),0,IF(AA120<>0,0,IF(AB120<>0,Q120/(AB120*1000),0)))","v":1.6831419386935911E-2},{"$f":"IF(AB120<>0,R120/(AB120*1000),0)","v":1.602713560007233E-3},{"$f":"IF(AND(AA120<>0,AB120<>0),0,IF(AA120<>0,0,IF(AB120<>0,SUM(D120:E120),0)))","v":1.8434132946943144E-2},{"$f":"IF(AD120<>0,S120/AD120,0)","v":44.030430421121075},null,{"$f":"IF(AA120<>0,V120/AA120,\"-\")","v":"-"},1.9321264000084444E-2,1.8398003815085402E-3,{"$f":"IF(AND(AA120<>0,AB120<>0),0,IF(AA120<>0,0,IF(AB120<>0,SUM(J120:K120),0)))","v":2.1161064381592983E-2},{"$f":"IF(AD120<>0,X120/AD120,0)","v":50.543780690542235},{"$f":"MAX(N117:N119)+NoOne","v":14},{"$f":"+B120","v":"2.1 General Service 0-10 kW"},{"$f":"SUM(Q120:S120)","v":394806.49354968482},{"$f":"SUM(LabIntCos!G460,LabIntCos!I460:K460,LabIntCos!M460,LabIntCos!O460)","v":110824.62949714695},{"$f":"SUM(LabIntCos!H460)","v":10552.891137376026},{"$f":"SUM(LabIntCos!L460,LabIntCos!N460,LabIntCos!P460:U460)","v":273428.97291516187},null,{"$f":"+'Rev to Cost'!H230","v":453209.57879178424},{"$f":"IF($P120<>0,$U120/$P120*Q120,0)","v":127218.73746951601},12113.963234001018,313876.87808826729,{"$f":"MAX(Y117:Y119)+NoOne","v":14},{"$f":"+O120","v":"2.1 General Service 0-10 kW"},0,6584.39,517.5,{"$f":"12*Customers!$D137","v":6210},"LINT2.1"]
[{"$f":"MAX(A118:A120)+NoOne","v":14},"2.2 General Service 10-100 kW",{"$f":"IF(AA121<>0,Q121/AA121,0)","v":5.4290883918546538},{"$f":"IF(AND(AA121<>0,AB121<>0),0,IF(AA121<>0,0,IF(AB121<>0,Q121/(AB121*1000),0)))","v":0},{"$f":"IF(AB121<>0,R121/(AB121*1000),0)","v":1.6099703638149125E-3},{"$f":"IF(AND(AA121<>0,AB121<>0),0,IF(AA121<>0,0,IF(AB121<>0,SUM(D121:E121),0)))","v":0},{"$f":"IF(AD121<>0,S121/AD121,0)","v":59.030039731631845},null,{"$f":"IF(AA121<>0,V121/AA121,0)","v":6.2322046458087614},0,1.8481306725518384E-3,{"$f":"IF(AND(AA121<>0,AB121<>0),0,IF(AA121<>0,0,IF(AB121<>0,SUM(J121:K121),0)))","v":0},{"$f":"IF(AD121<>0,X121/AD121,0)","v":67.762257916024865},{"$f":"MAX(N118:N120)+NoOne","v":15},{"$f":"+B121","v":"2.2 General Service 10-100 kW"},{"$f":"SUM(Q121:S121)","v":1867500.4616819066},{"$f":"SUM(LabIntCos!G461,LabIntCos!I461:K461,LabIntCos!M461,LabIntCos!O461)","v":1272181.9955981255},{"$f":"SUM(LabIntCos!H461)","v":114695.88258883455},{"$f":"SUM(LabIntCos!L461,LabIntCos!N461,LabIntCos!P461:U461)","v":480622.58349494648},null,{"$f":"+'Rev to Cost'!H231","v":2143756.780752663},1460373.8180384296,131662.6587619588,551720.30395227449,{"$f":"MAX(Y118:Y120)+NoOne","v":15},{"$f":"+O121","v":"2.2 General Service 10-100 kW"},234327,71240.990000000005,678.5,{"$f":"12*Customers!$D138","v":8142},"LINT2.2"]
[{"$f":"MAX(A119:A121)+NoOne","v":15},"2.3 General Service 110-1,000 kVa",{"$f":"IF(AA122<>0,Q122/AA122,0)","v":5.7275542968831052},{"$f":"IF(AND(AA122<>0,AB122<>0),0,IF(AA122<>0,0,IF(AB122<>0,Q122/(AB122*1000),0)))","v":0},{"$f":"IF(AB122<>0,R122/(AB122*1000),0)","v":1.615641317141319E-3},{"$f":"IF(AND(AA122<>0,AB122<>0),0,IF(AA122<>0,0,IF(AB122<>0,SUM(D122:E122),0)))","v":0},{"$f":"IF(AD122<>0,S122/AD122,0)","v":77.989044221305193},null,{"$f":"IF(AA122<>0,V122/AA122,0)","v":6.5748221288330875},0,1.8546405208202913E-3,{"$f":"IF(AND(AA122<>0,AB122<>0),0,IF(AA122<>0,0,IF(AB122<>0,SUM(J122:K122),0)))","v":0},{"$f":"IF(AD122<>0,X122/AD122,0)","v":89.525837237688364},{"$f":"MAX(N119:N121)+NoOne","v":16},{"$f":"+B122","v":"2.3 General Service 110-1,000 kVa"},{"$f":"SUM(Q122:S122)","v":2586689.6382659483},{"$f":"SUM(LabIntCos!G462,LabIntCos!I462:K462,LabIntCos!M462,LabIntCos!O462)","v":2203498.9615425714},{"$f":"SUM(LabIntCos!H462)","v":210288.96568474322},{"$f":"SUM(LabIntCos!L462,LabIntCos!N462,LabIntCos!P462:U462)","v":172901.7110386336},null,{"$f":"+'Rev to Cost'!H232","v":2969334.4475755235},2529458.9945825366,241396.67183703164,198478.7811559551,{"$f":"MAX(Y119:Y121)+NoOne","v":16},{"$f":"+O122","v":"2.3 General Service 110-1,000 kVa"},384719,130158.2,184.75,{"$f":"12*Customers!$D139","v":2217},"LINT2.3"]
[{"$f":"MAX(A120:A122)+NoOne","v":16},"2.4 General Service Over 1,000 kVa",{"$f":"IF(AA123<>0,Q123/AA123,0)","v":8.6293910051683476},{"$f":"IF(AND(AA123<>0,AB123<>0),0,IF(AA123<>0,0,IF(AB123<>0,Q123/(AB123*1000),0)))","v":0},{"$f":"IF(AB123<>0,R123/(AB123*1000),0)","v":1.5919566463939996E-3},{"$f":"IF(AND(AA123<>0,AB123<>0),0,IF(AA123<>0,0,IF(AB123<>0,SUM(D123:E123),0)))","v":0},{"$f":"IF(AD123<>0,S123/AD123,0)","v":77.587040644129885},null,{"$f":"IF(AA123<>0,V123/AA123,0)","v":9.9059228421474401},0,1.8274522150842217E-3,{"$f":"IF(AND(AA123<>0,AB123<>0),0,IF(AA123<>0,0,IF(AB123<>0,SUM(J123:K123),0)))","v":0},{"$f":"IF(AD123<>0,X123/AD123,0)","v":89.064365922345189},{"$f":"MAX(N120:N122)+NoOne","v":17},{"$f":"+B123","v":"2.4 General Service Over 1,000 kVa"},{"$f":"SUM(Q123:S123)","v":2272282.3225295781},{"$f":"SUM(LabIntCos!G463,LabIntCos!I463:K463,LabIntCos!M463,LabIntCos!O463)","v":2059835.6329336844},{"$f":"SUM(LabIntCos!H463)","v":206860.42266951624},{"$f":"SUM(LabIntCos!L463,LabIntCos!N463,LabIntCos!P463:U463)","v":5586.2669263773514},null,{"$f":"+'Rev to Cost'!H233","v":2608417.3667727392},2364543.7824205938,237460.9500057367,6412.6343464088541,{"$f":"MAX(Y120:Y122)+NoOne","v":17},{"$f":"+O123","v":"2.4 General Service Over 1,000 kVa"},238700,129940.99,6,{"$f":"12*Customers!$D140","v":72},"LINT2.4"]
[{"$f":"MAX(A121:A123)+NoOne","v":17},"4.1 Street and Area Lighting",{"$f":"IF(AA124<>0,Q124/AA124,0)","v":0},{"$f":"IF(AND(AA124<>0,AB124<>0),0,IF(AA124<>0,0,IF(AB124<>0,Q124/(AB124*1000),0)))","v":2.1068847102660559E-2},{"$f":"IF(AB124<>0,R124/(AB124*1000),0)","v":1.620195351070547E-3},{"$f":"IF(AND(AA124<>0,AB124<>0),0,IF(AA124<>0,0,IF(AB124<>0,SUM(D124:E124),0)))","v":2.2689042453731104E-2},{"$f":"IF(AD124<>0,S124/AD124,0)","v":56.979608684170884},null,{"$f":"IF(AA124<>0,V124/AA124,0)","v":0},2.4185527535715776E-2,1.8598682256138787E-3,{"$f":"IF(AND(AA124<>0,AB124<>0),0,IF(AA124<>0,0,IF(AB124<>0,SUM(J124:K124),0)))","v":2.6045395761329655E-2},{"$f":"IF(AD124<>0,X124/AD124,0)","v":65.408509924176215},{"$f":"MAX(N121:N123)+NoOne","v":18},{"$f":"+B124","v":"4.1 Street and Area Lighting"},{"$f":"SUM(Q124:S124)","v":303977.88802275388},{"$f":"SUM(LabIntCos!G464,LabIntCos!I464:K464,LabIntCos!M464,LabIntCos!O464)","v":38140.933909946412},{"$f":"SUM(LabIntCos!H464)","v":2933.0396440430113},{"$f":"SUM(LabIntCos!L464,LabIntCos!N464,LabIntCos!P464:U464)","v":262903.91446876444},null,{"$f":"+'Rev to Cost'!H234","v":348944.84473688412},43783.06049790627,3366.9194488288044,301794.86479014903,{"$f":"MAX(Y121:Y123)+NoOne","v":18},{"$f":"+O124","v":"4.1 Street and Area Lighting"},0,1810.3,384.5,{"$f":"12*Customers!$D141","v":4614},"LINT4.1"]
[]
[null,null,null,null,null,null,null,null,null,null,null,null,null,{"$f":"MAX(N123:N125)+NoOne","v":19},"    Subtotal Rural",{"$f":"SUM(P118,P120:P124)","v":19651556.790840648},{"$f":"SUM(Q118,Q120:Q124)","v":12727263.161686681},{"$f":"SUM(R118,R120:R124)","v":1050258.6541835847},{"$f":"SUM(S118,S120:S124)","v":5874034.9749703864},null,{"$f":"SUM(U118,U120:U124)","v":22558579.763224941},{"$f":"SUM(V118,V120:V124)","v":14609986.590695012},{"$f":"SUM(W118,W120:W124)","v":1205621.7161105725},{"$f":"SUM(X118,X120:X124)","v":6742971.456419358},{"$f":"MAX(Y123:Y125)+NoOne","v":19},{"$f":"+O126","v":"    Subtotal Rural"},{"$f":"SUM(AA118,AA120:AA124)","v":857746},{"$f":"SUM(AB118,AB120:AB124)","v":655748.31000000006},{"$f":"SUM(AC118,AC120:AC124)","v":11659.25},{"$f":"SUM(AD118,AD120:AD124)","v":139911}]
[]
[null,null,null,null,null,null,null,null,null,null,null,null,null,{"$f":"MAX(N125:N127)+NoOne","v":20},"Total Labrador Interconnected",{"$f":"SUM(P126,P111:P113)","v":26511746.773779213},{"$f":"SUM(Q126,Q111:Q113)","v":19587453.144625247},{"$f":"SUM(R126,R111:R113)","v":1050258.6541835847},{"$f":"SUM(S126,S111:S113)","v":5874034.9749703864},null,{"$f":"SUM(U126,U111:U113)","v":29418769.746163502},{"$f":"SUM(V126,V111:V113)","v":21470176.573633574},{"$f":"SUM(W126,W111:W113)","v":1205621.7161105725},{"$f":"SUM(X126,X111:X113)","v":6742971.456419358},{"$f":"MAX(Y125:Y127)+NoOne","v":20},{"$f":"+O128","v":"Total Labrador Interconnected"},{"$f":"SUM(AA126,AA111:AA113,)","v":3797746},{"$f":"SUM(AB126,AB111:AB113,)","v":2388848.31},{"$f":"SUM(AC126,AC111:AC113,)","v":11659.25},{"$f":"SUM(AD126,AD111:AD113,)","v":139911}]

{"sheet":"NPRateCalcs","index":9,"n_rows":92,"n_cols":10,"rows_kept":92,"cut":false,"hidden":false,"merged":[]}
[null,null,null,"Schedule 1.4",null,null,null,null,null,"Schedule 1.4"]
[null,null,null,"Page 1 of 1",null,null,null,null,null,"Page 1 of 1"]
[]
["NEWFOUNDLAND AND LABRADOR HYDRO",null,null,null,null,null,"NEWFOUNDLAND & LABRADOR HYDRO"]
[{"$f":"RunName","v":"2019 Test Year Cost of Service Study"},null,null,null,null,null,{"$f":"RunName","v":"2019 Test Year Cost of Service Study"}]
["Cost Calculations for Newfoundland Power",null,null,null,null,null,"Rate Calculations for Newfoundland Power"]
[]
[]
[null,{"$f":"MAX(A9)+NoOne","v":1},{"$f":"MAX(B9)+NoOne","v":2},{"$f":"MAX(C9)+NoOne","v":3},null,null,null,1,{"$f":"+H9+1","v":2},{"$f":"+I9+1","v":3}]
[]
[" ",null,null,null,null,null," "]
["Line",null,null,null,null,null,"Line"]
["No.","Description","Amount","Source",null,null,"No.","Description","Amount","Source"]
[]
[null,"Newfoundland Power:",null,null,null,null,null,"Newfoundland Power:"]
[null,"Demand:",null,null,null,null,null,"Demand:"]
[{"$f":"MAX(A14:A16)+NoOne","v":1},"Cost ($/kW/mo.)",5.25,null,null,null,1,"Rate ($/kW/mo.)",{"$f":"C17","v":5.25}]
[{"$f":"MAX(A15:A17)+NoOne","v":2},"Billing Units (kW)",{"$f":"+'Unit Costs'!AA17","v":15158472},"Sch 1.3.2, pg 1, Ln 1, Col 2",null,null,{"$f":"+G17+1","v":2},"Billing Units (kW)",{"$f":"C18","v":15158472},"Sch 1.3.2, pg 1, Ln 1, Col 2"]
[{"$f":"MAX(A16:A18)+NoOne","v":3},"Demand Revenue",{"$f":"ROUND(C18*C17,2)","v":79581978},"Ln 1 * Ln 2",null,null,{"$f":"+G18+1","v":3},"Demand Revenue",{"$f":"ROUND(I18*I17,2)","v":79581978},"Ln 1 * Ln 2"]
[]
[null,"Energy (First Block):"]
[{"$f":"MAX(A19:A21)+NoOne","v":4},"Total Revenue Requirement",{"$f":"+'Rev to Cost'!H21","v":545384915.25749695},"Sch 1.2, pg 1, Ln 1, Col 7",null,null,null,"Energy (First Block):"]
[{"$f":"MAX(A20:A22)+NoOne","v":5},"Less: Demand Revenue",{"$f":"+C18*C17","v":79581978},{"$f":"+\"Ln \"&A18&\" * Ln \"&A19","v":"Ln 2 * Ln 3"},null,null,{"$f":"+G19+1","v":4},"Total Revenue Requirement",{"$f":"C22","v":545384915.25749695},"Sch 1.2, pg 1, Ln 1, Col 7"]
[{"$f":"MAX(A21:A23)+NoOne","v":6},"Revenue Requirement to be Recovered Through Energy Rates",{"$f":"+C22-C23","v":465802937.25749695},{"$f":"+\"Ln \"&A22&\" - Ln \"&A23","v":"Ln 4 - Ln 5"},null,null,{"$f":"+G23+1","v":5},"Less: Demand Revenue",{"$f":"I19","v":79581978},"Ln 3"]
[null,"Non-Fuel Energy Costs:",null,null,null,null,6,"Less: Second Block Energy Revenue",{"$f":"C41","v":332822576},"((Sch 1.3.2, pg 1, Ln 1, Col 3) - Ln 8) * Ln 12"]
[{"$f":"MAX(A23:A25)+NoOne","v":7},"Energy Revenue Requirement ",{"$f":"+'Unit Costs'!R17","v":279710698.68565392},"Sch 1.3.1, pg 1, Ln 1, Col 4",null,null,7,"First Block Energy Revenue",{"$f":"+I23-I24-I25","v":132980361.25749695},"Ln 4 - Ln 5 - Ln 6"]
[null,"Less Allocated Holyrood Fuel Costs",null,null,null,null,8,"First Block Energy Consumed (MWh)",{"$f":"C33","v":3480000}]
[{"$f":"MAX(A25:A27)+NoOne","v":8},"Total Holyrood Fuel Costs",{"$f":"+'Revenue Requirement'!D13","v":221114563},"Sch 1.1, pg 1, Ln 2, Col 3",null,null,9,"Rate (¢/kWh)",{"$f":"+I26/I27/10","v":3.8212747487786478},"Ln 7 / Ln 8"]
[9,"Newfoundland Power Trans. Energy Allocation Ratio",{"$f":"+IslIntCos!H363","v":0.83008753959121107},"Sch 3.1A, pg 1, Ln 14, Col 4"]
[10,"Allocated Holyrood Fuel Costs",{"$f":"+C28*C29","v":183544443.56845585},{"$f":"+\"Ln \"&A28&\" * Ln \"&A29","v":"Ln 8 * Ln 9"}]
[11,"Non-Fuel Energy Costs:",{"$f":"C40","v":129350513.78026888},{"$f":"+\"Ln \"&A26&\" - Ln \"&A30","v":"Ln 7 - Ln 10"},null,null,null,"Energy (Second Block):"]
[{"$f":"MAX(A29:A31)+NoOne","v":12},"Customer Costs",{"$f":"'Unit Costs'!$S$17","v":3629847.4772280767},"Sch 1.3.1, pg 1, Ln 1, Col 5","NOTE: hidden rows",null,{"$f":"+G28+1","v":10},"Average No. 6 Fuel Cost per Barrel",{"$f":"C46","v":87.11}]
[13,"First Block Energy Consumed (MWh)",3480000,null,null,null,{"$f":"+G32+1","v":11},"Efficiency Factor (kWh per Barrel)",{"$f":"C47","v":616}]
[14,"Cost (Mills/kWh)",{"$f":"(C31+C32)/C33","v":38.21274748778648},{"$f":"+\"Ln \"&A31&\" + Ln \"&A32&\"  / Ln \"&A33","v":"Ln 11 + Ln 12  / Ln 13"},null,null,{"$f":"+G33+1","v":12},"Rate (¢/kWh)",{"$f":"I32/I33*100","v":14.141233766233766}]
[{"$f":"MAX(A32:A33)+NoOne","v":14},"Cost (¢/kWh)",{"$f":"ROUND(C34/10,3)","v":3.8210000000000002},{"$f":"+\"Ln \"&A31&\" + Ln \"&A32&\"  / Ln \"&A33&\" / 10\"","v":"Ln 11 + Ln 12  / Ln 13 / 10"},"NOTE: hidden rows"]
[]
[null,"Energy (Second Block):"]
[{"$f":"MAX(A34:A37)+NoOne","v":15},"Total Revenue Requirement",{"$f":"+'Rev to Cost'!H21","v":545384915.25749695},"Sch 1.2, pg 1, Ln 1, Col 7"]
[{"$f":"MAX(A36:A38)+NoOne","v":16},"Less: Demand Revenue",{"$f":"+C18*C17","v":79581978},{"$f":"+\"Ln \"&A18&\" * Ln \"&A19","v":"Ln 2 * Ln 3"}]
[17,"Less: First Block Revenue",{"$f":"C38-C39-C41-C32","v":129350513.78026888},{"$f":"+\"Ln \"&A33&\" * Ln \"&A34","v":"Ln 13 * Ln 14"}]
[18,"Second Block Energy Revenue",{"$f":"C42*C43","v":332822576}]
[19,"Second Block Energy Consumed (MWh)",{"$f":"+'Unit Costs'!AB17-NPRateCalcs!C33","v":2353600}]
[20,"Cost (Mills/kWh)",{"$f":"ROUND(C46/C47*1000,2)","v":141.41},{"$f":"+\"Ln \"&A41&\" / Ln \"&A42","v":"Ln 18 / Ln 19"}]
[{"$f":"MAX(A41:A42)+NoOne","v":20},"Cost (¢/kWh)",{"$f":"ROUND(C43/10,3)","v":14.141},{"$f":"+\"Ln \"&A41&\" / Ln \"&A42&\" / 10\"","v":"Ln 18 / Ln 19 / 10"},"NOTE: hidden rows"]
[]
[{"$f":"MAX(A42:A45)+NoOne","v":21},"Average No. 6 Fuel Cost per Barrel",87.11]
[{"$f":"MAX(A43:A46)+NoOne","v":22},"Efficiency Factor (kWh per Barrel)",616]
[{"$f":"MAX(A45:A47)+NoOne","v":23},"Cost (Mills/kWh)",{"$f":"C46/C47*1000","v":141.41233766233765}]
[{"$f":"MAX(A46:A48)+NoOne","v":24},"Adjusted Second block cost (Mills/kWh)",{"$f":"+C41/('Unit Costs'!AB17-NPRateCalcs!C33)","v":141.41}]
[{"$f":"MAX(A47:A47)+NoOne","v":23},"Cost (¢/kWh)",{"$f":"C48/10","v":14.141233766233764},null,"NOTE: hidden rows"]
[{"$f":"MAX(A48:A48)+NoOne","v":24},"Adjusted Second block cost (¢/kWh)",{"$f":"C49/10","v":14.141}]
[]
[null,"Hydro Thermal Split"]
[{"$f":"MAX(A49:A53)+NoOne","v":25},"Thermal load (Holyrood)",1127.3730000000005]
[{"$f":"MAX(A52:A54)+NoOne","v":26},"Total Load",6680.8]
[{"$f":"MAX(A53:A55)+NoOne","v":27},"Thermal load/Total load ",{"$f":"+C54/C55","v":0.16874820380792727}]
[]
[]
[null,null,null,"Schedule 1.5"]
[null,null,null,"Page 1 of 1"]
[]
[{"$f":"+A4","v":"NEWFOUNDLAND AND LABRADOR HYDRO"}]
[{"$f":"RunName","v":"2019 Test Year Cost of Service Study"}]
["Value of Newfoundland Power Thermal Generation Credit"]
[]
[]
[null,{"$f":"MAX(A67)+NoOne","v":1},{"$f":"MAX(B67)+NoOne","v":2},{"$f":"MAX(C67)+NoOne","v":3}]
[]
[" "]
["Line"]
["No.","Description","Amount","Source"]
[]
[{"$f":"MAX(A70:A72)+NoOne","v":1},"Island Interconnected System:"]
[{"$f":"MAX(A71:A73)+NoOne","v":2},"Generation demand costs ($)",{"$f":"+IslIntCos!G319","v":154926465.11262769},{"$f":"+\"Sch 2.1A, C. 3, Ln \"&IslIntCos!D319","v":"Sch 2.1A, C. 3, Ln 27"}]
[{"$f":"MAX(A72:A74)+NoOne","v":3},"Coincident peak (kW)",{"$f":"+IslIntCos!G360","v":1477971.6206761375},{"$f":"+\"Sch 3.1A, C. 3, Ln \"&IslIntCos!D360","v":"Sch 3.1A, C. 3, Ln 13"}]
[{"$f":"MAX(A73:A75)+NoOne","v":4},"Generation demand costs ($/kW)",{"$f":"ROUND(+C74/C75,2)","v":104.82},{"$f":"+\"Ln \"&A74&\" / Ln \"&A75","v":"Ln 2 / Ln 3"}]
[]
[{"$f":"MAX(A75:A77)+NoOne","v":5},"NP thermal generation capacity credit (kW)",{"$f":"+C92","v":30638},"(1)"]
[{"$f":"MAX(A76:A78)+NoOne","v":6},"Gross value of credit to NP ($)",{"$f":"+C76*C78","v":3211475.1599999997},{"$f":"+\"Ln \"&A76&\" x Ln \"&A78","v":"Ln 4 x Ln 5"}]
[]
[{"$f":"MAX(A78:A80)+NoOne","v":7},"Less NP's cost share:"]
[{"$f":"MAX(A79:A81)+NoOne","v":8},"Percentage",{"$f":"+IslIntCos!I363","v":0.88075454627560079},{"$f":"+\"Sch 3.1A, C. 5, Ln \"&IslIntCos!D363","v":"Sch 3.1A, C. 5, Ln 14"}]
[{"$f":"MAX(A80:A82)+NoOne","v":9},"Amount ($)",{"$f":"-C79*C82","v":-2828521.3474211623},{"$f":"+\"Ln \"&A79&\" x Ln \"&A82","v":"Ln 6 x Ln 8"}]
[{"$f":"MAX(A81:A83)+NoOne","v":10},"Net value of credit to NP ($)",{"$f":"+C79+C83","v":382953.81257883739},{"$f":"+\"Ln \"&A79&\" - Ln \"&A83","v":"Ln 6 - Ln 9"}]
[]
[]
[]
[]
[]
["(1)  ","NP gas turbine and diesel generation capacity (kW)",34567]
[null,"÷ System reserve",1.128225]
[null,"NP thermal generation capacity credit (kW)",{"$f":"ROUND(+C90/C91,0)","v":30638}]

{"sheet":"Other Unit Costs","index":10,"n_rows":120,"n_cols":19,"rows_kept":120,"cut":false,"hidden":false,"merged":[]}
[]
[null,null,null,null,"Schedule 1.6",null,null,null,null,null,"Schedule 1.7",null,null,null,null,null,null,null,"BkpThermalDmd"]
[null,null,null,null,"Page 1 of  1",null,null,null,null,null,"Page 1 of  1",null,null,null,null,null,null,null,"Page 1 of  1"]
[]
["NEWFOUNDLAND & LABRADOR HYDRO",null,null,null,null,null,"NEWFOUNDLAND & LABRADOR HYDRO",null,null,null,null,null,"NEWFOUNDLAND & LABRADOR HYDRO"]
[{"$f":"RunName","v":"2019 Test Year Cost of Service Study"},null,null,null,null,null,{"$f":"RunName","v":"2019 Test Year Cost of Service Study"},null,null,null,null,null,{"$f":"RunName","v":"2019 Test Year Cost of Service Study"}]
["Island Interconnected",null,null,null,null,null,"Island Interconnected",null,null,null,null,null,"Island Interconnected"]
["Calculation of Firming Up Charge",null,null,null,null,null,"Calculation of Transmission Wheeling Charge",null,null,null,null,null,"Calculation of Thermal Demand Costs"]
[]
[null,{"$f":"MAX(A10)+NoOne","v":1},{"$f":"MAX(B10)+NoOne","v":2},{"$f":"MAX(C10)+NoOne","v":3},{"$f":"MAX(D10)+NoOne","v":4},null,null,{"$f":"MAX(G10)+NoOne","v":1},null,{"$f":"MAX(H10)+NoOne","v":2},null,null,null,{"$f":"MAX(M10)+NoOne","v":1},2,3,4,5,6]
[]
[null,null,null,null,null,null,null,null,null,null,null,null,null,null,"Total"]
["Line",null,null,null,"Transmission",null,"Line",null,null,null,null,null,"Line",null,"Thermal","Holyrood","Holyrood","Gas Tur","Gas Tur"]
["No.","Description","Total","Gas Turbine","& Terminals",null,"No.","Description",null,null,null,null,"No.","Description","Demand","Plant","Term Stn","Plant","Term Stn"]
[]
[{"$f":"MAX(A13:A15)+NoOne","v":1},"  Operating & Maintenance",{"$f":"SUM(D16:E16)","v":14861838.666884923},{"$f":"+D43","v":7964114.9477126412},{"$f":"SUM(IslIntCos!I$244:I$244)","v":6897723.7191722821},null,{"$f":"MAX(G13:G15)+NoOne","v":1},"Island Interconnected Transmission Revenue Requirement",null,{"$f":"SUM(IslIntCos!I319:I319)/'Schedule 4.1'!G32","v":62888247.925261103},null,null,{"$f":"MAX(M13:M15)+NoOne","v":1},"  Operating & Maintenance",{"$f":"SUM(P16:S16)","v":21673112.255797535},{"$f":"+IslIntCos!G233","v":13570167.793734554},{"$f":"+IslIntCos!G34/IslIntCos!F37*IslIntCos!F242","v":129421.40036818066},{"$f":"+D16","v":7964114.9477126412},{"$f":"+IslIntCos!G35/IslIntCos!F37*IslIntCos!F242","v":9408.1139821607012}]
[{"$f":"MAX(A14:A16)+NoOne","v":2},"  O&M Overhead",{"$f":"SUM(D17:E17)","v":12722643.054309573},{"$f":"+D54","v":6078491.9963401919},{"$f":"SUM(IslIntCos!I$270:I$270)","v":6644151.0579693811},null,null,null,null,null,null,null,{"$f":"MAX(M14:M16)+NoOne","v":2},"  O&M Overhead",{"$f":"SUM(P17:S17)","v":15581733.230921686},{"$f":"P16/IslIntCos!G$251*IslIntCos!G$270","v":9407002.9513794836},{"$f":"Q16/IslIntCos!$G$251*IslIntCos!$G$270","v":89716.465834509057},{"$f":"+D17","v":6078491.9963401919},{"$f":"S16/IslIntCos!$G$251*IslIntCos!$G$270","v":6521.8173675024418}]
[{"$f":"MAX(A15:A17)+NoOne","v":3},"  Depreciation",{"$f":"SUM(D18:E18)","v":22576907.79267988},{"$f":"+D66","v":6470955.7236659024},{"$f":"SUM(IslIntCos!I$176:I$176)","v":16105952.069013977},"INTTOT",{"$f":"MAX(G15:G17)+NoOne","v":2},"Transmission Energy Output (MWh)",null,7027692.5285167433,null,null,{"$f":"MAX(M15:M17)+NoOne","v":3},"  Depreciation",{"$f":"SUM(P18:S18)","v":21320908.610143393},{"$f":"IslIntCos!G$143*(1+SUM(IslIntCos!G$170:G$175)/IslIntCos!G$169)","v":14639653.388677986},{"$f":"IslIntCos!G$152*(1+SUM(IslIntCos!G$170:G$175)/IslIntCos!G$169)","v":201210.12058090634},{"$f":"+D18","v":6470955.7236659024},{"$f":"IslIntCos!G$153*(1+SUM(IslIntCos!G$170:G$175)/IslIntCos!G$169)","v":9089.3772185983144}]
[null,null,null,null,null,null,null,null,null,null,null,null,{"$f":"MAX(M16:M18)+NoOne","v":4},"  Return (Note 1)",{"$f":"SUM(P19:S19)","v":9527553.5544545352},{"$f":"P34*SUM(IslIntCos!$G$316,IslIntCos!$G$317)","v":0},{"$f":"Q34*SUM(IslIntCos!$G$316,IslIntCos!$G$317)","v":0},{"$f":"+D20","v":9527553.5544545352},{"$f":"S34*SUM(IslIntCos!$G$316,IslIntCos!$G$317)","v":0}]
[{"$f":"MAX(A17:A19)+NoOne","v":4},"  Return",{"$f":"SUM(D20:E20)","v":42818141.790927127},{"$f":"+D71","v":9527553.5544545352},{"$f":"SUM(IslIntCos!I$316:I$316,IslIntCos!I$317:I$317)","v":33290588.236472592},null,{"$f":"MAX(G17:G19)+NoOne","v":3},"  Rate ($/kWh)",null,{"$f":"+J16/(J18*1000)","v":8.9486339463593773E-3}]
[null,null,null,null,null,null,null,null,null,null,null,null,{"$f":"MAX(M18:M20)+NoOne","v":5},"  Total",{"$f":"SUM(O16:O19)","v":68103307.651317149},{"$f":"SUM(P16:P19)","v":37616824.13379202},{"$f":"SUM(Q16:Q19)","v":420347.98678359605},{"$f":"SUM(R16:R19)","v":30041116.222173274},{"$f":"SUM(S16:S19)","v":25019.308568261458}]
[{"$f":"MAX(A19:A21)+NoOne","v":5},"  Total",{"$f":"SUM(D22:E22)","v":92979531.304801509},{"$f":"SUM(D16:D20)","v":30041116.222173274},{"$f":"SUM(E16:E20)","v":62938415.082628235},null,null,null,null,null,null,null," "]
[" ",null,null,null,null,null,null,null,null,null,null,null,{"$f":"MAX(M20:M22)+NoOne","v":6},"Coincident Peak at Generation (kW)",{"$f":"+'Schedules 4.2,4.3,4.4'!C20","v":1512539.1936336593}]
[{"$f":"MAX(A21:A23)+NoOne","v":6},"  Capacity (kW)",null,223500,1742100,null," "]
[null,null,null,null,null,null,null,null,null,null,null,null,{"$f":"MAX(M22:M24)+NoOne","v":7},"  Cost ($/kW)",{"$f":"+O21/O23","v":45.025813504844578}]
[{"$f":"MAX(A23:A25)+NoOne","v":7},"  Cost ($/kW)",{"$f":"SUM(D26:E26)","v":170.54005340212191},{"$f":"D22/D24","v":134.41215311934351},{"$f":"E22/E24","v":36.127900282778391},null,null,null,null,null,null,null,{"$f":"MAX(M23:M25)+NoOne","v":8},"  Cost ($/kW/mo.)",{"$f":"+O25/12","v":3.752151125403715}]
[]
[{"$f":"MAX(A25:A27)+NoOne","v":8},"  Transmission coincident peak (1)",1288105.1732194375]
[{"$f":"MAX(A26:A28)+NoOne","v":9},"  Newfoundland Power Sales (MWh)",5833600]
[{"$f":"MAX(A27:A29)+NoOne","v":10},"  Rate ($/kWh)",3.765659713185552E-2,null,null,"ISLINTNP"]
[]
[null,"(1) Newfoundland Power Transmission Coincident Peak adjusted for thermal credit in compliance with PU.8(2007)."]
[]
[]
[]
[]
[]
[]
[null,"O&M:"]
[null,"Direct O&M",null,{"$f":"IslIntCos!G$235+(IslIntCos!F26/IslIntCos!F29*IslIntCos!F237)","v":7964114.9477126412}]
[null,"Terminal Stations",null,{"$f":"SPLTDetails!$D$63/IslIntCos!$F$37*IslIntCos!$F$242","v":0}]
[null,"Transmission and Term Stns Other",null,{"$f":"SPLTDetails!$D$63/IslIntCos!$F$38*IslIntCos!$F$243","v":0}]
[null,"Subtotal Direct",null,{"$f":"SUM(D40:D42)","v":7964114.9477126412}]
[]
[null,"Indirect O&M:"]
[null,"Production",null,{"$f":"(IslIntCos!F26/IslIntCos!F29*IslIntCos!$F$257)","v":847223.58633926802}]
[null,"Gas Turbine & Diesel",null,{"$f":"(IslIntCos!F26/SUM(IslIntCos!$F$26,IslIntCos!$F$28)*IslIntCos!$F$258)","v":1088701.0568070344}]
[null,"Transmission",null,{"$f":"SPLTDetails!$D$63/IslIntCos!$F$38*IslIntCos!$F$259","v":0}]
[null,"Plant-related A&G",null,{"$f":"+D89/D94*IslIntCos!$F$262","v":11462.443844547794}]
[null,"Plant-related A& G excluding Hydraulic and Holyrood",null,{"$f":"+D85/D95*IslIntCos!$F$263","v":152005.55749124193}]
[null,"Property Insurance",null,{"$f":"SUM(D85,D87)/D96*IslIntCos!$F$264","v":206671.36710428464}]
[null,"Expense-related GTDC",null,{"$f":"+D43/D91*IslIntCos!$F$268","v":3577628.9718055781}]
[null,"Expense-related GTD",null,{"$f":"+D43/D92*IslIntCos!$F$269","v":194799.01294823768}]
[null,"Subtotal Indirect",null,{"$f":"SUM(D46:D53)","v":6078491.9963401919}]
[null,"Total O&M",null,{"$f":"+D54+D43","v":14042606.944052834}]
[]
[null,"Depreciation:"]
[null,"Direct Depreciation",null,{"$f":"+IslIntCos!$F$144","v":5682461.723278638}]
[null,"Terminal Stations",null,{"$f":"+SDEPDetails!$D$62","v":8214.0834809999997}]
[null,"Subtotal Direct",null,{"$f":"SUM(D58:D59)","v":5690675.8067596378}]
[]
[null,"Indirect Depreciation:"]
[null,"General Plant Depreciation",null,{"$f":"+D43/D91*IslIntCos!$F$170","v":718914.2171523429}]
[null,"General Feasibility Studies and Software",null,{"$f":"+D60/D98*SUM(IslIntCos!$F$174,IslIntCos!$F$175)","v":61365.69975392137}]
[null,"Subtotal Indirect",null,{"$f":"SUM(D63:D64)","v":780279.91690626426}]
[null,"Total Depreciation",null,{"$f":"+D60+D65","v":6470955.7236659024}]
[]
[null,"Return:"]
[null,"Return on Rate Base - Debt Component",null,{"$f":"+D117/D119*IslIntCos!$F$215","v":6775636.5964300605}]
[null,"Return on Rate Base - Equity Component",null,{"$f":"+D117/D120*IslIntCos!$F$217","v":2751916.9580244753}]
[null,null,null,{"$f":"SUM(D69:D70)","v":9527553.5544545352}]
[]
[]
[]
[]
[]
[]
[]
[]
[]
[null,"Allocation Bases:"]
[null,"Direct Plant:"]
[null,"Gas Turbines",null,{"$f":"IslIntCos!$F$26","v":190828508.17500022}]
[null,"Terminal Station",null,{"$f":"SPLTDetails!$D$63","v":0}]
[null,"Total Direct Plant",null,{"$f":"+D84+D83","v":190828508.17500022}]
[]
[null,"General Plant Allocated on O&M",null,{"$f":"+D43/D91*IslIntCos!$F$52","v":24592225.562001225}]
[null,"General Feas Studies & Software Allocated on GTD Plant",null,{"$f":"+D85/D93*SUM(IslIntCos!$F$56,IslIntCos!$F$57)","v":103683.98321642244}]
[null,"Direct Plus G Plant used to allocate PTD + Gen Plt OH",null,{"$f":"SUM(D85:D88)","v":215524417.72021788}]
[]
[null,"Total Direct Island Interconnected O&M",null,{"$f":"SUM(IslIntCos!$F$251,IslIntCos!$F$253)","v":61392945.929788455}]
[null,"Total GTD Direct Island Interconnected O&M",null,{"$f":"IslIntCos!$F$251","v":59172247.765108392}]
[null,"Total GTD Plant",null,{"$f":"+IslIntCos!$F$51","v":2745383118.4497042}]
[null,"Total Plant",null,{"$f":"+IslIntCos!$F$58","v":2954138278.4863162}]
[null,"Plant Excluding Hydraulic and Holyrood",null,{"$f":"+D93-SUM(IslIntCos!$F$24,IslIntCos!$F$25)","v":1455437920.280694}]
[null,"Insurable Plant",null,{"$f":"SUM(IslIntCos!$F$29,IslIntCos!$F$37,IslIntCos!$F$40,IslIntCos!$F$52:$F$54)","v":2075931958.1588302}]
[]
[null,"GTD Depreciation",null,{"$f":"+IslIntCos!$F$169","v":73328936.122160792}]
[]
[null,"Direct NBV:"]
[null,"Gas Turbines",null,{"$f":"+IslIntCos!$F$84","v":148144206.85881543}]
[null,"Terminal Station",null,{"$f":"+SNBVDetails!$D$59","v":736251.99477849994}]
[null,"Total Direct NBV",null,{"$f":"SUM(D101:D102)","v":148880458.85359395}]
[]
[null,"General Plant Allocated on O&M",null,{"$f":"+D43/D91*IslIntCos!$F$110","v":10746174.44280481}]
[null,"General Feas Studies & Software Allocated on GTD Plant",null,{"$f":"+D103/D109*SUM(IslIntCos!$F$114,IslIntCos!$F$115)","v":121211.64786529593}]
[null,"Direct plus Gen Plant NBV",null,{"$f":"SUM(D103,D105:D106)","v":159747844.94426405}]
[]
[null,"GTD NBV",null,{"$f":"+IslIntCos!$F$109","v":1841352433.4013863}]
[null,"Total NBV",null,{"$f":"+IslIntCos!$F$116","v":1927122840.0911996}]
[]
[null,"Rate Base, excl. Fuel Inventory:"]
[null,"NBV",null,{"$f":"+D107","v":159747844.94426405}]
[null,"Working Capital",null,{"$f":"+D113/D110*IslIntCos!$F$197","v":165319.55940855909}]
[null,"Inventory Supplies",null,{"$f":"+D89/D94*IslIntCos!$F$203","v":2109521.1069307132}]
[null,"Deferred charges",null,{"$f":"+D113/D110*IslIntCos!$F$206","v":5568666.5603349581}]
[null,null,null,{"$f":"SUM(D113:D116)","v":167591352.17093825}]
[]
[null,"Total Rate base Debt",null,{"$f":"+IslIntCos!$F$209","v":2096662173.8955669}]
[null,"Total Rate base Equity",null,{"$f":"+IslIntCos!$F$213","v":2096662173.8955669}]

{"sheet":"IslIntCos","index":11,"n_rows":629,"n_cols":35,"rows_kept":629,"cut":false,"hidden":false,"merged":[[506,6,506,7],[205,30,205,31]]}
[1,"Island Interconnected"]
[8,"Plant Column Lookups"]
[6,null,null,null,null,null,null,null,null,null,null,null,null,null,null,null,null,null,null,null,null,"Schedule 2.2A",null,null,null,null,null,null,null,null,null,null,null,null,"Schedule 2.2A"]
[null,null,null,null,null,null,null,null,null,null,null,null,null,null,null,null,null,null,null,null,null,"Page 1 of 2",null,null,null,null,null,null,null,null,null,null,null,null,"Page 2 of 2"]
[null,null,null,"NEWFOUNDLAND AND LABRADOR HYDRO",null,null,null,null,null,null,null,null,null,null,null,null,null,null,null,null,null,null,null,null,null,null,"NEWFOUNDLAND & LABRADOR HYDRO"]
[null,null,null,{"$f":"RunName","v":"2019 Test Year Cost of Service Study"},null,null,null,null,null,null,null,null,null,null,null,null,null,null,null,null,null,null,null,null,null,null,{"$f":"RunName","v":"2019 Test Year Cost of Service Study"}]
[null,null,null,{"$f":"$B$1","v":"Island Interconnected"},null,null,null,null,null,null,null,null,null,null,null,null,null,null,null,null,null,null,null,null,null,null,{"$f":"$B$1","v":"Island Interconnected"}]
[null,null,null,"Functional Classification of Plant in Service for the Allocation of O&M Expense",null,null,null,null,null,null,null,null,null,null,null,null,null,null,null,null,null,null,null,null,null,null,{"$f":"+D8&\" (CONT'D.)\"","v":"Functional Classification of Plant in Service for the Allocation of O&M Expense (CONT'D.)"}]
[null,null,null,null,{"$f":"MAX(D9)+NoOne","v":1},2,3,4,5,6,7,8,9,10,11,12,13,14,15,16,17,18]
[null,null,null,null,null,null,null,null,null,"Rural Prod &","Distribution",null,null,null,null,null,null,null,null,null,null,"Specifically",null,null,null,null,null,null,{"$f":"MAX(AB10)+NoOne","v":1},null,{"$f":"MAX(V9)+NoOne","v":19}]
["Check","Alloc","Code","Line",null,"Total","Production","Production","Transmission","Transmission","Substations","Primary Lines",null,"Line Transformers",null,"Secondary Lines",null,"Services","Meters","Street Lighting","Accounting","Assigned"]
["Column","Factor","Reference","No.","Description ","Amount","Demand","Energy","Demand","Demand","Demand","Demand","Customer","Demand","Customer","Demand","Customer","Customer","Customer","Customer","Customer","Customer",null,null,null,null,null,null,"Description ",null,"Basis of Functional Classification"]
[{"$f":"ROUND(SUM(A14:A626),2)","v":0},null,null,null,"Production","($)","($)","($)","($)","($)","($)","($)","($)","($)","($)","($)","($)","($)","($)","($)","($)","($)",null,null,null,null,null,null,{"$f":"IF(ISBLANK(E13),\"\",E13)","v":"Production"}]
[null,null,null,null,"Hydraulic"," ",null,null,null,null,null,null,null,null,null,null,null,null,null,null,null,null,null,null,null,null,null,null,{"$f":"IF(ISBLANK(E14),\"\",E14)","v":"Hydraulic"}]
[null,null,"P01",{"$f":"MAX(D12:D14)+NoOne","v":1},"Bay D'Espoir",283399657.96871012,{"$f":"$F15*'Schedule 4.1'!$D$13","v":128660081.51344918},{"$f":"$F15*'Schedule 4.1'!$E$13","v":154739576.45526093},0,0,0,0,0,0,0,0,0,0,0,0,0,0,null,null,null,null,null,null,"Bay D'Espoir",null,{"$f":"+\"Production - Demand, Energy ratios Sch.4.1 L.\"&'Schedule 4.1'!$A$13","v":"Production - Demand, Energy ratios Sch.4.1 L.1"}]
[null,null,"P10",2,"Upper Salmon",177079567.16704985,{"$f":"$F16*'Schedule 4.1'!$D$13","v":80392022.027755558},{"$f":"$F16*'Schedule 4.1'!$E$13","v":96687545.139294297},0,0,0,0,0,0,0,0,0,0,0,0,0,0,null,null,null,null,null,null,"Upper Salmon",null,{"$f":"+\"Production - Demand, Energy ratios Sch.4.1 L.\"&'Schedule 4.1'!$A$13","v":"Production - Demand, Energy ratios Sch.4.1 L.1"}]
[null,null,"P05",3,"Hinds Lake",86138997.553250045,{"$f":"$F17*'Schedule 4.1'!$D$13","v":39106082.647113055},{"$f":"$F17*'Schedule 4.1'!$E$13","v":47032914.90613699},0,0,0,0,0,0,0,0,0,0,0,0,0,0,null,null,null,null,null,null,"Hinds Lake",null,{"$f":"+\"Production - Demand, Energy ratios Sch.4.1 L.\"&'Schedule 4.1'!$A$13","v":"Production - Demand, Energy ratios Sch.4.1 L.1"}]
[null,null,"P02",4,"Cat Arm",279565999.93999994,{"$f":"$F18*'Schedule 4.1'!$D$13","v":126919646.2637955},{"$f":"$F18*'Schedule 4.1'!$E$13","v":152646353.67620444},0,0,0,0,0,0,0,0,0,0,0,0,0,0,null,null,null,null,null,null,"Cat Arm",null,{"$f":"+\"Production - Demand, Energy ratios Sch.4.1 L.\"&'Schedule 4.1'!$A$13","v":"Production - Demand, Energy ratios Sch.4.1 L.1"}]
[null,null,"P08",5,"Paradise River",22797149.34999999,{"$f":"$F19*'Schedule 4.1'!$D$13","v":10349635.263035895},{"$f":"$F19*'Schedule 4.1'!$E$13","v":12447514.086964095},0,0,0,0,0,0,0,0,0,0,0,0,0,0,null,null,null,null,null,null,"Paradise River",null,{"$f":"+\"Production - Demand, Energy ratios Sch.4.1 L.\"&'Schedule 4.1'!$A$13","v":"Production - Demand, Energy ratios Sch.4.1 L.1"}]
[null,null,"P09",6,"Granite Canal",113415629.00999998,{"$f":"$F20*'Schedule 4.1'!$D$13","v":51489349.627009094},{"$f":"$F20*'Schedule 4.1'!$E$13","v":61926279.382990882},0,0,0,0,0,0,0,0,0,0,0,0,0,0,null,null,null,null,null,null,"Granite Canal",null,{"$f":"+\"Production - Demand, Energy ratios Sch.4.1 L.\"&'Schedule 4.1'!$A$13","v":"Production - Demand, Energy ratios Sch.4.1 L.1"}]
[null,null,"P12",7,"Exploits",0,{"$f":"$F21*'Schedule 4.1'!$D$13","v":0},{"$f":"$F21*'Schedule 4.1'!$E$13","v":0},0,0,0,0,0,0,0,0,0,0,0,0,0,0,null,null,null,null,null,null,"Exploits",null,{"$f":"+\"Production - Demand, Energy ratios Sch.4.1 L.\"&'Schedule 4.1'!$A$13","v":"Production - Demand, Energy ratios Sch.4.1 L.1"}]
[null,null,"P13",8,"Star Lake",0,{"$f":"$F22*'Schedule 4.1'!$D$13","v":0},{"$f":"$F22*'Schedule 4.1'!$E$13","v":0},0,0,0,0,0,0,0,0,0,0,0,0,0,0,null,null,null,null,null,null,"Star Lake"]
[null,null,"P07",9,"Other Hydraulic",5376974.5100000016,{"$f":"$F23*'Schedule 4.1'!$D$13","v":2441082.6170747173},{"$f":"$F23*'Schedule 4.1'!$E$13","v":2935891.8929252843},0,{"$f":"+SPLTDetails!$J13","v":0},0,0,0,0,0,0,0,0,0,0,0,0,null,null,null,null,null,null,"Other Hydraulic",null,{"$f":"+\"Production - Demand, Energy ratios Sch.4.1 L.\"&'Schedule 4.1'!$A$13&\", \"&'Schedule 4.1'!$A$14","v":"Production - Demand, Energy ratios Sch.4.1 L.1, 2"}]
[{"$f":"SUM(G24:V24)-F24","v":0},null," ",{"$f":"MAX(D19:D23)+NoOne","v":10},"Subtotal Hydraulic",{"$f":"SUM(F15:F23)","v":967773975.49900997},{"$f":"SUM(G15:G23)","v":439357899.95923299},{"$f":"SUM(H15:H23)","v":528416075.53977692},{"$f":"SUM(I15:I23)","v":0},{"$f":"SUM(J15:J23)","v":0},0,0,0,0,0,0,0,0,0,0,0,0,null,null,null,null,null,null,"Subtotal Hydraulic"]
[null,null,"P06",{"$f":"MAX(D20:D24)+NoOne","v":11},"Holyrood",322171222.6700002,{"$f":"$F25*'Schedule 4.1'!D15","v":224102302.48925212},{"$f":"$F25*'Schedule 4.1'!E15","v":98068920.18074806},0,0,0,0,0,0,0,0,0,0,0,0,0,0,null,null,null,null,null,null,"Holyrood",null,{"$f":"+\"Production - Demand, Energy ratios Sch.4.1 L.\"&'Schedule 4.1'!$A$15","v":"Production - Demand, Energy ratios Sch.4.1 L.3"}]
[null,null,"P04",12,"Gas Turbines",190828508.17500022,{"$f":"$F26*'Schedule 4.1'!D16","v":190828508.17500022},{"$f":"$F26*'Schedule 4.1'!E16","v":0},{"$f":"$F26*'Schedule 4.1'!H16","v":0},{"$f":"$F26*'Schedule 4.1'!I16","v":0},{"$f":"$F26*'Schedule 4.1'!J16","v":0},{"$f":"$F26*'Schedule 4.1'!K16","v":0},{"$f":"$F26*'Schedule 4.1'!L16","v":0},{"$f":"$F26*'Schedule 4.1'!M16","v":0},{"$f":"$F26*'Schedule 4.1'!N16","v":0},{"$f":"$F26*'Schedule 4.1'!O16","v":0},{"$f":"$F26*'Schedule 4.1'!P16","v":0},{"$f":"$F26*'Schedule 4.1'!Q16","v":0},{"$f":"$F26*'Schedule 4.1'!R16","v":0},{"$f":"$F26*'Schedule 4.1'!S16","v":0},{"$f":"$F26*'Schedule 4.1'!T16","v":0},{"$f":"$F26*'Schedule 4.1'!U16","v":0},null,null,null,null,null,null,"Gas Turbines",null,{"$f":"+\"Production - Demand, Energy ratios Sch.4.1 L.\"&'Schedule 4.1'!$A$16","v":"Production - Demand, Energy ratios Sch.4.1 L.4"}]
[null,null,"P11",13,"Roddickton",0,{"$f":"$F27*'Schedule 4.1'!D15","v":0},{"$f":"$F27*'Schedule 4.1'!E15","v":0},0,{"$f":"$F27*'Schedule 4.1'!I15","v":0},{"$f":"$F27*'Schedule 4.1'!J15","v":0},{"$f":"$F27*'Schedule 4.1'!K15","v":0},{"$f":"$F27*'Schedule 4.1'!L15","v":0},{"$f":"$F27*'Schedule 4.1'!M15","v":0},{"$f":"$F27*'Schedule 4.1'!N15","v":0},{"$f":"$F27*'Schedule 4.1'!O15","v":0},{"$f":"$F27*'Schedule 4.1'!P15","v":0},{"$f":"$F27*'Schedule 4.1'!Q15","v":0},{"$f":"$F27*'Schedule 4.1'!R15","v":0},{"$f":"$F27*'Schedule 4.1'!S15","v":0},{"$f":"$F27*'Schedule 4.1'!T15","v":0},{"$f":"$F27*'Schedule 4.1'!U15","v":0},null,null,null,null,null,null,"Roddickton",null,{"$f":"+\"Production - Demand, Energy ratios Sch.4.1 L.\"&'Schedule 4.1'!$A$15","v":"Production - Demand, Energy ratios Sch.4.1 L.3"}]
[null,null,{"$f":"+SPLTDetails!C18","v":"SPLT2"},14,"Diesel",{"$f":"SUM(G28:V28)","v":9249661.1099999975},{"$f":"+SPLTDetails!$E18*'Schedule 4.1'!D$16","v":9249661.1099999975},{"$f":"+SPLTDetails!$E18*'Schedule 4.1'!E$16","v":0},0,{"$f":"+SPLTDetails!$J18","v":0},0,0,0,0,0,0,0,0,0,0,0,0,null,null,null,null,null,null,"Diesel",null,{"$f":"+\"Production - Demand, Energy ratios Sch.4.1 L.\"&'Schedule 4.1'!$A$17","v":"Production - Demand, Energy ratios Sch.4.1 L.5"}]
[{"$f":"SUM(G29:V29)-F29","v":0},null," ",15,"Subtotal Production",{"$f":"SUM(F24:F28)","v":1490023367.4540102},{"$f":"SUM(G24:G28)","v":863538371.73348534},{"$f":"SUM(H24:H28)","v":626484995.72052503},{"$f":"SUM(I24:I28)","v":0},{"$f":"SUM(J24:J28)","v":0},0,0,0,0,0,0,0,0,0,0,0,0,null,null,null,null,null,null,"Subtotal Production"]
[null,null,null,null,"Transmission",null,null,null,null,null,null,null,null,null,null,null,null,null,null,null,null,null,null,null,null,null,null,null,"Transmission"]
[null,null,{"$f":"+SPLTDetails!C35","v":"SPLT3"},{"$f":"MAX(D28:D30)+NoOne","v":16},"Lines",{"$f":"SUM(G31:V31)","v":670434679.21000051},{"$f":"SPLTDetails!E35*'Schedule 4.1'!D34","v":25369555.993927419},{"$f":"SPLTDetails!E35*'Schedule 4.1'!E34","v":30511984.006072573},{"$f":"SPLTDetails!I35","v":473852211.7500003},{"$f":"SPLTDetails!J35","v":103774304.52000016},0,{"$f":"+SPLTDetails!K35","v":0},0,0,0,0,0,0,0,0,0,{"$f":"SPLTDetails!M35","v":36926622.940000005},null,null,null,null,null,null,"Lines",null,{"$f":"\"Production - Demand, Energy ratios Sch.4.1 L.\"&'Schedule 4.1'!$A$34 & \" Transmission - Demand; Distribution - Primary Demand; Spec Assigned - Custmr\"","v":"Production - Demand, Energy ratios Sch.4.1 L.17 Transmission - Demand; Distribution - Primary Demand; Spec Assigned - Custmr"}]
[null,null,{"$f":"+SPLTDetails!C52","v":"SPLT4"},17,"Terminal Stations ",{"$f":"SUM(G32:V32)","v":289486824.89590025},{"$f":"+SPLTDetails!E52*G29/F29","v":0},{"$f":"+SPLTDetails!E52*H29/F29","v":0},{"$f":"SPLTDetails!I52","v":228031349.65175024},{"$f":"SPLTDetails!J52","v":23792646.75600002},0,0,0,0,0,0,0,0,0,0,0,{"$f":"SPLTDetails!M52","v":37662828.488149971},null,null,null,null,null,null,"Terminal Stations ",null,{"$f":"+\"Production - Demand, Energy subtotals, L. \"&D29&\"; Transmission - Demand; Spec Assigned - Custmr\"","v":"Production - Demand, Energy subtotals, L. 15; Transmission - Demand; Spec Assigned - Custmr"}]
[null,null,{"$f":"+SPLTDetails!C59","v":"SPLT5"},{"$f":"MAX(D31:D32)+NoOne","v":18},"Term Stns - Hydraulic",{"$f":"SUM(G33:V33)","v":47364963.839950003},{"$f":"SPLTDetails!D59*'Schedule 4.1'!D34","v":21503131.486497317},{"$f":"SPLTDetails!E59*'Schedule 4.1'!E34","v":25861832.353452686},0,0,0,0,0,0,0,0,0,0,0,0,0,0,null,null,null,null,null,null,"Term Stns - Hydraulic",null,{"$f":"+\"Production - Demand, Energy ratios Sch.4.1 L.\"&'Schedule 4.1'!$A$38","v":"Production - Demand, Energy ratios Sch.4.1 L.20"}]
[null,null,"T24",{"$f":"MAX(D32:D33)+NoOne","v":19},"Term Stns - Holyrood",15100663.601999987,{"$f":"$F34*'Schedule 4.1'!D$39","v":10504021.60155119},{"$f":"$F34*'Schedule 4.1'!E$39","v":4596642.000448796},0,0,0,0,0,0,0,0,0,0,0,0,0,0,null,null,null,null,null,null,"Term Stns - Holyrood",null,{"$f":"+\"Production - Demand, Energy ratios Sch.4.1 L.\"&'Schedule 4.1'!$A$39","v":"Production - Demand, Energy ratios Sch.4.1 L.21"}]
[null,null,{"$f":"+SPLTDetails!C65","v":"SPLT6"},{"$f":"MAX(D33:D34)+NoOne","v":20},"Term Stns - Gas Tur/Dsl",{"$f":"SUM(G35:V35)","v":763575.66999999993},{"$f":"+SPLTDetails!$E65*'Schedule 4.1'!D$40","v":763575.66999999993},{"$f":"+SPLTDetails!$E65*'Schedule 4.1'!E$40","v":0},0,{"$f":"+SPLTDetails!$J65","v":0},0,0,0,0,0,0,0,0,0,0,0,0,null,null,null,null,null,null,"Term Stns - Gas Tur/Dsl",null,{"$f":"+\"Production - Demand, Energy ratios Sch.4.1 L.\"&'Schedule 4.1'!$A$40&\", \"&'Schedule 4.1'!$A$41","v":"Production - Demand, Energy ratios Sch.4.1 L.22, 23"}]
[null,null,"T18",21,"Term Stns - Distribution",14079693.219999975,0,0,0,0,{"$f":"F36","v":14079693.219999975},0,0,0,0,0,0,0,0,0,0,0,null,null,null,null,null,null,"Term Stns - Distribution",null,"Distribution - Substations Demand"]
[{"$f":"SUM(G37:V37)-F37","v":0},null,null,22,"Subtotal Term Stns",{"$f":"SUM(F32:F36)","v":366795721.22785026},32770728.758048505,30458474.353901483,228031349.65175024,23792646.75600002,14079693.219999975,0,0,0,0,0,0,0,0,0,0,37662828.488149971,null,null,null,null,null,null,"Subtotal Term Stns"]
[{"$f":"SUM(G38:V38)-F38","v":0},null," ",23,"Subtotal Transmission",{"$f":"SUM(F31,F37)","v":1037230400.4378507},58140284.751975924,60970458.359974056,701883561.40175056,127566951.27600017,14079693.219999975,0,0,0,0,0,0,0,0,0,0,74589451.428149968,null,null,null,null,null,null,"Subtotal Transmission"]
[null,null,null,null,"Distribution",null,null,null,null,null,null,null,null,null,null,null,null,null,null,null,null,null,null,null,null,null,null,null,"Distribution"]
[null,null,{"$f":"+SPLTDetails!C71","v":"SPLT7"},{"$f":"MAX(D37:D39)+NoOne","v":24},"Substations",{"$f":"SUM(G40:V40)","v":11859169.179999996},{"$f":"+SPLTDetails!E71","v":0},0,0,{"$f":"+SPLTDetails!J71","v":0},{"$f":"+SPLTDetails!K71","v":11859169.179999996},0,0,0,0,0,0,0,0,0,0,0,null,null,null,null,null,null,"Substations",null,"Production - Demand; Dist Substns - Demand"]
[null,null,"D11",25,"Land & Land Improvements",{"$f":"DistnDetails!C13+DistnDetails!C22","v":4396627.2930630064},{"$f":"$F41*'Schedule 4.1'!D$62","v":0},{"$f":"$F41*'Schedule 4.1'!E$62","v":0},0,{"$f":"$F41*'Schedule 4.1'!I$62","v":0},{"$f":"$F41*'Schedule 4.1'!J$62","v":0},{"$f":"$F41*'Schedule 4.1'!K$62","v":3314837.1476048538},{"$f":"$F41*'Schedule 4.1'!L$62","v":422296.05149870174},{"$f":"$F41*'Schedule 4.1'!M$62","v":0},{"$f":"$F41*'Schedule 4.1'!N$62","v":0},{"$f":"$F41*'Schedule 4.1'!O$62","v":384485.05677835987},{"$f":"$F41*'Schedule 4.1'!P$62","v":275009.03718109103},{"$f":"$F41*'Schedule 4.1'!Q$62","v":0},{"$f":"$F41*'Schedule 4.1'!R$62","v":0},{"$f":"$F41*'Schedule 4.1'!S$62","v":0},{"$f":"$F41*'Schedule 4.1'!T$62","v":0},{"$f":"$F41*'Schedule 4.1'!U$62","v":0},null,null,null,null,null," ","Land & Land Improvements",null,{"$f":"+\"Primary, Secondary - Demand, Customer - zero intercept ratios Sch.4.1 L.\"&'Schedule 4.1'!$A$62","v":"Primary, Secondary - Demand, Customer - zero intercept ratios Sch.4.1 L.32"}]
[null,null,"D11",26,"Poles",{"$f":"DistnDetails!C16+DistnDetails!C14","v":127498446.75693804},{"$f":"$F42*'Schedule 4.1'!D$67","v":0},{"$f":"$F42*'Schedule 4.1'!E$67","v":0},0,{"$f":"$F42*'Schedule 4.1'!I$67","v":0},{"$f":"$F42*'Schedule 4.1'!J$67","v":0},{"$f":"$F42*'Schedule 4.1'!K$67","v":73738471.684981599},{"$f":"$F42*'Schedule 4.1'!L$67","v":25200322.99840232},{"$f":"$F42*'Schedule 4.1'!M$67","v":0},{"$f":"$F42*'Schedule 4.1'!N$67","v":0},{"$f":"$F42*'Schedule 4.1'!O$67","v":13051760.997614231},{"$f":"$F42*'Schedule 4.1'!P$67","v":15507891.07593989},{"$f":"$F42*'Schedule 4.1'!Q$67","v":0},{"$f":"$F42*'Schedule 4.1'!R$67","v":0},{"$f":"$F42*'Schedule 4.1'!S$67","v":0},{"$f":"$F42*'Schedule 4.1'!T$67","v":0},{"$f":"$F42*'Schedule 4.1'!U$67","v":0},null,null,null,null,null,null,"Poles",null,{"$f":"+\"Primary, Secondary - Demand, Customer - zero intercept ratios Sch.4.1 L.\"&'Schedule 4.1'!$A$67","v":"Primary, Secondary - Demand, Customer - zero intercept ratios Sch.4.1 L.37"}]
[null,null,"D11",27,"Primary Conductor & Eqpt",{"$f":"DistnDetails!C17","v":25104732.789999999},{"$f":"$F43*'Schedule 4.1'!D$68","v":0},{"$f":"$F43*'Schedule 4.1'!E$68","v":0},0,{"$f":"$F43*'Schedule 4.1'!I$68","v":0},{"$f":"$F43*'Schedule 4.1'!J$68","v":0},{"$f":"$F43*'Schedule 4.1'!K$68","v":22267897.984729998},{"$f":"$F43*'Schedule 4.1'!L$68","v":2836834.8052699999},{"$f":"$F43*'Schedule 4.1'!M$68","v":0},{"$f":"$F43*'Schedule 4.1'!N$68","v":0},{"$f":"$F43*'Schedule 4.1'!O$68","v":0},{"$f":"$F43*'Schedule 4.1'!P$68","v":0},{"$f":"$F43*'Schedule 4.1'!Q$68","v":0},{"$f":"$F43*'Schedule 4.1'!R$68","v":0},{"$f":"$F43*'Schedule 4.1'!S$68","v":0},{"$f":"$F43*'Schedule 4.1'!T$68","v":0},{"$f":"$F43*'Schedule 4.1'!U$68","v":0},null,null,null,null,null,null,"Primary Conductor & Eqpt",null,{"$f":"+\"Primary - Demand, Customer - zero intercept ratios Sch.4.1 L.\"&'Schedule 4.1'!$A$68","v":"Primary - Demand, Customer - zero intercept ratios Sch.4.1 L.38"}]
[null,null,"D05",28,"Submarine Conductor",9854684.4300000016,{"$f":"$F44*'Schedule 4.1'!D$69","v":0},{"$f":"$F44*'Schedule 4.1'!E$69","v":0},0,{"$f":"$F44*'Schedule 4.1'!I$69","v":0},{"$f":"$F44*'Schedule 4.1'!J$69","v":0},{"$f":"$F44*'Schedule 4.1'!K$69","v":9854684.4300000016},{"$f":"$F44*'Schedule 4.1'!L$69","v":0},{"$f":"$F44*'Schedule 4.1'!M$69","v":0},{"$f":"$F44*'Schedule 4.1'!N$69","v":0},{"$f":"$F44*'Schedule 4.1'!O$69","v":0},{"$f":"$F44*'Schedule 4.1'!P$69","v":0},{"$f":"$F44*'Schedule 4.1'!Q$69","v":0},{"$f":"$F44*'Schedule 4.1'!R$69","v":0},{"$f":"$F44*'Schedule 4.1'!S$69","v":0},{"$f":"$F44*'Schedule 4.1'!T$69","v":0},{"$f":"$F44*'Schedule 4.1'!U$69","v":0},null,null,null,null,null,null,"Submarine Conductor",null,{"$f":"+\"Primary - Demand, Customer - zero intercept ratios Sch.4.1 L.\"&'Schedule 4.1'!$A$69","v":"Primary - Demand, Customer - zero intercept ratios Sch.4.1 L.39"}]
[null,null,"D11",29,"Transformers",{"$f":"DistnDetails!C18","v":19578592},{"$f":"$F45*'Schedule 4.1'!D$70","v":0},{"$f":"$F45*'Schedule 4.1'!E$70","v":0},0,{"$f":"$F45*'Schedule 4.1'!I$70","v":0},{"$f":"$F45*'Schedule 4.1'!J$70","v":0},{"$f":"$F45*'Schedule 4.1'!K$70","v":0},{"$f":"$F45*'Schedule 4.1'!L$70","v":0},{"$f":"$F45*'Schedule 4.1'!M$70","v":7067871.7119999994},{"$f":"$F45*'Schedule 4.1'!N$70","v":12510720.288000001},{"$f":"$F45*'Schedule 4.1'!O$70","v":0},{"$f":"$F45*'Schedule 4.1'!P$70","v":0},{"$f":"$F45*'Schedule 4.1'!Q$70","v":0},{"$f":"$F45*'Schedule 4.1'!R$70","v":0},{"$f":"$F45*'Schedule 4.1'!S$70","v":0},{"$f":"$F45*'Schedule 4.1'!T$70","v":0},{"$f":"$F45*'Schedule 4.1'!U$70","v":0},null,null,null,null,null,null,"Transformers",null,{"$f":"+\"Transformers - Demand, Customer - zero intercept ratios Sch.4.1 L.\"&'Schedule 4.1'!$A$70","v":"Transformers - Demand, Customer - zero intercept ratios Sch.4.1 L.40"}]
[null,null,"D11",30,"Secondary Conductor&Eqpt",{"$f":"DistnDetails!C19","v":3187147.6699999976},{"$f":"$F46*'Schedule 4.1'!D$71","v":0},{"$f":"$F46*'Schedule 4.1'!E$71","v":0},0,{"$f":"$F46*'Schedule 4.1'!I$71","v":0},{"$f":"$F46*'Schedule 4.1'!J$71","v":0},{"$f":"$F46*'Schedule 4.1'!K$71","v":0},{"$f":"$F46*'Schedule 4.1'!L$71","v":0},{"$f":"$F46*'Schedule 4.1'!M$71","v":0},{"$f":"$F46*'Schedule 4.1'!N$71","v":0},{"$f":"$F46*'Schedule 4.1'!O$71","v":1858107.0916099984},{"$f":"$F46*'Schedule 4.1'!P$71","v":1329040.578389999},{"$f":"$F46*'Schedule 4.1'!Q$71","v":0},{"$f":"$F46*'Schedule 4.1'!R$71","v":0},{"$f":"$F46*'Schedule 4.1'!S$71","v":0},{"$f":"$F46*'Schedule 4.1'!T$71","v":0},{"$f":"$F46*'Schedule 4.1'!U$71","v":0},null,null,null,null,null,null,"Secondary Conductor&Eqpt",null,{"$f":"+\"Secondary - Demand, Customer - zero intercept ratios Sch. 4.1 L.\"&'Schedule 4.1'!$A$71","v":"Secondary - Demand, Customer - zero intercept ratios Sch. 4.1 L.41"}]
[null,null,"D11",31,"Services",{"$f":"DistnDetails!C20","v":6522244.4300000044},{"$f":"$F47*'Schedule 4.1'!D$72","v":0},{"$f":"$F47*'Schedule 4.1'!E$72","v":0},0,{"$f":"$F47*'Schedule 4.1'!I$72","v":0},{"$f":"$F47*'Schedule 4.1'!J$72","v":0},{"$f":"$F47*'Schedule 4.1'!K$72","v":0},{"$f":"$F47*'Schedule 4.1'!L$72","v":0},{"$f":"$F47*'Schedule 4.1'!M$72","v":0},{"$f":"$F47*'Schedule 4.1'!N$72","v":0},{"$f":"$F47*'Schedule 4.1'!O$72","v":0},{"$f":"$F47*'Schedule 4.1'!P$72","v":0},{"$f":"$F47*'Schedule 4.1'!Q$72","v":6522244.4300000044},{"$f":"$F47*'Schedule 4.1'!R$72","v":0},{"$f":"$F47*'Schedule 4.1'!S$72","v":0},{"$f":"$F47*'Schedule 4.1'!T$72","v":0},{"$f":"$F47*'Schedule 4.1'!U$72","v":0},null,null,null,null,null,null,"Services",null,"Services Customer"]
[null,null,{"$f":"+SystemizedPlant!C21","v":"SMET01"},32,"Meters",{"$f":"SUM((IF(VLOOKUP($C48,AllocatedMeters,3,FALSE)=\"\",0,VLOOKUP($C48,AllocatedMeters,3,FALSE))))","v":7684656.677841913},{"$f":"$F48*'Schedule 4.1'!D$73","v":0},{"$f":"$F48*'Schedule 4.1'!E$73","v":0},0,{"$f":"$F48*'Schedule 4.1'!I$73","v":0},{"$f":"$F48*'Schedule 4.1'!J$73","v":0},{"$f":"$F48*'Schedule 4.1'!K$73","v":0},{"$f":"$F48*'Schedule 4.1'!L$73","v":0},{"$f":"$F48*'Schedule 4.1'!M$73","v":0},{"$f":"$F48*'Schedule 4.1'!N$73","v":0},{"$f":"$F48*'Schedule 4.1'!O$73","v":0},{"$f":"$F48*'Schedule 4.1'!P$73","v":0},{"$f":"$F48*'Schedule 4.1'!Q$73","v":0},{"$f":"$F48*'Schedule 4.1'!R$73","v":7684656.677841913},{"$f":"$F48*'Schedule 4.1'!S$73","v":0},{"$f":"$F48*'Schedule 4.1'!T$73","v":0},{"$f":"$F48*'Schedule 4.1'!U$73","v":0},null,null,null,null,null,null,"Meters",null,"Meters - Customer"]
[null,null,"D11",33,"Street Lighting",{"$f":"DistnDetails!C21","v":2443049.33},{"$f":"$F49*'Schedule 4.1'!D$74","v":0},{"$f":"$F49*'Schedule 4.1'!E$74","v":0},0,{"$f":"$F49*'Schedule 4.1'!I$74","v":0},{"$f":"$F49*'Schedule 4.1'!J$74","v":0},{"$f":"$F49*'Schedule 4.1'!K$74","v":0},{"$f":"$F49*'Schedule 4.1'!L$74","v":0},{"$f":"$F49*'Schedule 4.1'!M$74","v":0},{"$f":"$F49*'Schedule 4.1'!N$74","v":0},{"$f":"$F49*'Schedule 4.1'!O$74","v":0},{"$f":"$F49*'Schedule 4.1'!P$74","v":0},{"$f":"$F49*'Schedule 4.1'!Q$74","v":0},{"$f":"$F49*'Schedule 4.1'!R$74","v":0},{"$f":"$F49*'Schedule 4.1'!S$74","v":2443049.33},{"$f":"$F49*'Schedule 4.1'!T$74","v":0},{"$f":"$F49*'Schedule 4.1'!U$74","v":0},null,null,null,null,null,null,"Street Lighting",null,"Street Lighting - Customer"]
[{"$f":"SUM(G50:V50)-F50","v":0},null," ",34,"Subtotal Distribution",{"$f":"SUM(F40:F49)","v":218129350.55784294},{"$f":"SUM(G40:G49)","v":0},{"$f":"SUM(H40:H49)","v":0},{"$f":"SUM(I40:I49)","v":0},{"$f":"SUM(J40:J49)","v":0},11859169.179999996,109175891.24731645,28459453.855171021,7067871.7119999994,12510720.288000001,15294353.146002589,17111940.691510979,6522244.4300000044,7684656.677841913,2443049.33,0,0,null,null,null,null,null,null,"Subtotal Distribution"]
[{"$f":"SUM(G51:V51)-F51","v":0},null," ",35,"Subttl Prod, Trans, & Dist",{"$f":"SUM(F50,F38,F29)","v":2745383118.4497042},921678656.48546124,687455454.08049905,701883561.40175056,127566951.27600017,25938862.399999969,109175891.24731645,28459453.855171021,7067871.7119999994,12510720.288000001,15294353.146002589,17111940.691510979,6522244.4300000044,7684656.677841913,2443049.33,0,74589451.428149968,null,null,null,null,null,null,"Subttl Prod, Trans, & Dist"]
[null,{"$f":"IF(OverheadAlloc=\"Expenses\",\"E-GTDC\",\"L-GTDC\")","v":"E-GTDC"},{"$f":"+SystemizedPlant!C99","v":"SGPLT01"},36,"General",{"$f":"SystemizedPlant!E99","v":189574005.91696966},{"$f":"$F52*VLOOKUP($B52,RatiosIslInt,G$552,FALSE)","v":89870291.809401006},43820824.503224321,21299338.178810436,3368949.7345589465,1814420.8564205861,10870815.030467441,2833752.5363255711,703759.09152116778,1245712.0761274963,1522882.773488956,1703862.8212189416,649430.12575378793,800400.60737470351,243258.26034775062,6857247.8586109802,1969059.65331754,null,null,null,null,null,null,"General",null,{"$f":"+\"Prorated on Subtotal Production, Transmission, Distribution, Accounting Expenses - Sch.2.4 L.\"&$D$251&\", \"&$D$253","v":"Prorated on Subtotal Production, Transmission, Distribution, Accounting Expenses - Sch.2.4 L.15, 16"}]
[null,null,"G06",37,"NLSO",17679694.379999995,{"$f":"$F53*(G$51/SUM($G$51:$V$51))","v":5935418.2131175939},4427069.6670090295,4519983.6673200717,821504.54571950901,167040.86096946473,703069.95695618517,183272.94394716885,45515.618911421734,80566.427934621854,98492.442655438776,110197.32715681528,42001.893076101049,49487.585381595651,15732.727872987771,0,480340.50197198539]
[null,null,{"$f":"+SPLTDetails!C76","v":"SPLT8"},38,"Telecontrol - Custmr & Spec",{"$f":"SUM(G54:V54)","v":0},0,0,0,0,0,0,0,0,0,0,0,0,0,0,{"$f":"+SPLTDetails!L76","v":0},{"$f":"+SPLTDetails!M76","v":0},null,null,null,null,null,null,"Telecontrol - Custmr & Spec",null,"Specifically Assigned - Customer"]
[null,null,{"$f":"+SPLTDetails!C83","v":"SPLT9"},39,"Feasibility Studies",{"$f":"SUM(G55:V55)","v":9794.4748540000492},{"$f":"+SPLTDetails!E83","v":9794.4654045000498},0,0,0,{"$f":"+SPLTDetails!K83","v":9.4495000000000013E-3},0,0,0,0,0,0,0,0,0,0,0,null,null,null,null,null,null,"Feasibility Studies",null,"Production, Transmission - Demand"]
[null,null,"G10",40,"Feasibility Studies - General",0,{"$f":"$F56*(G$51/SUM($G$51:$V$51))","v":0},0,0,0,0,0,0,0,0,0,0,0,0,0,0,0,null,null,null,null,null,null,"Feasibility Studies - General",null,{"$f":"+\"Prorated on subtotal Production, Transmission, & Distribution plant - L.\"&$D$51","v":"Prorated on subtotal Production, Transmission, & Distribution plant - L.35"}]
[null,null,{"$f":"+SystemizedPlant!C62","v":"SCS2_01"},{"$f":"MAX(D55:D56)+NoOne","v":41},"Software - General",{"$f":"SystemizedPlant!E62","v":1491665.2647881461},500781.12156248954,373519.24219600653,381358.55117372749,69311.706943395562,14093.515688276086,59319.183407040247,15463.043567694112,3840.2285851901852,6797.5237283560346,8309.9714506069668,9297.5320533972317,3543.7696834760382,4175.3500125811506,1327.3964574324366,0,40527.128278476092,null,null,null,null,null,null,"Software - General",null,{"$f":"+\"Prorated on subtotal Production, Transmission, & Distribution plant - L.\"&$D$51","v":"Prorated on subtotal Production, Transmission, & Distribution plant - L.35"}]
[{"$f":"SUM(G58:V58)-F58","v":0},null," ",{"$f":"MAX(D55:D57)+NoOne","v":42},"Total Plant",{"$f":"SUM(F51:F57)","v":2954138278.4863162},1017994942.0949469,736076867.49292839,728084241.79905474,131826717.26322201,27934417.6425278,120809095.4181471,31491942.379011456,7820986.6510177795,13843796.315790474,16924038.333597593,18935298.371940132,7217220.2185133696,8538720.2206107937,2703367.7146781706,6857247.8586109802,77079378.711717978,null,null,null,null,null,null,"Total Plant"]
[]
[]
[null,null,null,null,null,null,null,null,null,null,null,null,null,null,null,null,null,null,null,null,null,"Schedule 2.3A"]
[null,null,null,null,null,null,null,null,null,null,null,null,null,null,null,null,null,null,null,null,null," Page 1 of 1"]
[null,null,null,{"$f":"D5","v":"NEWFOUNDLAND AND LABRADOR HYDRO"}]
[null,null,null,{"$f":"D6","v":"2019 Test Year Cost of Service Study"}]
[null,null,null,{"$f":"$B$1","v":"Island Interconnected"}]
[null,null,null,"Functional Classification of Net Book Value"]
[null,null,null,null,{"$f":"MAX(D67)+NoOne","v":1},2,3,4,5,6,7,8,9,10,11,12,13,14,15,16,17,18]
[null,null,null,null,null,null,null,null,null,"Rural Prod &","Distribution",null,null,null,null,null,null,null,null,null,null,"Specifically"]
[null,null,null,"Line",null,"Total","Production","Production","Transmission","Transmission","Substations","Primary Lines",null,"Line Transformers",null,"Secondary Lines",null,"Services","Meters","Street Lighting","Accounting","Assigned"]
[null,null,null,"No.","Description ","Amount","Demand","Energy","Demand","Demand","Demand","Demand","Customer","Demand","Customer","Demand","Customer","Customer","Customer","Customer","Customer","Customer"]
[null,null,null,null,"Production","($)","($)","($)","($)","($)","($)","($)","($)","($)","($)","($)","($)","($)","($)","($)","($)","($)"]
[null,null,null,null,"Hydraulic"]
[null,null,"P01",{"$f":"MAX(D70:D72)+NoOne","v":1},"Bay D'Espoir",203146479.39946762,{"$f":"$F73*'Schedule 4.1'!$D$13","v":92226090.835972264},{"$f":"$F73*'Schedule 4.1'!$E$13","v":110920388.56349535},0,0,0,0,0,0,0,0,0,0,0,0,0,0]
[null,null,"P10",2,"Upper Salmon",140844704.5499748,{"$f":"$F74*'Schedule 4.1'!$D$13","v":63941824.411581174},{"$f":"$F74*'Schedule 4.1'!$E$13","v":76902880.138393626},0,0,0,0,0,0,0,0,0,0,0,0,0,0]
[null,null,"P05",3,"Hinds Lake",66118692.993905954,{"$f":"$F75*'Schedule 4.1'!$D$13","v":30017101.965232056},{"$f":"$F75*'Schedule 4.1'!$E$13","v":36101591.028673895},0,0,0,0,0,0,0,0,0,0,0,0,0,0]
[null,null,"P02",4,"Cat Arm",220285932.67962217,{"$f":"$F76*'Schedule 4.1'!$D$13","v":100007199.22518602},{"$f":"$F76*'Schedule 4.1'!$E$13","v":120278733.45443615},0,0,0,0,0,0,0,0,0,0,0,0,0,0]
[null,null,"P08",5,"Paradise River",17399980.115631498,{"$f":"$F77*'Schedule 4.1'!$D$13","v":7899384.480755846},{"$f":"$F77*'Schedule 4.1'!$E$13","v":9500595.6348756533},0,0,0,0,0,0,0,0,0,0,0,0,0,0]
[null,null,"P09",6,"Granite Canal",90979070.920652002,{"$f":"$F78*'Schedule 4.1'!$D$13","v":41303418.517044716},{"$f":"$F78*'Schedule 4.1'!$E$13","v":49675652.403607287},0,0,0,0,0,0,0,0,0,0,0,0,0,0]
[null,null,"P12",7,"Exploits",0,{"$f":"$F79*'Schedule 4.1'!$D$13","v":0},{"$f":"$F79*'Schedule 4.1'!$E$13","v":0},0,0,0,0,0,0,0,0,0,0,0,0,0,0]
[null,null,"P13",8,"Star Lake",0,{"$f":"$F80*'Schedule 4.1'!$D$13","v":0},{"$f":"$F80*'Schedule 4.1'!$E$13","v":0},0,0,0,0,0,0,0,0,0,0,0,0,0,0]
[null,null,"P07",9,"Other Small Hydraulic",3071304.7630079999,{"$f":"$F81*'Schedule 4.1'!$D$13","v":1394335.9141417262},{"$f":"$F81*'Schedule 4.1'!$E$13","v":1676968.8488662736},0,{"$f":"+SNBVDetails!J12","v":0},0,0,0,0,0,0,0,0,0,0,0,0]
[{"$f":"SUM(G82:V82)-F82","v":0},null," ",10,"Subtotal Hydraulic",{"$f":"SUM(F73:F81)","v":741846165.42226207},{"$f":"SUM(G73:G81)","v":336789355.34991378},{"$f":"SUM(H73:H81)","v":405056810.07234824},{"$f":"SUM(I73:I81)","v":0},{"$f":"SUM(J73:J81)","v":0},0,0,0,0,0,0,0,0,0,0,0,0]
[null,null,{"$f":"SNBVDetails!C12","v":"SNBV1"},{"$f":"MAX(D78:D82)+NoOne","v":11},"Holyrood",{"$f":"SUM(G83:V83)","v":85174253.275568143},{"$f":"SNBVDetails!D12*'Schedule 4.1'!$D$15","v":59247210.578485198},{"$f":"SNBVDetails!D12*'Schedule 4.1'!$E$15","v":25927042.697082944},0,0,0,0,0,0,0,0,0,0,0,0,0,0]
[null,null,"P04",12,"Gas Turbines",148144206.85881543,{"$f":"$F84*'Schedule 4.1'!D$16","v":148144206.85881543},{"$f":"$F84*'Schedule 4.1'!E$16","v":0},{"$f":"$F84*'Schedule 4.1'!F$16","v":0},{"$f":"$F84*'Schedule 4.1'!I$16","v":0},{"$f":"$F84*'Schedule 4.1'!J$16","v":0},{"$f":"$F84*'Schedule 4.1'!K$16","v":0},{"$f":"$F84*'Schedule 4.1'!L$16","v":0},{"$f":"$F84*'Schedule 4.1'!M$16","v":0},{"$f":"$F84*'Schedule 4.1'!N$16","v":0},{"$f":"$F84*'Schedule 4.1'!O$16","v":0},{"$f":"$F84*'Schedule 4.1'!P$16","v":0},{"$f":"$F84*'Schedule 4.1'!Q$16","v":0},{"$f":"$F84*'Schedule 4.1'!R$16","v":0},{"$f":"$F84*'Schedule 4.1'!S$16","v":0},{"$f":"$F84*'Schedule 4.1'!T$16","v":0},{"$f":"$F84*'Schedule 4.1'!U$16","v":0}]
[null,null,"P11",13,"Roddickton",0,{"$f":"$F85*'Schedule 4.1'!D$15","v":0},{"$f":"$F85*'Schedule 4.1'!E$15","v":0},{"$f":"$F85*'Schedule 4.1'!F$16","v":0},{"$f":"$F85*'Schedule 4.1'!I$16","v":0},{"$f":"$F85*'Schedule 4.1'!J$16","v":0},{"$f":"$F85*'Schedule 4.1'!K$16","v":0},{"$f":"$F85*'Schedule 4.1'!L$16","v":0},{"$f":"$F85*'Schedule 4.1'!M$16","v":0},{"$f":"$F85*'Schedule 4.1'!N$16","v":0},{"$f":"$F85*'Schedule 4.1'!O$16","v":0},{"$f":"$F85*'Schedule 4.1'!P$16","v":0},{"$f":"$F85*'Schedule 4.1'!Q$16","v":0},{"$f":"$F85*'Schedule 4.1'!R$16","v":0},{"$f":"$F85*'Schedule 4.1'!S$16","v":0},{"$f":"$F85*'Schedule 4.1'!T$16","v":0},{"$f":"$F85*'Schedule 4.1'!U$16","v":0}]
[null,null,{"$f":"+SNBVDetails!C17","v":"SNBV2"},14,"Diesel",{"$f":"SUM(G86:V86)","v":2474283.9408306614},{"$f":"+SNBVDetails!$D17*'Schedule 4.1'!D$16","v":2474283.9408306614},{"$f":"+SNBVDetails!$D17*'Schedule 4.1'!E$16","v":0},0,{"$f":"+SNBVDetails!J17","v":0},0,0,0,0,0,0,0,0,0,0,0,0]
[{"$f":"SUM(G87:V87)-F87","v":0},null," ",15,"Subtotal Production",{"$f":"SUM(F82:F86)","v":977638909.49747634},{"$f":"SUM(G82:G86)","v":546655056.72804511},{"$f":"SUM(H82:H86)","v":430983852.76943117},{"$f":"SUM(I82:I86)","v":0},{"$f":"SUM(J82:J86)","v":0},0,0,0,0,0,0,0,0,0,0,0,0]
[null,null,null,null,"Transmission"]
[null,null,{"$f":"+SNBVDetails!C34","v":"SNBV3"},{"$f":"MAX(D86:D88)+NoOne","v":16},"Lines",{"$f":"SUM(G89:V89)","v":489034203.76816273},{"$f":"SNBVDetails!E34*'Schedule 4.1'!D38","v":17812163.330271136},{"$f":"SNBVDetails!E34*'Schedule 4.1'!E38","v":21422702.185914349},{"$f":"+SNBVDetails!I34","v":378912672.1263836},{"$f":"+SNBVDetails!J34","v":55647741.189842157},0,{"$f":"+SNBVDetails!K34","v":0},0,0,0,0,0,0,0,0,0,{"$f":"+SNBVDetails!M34","v":15238924.9357515}]
[null,null,{"$f":"+SNBVDetails!C51","v":"SNBV4"},17,"Terminal Stations ",{"$f":"SUM(G90:V90)","v":204914183.0481666},{"$f":"+SNBVDetails!E51*G87/F87","v":0},{"$f":"+SNBVDetails!E51*H87/F87","v":0},{"$f":"+SNBVDetails!I51","v":169327326.79347447},{"$f":"+SNBVDetails!J51","v":13842730.88722604},0,0,0,0,0,0,0,0,0,0,0,{"$f":"+SNBVDetails!M51","v":21744125.367466103}]
[null,null,{"$f":"+SNBVDetails!C56","v":"SNBV5"},{"$f":"MAX(D89:D90)+NoOne","v":18},{"$f":"+$E$33","v":"Term Stns - Hydraulic"},{"$f":"SUM(G91:V91)","v":30603676.655456185},{"$f":"SNBVDetails!E56*'Schedule 4.1'!D38","v":13893706.016882233},{"$f":"SNBVDetails!E56*'Schedule 4.1'!E38","v":16709970.638573952},0,0,0,0,0,0,0,0,0,0,0,0,0,0]
[null,null,"T24",{"$f":"MAX(D90:D91)+NoOne","v":19},{"$f":"+E34","v":"Term Stns - Holyrood"},8479821.4230787531,{"$f":"$F92*'Schedule 4.1'!D39","v":5898563.7818935802},{"$f":"$F92*'Schedule 4.1'!E39","v":2581257.6411851724},0,0,0,0,0,0,0,0,0,0,0,0,0,0]
[null,null,{"$f":"+SNBVDetails!C61","v":"SNBV6"},{"$f":"MAX(D91:D92)+NoOne","v":20},{"$f":"+E35","v":"Term Stns - Gas Tur/Dsl"},{"$f":"SUM(G93:V93)","v":736251.99477849994},{"$f":"+SNBVDetails!$E61*'Schedule 4.1'!D$40","v":736251.99477849994},{"$f":"+SNBVDetails!$E61*'Schedule 4.1'!E$40","v":0},0,{"$f":"+SNBVDetails!J61","v":0},0,0,0,0,0,0,0,0,0,0,0,0]
[null,null,"T18",21,"Term Stns - Distribution",8471325.9336876068,0,0,0,0,{"$f":"F94","v":8471325.9336876068},0,0,0,0,0,0,0,0,0,0,0]
[{"$f":"SUM(G95:V95)-F95","v":0},null,null,22,"Subtotal Term Stns",{"$f":"SUM(F90:F94)","v":253205259.05516765},20528521.793554313,19291228.279759124,169327326.79347447,13842730.88722604,8471325.9336876068,0,0,0,0,0,0,0,0,0,0,21744125.367466103]
[{"$f":"SUM(G96:V96)-F96","v":0},null," ",23,"Subtotal Trans & Term Stns",{"$f":"SUM(F89,F95)","v":742239462.8233304},38340685.123825446,40713930.465673476,548239998.9198581,69490472.077068195,8471325.9336876068,0,0,0,0,0,0,0,0,0,0,36983050.303217605]
[null,null,null,null,"Distribution"]
[null,null,{"$f":"+SNBVDetails!C67","v":"SNBV7"},{"$f":"MAX(D95:D97)+NoOne","v":24},"Substations",{"$f":"SUM(G98:V98)","v":5512206.5902733272},{"$f":"+SNBVDetails!E67","v":0},0,0,{"$f":"+SNBVDetails!J67","v":0},{"$f":"+SNBVDetails!K67","v":5512206.5902733272},0,0,0,0,0,0,0,0,0,0,0]
[null,null,"D11",25,"Land & Land Improvements",{"$f":"DistnDetails!C29+DistnDetails!C38","v":2633930.277691911},{"$f":"$F99*'Schedule 4.1'!D$62","v":0},{"$f":"$F99*'Schedule 4.1'!E$62","v":0},0,{"$f":"$F99*'Schedule 4.1'!I$62","v":0},{"$f":"$F99*'Schedule 4.1'!J$62","v":0},{"$f":"$F99*'Schedule 4.1'!K$62","v":1985851.7328658162},{"$f":"$F99*'Schedule 4.1'!L$62","v":252989.00317230803},{"$f":"$F99*'Schedule 4.1'!M$62","v":0},{"$f":"$F99*'Schedule 4.1'!N$62","v":0},{"$f":"$F99*'Schedule 4.1'!O$62","v":230337.20278415759},{"$f":"$F99*'Schedule 4.1'!P$62","v":164752.33886962902},{"$f":"$F99*'Schedule 4.1'!Q$62","v":0},{"$f":"$F99*'Schedule 4.1'!R$62","v":0},{"$f":"$F99*'Schedule 4.1'!S$62","v":0},{"$f":"$F99*'Schedule 4.1'!T$62","v":0},{"$f":"$F99*'Schedule 4.1'!U$62","v":0}]
[null,null,"D11",26,"Poles",{"$f":"SUM(DistnDetails!C30,DistnDetails!C32)","v":73182433.853148967},{"$f":"$F100*'Schedule 4.1'!D$67","v":0},{"$f":"$F100*'Schedule 4.1'!E$67","v":0},0,{"$f":"$F100*'Schedule 4.1'!I$67","v":0},{"$f":"$F100*'Schedule 4.1'!J$67","v":0},{"$f":"$F100*'Schedule 4.1'!K$67","v":42324914.254100993},{"$f":"$F100*'Schedule 4.1'!L$67","v":14464654.415942602},{"$f":"$F100*'Schedule 4.1'!M$67","v":0},{"$f":"$F100*'Schedule 4.1'!N$67","v":0},{"$f":"$F100*'Schedule 4.1'!O$67","v":7491539.3886791524},{"$f":"$F100*'Schedule 4.1'!P$67","v":8901325.7944262158},{"$f":"$F100*'Schedule 4.1'!Q$67","v":0},{"$f":"$F100*'Schedule 4.1'!R$67","v":0},{"$f":"$F100*'Schedule 4.1'!S$67","v":0},{"$f":"$F100*'Schedule 4.1'!T$67","v":0},{"$f":"$F100*'Schedule 4.1'!U$67","v":0}]
[null,null,"D11",27,"Primary Conductor & Eqpt",{"$f":"DistnDetails!C33","v":15543312.118279973},{"$f":"$F101*'Schedule 4.1'!D$68","v":0},{"$f":"$F101*'Schedule 4.1'!E$68","v":0},0,{"$f":"$F101*'Schedule 4.1'!I$68","v":0},{"$f":"$F101*'Schedule 4.1'!J$68","v":0},{"$f":"$F101*'Schedule 4.1'!K$68","v":13786917.848914336},{"$f":"$F101*'Schedule 4.1'!L$68","v":1756394.2693656371},{"$f":"$F101*'Schedule 4.1'!M$68","v":0},{"$f":"$F101*'Schedule 4.1'!N$68","v":0},{"$f":"$F101*'Schedule 4.1'!O$68","v":0},{"$f":"$F101*'Schedule 4.1'!P$68","v":0},{"$f":"$F101*'Schedule 4.1'!Q$68","v":0},{"$f":"$F101*'Schedule 4.1'!R$68","v":0},{"$f":"$F101*'Schedule 4.1'!S$68","v":0},{"$f":"$F101*'Schedule 4.1'!T$68","v":0},{"$f":"$F101*'Schedule 4.1'!U$68","v":0}]
[null,null,"D05",28,"Submarine Conductor",3124951.8640935002,{"$f":"$F102*'Schedule 4.1'!D$69","v":0},{"$f":"$F102*'Schedule 4.1'!E$69","v":0},0,{"$f":"$F102*'Schedule 4.1'!I$69","v":0},{"$f":"$F102*'Schedule 4.1'!J$69","v":0},{"$f":"$F102*'Schedule 4.1'!K$69","v":3124951.8640935002},{"$f":"$F102*'Schedule 4.1'!L$69","v":0},{"$f":"$F102*'Schedule 4.1'!M$69","v":0},{"$f":"$F102*'Schedule 4.1'!N$69","v":0},{"$f":"$F102*'Schedule 4.1'!O$69","v":0},{"$f":"$F102*'Schedule 4.1'!P$69","v":0},{"$f":"$F102*'Schedule 4.1'!Q$69","v":0},{"$f":"$F102*'Schedule 4.1'!R$69","v":0},{"$f":"$F102*'Schedule 4.1'!S$69","v":0},{"$f":"$F102*'Schedule 4.1'!T$69","v":0},{"$f":"$F102*'Schedule 4.1'!U$69","v":0}]
[null,null,"D11",29,"Transformers",{"$f":"DistnDetails!C34","v":11570802.268016692},{"$f":"$F103*'Schedule 4.1'!D$70","v":0},{"$f":"$F103*'Schedule 4.1'!E$70","v":0},0,{"$f":"$F103*'Schedule 4.1'!I$70","v":0},{"$f":"$F103*'Schedule 4.1'!J$70","v":0},{"$f":"$F103*'Schedule 4.1'!K$70","v":0},{"$f":"$F103*'Schedule 4.1'!L$70","v":0},{"$f":"$F103*'Schedule 4.1'!M$70","v":4177059.6187540255},{"$f":"$F103*'Schedule 4.1'!N$70","v":7393742.6492626667},{"$f":"$F103*'Schedule 4.1'!O$70","v":0},{"$f":"$F103*'Schedule 4.1'!P$70","v":0},{"$f":"$F103*'Schedule 4.1'!Q$70","v":0},{"$f":"$F103*'Schedule 4.1'!R$70","v":0},{"$f":"$F103*'Schedule 4.1'!S$70","v":0},{"$f":"$F103*'Schedule 4.1'!T$70","v":0},{"$f":"$F103*'Schedule 4.1'!U$70","v":0}]
[null,null,"D11",30,"Secondary Conductor&Eqpt",{"$f":"DistnDetails!C35","v":1326559.6206093247},{"$f":"$F104*'Schedule 4.1'!D$71","v":0},{"$f":"$F104*'Schedule 4.1'!E$71","v":0},0,{"$f":"$F104*'Schedule 4.1'!I$71","v":0},{"$f":"$F104*'Schedule 4.1'!J$71","v":0},{"$f":"$F104*'Schedule 4.1'!K$71","v":0},{"$f":"$F104*'Schedule 4.1'!L$71","v":0},{"$f":"$F104*'Schedule 4.1'!M$71","v":0},{"$f":"$F104*'Schedule 4.1'!N$71","v":0},{"$f":"$F104*'Schedule 4.1'!O$71","v":773384.25881523627},{"$f":"$F104*'Schedule 4.1'!P$71","v":553175.36179408839},{"$f":"$F104*'Schedule 4.1'!Q$71","v":0},{"$f":"$F104*'Schedule 4.1'!R$71","v":0},{"$f":"$F104*'Schedule 4.1'!S$71","v":0},{"$f":"$F104*'Schedule 4.1'!T$71","v":0},{"$f":"$F104*'Schedule 4.1'!U$71","v":0}]
[null,null,"D11",31,"Services",{"$f":"DistnDetails!C36","v":2741583.4469324951},{"$f":"$F105*'Schedule 4.1'!D$72","v":0},{"$f":"$F105*'Schedule 4.1'!E$72","v":0},0,{"$f":"$F105*'Schedule 4.1'!I$72","v":0},{"$f":"$F105*'Schedule 4.1'!J$72","v":0},{"$f":"$F105*'Schedule 4.1'!K$72","v":0},{"$f":"$F105*'Schedule 4.1'!L$72","v":0},{"$f":"$F105*'Schedule 4.1'!M$72","v":0},{"$f":"$F105*'Schedule 4.1'!N$72","v":0},{"$f":"$F105*'Schedule 4.1'!O$72","v":0},{"$f":"$F105*'Schedule 4.1'!P$72","v":0},{"$f":"$F105*'Schedule 4.1'!Q$72","v":2741583.4469324951},{"$f":"$F105*'Schedule 4.1'!R$72","v":0},{"$f":"$F105*'Schedule 4.1'!S$72","v":0},{"$f":"$F105*'Schedule 4.1'!T$72","v":0},{"$f":"$F105*'Schedule 4.1'!U$72","v":0}]
[null,null,{"$f":"+SystemizedPlant!C31","v":"SMET02"},32,"Meters",{"$f":"SUM((IF(VLOOKUP($C106,AllocatedMeters,3,FALSE)=\"\",0,VLOOKUP($C106,AllocatedMeters,3,FALSE))))","v":4855652.1001684666},{"$f":"$F106*'Schedule 4.1'!D$73","v":0},{"$f":"$F106*'Schedule 4.1'!E$73","v":0},0,{"$f":"$F106*'Schedule 4.1'!I$73","v":0},{"$f":"$F106*'Schedule 4.1'!J$73","v":0},{"$f":"$F106*'Schedule 4.1'!K$73","v":0},{"$f":"$F106*'Schedule 4.1'!L$73","v":0},{"$f":"$F106*'Schedule 4.1'!M$73","v":0},{"$f":"$F106*'Schedule 4.1'!N$73","v":0},{"$f":"$F106*'Schedule 4.1'!O$73","v":0},{"$f":"$F106*'Schedule 4.1'!P$73","v":0},{"$f":"$F106*'Schedule 4.1'!Q$73","v":0},{"$f":"$F106*'Schedule 4.1'!R$73","v":4855652.1001684666},{"$f":"$F106*'Schedule 4.1'!S$73","v":0},{"$f":"$F106*'Schedule 4.1'!T$73","v":0},{"$f":"$F106*'Schedule 4.1'!U$73","v":0}]
[null,null,"D11",33,"Street Lighting",{"$f":"DistnDetails!C37","v":982628.94136499939},{"$f":"$F107*'Schedule 4.1'!D$74","v":0},{"$f":"$F107*'Schedule 4.1'!E$74","v":0},0,{"$f":"$F107*'Schedule 4.1'!I$74","v":0},{"$f":"$F107*'Schedule 4.1'!J$74","v":0},{"$f":"$F107*'Schedule 4.1'!K$74","v":0},{"$f":"$F107*'Schedule 4.1'!L$74","v":0},{"$f":"$F107*'Schedule 4.1'!M$74","v":0},{"$f":"$F107*'Schedule 4.1'!N$74","v":0},{"$f":"$F107*'Schedule 4.1'!O$74","v":0},{"$f":"$F107*'Schedule 4.1'!P$74","v":0},{"$f":"$F107*'Schedule 4.1'!Q$74","v":0},{"$f":"$F107*'Schedule 4.1'!R$74","v":0},{"$f":"$F107*'Schedule 4.1'!S$74","v":982628.94136499939},{"$f":"$F107*'Schedule 4.1'!T$74","v":0},{"$f":"$F107*'Schedule 4.1'!U$74","v":0}]
[{"$f":"SUM(G108:V108)-F108","v":0},null," ",34,"Subtotal Distribution",{"$f":"SUM(F98:F107)","v":121474061.08057967},{"$f":"SUM(G98:G107)","v":0},{"$f":"SUM(H98:H107)","v":0},{"$f":"SUM(I98:I107)","v":0},{"$f":"SUM(J98:J107)","v":0},5512206.5902733272,61222635.699974641,16474037.688480547,4177059.6187540255,7393742.6492626667,8495260.8502785452,9619253.4950899333,2741583.4469324951,4855652.1001684666,982628.94136499939,0,0]
[{"$f":"SUM(G109:V109)-F109","v":0},null," ",35,"Subttl Prod, Trans, & Dist",{"$f":"SUM(F108,F96,F87)","v":1841352433.4013863},584995741.85187054,471697783.23510468,548239998.9198581,69490472.077068195,13983532.523960933,61222635.699974641,16474037.688480547,4177059.6187540255,7393742.6492626667,8495260.8502785452,9619253.4950899333,2741583.4469324951,4855652.1001684666,982628.94136499939,0,36983050.303217605]
[null,{"$f":"IF(OverheadAlloc=\"Expenses\",\"E-GTDC\",\"L-GTDC\")","v":"E-GTDC"},{"$f":"+SystemizedPlant!C109","v":"SGPLT02"},36,"General",{"$f":"SystemizedPlant!E109","v":82838998.539150015},{"$f":"$F110*VLOOKUP($B110,RatiosIslInt,G$552,FALSE)","v":39271022.078694917},19148581.048589867,9307266.7623646967,1472144.9852245625,792855.57082261227,4750268.5089783818,1238277.4794546529,307524.74777564936,544344.35963612178,665460.87496616913,744544.53328209836,283784.3773906469,349754.62181290874,106297.64653709653,2996442.1682942132,860428.77532541368]
[null,null,"G06",37,"NLSO",1422468.8956818336,{"$f":"$F111*(G$109/SUM($G$109:$V$109))","v":451916.88011265802},364392.72169889166,423522.58681494032,53682.300727885238,10802.462204558182,47295.288731883113,12726.410095685156,3226.8333184378575,5711.7631315285071,6562.7003831648663,7430.9994372823548,2117.9091560293182,3751.054906953922,759.09373986950936,0,28569.891222065737]
[null,null,{"$f":"+SNBVDetails!C72","v":"SNBV8"},38,"Telecontrol - Custmr & Spec",{"$f":"SUM(G112:V112)","v":0},0,0,0,0,0,0,0,0,0,0,0,0,0,0,{"$f":"+SNBVDetails!L72","v":0},{"$f":"+SNBVDetails!M72","v":0}]
[null,null,{"$f":"+SNBVDetails!C79","v":"SNBV9"},39,"Feasibility Studies",{"$f":"SUM(G113:V113)","v":9794.4748540000492},{"$f":"+SNBVDetails!E79","v":9794.4654045000498},0,0,0,{"$f":"+SNBVDetails!K79","v":9.4495000000000013E-3},0,0,0,0,0,0,0,0,0,0,0]
[null,null,"G10",40,"Feasibility Studies - General",0,{"$f":"$F114*(G$109/SUM($G$109:$V$109))","v":0},0,0,0,0,0,0,0,0,0,0,0,0,0,0,0]
[null,null,{"$f":"+SystemizedPlant!C68","v":"SCS2_02"},{"$f":"MAX(D113:D114)+NoOne","v":41},"Software - General",{"$f":"+SystemizedPlant!E68","v":1499144.7801275149},476276.72839036782,384034.72182040499,446351.88665083767,56575.958297400415,11384.751452667553,49844.664753137171,13412.406642159636,3400.7705478571474,6019.6464822180542,6916.4521296942539,7831.555439525112,2232.0716225740184,3953.2494529774685,800.01145979882665,0,30109.904985894831]
[{"$f":"SUM(G116:V116)-F116","v":0},null," ",{"$f":"MAX(D113:D115)+NoOne","v":42},"Total Net Book Value",{"$f":"SUM(F109:F115)","v":1927122840.0911996},625204752.00447297,491594791.72721386,558417140.15568864,71072875.321318045,14798575.317890272,66070044.162438042,17738453.984673046,4491211.9703959702,7949818.4185125344,9174200.8777575716,10379060.583248837,3029717.8051017453,5213111.026341307,1090485.6931017642,2996442.1682942132,37902158.874750979]
[]
[]
[]
[]
[null,null,null,null,null,null,null,null,null,null,null,null,null,null,null,null,null,null,null,null,null,"Schedule 2.5A"]
[null,null,null,null,null,null,null,null,null,null,null,null,null,null,null,null,null,null,null,null,null,"Page 1 of 1"]
[null,null,null,{"$f":"D5","v":"NEWFOUNDLAND AND LABRADOR HYDRO"}]
[null,null,null,{"$f":"D6","v":"2019 Test Year Cost of Service Study"}]
[null,null,null,{"$f":"$B$1","v":"Island Interconnected"}]
[null,null,null,"Functional Classification of Depreciation Expense"]
[null,null,null,null,{"$f":"MAX(D127)+NoOne","v":1},2,3,4,5,6,7,8,9,10,11,12,13,14,15,16,17,18]
[null,null,null,null,null,null,null,null,null,"Rural Prod &","Distribution",null,null,null,null,null,null,null,null,null,null,"Specifically"]
[null,null,null,"Line",null,"Total","Production","Production","Transmission","Transmission","Substations","Primary Lines",null,"Line Transformers",null,"Secondary Lines",null,"Services","Meters","Street Lighting","Accounting","Assigned"]
[null,null,null,"No.","Description ","Amount","Demand","Energy","Demand","Demand","Demand","Demand","Customer","Demand","Customer","Demand","Customer","Customer","Customer","Customer","Customer","Customer"]
[null,null,null,null,"Production","($)","($)","($)","($)","($)","($)","($)","($)","($)","($)","($)","($)","($)","($)","($)","($)","($)"]
[null,null,null,null,"Hydraulic"]
[null,null,"P01",{"$f":"MAX(D130:D132)+NoOne","v":1},"Bay D'Espoir",5472416.6420384161,{"$f":"$F133*'Schedule 4.1'!$D$13","v":2484412.2123744958},{"$f":"$F133*'Schedule 4.1'!$E$13","v":2988004.4296639203},0,0,0,0,0,0,0,0,0,0,0,0,0,0]
[null,null,"P10",2,"Upper Salmon",3298636.2274525813,{"$f":"$F134*'Schedule 4.1'!$D$13","v":1497541.7011763772},{"$f":"$F134*'Schedule 4.1'!$E$13","v":1801094.526276204},0,0,0,0,0,0,0,0,0,0,0,0,0,0]
[null,null,"P05",3,"Hinds Lake",1545026.5391161679,{"$f":"$F135*'Schedule 4.1'!$D$13","v":701423.71338033129},{"$f":"$F135*'Schedule 4.1'!$E$13","v":843602.82573583664},0,0,0,0,0,0,0,0,0,0,0,0,0,0]
[null,null,"P02",4,"Cat Arm",5820196.7010496622,{"$f":"$F136*'Schedule 4.1'!$D$13","v":2642300.2319361824},{"$f":"$F136*'Schedule 4.1'!$E$13","v":3177896.4691134798},0,0,0,0,0,0,0,0,0,0,0,0,0,0]
[null,null,"P08",5,"Paradise River",442192.23957899999,{"$f":"$F137*'Schedule 4.1'!$D$13","v":200750.02911658501},{"$f":"$F137*'Schedule 4.1'!$E$13","v":241442.21046241498},0,0,0,0,0,0,0,0,0,0,0,0,0,0]
[null,null,"P09",6,"Granite Canal",2575860.8412320009,{"$f":"$F138*'Schedule 4.1'!$D$13","v":1169410.2532643201},{"$f":"$F138*'Schedule 4.1'!$E$13","v":1406450.5879676808},0,0,0,0,0,0,0,0,0,0,0,0,0,0]
[null,null,"P12",7,"Exploits",0,{"$f":"$F139*'Schedule 4.1'!$D$13","v":0},{"$f":"$F139*'Schedule 4.1'!$E$13","v":0},0,0,0,0,0,0,0,0,0,0,0,0,0,0]
[null,null,"P13",8,"Star Lake",0,{"$f":"$F140*'Schedule 4.1'!$D$13","v":0},{"$f":"$F140*'Schedule 4.1'!$E$13","v":0},0,0,0,0,0,0,0,0,0,0,0,0,0,0]
[null,null,"P07",9,"Other Small Hydraulic",102956.61132800001,{"$f":"$F141*'Schedule 4.1'!D$13","v":46741.079720256792},{"$f":"$F141*'Schedule 4.1'!E$13","v":56215.531607743222},0,{"$f":"+SDEPDetails!J14","v":0},0,0,0,0,0,0,0,0,0,0,0,0]
[{"$f":"SUM(G142:V142)-F142","v":0},null," ",{"$f":"MAX(D137:D141)+NoOne","v":10},"Subtotal Hydraulic",{"$f":"SUM(F133:F141)","v":19257285.801795829},{"$f":"SUM(G133:G141)","v":8742579.2209685482},{"$f":"SUM(H133:H141)","v":10514706.580827281},{"$f":"SUM(I133:I141)","v":0},{"$f":"SUM(J133:J141)","v":0},0,0,0,0,0,0,0,0,0,0,0,0]
[null,null,{"$f":"SDEPDetails!C14","v":"SDEP1"},{"$f":"MAX(D138:D142)+NoOne","v":11},"Holyrood",{"$f":"SUM(G143:V143)","v":19019373.447862916},{"$f":"(SDEPDetails!E14+SDEPDetails!I14)*'Schedule 4.1'!$D$15","v":13229876.170333443},{"$f":"(SDEPDetails!E14+SDEPDetails!I14)*'Schedule 4.1'!$E$15","v":5789497.2775294716},0,0,0,0,0,0,0,0,0,0,0,0,0,0]
[null,null,"P04",12,"Gas Turbines",5682461.723278638,{"$f":"$F144*'Schedule 4.1'!D$16","v":5682461.723278638},{"$f":"$F144*'Schedule 4.1'!E$16","v":0},{"$f":"$F144*'Schedule 4.1'!F$16","v":0},{"$f":"$F144*'Schedule 4.1'!I$16","v":0},{"$f":"$F144*'Schedule 4.1'!J$16","v":0},{"$f":"$F144*'Schedule 4.1'!K$16","v":0},{"$f":"$F144*'Schedule 4.1'!L$16","v":0},{"$f":"$F144*'Schedule 4.1'!M$16","v":0},{"$f":"$F144*'Schedule 4.1'!N$16","v":0},{"$f":"$F144*'Schedule 4.1'!O$16","v":0},{"$f":"$F144*'Schedule 4.1'!P$16","v":0},{"$f":"$F144*'Schedule 4.1'!Q$16","v":0},{"$f":"$F144*'Schedule 4.1'!R$16","v":0},{"$f":"$F144*'Schedule 4.1'!S$16","v":0},{"$f":"$F144*'Schedule 4.1'!T$16","v":0},{"$f":"$F144*'Schedule 4.1'!U$16","v":0}]
[null,null,"P11",13,"Roddickton",0,{"$f":"$F145*'Schedule 4.1'!D$15","v":0},{"$f":"$F145*'Schedule 4.1'!E$15","v":0},{"$f":"$F145*'Schedule 4.1'!F$16","v":0},{"$f":"$F145*'Schedule 4.1'!I$16","v":0},{"$f":"$F145*'Schedule 4.1'!J$16","v":0},{"$f":"$F145*'Schedule 4.1'!K$16","v":0},{"$f":"$F145*'Schedule 4.1'!L$16","v":0},{"$f":"$F145*'Schedule 4.1'!M$16","v":0},{"$f":"$F145*'Schedule 4.1'!N$16","v":0},{"$f":"$F145*'Schedule 4.1'!O$16","v":0},{"$f":"$F145*'Schedule 4.1'!P$16","v":0},{"$f":"$F145*'Schedule 4.1'!Q$16","v":0},{"$f":"$F145*'Schedule 4.1'!R$16","v":0},{"$f":"$F145*'Schedule 4.1'!S$16","v":0},{"$f":"$F145*'Schedule 4.1'!T$16","v":0},{"$f":"$F145*'Schedule 4.1'!U$16","v":0}]
[null,null,{"$f":"+SDEPDetails!C18","v":"SDEP2"},14,"Diesel",{"$f":"SUM(G146:V146)","v":100419.76356500012},{"$f":"(SDEPDetails!$E18+SDEPDetails!$I18)*'Schedule 4.1'!D$16","v":100419.76356500012},{"$f":"+SDEPDetails!$E18*'Schedule 4.1'!E$16","v":0},0,{"$f":"+SDEPDetails!J18","v":0},0,0,0,0,0,0,0,0,0,0,0,0]
[{"$f":"SUM(G147:V147)-F147","v":0},null," ",15,"Subtotal Production",{"$f":"SUM(F142:F146)","v":44059540.736502387},{"$f":"SUM(G142:G146)","v":27755336.878145628},{"$f":"SUM(H142:H146)","v":16304203.858356752},{"$f":"SUM(I142:I146)","v":0},{"$f":"SUM(J142:J146)","v":0},0,0,0,0,0,0,0,0,0,0,0,0]
[null,null,null,null,"Transmission"]
[null,null,{"$f":"+SDEPDetails!C35","v":"SDEP3"},{"$f":"MAX(D146:D148)+NoOne","v":16},"Lines",{"$f":"SUM(G149:V149)","v":15046407.998311},{"$f":"SDEPDetails!E35*'Schedule 4.1'!D38","v":731314.74757755233},{"$f":"SDEPDetails!E35*'Schedule 4.1'!E38","v":879552.79496544728},{"$f":"+SDEPDetails!I35","v":10565682.851745006},{"$f":"+SDEPDetails!J35","v":2184096.1897239946},0,{"$f":"+SDEPDetails!K35","v":0},0,0,0,0,0,0,0,0,0,{"$f":"+SDEPDetails!M35","v":685761.41429899994}]
[null,null,{"$f":"+SDEPDetails!C52","v":"SDEP4"},17,"Terminal Stations",{"$f":"SUM(G150:V150)","v":5936930.8411033321},{"$f":"+SDEPDetails!E52*G147/F147","v":0},{"$f":"+SDEPDetails!E52*H147/F147","v":0},{"$f":"+SDEPDetails!I52","v":4727998.3763327487},{"$f":"+SDEPDetails!J52","v":549702.95890991739},0,0,0,0,0,0,0,0,0,0,0,{"$f":"+SDEPDetails!M52","v":659229.50586066628}]
[null,null,{"$f":"+SDEPDetails!C58","v":"SDEP5"},{"$f":"MAX(D149:D150)+NoOne","v":18},{"$f":"+E33","v":"Term Stns - Hydraulic"},{"$f":"SUM(G151:V151)","v":1054104.6033237476},{"$f":"SDEPDetails!E58*'Schedule 4.1'!D38","v":478550.98047545698},{"$f":"SDEPDetails!E58*'Schedule 4.1'!E38","v":575553.6228482906},0,0,0,0,0,0,0,0,0,0,0,0,0,0]
[null,null,"T24",{"$f":"MAX(D150:D151)+NoOne","v":19},{"$f":"+E34","v":"Term Stns - Holyrood"},261405.80813050023,{"$f":"$F152*'Schedule 4.1'!D39","v":181833.88013557595},{"$f":"$F152*'Schedule 4.1'!E39","v":79571.927994924277},0,0,0,0,0,0,0,0,0,0,0,0,0,0]
[null,null,{"$f":"+SDEPDetails!C64","v":"SDEP6"},{"$f":"MAX(D151:D152)+NoOne","v":20},{"$f":"+E35","v":"Term Stns - Gas Tur/Dsl"},{"$f":"SUM(G153:V153)","v":8214.0834809999997},{"$f":"+SDEPDetails!$E64*'Schedule 4.1'!D$40","v":8214.0834809999997},{"$f":"+SDEPDetails!$E64*'Schedule 4.1'!E$40","v":0},0,{"$f":"+SDEPDetails!J64","v":0},0,0,0,0,0,0,0,0,0,0,0,0]
[null,null,"T18",21,"Term Stns - Distribution",308476.69714675052,0,0,0,0,{"$f":"F154","v":308476.69714675052},0,0,0,0,0,0,0,0,0,0,0]
[{"$f":"SUM(G155:V155)-F155","v":0},null,null,22,"Subtotal Term Stns",{"$f":"SUM(F150:F154)","v":7569132.0331853293},668598.94409203297,655125.55084321485,4727998.3763327487,549702.95890991739,308476.69714675052,0,0,0,0,0,0,0,0,0,0,659229.50586066628]
[{"$f":"SUM(G156:V156)-F156","v":0},null," ",23,"Subtotal Transmission",{"$f":"SUM(F155,F149)","v":22615540.031496331},1399913.6916695852,1534678.345808662,15293681.228077754,2733799.1486339122,308476.69714675052,0,0,0,0,0,0,0,0,0,0,1344990.9201596663]
[null,null,null,null,"Distribution"]
[null,null,{"$f":"+SDEPDetails!C70","v":"SDEP7"},{"$f":"MAX(D155:D157)+NoOne","v":24},"Substations",{"$f":"SUM(G158:V158)","v":230092.47203999967},{"$f":"+SDEPDetails!E70","v":0},0,0,{"$f":"+SDEPDetails!J70","v":0},{"$f":"+SDEPDetails!K70","v":230092.47203999967},0,0,0,0,0,0,0,0,0,0,0]
[null,null,"D11",25,"Land & Land Improvements",{"$f":"DistnDetails!C45+DistnDetails!C54","v":88349.708554699784},{"$f":"$F159*'Schedule 4.1'!D$62","v":0},{"$f":"$F159*'Schedule 4.1'!E$62","v":0},0,{"$f":"$F159*'Schedule 4.1'!I$62","v":0},{"$f":"$F159*'Schedule 4.1'!J$62","v":0},{"$f":"$F159*'Schedule 4.1'!K$62","v":66611.262764815896},{"$f":"$F159*'Schedule 4.1'!L$62","v":8485.989506678914},{"$f":"$F159*'Schedule 4.1'!M$62","v":0},{"$f":"$F159*'Schedule 4.1'!N$62","v":0},{"$f":"$F159*'Schedule 4.1'!O$62","v":7726.1820131084951},{"$f":"$F159*'Schedule 4.1'!P$62","v":5526.2742700964709},{"$f":"$F159*'Schedule 4.1'!Q$62","v":0},{"$f":"$F159*'Schedule 4.1'!R$62","v":0},{"$f":"$F159*'Schedule 4.1'!S$62","v":0},{"$f":"$F159*'Schedule 4.1'!T$62","v":0},{"$f":"$F159*'Schedule 4.1'!U$62","v":0}]
[null,null,"D11",26,"Poles",{"$f":"SUM(DistnDetails!C46,DistnDetails!C48)","v":4135255.7581152963},{"$f":"$F160*'Schedule 4.1'!D$67","v":0},{"$f":"$F160*'Schedule 4.1'!E$67","v":0},0,{"$f":"$F160*'Schedule 4.1'!I$67","v":0},{"$f":"$F160*'Schedule 4.1'!J$67","v":0},{"$f":"$F160*'Schedule 4.1'!K$67","v":2391616.8971944652},{"$f":"$F160*'Schedule 4.1'!L$67","v":817341.57110300462},{"$f":"$F160*'Schedule 4.1'!M$67","v":0},{"$f":"$F160*'Schedule 4.1'!N$67","v":0},{"$f":"$F160*'Schedule 4.1'!O$67","v":423317.86144674657},{"$f":"$F160*'Schedule 4.1'!P$67","v":502979.42837107979},{"$f":"$F160*'Schedule 4.1'!Q$67","v":0},{"$f":"$F160*'Schedule 4.1'!R$67","v":0},{"$f":"$F160*'Schedule 4.1'!S$67","v":0},{"$f":"$F160*'Schedule 4.1'!T$67","v":0},{"$f":"$F160*'Schedule 4.1'!U$67","v":0}]
[null,null,"D11",27,"Primary Conductor & Eqpt",{"$f":"DistnDetails!C49","v":688971.11568899825},{"$f":"$F161*'Schedule 4.1'!D$68","v":0},{"$f":"$F161*'Schedule 4.1'!E$68","v":0},0,{"$f":"$F161*'Schedule 4.1'!I$68","v":0},{"$f":"$F161*'Schedule 4.1'!J$68","v":0},{"$f":"$F161*'Schedule 4.1'!K$68","v":611117.37961614144},{"$f":"$F161*'Schedule 4.1'!L$68","v":77853.736072856802},{"$f":"$F161*'Schedule 4.1'!M$68","v":0},{"$f":"$F161*'Schedule 4.1'!N$68","v":0},{"$f":"$F161*'Schedule 4.1'!O$68","v":0},{"$f":"$F161*'Schedule 4.1'!P$68","v":0},{"$f":"$F161*'Schedule 4.1'!Q$68","v":0},{"$f":"$F161*'Schedule 4.1'!R$68","v":0},{"$f":"$F161*'Schedule 4.1'!S$68","v":0},{"$f":"$F161*'Schedule 4.1'!T$68","v":0},{"$f":"$F161*'Schedule 4.1'!U$68","v":0}]
[null,null,"D05",28,"Submarine Conductor",200017.51727099999,{"$f":"$F162*'Schedule 4.1'!D$69","v":0},{"$f":"$F162*'Schedule 4.1'!E$69","v":0},0,{"$f":"$F162*'Schedule 4.1'!I$69","v":0},{"$f":"$F162*'Schedule 4.1'!J$69","v":0},{"$f":"$F162*'Schedule 4.1'!K$69","v":200017.51727099999},{"$f":"$F162*'Schedule 4.1'!L$69","v":0},{"$f":"$F162*'Schedule 4.1'!M$69","v":0},{"$f":"$F162*'Schedule 4.1'!N$69","v":0},{"$f":"$F162*'Schedule 4.1'!O$69","v":0},{"$f":"$F162*'Schedule 4.1'!P$69","v":0},{"$f":"$F162*'Schedule 4.1'!Q$69","v":0},{"$f":"$F162*'Schedule 4.1'!R$69","v":0},{"$f":"$F162*'Schedule 4.1'!S$69","v":0},{"$f":"$F162*'Schedule 4.1'!T$69","v":0},{"$f":"$F162*'Schedule 4.1'!U$69","v":0}]
[null,null,"D11",29,"Transformers",{"$f":"DistnDetails!C50","v":685733.04660000245},{"$f":"$F163*'Schedule 4.1'!D$70","v":0},{"$f":"$F163*'Schedule 4.1'!E$70","v":0},0,{"$f":"$F163*'Schedule 4.1'!I$70","v":0},{"$f":"$F163*'Schedule 4.1'!J$70","v":0},{"$f":"$F163*'Schedule 4.1'!K$70","v":0},{"$f":"$F163*'Schedule 4.1'!L$70","v":0},{"$f":"$F163*'Schedule 4.1'!M$70","v":247549.62982260087},{"$f":"$F163*'Schedule 4.1'!N$70","v":438183.41677740158},{"$f":"$F163*'Schedule 4.1'!O$70","v":0},{"$f":"$F163*'Schedule 4.1'!P$70","v":0},{"$f":"$F163*'Schedule 4.1'!Q$70","v":0},{"$f":"$F163*'Schedule 4.1'!R$70","v":0},{"$f":"$F163*'Schedule 4.1'!S$70","v":0},{"$f":"$F163*'Schedule 4.1'!T$70","v":0},{"$f":"$F163*'Schedule 4.1'!U$70","v":0}]
[null,null,"D11",30,"Secondary Conductor&Eqpt",{"$f":"DistnDetails!C51","v":44238.475149333077},{"$f":"$F164*'Schedule 4.1'!D$71","v":0},{"$f":"$F164*'Schedule 4.1'!E$71","v":0},0,{"$f":"$F164*'Schedule 4.1'!I$71","v":0},{"$f":"$F164*'Schedule 4.1'!J$71","v":0},{"$f":"$F164*'Schedule 4.1'!K$71","v":0},{"$f":"$F164*'Schedule 4.1'!L$71","v":0},{"$f":"$F164*'Schedule 4.1'!M$71","v":0},{"$f":"$F164*'Schedule 4.1'!N$71","v":0},{"$f":"$F164*'Schedule 4.1'!O$71","v":25791.031012061183},{"$f":"$F164*'Schedule 4.1'!P$71","v":18447.444137271894},{"$f":"$F164*'Schedule 4.1'!Q$71","v":0},{"$f":"$F164*'Schedule 4.1'!R$71","v":0},{"$f":"$F164*'Schedule 4.1'!S$71","v":0},{"$f":"$F164*'Schedule 4.1'!T$71","v":0},{"$f":"$F164*'Schedule 4.1'!U$71","v":0}]
[null,null,"D11",31,"Services",{"$f":"DistnDetails!C52","v":110743.35954500077},{"$f":"$F165*'Schedule 4.1'!D$72","v":0},{"$f":"$F165*'Schedule 4.1'!E$72","v":0},0,{"$f":"$F165*'Schedule 4.1'!I$72","v":0},{"$f":"$F165*'Schedule 4.1'!J$72","v":0},{"$f":"$F165*'Schedule 4.1'!K$72","v":0},{"$f":"$F165*'Schedule 4.1'!L$72","v":0},{"$f":"$F165*'Schedule 4.1'!M$72","v":0},{"$f":"$F165*'Schedule 4.1'!N$72","v":0},{"$f":"$F165*'Schedule 4.1'!O$72","v":0},{"$f":"$F165*'Schedule 4.1'!P$72","v":0},{"$f":"$F165*'Schedule 4.1'!Q$72","v":110743.35954500077},{"$f":"$F165*'Schedule 4.1'!R$72","v":0},{"$f":"$F165*'Schedule 4.1'!S$72","v":0},{"$f":"$F165*'Schedule 4.1'!T$72","v":0},{"$f":"$F165*'Schedule 4.1'!U$72","v":0}]
[null,null,{"$f":"+SystemizedPlant!C40","v":"SMET03"},32,"Meters",{"$f":"SUM((IF(VLOOKUP($C166,AllocatedMeters,3,FALSE)=\"\",0,VLOOKUP($C166,AllocatedMeters,3,FALSE))))","v":339056.72210774937},{"$f":"$F166*'Schedule 4.1'!D$73","v":0},{"$f":"$F166*'Schedule 4.1'!E$73","v":0},0,{"$f":"$F166*'Schedule 4.1'!I$73","v":0},{"$f":"$F166*'Schedule 4.1'!J$73","v":0},{"$f":"$F166*'Schedule 4.1'!K$73","v":0},{"$f":"$F166*'Schedule 4.1'!L$73","v":0},{"$f":"$F166*'Schedule 4.1'!M$73","v":0},{"$f":"$F166*'Schedule 4.1'!N$73","v":0},{"$f":"$F166*'Schedule 4.1'!O$73","v":0},{"$f":"$F166*'Schedule 4.1'!P$73","v":0},{"$f":"$F166*'Schedule 4.1'!Q$73","v":0},{"$f":"$F166*'Schedule 4.1'!R$73","v":339056.72210774937},{"$f":"$F166*'Schedule 4.1'!S$73","v":0},{"$f":"$F166*'Schedule 4.1'!T$73","v":0},{"$f":"$F166*'Schedule 4.1'!U$73","v":0}]
[null,null,"D11",33,"Street Lighting",{"$f":"DistnDetails!C53","v":131397.17908999973},{"$f":"$F167*'Schedule 4.1'!D$74","v":0},{"$f":"$F167*'Schedule 4.1'!E$74","v":0},0,{"$f":"$F167*'Schedule 4.1'!I$74","v":0},{"$f":"$F167*'Schedule 4.1'!J$74","v":0},{"$f":"$F167*'Schedule 4.1'!K$74","v":0},{"$f":"$F167*'Schedule 4.1'!L$74","v":0},{"$f":"$F167*'Schedule 4.1'!M$74","v":0},{"$f":"$F167*'Schedule 4.1'!N$74","v":0},{"$f":"$F167*'Schedule 4.1'!O$74","v":0},{"$f":"$F167*'Schedule 4.1'!P$74","v":0},{"$f":"$F167*'Schedule 4.1'!Q$74","v":0},{"$f":"$F167*'Schedule 4.1'!R$74","v":0},{"$f":"$F167*'Schedule 4.1'!S$74","v":131397.17908999973},{"$f":"$F167*'Schedule 4.1'!T$74","v":0},{"$f":"$F167*'Schedule 4.1'!U$74","v":0}]
[{"$f":"SUM(G168:V168)-F168","v":0},null," ",34,"Subtotal Distribution",{"$f":"SUM(F158:F167)","v":6653855.3541620802},{"$f":"SUM(G158:G167)","v":0},{"$f":"SUM(H158:H167)","v":0},{"$f":"SUM(I158:I167)","v":0},{"$f":"SUM(J158:J167)","v":0},230092.47203999967,3269363.0568464221,903681.29668254033,247549.62982260087,438183.41677740158,456835.07447191625,526953.14677844814,110743.35954500077,339056.72210774937,131397.17908999973,0,0]
[{"$f":"SUM(G169:V169)-F169","v":0},null," ",35,"Subttl Prod, Trans, & Dist",{"$f":"SUM(F168,F156,F147)","v":73328936.122160792},29155250.569815211,17838882.204165414,15293681.228077754,2733799.1486339122,538569.16918675019,3269363.0568464221,903681.29668254033,247549.62982260087,438183.41677740158,456835.07447191625,526953.14677844814,110743.35954500077,339056.72210774937,131397.17908999973,0,1344990.9201596663]
[null,{"$f":"IF(OverheadAlloc=\"Expenses\",\"E-GTDC\",\"L-GTDC\")","v":"E-GTDC"},{"$f":"+SystemizedPlant!C119","v":"SGPLT03"},36,"General",{"$f":"+SystemizedPlant!E119","v":5541891.5914148474},{"$f":"$F170*VLOOKUP($B170,RatiosIslInt,G$552,FALSE)","v":2627213.6419096221},1281031.4244751944,622651.94315485319,98485.834677296531,53041.679627158592,317790.81798566796,82840.204158007982,20573.266745184024,36416.391828732943,44519.032006979891,49809.693033407479,18985.046687797159,23398.426246876828,7111.264548336092,200460.62783801684,57562.296491714835,null,null," "]
[null,null,"G06",37,"NLSO",118423.31843433352,{"$f":"$F171*(G$169/SUM($G$169:$V$169))","v":47084.571314523397},28809.086010154373,24698.68755614604,4414.9770095511349,869.76781055796903,5279.8914430365412,1459.4093903381508,399.78281686707498,707.6488088034929,737.77049493849984,851.00839588015288,178.84612576456215,547.56313527550139,212.20122374100066,0,2172.1068987556168]
[null,null,{"$f":"+SDEPDetails!C75","v":"SDEP8"},38,"Telecontrol - Custmr & Spec",{"$f":"SUM(G172:V172)","v":0},0,0,0,0,0,0,0,0,0,0,0,0,0,0,{"$f":"+SDEPDetails!L75","v":0},{"$f":"+SDEPDetails!M75","v":0}]
[null,null,{"$f":"+SDEPDetails!C82","v":"SDEP9"},39,"Feasibility Studies",{"$f":"SUM(G173:V173)","v":118091.676764},{"$f":"+SDEPDetails!E82","v":118091.676397},0,{"$f":"+SDEPDetails!F82","v":0},0,{"$f":"+SDEPDetails!K82","v":3.6700000000000003E-4},0,0,0,0,0,0,0,0,0,0,0]
[null,null,"G10",{"$f":"MAX(D170:D173)+NoOne","v":40},"Feasibility Studies - General",0,{"$f":"$F174*(G$169/SUM($G$169:$V$169))","v":0},0,0,0,0,0,0,0,0,0,0,0,0,0,0,0]
[null,null,{"$f":"+SystemizedPlant!C74","v":"SCS2_03"},{"$f":"MAX(D173:D174)+NoOne","v":41},"Software - General",{"$f":"+SystemizedPlant!E74","v":790746.41222784808},314397.16713301686,192366.51787228117,164920.21022522528,29480.06589012151,5807.6887623391094,35255.347263797164,9744.8944569260384,2669.4643613054695,4725.1737586542804,4926.3048834733981,5682.4267780602013,1194.2068011512224,3656.2358698589142,1416.9283428465976,0,14503.779828790846]
[{"$f":"SUM(G176:V176)-F176","v":0},null,null,{"$f":"MAX(D173:D175)+NoOne","v":42},"Total Depreciation Expense",{"$f":"SUM(F169:F175)","v":79898089.121001825},32262037.626569375,19341089.232523043,16105952.069013977,2866180.0262108818,598288.30575380579,3627689.1135389237,997725.80468781246,271192.14374595741,480032.63117359224,507018.18185730797,583296.27498579584,131101.45915971373,366658.94735976064,140137.57320492342,200460.62783801684,1419229.1033789276]
[]
[]
[]
[]
[null,null,null,null,null,null,null,null,null,null,null,null,null,null,null,null,null,null,null,null,null,"Schedule 2.6A",null,null,null,null,null,null,null,null,null,null,null,null,"Schedule 2.6A"]
[null,null,null,null,null,null,null,null,null,null,null,null,null,null,null,null,null,null,null,null,null,"Page 1 of 2",null,null,null,null,null,null,null,null,null,null,null,null,"Page 2 of 2"]
[]
[null,null,null,{"$f":"D5","v":"NEWFOUNDLAND AND LABRADOR HYDRO"},null,null,null,null,null,null,null,null,null,null,null,null,null,null,null,null,null,null,null,null,null,null,"NEWFOUNDLAND & LABRADOR HYDRO"]
[null,null,null,{"$f":"D6","v":"2019 Test Year Cost of Service Study"},null,null,null,null,null,null,null,null,null,null,null,null,null,null,null,null,null,null,null,null,null,null,{"$f":"RunName","v":"2019 Test Year Cost of Service Study"}]
[null,null,null,{"$f":"$B$1","v":"Island Interconnected"},null,null,null,null,null,null,null,null,null,null,null,null,null,null,null,null,null,null,null,null,null,null,{"$f":"$B$1","v":"Island Interconnected"}]
[null,null,null,"Functional Classification of Rate Base",null,null,null,null,null,null,null,null,null,null,null,null,null,null,null,null,null,null,null,null,null,null,{"$f":"+D187&\" (CONT'D.)\"","v":"Functional Classification of Rate Base (CONT'D.)"}]
[]
[null,null,null,null,{"$f":"MAX(D189)+NoOne","v":1},2,3,4,5,6,7,8,9,10,11,12,13,14,15,16,17,18,null,null,null,null,null,null,{"$f":"MAX(AB189)+NoOne","v":1},null,{"$f":"MAX(V189)+NoOne","v":19}]
[null,null,null,null,null,null,null,null,null,"Rural Prod &","Distribution",null,null,null,null,null,null,null,null,null,null,"Specifically"]
[null,null,null,"Line",null,"Total","Production","Production","Transmission","Transmission","Substations","Primary Lines",null,"Line Transformers",null,"Secondary Lines",null,"Services","Meters","Street Lighting","Accounting","Assigned",null,null,null,null,null,null,"Description ",null,"Basis of Functional Classification"]
[null,null,null,"No.","Description ","Amount","Demand","Energy","Demand","Demand","Demand","Demand","Customer","Demand","Customer","Demand","Customer","Customer","Customer","Customer","Customer","Customer"]
[null,null,null,null,null,"($)","($)","($)","($)","($)","($)","($)","($)","($)","($)","($)","($)","($)","($)","($)","($)","($)",null,null,null,null,null,null,{"$f":"IF(ISBLANK(E193),\"\",E193)","v":""}]
[null,null,null,null," ",null,null,null,null,null,null,null,null,null,null,null,null,null,null,null,null,null,null,null,null,null,null,null," "]
[null,null,null,{"$f":"MAX(D192:D194)+NoOne","v":1},"Average Net Book Value",{"$f":"SUM(G195:V195)","v":1927122840.0911999},{"$f":"G116","v":625204752.00447297},491594791.72721386,558417140.15568864,71072875.321318045,14798575.317890272,66070044.162438042,17738453.984673046,4491211.9703959702,7949818.4185125344,9174200.8777575716,10379060.583248837,3029717.8051017453,5213111.026341307,1090485.6931017642,2996442.1682942132,37902158.874750979,null,null,null,null,null,null,"Average Net Book Value",null,{"$f":"+\"Sch. 2.3 , L. \"&D116","v":"Sch. 2.3 , L. 42"}]
[null,null,null,null,null," ",null,null,null,null,null,null,null,null,null,null,null,null,null,null,null,null,null,null,null,null,null,null,""]
[{"$f":"F197-SUM(G197:V197)","v":0},null,null,{"$f":"MAX(D194:D196)+NoOne","v":2},"Cash Working Capital",{"$f":"'Rate Base'!E15","v":1994337.3818983566},{"$f":"IF(SUM($G$195:$V$195)<>0,$F197*(G$195/SUM($G$195:$V$195)),0)","v":647010.75734435522},508740.72451018356,577893.71499149478,73551.768026161648,15314.72272619125,68374.447209908903,18357.139017169837,4647.857280424415,8227.0936348786727,9494.1803287904422,10741.06335078325,3135.3888551450636,5394.9348632736655,1128.5198519442936,3100.9526246094979,39224.117283042106,null,null,null,null,null,null,"Cash Working Capital",null,"Prorated on Average Net Book Value, L. 1"]
[]
[null,null,null,{"$f":"MAX(D196:D198)+NoOne","v":3},"Fuel Inventory - No. 6 Fuel",{"$f":"'Rate Base'!E16","v":66169663.358461581},{"$f":"$F199*(G288/$F288)","v":0},66169663.358461581,0,0,0,0,0,0,0,0,0,0,0,0,0,0,null,null,null,null,null,null,{"$f":"IF(ISBLANK(E199),\"\",E199)","v":"Fuel Inventory - No. 6 Fuel"},null,{"$f":"+\"Production - Demand, Energy ratios Sch.4.1 L.\"&'Schedule 4.1'!$A$24","v":"Production - Demand, Energy ratios Sch.4.1 L.10"}]
[{"$f":"F200-SUM(G200:V200)","v":0},null,null,{"$f":"MAX(D197:D199)+NoOne","v":4},"Fuel Inventory - Diesel",{"$f":"'Rate Base'!E17","v":371764.48999999993},{"$f":"$F200*(G289/$F289)","v":371764.48999999993},0,0,0,0,0,0,0,0,0,0,0,0,0,0,0,null,null,null,null,null,null,"Fuel Inventory - Diesel",null,{"$f":"+\"Production - Demand, Energy ratios Sch.4.1 L.\"&'Schedule 4.1'!$A$26","v":"Production - Demand, Energy ratios Sch.4.1 L.12"}]
[null,null,null,{"$f":"MAX(D198:D200)+NoOne","v":5},"Fuel Inventory - Gas Turbine",{"$f":"'Rate Base'!E18","v":4911126.9353846153},{"$f":"$F201*(G290/$F290)","v":4911126.9353846153},0,0,0,0,0,0,0,0,0,0,0,0,0,0,0,null,null,null,null,null,null,"Fuel Inventory - Gas Turbine",null,{"$f":"+\"Production - Demand, Energy ratios Sch.4.1 L.\"&'Schedule 4.1'!$A$25","v":"Production - Demand, Energy ratios Sch.4.1 L.11"}]
[null,null,null,null,null,null,null,null,null,null,null,null,null,null,null,null,null,null,null,null,null,null,null,null,null,null,null,null,""]
[{"$f":"F203-SUM(G203:V203)","v":0},null,null,{"$f":"MAX(D200:D202)+NoOne","v":6},"Inventory/Supplies",{"$f":"'Rate Base'!E19","v":28914668.310802035},{"$f":"IF(SUM($G$58:$V$58)<>0,$F203*(G$58/SUM($G$58:$V$58)),0)","v":9963983.8483904116},7204611.4529607287,7126380.8154331017,1290300.4006031335,273417.94609661138,1182461.5483922542,308238.4717680114,76550.659975626797,135501.02970754995,165649.98275775192,185335.89838294862,70641.083480782938,83575.729943219412,26460.163141754671,67117.727291455376,754441.55247668596,null,null,null,null,null,null,"Inventory/Supplies",null,{"$f":"\"Prorated on Total Plant in Service, Sch. 2.2, L. \"&$D$58","v":"Prorated on Total Plant in Service, Sch. 2.2, L. 42"}]
[]
[{"$f":"F205-SUM(G205:V205)","v":0},null,null,{"$f":"MAX(D202:D204)+NoOne","v":7},"Deferred Charges: Holyrood",{"$f":"+'Rate Base'!E20","v":0},{"$f":"IF(SUM('Schedule 4.1'!$D$15:'Schedule 4.1'!$E$15)<>0,$F205*('Schedule 4.1'!D$15/SUM('Schedule 4.1'!$D$15:'Schedule 4.1'!$E$15)),0)","v":0},{"$f":"IF(SUM('Schedule 4.1'!$D$15:'Schedule 4.1'!$E$15)<>0,$F205*('Schedule 4.1'!E$15/SUM('Schedule 4.1'!$D$15:'Schedule 4.1'!$E$15)),0)","v":0},null,null,null,null,null,null,null,null,null,null,null,null,null,null,null,null,null,null,null,null,"Deferred Charges: Holyrood",null,{"$f":"+\"Production - Demand, Energy ratios Sch.4.1 L.\"&'Schedule 4.1'!$A$15","v":"Production - Demand, Energy ratios Sch.4.1 L.3"}]
[{"$f":"F206-SUM(G206:V206)","v":0},null,null,{"$f":"MAX(D203:D205)+NoOne","v":8},"Deferred Charges: \nForeign Exchange Loss and Regulatory Costs",{"$f":"+'Rate Base'!E21","v":67177773.327820554},{"$f":"IF(SUM($G$195:$V$195)<>0,$F206*(G$195/SUM($G$195:$V$195)),0)","v":21794076.765570965},17136553.415673845,19465920.533624813,2477536.6721646055,515865.0593507915,2303142.4661508915,618346.59222447278,156559.62009156437,277123.53805681336,319804.41215710173,361804.74057596183,105613.24463818567,181724.37354525103,38013.352955203831,104453.28579161339,1321235.2552484754,null,null,null,null,null,null,"Deferred Charges: \nForeign Exchange Loss and Regulatory Costs",null,"Prorated on Average Net Book Value, L. 1"]
[null,null,null,null,null," ",null,null,null,null,null,null,null,null,null,null,null,null,null,null,null,null,null,null,null,null,null,null,""]
[null,null," ",null,null,null,null,null,null,null,null,null,null,null,null,null,null,null,null,null,null,null,null,null,null,null,null,null,""]
[{"$f":"SUM(F195:F206)-F209","v":0},null," ",{"$f":"MAX(D206:D208)+NoOne","v":9},"Total Rate Base",{"$f":"SUM(G209:V209)","v":2096662173.8955669},{"$f":"SUM(G195:G206)","v":662892714.80116343},{"$f":"SUM(H195:H206)","v":582614360.67882025},{"$f":"SUM(I195:I206)","v":585587335.21973801},{"$f":"SUM(J195:J206)","v":74914264.162111938},15603173.046063866,69624022.624191105,18683396.187682696,4728970.1077435855,8370670.0799117759,9669149.4530012161,10936942.285558531,3209107.5220758584,5483806.0646930514,1156087.729050667,3171114.1340018921,40017059.799759179,null,null,null,null,null,null,"Total Rate Base",null," "]
[null,null,null,null,null," ",null,null,null,null,null,null,null,null,null,null,null,null,null,null,null,null,null,null,null,null,null,null,""]
[null,null,null,{"$f":"MAX(D208:D210)+NoOne","v":10},"Less: Rural Asset Portion",{"$f":"SUM(G211:V211)","v":0},0,0,0,{"$f":"IF(RuralMarginSwitch=1,-J209,0)","v":0},{"$f":"IF(RuralMarginSwitch=1,-K209,0)","v":0},0,0,0,0,0,0,0,0,0,0,{"$f":"V209*V375","v":0},null,null,null,null,null,null,"Less: Rural Asset Portion",null,{"$f":"IF(RuralMarginSwitch=1,\"Rural Transmission and Distribution Rate Base\",\"N/A\")","v":"N/A"}]
[null,null,null,null,null,null,null,null,null,null,null,null,null,null,null,null,null,null,null,null,null,null,null,null,null,null,null,null,""]
[{"$f":"F209+F211-F213","v":0},null,null,{"$f":"MAX(D210:D212)+NoOne","v":11},"Rate Base Available for Equity Return",{"$f":"SUM(G213:V213)","v":2096662173.8955669},{"$f":"SUM(G209,G211)","v":662892714.80116343},{"$f":"SUM(H209,H211)","v":582614360.67882025},{"$f":"SUM(I209,I211)","v":585587335.21973801},{"$f":"SUM(J209,J211)","v":74914264.162111938},15603173.046063866,69624022.624191105,18683396.187682696,4728970.1077435855,8370670.0799117759,9669149.4530012161,10936942.285558531,3209107.5220758584,5483806.0646930514,1156087.729050667,3171114.1340018921,40017059.799759179,null,null,null,null,null,null,"Rate Base Available for Equity Return"," "," "]
[null,null,null,null,null,null,null,null,null,null,null,null,null,null,null,null,null,null,null,null,null,null,null,null,null,null,null,null,""]
[{"$f":"(F$209*'Rate Base'!E41)-F215","v":0},null,null,{"$f":"MAX(D212:D214)+NoOne","v":12},"Return on Debt",{"$f":"SUM(G215:V215)","v":84767028.678827539},{"$f":"'Rate Base'!$E$41*G209","v":26800429.018153738},{"$f":"'Rate Base'!$E$41*H209","v":23554814.330722131},{"$f":"'Rate Base'!$E$41*I209","v":23675010.240825839},{"$f":"'Rate Base'!$E$41*J209","v":3028747.1476076259},{"$f":"'Rate Base'!$E$41*K209","v":630828.67308993742},{"$f":"'Rate Base'!$E$41*L209","v":2814865.2634652378},{"$f":"'Rate Base'!$E$41*M209","v":755360.59179082629},{"$f":"'Rate Base'!$E$41*N209","v":191189.95407811707},{"$f":"'Rate Base'!$E$41*O209","v":338422.10708010197},{"$f":"'Rate Base'!$E$41*P209","v":390918.99457487342},{"$f":"'Rate Base'!$E$41*Q209","v":442175.24020863033},{"$f":"'Rate Base'!$E$41*R209","v":129742.65131698552},{"$f":"'Rate Base'!$E$41*S209","v":221707.60351501327},{"$f":"'Rate Base'!$E$41*T209","v":46740.062802582746},{"$f":"'Rate Base'!$E$41*U209","v":128206.5971750405},{"$f":"'Rate Base'!$E$41*V209","v":1617870.2024208412},null,null,null,null,null,null,"Return on Debt",null,{"$f":"+\"L.\"&D209&\" x Sch.1.1,p2,L.\"&'Rate Base'!$B$32","v":"L.9 x Sch.1.1,p2,L.12"}]
[" ",null,null," ",null," ",null,null,null,null,null,null,null,null,null,null,null,null,null,null,null,null,null,null,null,null,null,null,""]
[{"$f":"(F$213*'Rate Base'!E42)-F217","v":0},null,null,{"$f":"MAX(D214:D216)+NoOne","v":13},"Return on Equity",{"$f":"SUM(G217:V217)","v":34428030.544837445},{"$f":"'Rate Base'!$E$42*G213","v":10884963.213087194},{"$f":"'Rate Base'!$E$42*H213","v":9566760.5659348574},{"$f":"'Rate Base'!$E$42*I213","v":9615577.9956467543},{"$f":"'Rate Base'!$E$42*J213","v":1230122.1469671424},{"$f":"'Rate Base'!$E$42*K213","v":256210.33512909073},{"$f":"'Rate Base'!$E$42*L213","v":1143254.2673798904},{"$f":"'Rate Base'!$E$42*M213","v":306788.82971200021},{"$f":"'Rate Base'!$E$42*N213","v":77651.578466989013},{"$f":"'Rate Base'!$E$42*O213","v":137449.74692633236},{"$f":"'Rate Base'!$E$42*P213","v":158771.29699536666},{"$f":"'Rate Base'!$E$42*Q213","v":179588.9618091085},{"$f":"'Rate Base'!$E$42*R213","v":52694.827601348399},{"$f":"'Rate Base'!$E$42*S213","v":90046.286448920786},{"$f":"'Rate Base'!$E$42*T213","v":18983.422386219201},{"$f":"'Rate Base'!$E$42*U213","v":52070.960990218548},{"$f":"'Rate Base'!$E$42*V213","v":657096.1093560122},null,null,null,null,null,null,"Return on Equity",null,{"$f":"+\"L.\"&D213&\" x Sch.1.1,p2,L.\"&'Rate Base'!$B$36","v":"L.11 x Sch.1.1,p2,L.15"}]
[null,null,null," ",null," ",null,null,null,null,null,null,null,null,null,null,null,null,null,null,null,null,null,null,null,null,null,null,""]
[{"$f":"SUM(F215:F217)-F219","v":0},null,null,{"$f":"MAX(D216:D218)+NoOne","v":14},"Return on Rate Base",{"$f":"SUM(G219:V219)","v":119195059.22366495},{"$f":"SUM(G215:G217)","v":37685392.231240928},{"$f":"SUM(H215:H217)","v":33121574.89665699},{"$f":"SUM(I215:I217)","v":33290588.236472592},{"$f":"SUM(J215:J217)","v":4258869.2945747683},887039.00821902812,3958119.530845128,1062149.4215028265,268841.53254510608,475871.85400643433,549690.29157024005,621764.20201773883,182437.47891833392,311753.88996393408,65723.485188801948,180277.55816525905,2274966.3117768532,null,null,null,null,null,null,"Return on Rate Base"]
[]
[null,null,null,null,null,null,null,null,null,null,null,null,null,null,null,null,null,null,null,null,null,"Schedule 2.4A",null,null,null,null,null,null,"",null,null,null,null,null,"Schedule 2.4A"]
[null,null,null,null,null,null,null,null,null,null,null,null,null,null,null,null,null,null,null,null,null,"Page 1 of 2",null,null,null,null,null,null,"",null,null,null,null,null,"Page 2 of 2"]
[null,null,null,{"$f":"D5","v":"NEWFOUNDLAND AND LABRADOR HYDRO"},null,null,null,null,null,null,null,null,null,null,null,null,null,null,null,null,null,null,null,null,null,null,null,"NEWFOUNDLAND & LABRADOR HYDRO"]
[null,null,null,{"$f":"D6","v":"2019 Test Year Cost of Service Study"},null,null,null,null,null,null,null,null,null,null,null,null,null,null,null,null,null,null,null,null,null,null,null,{"$f":"RunName","v":"2019 Test Year Cost of Service Study"}]
[null,null,null,{"$f":"$B$1","v":"Island Interconnected"},null,null,null,null,null,null,null,null,null,null,null,null,null,null,null,null,null,null,null,null,null,null,null,{"$f":"$B$1","v":"Island Interconnected"}]
[null,null,null,"Functional Classification of Operating & Maintenance Expense",null,null,null,null,null,null,null,null,null,null,null,null,null,null,null,null,null,null,null,null,null,null,null,{"$f":"+D226&\" (CONT'D.)\"","v":"Functional Classification of Operating & Maintenance Expense (CONT'D.)"}]
[null,null,null,null,{"$f":"MAX(D227)+NoOne","v":1},2,3,4,5,6,7,8,9,10,11,12,13,14,15,16,17,18,null,null,null,null,null,null,{"$f":"MAX(AB227)+NoOne","v":1},null,{"$f":"MAX(V227)+NoOne","v":19},{"$f":"MAX(AE227)+NoOne","v":20},null,{"$f":"MAX(AF227)+NoOne","v":21}]
[null,null,null,null,null,null,null,null,null,"Rural Prod &","Distribution",null,null,null,null,null,null,null,null,null,null,"Specifically",null,null,null,null,null,null,null,null,"Revenue Related"]
[null,null,null,"Line",null,"Total","Production","Production","Transmission","Transmission","Substations","Primary Lines",null,"Line Transformers",null,"Secondary Lines",null,"Services","Meters","Street Lighting","Accounting","Assigned",null,null,null,null,null,null,null,null,"Municipal","PUB "]
[null,null,null,"No.","Description ","Amount","Demand","Energy","Demand","Demand","Demand","Demand","Customer","Demand","Customer","Demand","Customer","Customer","Customer","Customer","Customer","Customer",null,null,null,null,null,null,"Description ",null,"Tax","Assessment",null,"Basis of Functional Classification"]
[null,null,null,null,"Production","($)","($)","($)","($)","($)","($)","($)","($)","($)","($)","($)","($)","($)","($)","($)","($)","($)",null,null,null,null,null,null,{"$f":"IF(ISBLANK(E231),\"\",E231)","v":"Production"}]
[null,null," ",{"$f":"MAX(D229:D231)+NoOne","v":1},"Hydraulic",{"$f":"+'O&M Summary'!F11","v":11739614.377433334},{"$f":"+G24/$F$24*$F$232","v":5329645.6091834689},{"$f":"+H24/$F$24*$F$232","v":6409968.7682498647},0,{"$f":"+J24/$F$24*$F$232","v":0},0,0,0,0,0,0,0,0,0,0,0,0,null,null,null,null,null,null,"Hydraulic",null,0,0,null,{"$f":"+\"Prorated on Hydraulic Plant in Service - Sch.2.2 L.\"&$D$24","v":"Prorated on Hydraulic Plant in Service - Sch.2.2 L.10"}]
[null,null," ",2,"Holyrood / Thermal",{"$f":"+'O&M Summary'!F15","v":19508579.346944444},{"$f":"+G25/$F$25*$F$233","v":13570167.793734554},{"$f":"+H25/$F$25*$F$233","v":5938411.5532098887},0,0,0,0,0,0,0,0,0,0,0,0,0,0,null,null,null,null,null,null,"Holyrood / Thermal",null,0,0,null,{"$f":"+\"Prorated on Holyrood Plant in Service - Sch.2.2 L.\"&$D$25","v":"Prorated on Holyrood Plant in Service - Sch.2.2 L.11"}]
[null,null," ",3,"Roddickton",0,0,0,0,0,0,0,0,0,0,0,0,0,0,0,0,0,null,null,null,null,null,null,"Roddickton",null,0,0,null,{"$f":"+\"Prorated on Roddickton Plant in Service - Sch.2.2 L.\"&$D$27","v":"Prorated on Roddickton Plant in Service - Sch.2.2 L.13"}]
[null,null,null,4,"Gas Turbine",{"$f":"+'O&M Summary'!F20","v":7604640.9364999998},{"$f":"(G26/$F$26)*$F235","v":7604640.9364999998},0,0,0,0,0,0,0,0,0,0,0,0,0,0,0,null,null,null,null,null,null,"Gas Turbine",null,0,0,null,{"$f":"+\"Prorated on Gas Turbines Plant in Service - Sch.2.2 L.\"&$D$26","v":"Prorated on Gas Turbines Plant in Service - Sch.2.2 L.12"}]
[null,null," ",5,"Diesel",{"$f":"+'O&M Summary'!F19","v":313536.86839999998},{"$f":"(G28/$F$28)*$F$236","v":313536.86839999998},0,0,0,0,0,0,0,0,0,0,0,0,0,0,0,null,null,null,null,null,null,"Diesel",null,0,0,null,{"$f":"+\"Prorated on Diesel Plant in Service - Sch.2.2 L.\"&$D$28","v":"Prorated on Diesel Plant in Service - Sch.2.2 L.14"}]
[null,null,null,6,"Other",{"$f":"'O&M Summary'!F21","v":2806837.8347749999},{"$f":"(G29/$F29)*$F$237","v":1626694.0683642374},1180143.7664107627,0,0,0,0,0,0,0,0,0,0,0,0,0,0,null,null,null,null,null,null,"Other",null,0,0,null,{"$f":"+\"Prorated on Production Plant in Service - Sch.2.2 L.\"&$D$29","v":"Prorated on Production Plant in Service - Sch.2.2 L.15"}]
[{"$f":"SUM(G238:AF238)-F238","v":0},null," ",7,"Subtotal Production",{"$f":"SUM(F232:F237)","v":41973209.36405278},{"$f":"SUM(G232:G237)","v":28444685.27618226},{"$f":"SUM(H232:H237)","v":13528524.087870516},{"$f":"SUM(I232:I237)","v":0},{"$f":"SUM(J232:J237)","v":0},0,0,0,0,0,0,0,0,0,0,0,0,null,null,null,null,null,null,"Subtotal Production",null,{"$f":"SUM(AE232:AE237)","v":0},{"$f":"SUM(AF232:AF237)","v":0}]
[null,null,null,null,null,null,null,null,null,null,null,null,null,null,null,null,null,null,null,null,null,null,null,null,null,null,null,null,""]
[null,null,null,null,"Transmission",null,null,null,null,null,null,null,null,null,null,null,null,null,null,null,null,null,null,null,null,null,null,null,"Transmission"]
[null,null," ",{"$f":"MAX(D238:D240)+NoOne","v":8},"Transmission Lines",{"$f":"+'O&M Summary'!F26","v":3298719.299194444},{"$f":"$F241*G31/$F$31","v":124825.05240894489},{"$f":"$F241*H31/$F$31","v":150127.18407726788},{"$f":"IF(IndexPlant=1,($F241-SUM(G241:H241,J241:U241))*((IndexPlt!F31-IndexPlt!V31)/IndexPlt!F31),$F241*I31/$F$31)","v":2348570.4654049911},{"$f":"$F241*J31/$F$31","v":510597.54469141952},0,0,0,0,0,0,0,0,0,0,0,{"$f":"IF(IndexPlant=1,($F241-SUM(G241:H241,J241:U241))*(IndexPlt!V31/IndexPlt!$F$31),$F241*V31/$F$31)","v":164599.05261182023},null,null,null,null,null,null,"Transmission Lines",null,0,0,null,{"$f":"IF(IndexPlant=1,\"Prorated on Transmission Lines Plant in Service - Sch.2.2 L.\"&$D$31&\" (C5 & 18 then prorated on indexed transmission plant).\",\"Prorated on Transmission Lines Plant in Service - Sch.2.2 L.\"&$D$31)","v":"Prorated on Transmission Lines Plant in Service - Sch.2.2 L.16 (C5 & 18 then prorated on indexed transmission plant)."}]
[null,null,null,{"$f":"MAX(D239:D241)+NoOne","v":9},"Terminal Stations",{"$f":"+'O&M Summary'!F30","v":4519337.2301666671},{"$f":"$F242*(G37/SUM($G$37:$V$37))","v":403772.36146640452},{"$f":"$F242*(H37/SUM($G$37:$V$37))","v":375282.77772944723},{"$f":"IF(IndexPlant=1,($F242-SUM(G242:H242,J242:U242))*((IndexPlt!F37-IndexPlt!$V$37)/IndexPlt!$F$37),$F242*(I37/SUM($G$37:$V$37)))","v":2939031.9374393504},{"$f":"$F242*(J37/SUM($G$37:$V$37))","v":293152.25905211765},173477.71000563051,0,0,0,0,0,0,0,0,0,0,{"$f":"IF(IndexPlant=1,($F242-SUM(G242:H242,J242:U242))*(IndexPlt!V37/IndexPlt!$F$37),$F242*(V37/SUM($G$37:$V$37)))","v":334620.18447371665},null,null,null,null,null,null,"Terminal Stations",null,0,0,null,{"$f":"IF(IndexPlant=1,\"Prorated on Terminal Stations Plant in Service - Sch.2.2 L.\"&$D$37&\" (C5 & 18 then prorated on indexed terminals plant).\",\"Prorated on Terminal Stations Plant in Service - Sch.2.2 L.\"&$D$37)","v":"Prorated on Terminal Stations Plant in Service - Sch.2.2 L.22 (C5 & 18 then prorated on indexed terminals plant)."}]
[null,null,null,{"$f":"MAX(D240:D242)+NoOne","v":10},"Other",{"$f":"'O&M Summary'!F31+'O&M Summary'!F33","v":2335787.6037999997},{"$f":"$F243*(G38/$F38)","v":130928.82386376279},{"$f":"$F243*(H38/$F38)","v":137302.22405274044},{"$f":"IF(IndexPlant=1,($F243-SUM(G243:H243,J243:U243))*((IndexPlt!F38-IndexPlt!$V38)/IndexPlt!$F38),$F243*(I38/$F38))","v":1610121.3163279409},{"$f":"$F243*(J38/$F38)","v":287273.97820123343},31706.719042075929,0,0,0,0,0,0,0,0,0,0,{"$f":"IF(IndexPlant=1,($F243-SUM(G243:H243,J243:U243))*(IndexPlt!V38/IndexPlt!$F38),($F243*V38/$F38))","v":138454.54231224619},null,null,null,null,null,null,"Other",null,0,0,null,{"$f":"IF(IndexPlant=1,\"Prorated on Transmission Plant in Service - Sch.2.2 L.\"&$D$38&\" (C5 & 18 then prorated on indexed transmission and terminals plant).\",\"Prorated on Transmission Plant in Service - Sch.2.2 L.\"&$D$38)","v":"Prorated on Transmission Plant in Service - Sch.2.2 L.23 (C5 & 18 then prorated on indexed transmission and terminals plant)."}]
[{"$f":"SUM(G244:AF244)-F244","v":0},null," ",{"$f":"MAX(D241:D243)+NoOne","v":11},"Subtotal Transmission",{"$f":"SUM(F241:F243)","v":10153844.133161111},{"$f":"SUM(G241:G243)","v":659526.23773911223},{"$f":"SUM(H241:H243)","v":662712.18585945549},{"$f":"SUM(I241:I243)","v":6897723.7191722821},{"$f":"SUM(J241:J243)","v":1091023.7819447706},205184.42904770642,0,0,0,0,0,0,0,0,0,0,637673.7793977831,null,null,null,null,null,null,"Subtotal Transmission",null,{"$f":"SUM(AE241:AE243)","v":0},{"$f":"SUM(AF241:AF243)","v":0}]
[null,null,null,null,null,null,null,null,null,null,null,null,null,null,null,null,null,null,null,null,null,null,null,null,null,null,null,null,""]
[null,null,null,null,"Distribution",null,null,null,null,null,null,null,null,null,null,null,null,null,null,null,null,null,null,null,null,null,null,null,"Distribution"]
[null,"P-DisxMet",null,{"$f":"MAX(D244:D246)+NoOne","v":12},"Other",{"$f":"+'O&M Summary'!F39","v":6785987.0470888885},{"$f":"$F247*VLOOKUP($B247,RatiosIslInt,G$552,FALSE)","v":0},0,0,0,382410.06204986351,3520479.2774729137,917701.85157786764,227910.16966893422,403419.94021731021,493180.79932943307,551790.61891368509,210315.90487696198,0,78778.422981919022,0,0,null,null,null,null,null,null,"Other",null,0,0,null,{"$f":"+\"Prorated on Distribution Plant, excluding Meters - Sch. 2.2 L. \"&D50&\", less L. \"&D48","v":"Prorated on Distribution Plant, excluding Meters - Sch. 2.2 L. 34, less L. 32"}]
[null,null," ",{"$f":"MAX(D245:D247)+NoOne","v":13},"Meters",{"$f":"+'O&M Summary'!F43","v":259207.22080561548},{"$f":"$F248*'Schedule 4.1'!D$73","v":0},{"$f":"$F248*'Schedule 4.1'!E$73","v":0},{"$f":"$F248*'Schedule 4.1'!F$73","v":0},{"$f":"$F248*'Schedule 4.1'!I$73","v":0},{"$f":"$F248*'Schedule 4.1'!J$73","v":0},{"$f":"$F248*'Schedule 4.1'!K$73","v":0},{"$f":"$F248*'Schedule 4.1'!L$73","v":0},{"$f":"$F248*'Schedule 4.1'!M$73","v":0},{"$f":"$F248*'Schedule 4.1'!N$73","v":0},{"$f":"$F248*'Schedule 4.1'!O$73","v":0},{"$f":"$F248*'Schedule 4.1'!P$73","v":0},{"$f":"$F248*'Schedule 4.1'!Q$73","v":0},{"$f":"$F248*'Schedule 4.1'!R$73","v":259207.22080561548},{"$f":"$F248*'Schedule 4.1'!S$73","v":0},{"$f":"$F248*'Schedule 4.1'!T$73","v":0},{"$f":"$F248*'Schedule 4.1'!U$73","v":0},null,null,null,null,null,null,"Meters",null,0,0,null,"Meters - Customer"]
[{"$f":"SUM(G249:AF249)-F249","v":0},null," ",{"$f":"MAX(D246:D248)+NoOne","v":14},"Subtotal Distribution",{"$f":"SUM(F247:F248)","v":7045194.2678945037},{"$f":"SUM(G247:G248)","v":0},{"$f":"SUM(H247:H248)","v":0},{"$f":"SUM(I247:I248)","v":0},{"$f":"SUM(J247:J248)","v":0},382410.06204986351,3520479.2774729137,917701.85157786764,227910.16966893422,403419.94021731021,493180.79932943307,551790.61891368509,210315.90487696198,259207.22080561548,78778.422981919022,0,0,null,null,null,null,null,null,"Subtotal Distribution",null,{"$f":"SUM(AE247:AE248)","v":0},{"$f":"SUM(AF247:AF248)","v":0}]
[null,null,null,null,null,null,null,null,null,null,null,null,null,null,null,null,null,null,null,null,null,null,null,null,null,null,null,null,""]
[{"$f":"SUM(G251:AF251)-F251","v":0},null," ",{"$f":"MAX(D248:D250)+NoOne","v":15},"Subttl Prod, Trans, & Dist",{"$f":"SUM(F249,F244,F238)","v":59172247.765108392},{"$f":"SUM(G249,G244,G238)","v":29104211.513921373},{"$f":"SUM(H249,H244,H238)","v":14191236.273729971},{"$f":"SUM(I249,I244,I238)","v":6897723.7191722821},{"$f":"SUM(J249,J244,J238)","v":1091023.7819447706},587594.49109756993,3520479.2774729137,917701.85157786764,227910.16966893422,403419.94021731021,493180.79932943307,551790.61891368509,210315.90487696198,259207.22080561548,78778.422981919022,0,637673.7793977831,null,null,null,null,null,null,"Subttl Prod, Trans, & Dist",null,{"$f":"SUM(AE249,AE244,AE238)","v":0},{"$f":"SUM(AF249,AF244,AF238)","v":0}]
[null,null,null,null,null,null,null,null,null,null,null,null,null,null,null,null,null,null,null,null,null,null,null,null,null,null,null,null,""]
[null,null," ",{"$f":"MAX(D250:D252)+NoOne","v":16},"Customer Accounting",{"$f":"+'O&M Summary'!F53","v":2220698.1646800609},{"$f":"$F253*'Schedule 4.1'!D$75","v":0},{"$f":"$F253*'Schedule 4.1'!E$75","v":0},{"$f":"$F253*'Schedule 4.1'!F$75","v":0},{"$f":"$F253*'Schedule 4.1'!I$75","v":0},{"$f":"$F253*'Schedule 4.1'!J$75","v":0},{"$f":"$F253*'Schedule 4.1'!K$75","v":0},{"$f":"$F253*'Schedule 4.1'!L$75","v":0},{"$f":"$F253*'Schedule 4.1'!M$75","v":0},{"$f":"$F253*'Schedule 4.1'!N$75","v":0},{"$f":"$F253*'Schedule 4.1'!O$75","v":0},{"$f":"$F253*'Schedule 4.1'!P$75","v":0},{"$f":"$F253*'Schedule 4.1'!Q$75","v":0},{"$f":"$F253*'Schedule 4.1'!R$75","v":0},{"$f":"$F253*'Schedule 4.1'!S$75","v":0},{"$f":"$F253*'Schedule 4.1'!T$75","v":2220698.1646800609},{"$f":"$F253*'Schedule 4.1'!U$75","v":0},null,null,null,null,null,null,"Customer Accounting",null,0,0,null,"Accounting - Customer"]
[null,null,null,null,null,null,null,null,null,null,null,null,null,null,null,null,null,null,null,null,null,null,null,null,null,null,null,null,""]
[null,null,null,null,"Administrative & General:",null,null,null,null,null,null,null,null,null,null,null,null,null,null,null,null,null,null,null,null,null,null,null,"Administrative & General:"]
[null,null," ",null,"Plant-Related:",null,null,null,null,null,null,null,null,null,null,null,null,null,null,null,null,null,null,null,null,null,null,null,"Plant-Related:"]
[null,null,null,{"$f":"MAX(D253:D256)+NoOne","v":17},"Production",{"$f":"+'O&M Summary'!F75","v":6615274.3799999999},{"$f":"IF($F$29<>0,$F257*(G29/$F$29),0)","v":3833861.5295922598},2781412.8504077406,0,0,0,0,0,0,0,0,0,0,0,0,0,0,null,null,null,null,null,null,"Production",null,0,0,null,{"$f":"+\"Prorated on Production Plant in Service - Sch.2.2 L.\"&$D$29","v":"Prorated on Production Plant in Service - Sch.2.2 L.15"}]
[null,null,null,{"$f":"MAX(D255:D257)+NoOne","v":18},"Prod - Gas Turb & Diesel",{"$f":"+'O&M Summary'!F79","v":1141471.55699},{"$f":"($F$258*((G26+G28)/($F$26+$F$28)))","v":1141471.55699},0,0,0,0,0,0,0,0,0,0,0,0,0,0,0,null,null,null,null,null,null,"Prod - Gas Turb & Diesel",null,null,0,null,{"$f":"+\"Prorated on Gas Turbine & Diesel Production Plant in Service - Sch.2.2 L.\"&$D$26&\", \" &$D$28","v":"Prorated on Gas Turbine & Diesel Production Plant in Service - Sch.2.2 L.12, 14"}]
[null,null,null,19,"Transmission  ",{"$f":"+'O&M Summary'!F86","v":3610434.2486379994},{"$f":"IF($F$38<>0,$F259*(G38/$F$38),0)","v":202377.09500752058},{"$f":"IF($F$38<>0,$F259*(H38/$F$38),0)","v":212228.47973322318},{"$f":"IF($F$38<>0,IF(IndexPlant=1,($F259-SUM(G259:H259,J259:U259))*((IndexPlt!F38-IndexPlt!$V$38)/IndexPlt!$F$38),$F259*(I38/$F$38)),0)","v":2488769.58481806},{"$f":"IF($F$38<>0,$F259*(J38/$F$38),0)","v":444040.29199952353},49009.175387016658,0,0,0,0,0,0,0,0,0,0,{"$f":"IF($F$38<>0,IF(IndexPlant=1,($F259-SUM(G259:H259,J259:U259))*(IndexPlt!V38/IndexPlt!$F$38),$F259*(V38/$F$38)),0)","v":214009.62169265572},null,null,null,null,null,null,"Transmission  ",null,0,0,null,{"$f":"IF(IndexPlant=1,\"Prorated on Transmission Plant in Service - Sch.2.2 L.\"&$D$38&\" (C5 & 18 then prorated on indexed transmission and terminals plant).\",\"Prorated on Transmission Plant in Service - Sch.2.2 L.\"&$D$38)","v":"Prorated on Transmission Plant in Service - Sch.2.2 L.23 (C5 & 18 then prorated on indexed transmission and terminals plant)."}]
[null,null,null,20,"Distribution  ",{"$f":"+'O&M Summary'!F87","v":1706806.9391720002},{"$f":"IF($F$50<>0,$F260*(G50/$F$50),0)","v":0},0,0,0,92794.996168437108,854273.7063795256,222688.0206667571,55304.30660691909,97893.218620003609,119674.44093600786,133896.6032781805,51034.911274573868,60130.492798661238,19116.242442934181,0,0,null,null,null,null,null,null,"Distribution  ",null,0,0,null,{"$f":"+\"Prorated on Distribution Plant in Service - Sch.2.2 L.\"&$D$50","v":"Prorated on Distribution Plant in Service - Sch.2.2 L.34"}]
[null,null,null,21,"Prod, Trans, Distn ",{"$f":"+'O&M Summary'!F88","v":0},{"$f":"IF($F$51<>0,$F261*(G51/$F$51),0)","v":0},0,0,0,0,0,0,0,0,0,0,0,0,0,0,0,null,null,null,null,null,null,"Prod, Trans, Distn ",null,0,0,null,{"$f":"\"Prorated on Prod, Trans & Distribution Plant in Service - Sch.2.2 L.\"&$D$51","v":"Prorated on Prod, Trans & Distribution Plant in Service - Sch.2.2 L.35"}]
[null,null,null,22,"Prod, Trans, Distn and General Plant",{"$f":"+'O&M Summary'!F92","v":157112.79716869871},{"$f":"IF($F$58<>0,$F262*(G58/$F$58),0)","v":54141.010940786749},{"$f":"IF($F$58<>0,$F262*(H58/$F$58),0)","v":39147.488939564639},{"$f":"IF($F$38<>0,IF(IndexPlant=1,($F262-SUM(G262:H262,J262:U262))*((IndexPlt!F38-IndexPlt!$V$38)/IndexPlt!$F$38),IF($F$58<>0,$F262*(I58/$F$58),0)),0)","v":39431.110310093092},{"$f":"IF($F$58<>0,$F262*(J58/$F$58),0)","v":7011.0679793244253},1485.6631881649812,6425.1071260925855,1674.8664717134338,415.95110774234814,736.26802727800691,900.08752174737344,1007.0543122862152,383.84041281037645,454.12302730408703,143.77582340061315,364.69565415789356,{"$f":"IF($F$38<>0,IF(IndexPlant=1,($F262-SUM(G262:H262,J262:U262))*(IndexPlt!V38/IndexPlt!$F$38),$F262*(V58/$F$58)),0)","v":3390.6863262318839},null,null,null,null,null,null,"Prod, Trans, Distn and General Plant",null,0,0,null,{"$f":"IF(IndexPlant=1,\"Prorated on Total Plant in Service, Sch. 2.2, L. \"&$D$58&\" (C5 & 18 then prorated on indexed transmission and terminals plant).\",\"Prorated on Total Plant in Service, Sch. 2.2, L. \"&$D$58)","v":"Prorated on Total Plant in Service, Sch. 2.2, L. 42 (C5 & 18 then prorated on indexed transmission and terminals plant)."}]
[null,null,null,23,"Prod, Trans, Distn, Excl Hydraulic & Holyrood",{"$f":"+'O&M Summary'!F93","v":1159337.5360000001},{"$f":"IF($F$51<>0,$F263*((G51-G24-G25)/($F$51-$F$24-$F$25)),0)","v":205685.41061182637},{"$f":"IF($F$51<>0,$F263*((H51-H24-H25)/($F$51-$F$24-$F$25)),0)","v":48566.373033767493},{"$f":"IF($F$38<>0,IF(IndexPlant=1,($F263-SUM(G263:H263,J263:U263))*((IndexPlt!F38-IndexPlt!$V$38)/IndexPlt!$F$38),IF($F$51<>0,$F263*((I51-I24-I25)/($F$51-$F$24-$F$25)),0)),0)","v":569530.12245720241},{"$f":"IF($F$51<>0,$F263*((J51-J24-J25)/($F$51-$F$24-$F$25)),0)","v":101614.19659783745},20661.751629818318,86964.690822991179,22669.543405875029,5629.9542984106711,9965.4869714249853,12182.805905992094,13630.615831177771,5195.3317151497822,6121.257948382291,1946.0251454918898,0,{"$f":"IF($F$38<>0,IF(IndexPlant=1,($F263-SUM(G263:H263,J263:U263))*(IndexPlt!V38/IndexPlt!$F$38),IF($F$51<>0,$F263*((V51-V24-V25)/($F$51-$F$24-$F$25)),0)),0)","v":48973.969624652142},null,null,null,null,null,null,"Prod, Trans, Distn, Excl Hydraulic & Holyrood",null,0,0,null,{"$f":"IF(IndexPlant=1,\"Prorated on Total Plant in Service, Sch. 2.2, L. \"&$D$51&\" Less L. \"&$D$24&\" and L. \"&D25&\" (C5 & 18 then prorated on indexed transmission and terminals plant).\",\"Prorated on Total Plant in Service, Sch. 2.2, L. \"&$D$51&\" Less L. \"&$D$24&\" and L. \"&D25)","v":"Prorated on Total Plant in Service, Sch. 2.2, L. 35 Less L. 10 and L. 11 (C5 & 18 then prorated on indexed transmission and terminals plant)."}]
[null,null,null,24,"Property Insurance",{"$f":"+'O&M Summary'!F98","v":1991617.4658097329},{"$f":"IF(SUM($F$29,$F$37,$F$40,$F$52:$F$54)<>0,$F264*((SUM(G$29,G$37,G$40,G$52:G$54)/SUM($F$29,$F$37,$F$40,$F$52:$F$54))),0)","v":951819.82094478793},{"$f":"IF(SUM($F$29,$F$37,$F$40,$F$52:$F$54)<>0,$F264*((SUM(H$29,H$37,H$40,H$52:H$54)/SUM($F$29,$F$37,$F$40,$F$52:$F$54))),0)","v":676549.84174601804},{"$f":"IF($F$38<>0,IF(IndexPlant=1,($F264-SUM(G264:H264,J264:U264))*((IndexPlt!F38-IndexPlt!$V$38)/IndexPlt!$F$38),IF(SUM($F$29,$F$37,$F$40,$F$52:$F$54)<>0,$F264*((SUM(I$29,I$37,I$40,I$52:I$54)/SUM($F$29,$F$37,$F$40,$F$52:$F$54))),0)),0)","v":259692.52937890228},{"$f":"IF(SUM($F$29,$F$37,$F$40,$F$52:$F$54)<>0,$F264*((SUM(J$29,J$37,J$40,J$52:J$54)/SUM($F$29,$F$37,$F$40,$F$52:$F$54))),0)","v":26846.56043389771},26786.333215169958,11103.808772552427,2894.4882406615252,718.84273187382644,1272.4113730398201,1555.5226588294295,1740.3816446560663,663.34933556446128,815.36977261053801,248.47200487496931,6578.7390328094352,{"$f":"IF($F$38<>0,IF(IndexPlant=1,($F264-SUM(G264:H264,J264:U264))*(IndexPlt!V38/IndexPlt!$F$38),IF(SUM($F$29,$F$37,$F$40,$F$52:$F$54)<>0,$F264*((SUM(V$29,V$37,V$40,V$52:V$54)/SUM($F$29,$F$37,$F$40,$F$52:$F$54))),0)),0)","v":22330.994523484849},null,null,null,null,null,null,{"$f":"IF(ISBLANK(E264),\"\",E264)","v":"Property Insurance"},null,0,0,null,{"$f":"IF(IndexPlant=1,\"Prorated on Prod., Trans. Terminal, Dist. Sub & General Plant in Service - Sch.2.2  L.\"&D29&\", \"&D37&\", \"&D40&\", \"&D52&\" - \"&D54&\" (C5\",\"Prorated on Prod., Trans. Terminal, Dist. Sub & General Plant in Service - Sch.2.2  L.\"&D29&\", \"&D37&\", \"&D40&\", \"&D52&\" - \"&D54)","v":"Prorated on Prod., Trans. Terminal, Dist. Sub & General Plant in Service - Sch.2.2  L.15, 22, 24, 36 - 38 (C5"}]
[null,null,null,null,"Revenue-Related:",null,null,null,null,null,null,null,null,null,null,null,null,null,null,null,null,null,null,null,null,null,null,null,"Revenue-Related:",null,null,null,null,{"$f":"IF(IndexPlant=1,\"    & 18 then prorated on indexed transmission and terminals plant).\",\"\")","v":"    & 18 then prorated on indexed transmission and terminals plant)."}]
[null,null,null,{"$f":"MAX(D263:D265)+NoOne","v":25},"Municipal Tax",{"$f":"+'O&M Summary'!F102","v":1313763.6542834595},0,0,0,0,0,0,0,0,0,0,0,0,0,0,0,0,null,null,null,null,null,null,"Municipal Tax",null,{"$f":"+F266","v":1313763.6542834595},0,null,"Revenue-related"]
[null,null,null,26,"PUB Assessment",{"$f":"+'O&M Summary'!F106","v":1039528.1361165345},0,0,0,0,0,0,0,0,0,0,0,0,0,0,0,0,null,null,null,null,null,null,"PUB Assessment",null,0,{"$f":"+F267","v":1039528.1361165345},null,"Revenue-related"]
[null,{"$f":"IF(OverheadAlloc=\"Expenses\",\"E-GTDC\",\"L-GTDC\")","v":"E-GTDC"},null,27,"All Expense-Related ",{"$f":"+'O&M Summary'!F66","v":27578856.340589013},{"$f":"$F268*VLOOKUP($B268,RatiosIslInt,G$552,FALSE)","v":13074154.629532045},6374968.0123861618,{"$f":"IF($F$38<>0,IF(IndexPlant=1,($F268-SUM(G268:H268,J268:U268))*((IndexPlt!F38-IndexPlt!$V$38)/IndexPlt!$F$38),$F268*VLOOKUP($B268,RatiosIslInt,I$552,FALSE)),0)","v":3117009.0797891058},490108.23134032695,263958.40452149534,1581464.9512744215,412248.78762298159,102381.49892737136,181223.7612592529,221546.01328625571,247874.63736483475,94477.827035310416,116440.71801370938,35388.736885850027,997579.03342124436,{"$f":"IF($F$38<>0,IF(IndexPlant=1,($F268-SUM(G268:H268,J268:U268))*(IndexPlt!V38/IndexPlt!$F$38),$F268*VLOOKUP($B268,RatiosIslInt,V$552,FALSE)),0)","v":268032.01792865258},null,null,null,null,null,null,"All Expense-Related ",null,0,0,null,{"$f":"IF(IndexPlant=1,\"Prorated on Subtotal Production, Transmission, Distribution, Accounting Expenses - L \"&$D$251&\", \"&$D$253&\" (C5 & 18 then prorated on indexed transmission and terminals plant).\",\"Prorated on Subtotal Production, Transmission, Distribution, Accounting Expenses - L \"&$D$251&\", \"&$D$253)","v":"Prorated on Subtotal Production, Transmission, Distribution, Accounting Expenses - L 15, 16 (C5 & 18 then prorated on indexed transmission and terminals plant)."}]
[null,{"$f":"IF(OverheadAlloc=\"Expenses\",\"E-GTD\",\"L-GTD\")","v":"E-GTD"},null,28,"Prod, Trans, and Distn Expense-Related ",{"$f":"+'O&M Summary'!F70","v":1447329.1174535644},711877.17816364963,347111.86827254348,{"$f":"IF($F$38<>0,IF(IndexPlant=1,($F269-SUM(G269:H269,J269:U269))*((IndexPlt!F38-IndexPlt!$V$38)/IndexPlt!$F$38),$F269*VLOOKUP($B269,RatiosIslInt,I$552,FALSE)),0)","v":169718.63121601785},26685.998032579257,14372.322302116359,86109.49149514873,22446.61409859261,5574.59006855807,9867.4876836803523,12063.001795571628,13496.574148437488,5144.2415065988425,6340.1032121581675,1926.8881902444255,0,{"$f":"IF($F$38<>0,IF(IndexPlant=1,($F269-SUM(G269:H269,J269:U269))*(IndexPlt!V38/IndexPlt!$F$38),$F269*VLOOKUP($B269,RatiosIslInt,V$552,FALSE)),0)","v":14594.127267667724},null,null,null,null,null,null,"Prod, Trans, and Distn Expense-Related ",null,0,0,null,{"$f":"IF(IndexPlant=1,\"Prorated on Subtotal Production, Transmission, Distribution  Expenses - L \"&D251&\" (C5 & 18 then prorated on indexed transmission and terminals plant).\",\"Prorated on Subtotal Production, Transmission, Distribution  Expenses - L \"&D251)","v":"Prorated on Subtotal Production, Transmission, Distribution  Expenses - L 15 (C5 & 18 then prorated on indexed transmission and terminals plant)."}]
[{"$f":"SUM(G270:AF270)-F270","v":0},null,null,29,"Subtotal Admin & General",{"$f":"SUM(F257:F269)","v":47761532.172221005},{"$f":"SUM(G257:G269)","v":20175388.231782876},{"$f":"SUM(H257:H269)","v":10479984.914519019},{"$f":"SUM(I257:I269)","v":6644151.0579693811},{"$f":"SUM(J257:J269)","v":1096306.3463834892},469068.64641221875,2626341.755870732,684622.32050658134,170025.14374087536,300958.63393467967,367921.87210440414,411645.86657957279,156899.50128000774,190302.06477282569,58770.140492796112,1004522.4681082116,571331.41736334481,null,null,null,null,null,null,"Subtotal Admin & General",null,{"$f":"SUM(AE257:AE269)","v":1313763.6542834595},{"$f":"SUM(AF257:AF269)","v":1039528.1361165345}]
[{"$f":"SUM(G271:AF271)-F271","v":0},null," ",30,"Total Operating & Maintenance Expenses",{"$f":"SUM(F270,F253,F251)","v":109154478.10200946},{"$f":"SUM(G270,G253,G251)","v":49279599.745704249},{"$f":"SUM(H270,H253,H251)","v":24671221.188248992},{"$f":"SUM(I270,I253,I251)","v":13541874.777141664},{"$f":"SUM(J270,J253,J251)","v":2187330.12832826},1056663.1375097886,6146821.0333436457,1602324.1720844489,397935.31340980961,704378.57415198989,861102.67143383715,963436.48549325787,367215.40615696972,449509.28557844117,137548.56347471513,3225220.6327882726,1209005.196761128,null,null,null,null,null,null,"Total Operating & Maintenance Expenses",null,{"$f":"SUM(AE270,AE253,AE251)","v":1313763.6542834595},{"$f":"SUM(AF270,AF253,AF251)","v":1039528.1361165345}]
[]
[null,null,null,null,null,null,null,null,null,null,null,null,null,null,null,null,null,null,null,null,null,"Schedule 2.1A",null,null,null,null,null,null,null,null,null,null,null,null,"Schedule 2.1A"]
[null,null,null,null,null,null,null,null,null,null,null,null,null,null,null,null,null,null,null,null,null,"Page 1 of 2",null,null,null,null,null,null,null,null,null,null,null,null,"Page 2 of 2"]
[]
[null,null,null,{"$f":"D5","v":"NEWFOUNDLAND AND LABRADOR HYDRO"},null,null,null,null,null,null,null,null,null,null,null,null,null,null,null,null,null,null,null,null,null,null,"NEWFOUNDLAND & LABRADOR HYDRO"]
[null,null,null,{"$f":"D6","v":"2019 Test Year Cost of Service Study"},null,null,null,null,null,null,null,null,null,null,null,null,null,null,null,null,null,null,null,null,null,null,{"$f":"RunName","v":"2019 Test Year Cost of Service Study"}]
[null,null,null,{"$f":"$B$1","v":"Island Interconnected"},null,null,null,null,null,null,null,null,null,null,null,null,null,null,null,null,null,null,null,null,null,null,{"$f":"$B$1","v":"Island Interconnected"}]
[null,null,null,"Functional Classification of Revenue Requirement",null,null,null,null,null,null,null,null,null,null,null,null,null,null,null,null,null,null,null,null,null,null,{"$f":"+D279&\" (CONT'D.)\"","v":"Functional Classification of Revenue Requirement (CONT'D.)"}]
[]
[null,null,null,null,{"$f":"MAX(D281)+NoOne","v":1},2,3,4,5,6,7,8,9,10,11,12,13,14,15,16,17,18,null,null,null,null,null,null,{"$f":"MAX(AB281)+NoOne","v":1},null,{"$f":"MAX(V281)+NoOne","v":19},{"$f":"MAX(AE281)+NoOne","v":20},null,{"$f":"MAX(AF281)+NoOne","v":21}]
[null,null,null,null,null,null,null,null,null,"Rural Prod &","Distribution",null,null,null,null,null,null,null,null,null,null,"Specifically",null,null,null,null,null,null,null,null,"Revenue Related"]
[null,null,null,"Line",null,"Total","Production","Production","Transmission","Transmission","Substations","Primary Lines",null,"Line Transformers",null,"Secondary Lines",null,"Services","Meters","Street Lighting","Accounting","Assigned",null,null,null,null,null,null,null,null,"Municipal","PUB "]
[null,null,null,"No.","Description ","Amount","Demand","Energy","Demand","Demand","Demand","Demand","Customer","Demand","Customer","Demand","Customer","Customer","Customer","Customer","Customer","Customer",null,null,null,null,null,null,"Description ",null,"Tax","Assessment",null,"Basis of Functional Classification"]
[null,null,null,null,null,"($)","($)","($)","($)","($)","($)","($)","($)","($)","($)","($)","($)","($)","($)","($)","($)","($)"]
[null,null,null,null,"Expenses",null,null,null,null,null,null,null,null,null,null,null,null,null,null,null,null,null,null,null,null,null,null,null,{"$f":"IF(ISBLANK(E286),\"\",E286)","v":"Expenses"}]
[null,null,null,{"$f":"MAX(D284:D286)+NoOne","v":1},"Operating & Maintenance",{"$f":"SUM(G287:AF287)","v":109154478.10200948},{"$f":"G$271","v":49279599.745704249},{"$f":"H$271","v":24671221.188248992},{"$f":"I$271","v":13541874.777141664},{"$f":"J$271","v":2187330.12832826},1056663.1375097886,6146821.0333436457,1602324.1720844489,397935.31340980961,704378.57415198989,861102.67143383715,963436.48549325787,367215.40615696972,449509.28557844117,137548.56347471513,3225220.6327882726,1209005.196761128,null,null,null,null,null,null,"Operating & Maintenance",null,{"$f":"AE$271","v":1313763.6542834595},{"$f":"AF$271","v":1039528.1361165345},null,{"$f":"\"Carryforward from Sch.2.4 L.\"&D271","v":"Carryforward from Sch.2.4 L.30"}]
[null,null,"FUEL1",2,"Fuels-No. 6 Fuel",221114563,{"$f":"$F288*'Schedule 4.1'!D24","v":0},{"$f":"$F288*'Schedule 4.1'!E24","v":221114563},0,0,0,0,0,0,0,0,0,0,0,0,0,0,null,null,null,null,null,null,"Fuels-No. 6 Fuel",null,0,0,null,{"$f":"+\"Production - Demand, Energy ratios Sch.4.1 L.\"&'Schedule 4.1'!$A$24","v":"Production - Demand, Energy ratios Sch.4.1 L.10"}]
[null,null,"FUEL2",3,"Fuels-Diesel",138012,{"$f":"$F289*'Schedule 4.1'!D$25","v":138012},{"$f":"$F289*'Schedule 4.1'!E$25","v":0},0,0,0,0,0,0,0,0,0,0,0,0,0,0,null,null,null,null,null,null,"Fuels-Diesel",null,0,0,null,{"$f":"+\"Production - Demand, Energy ratios Sch.4.1 L.\"&'Schedule 4.1'!$A$26","v":"Production - Demand, Energy ratios Sch.4.1 L.12"}]
[null,null,"FUEL3",4,"Fuels-Gas Turbine",12632138,{"$f":"$F290*'Schedule 4.1'!D$25","v":12632138},{"$f":"$F290*'Schedule 4.1'!E$25","v":0},0,0,0,0,0,0,0,0,0,0,0,0,0,0,null,null,null,null,null,null,"Fuels-Gas Turbine",null,0,0,null,{"$f":"+\"Production - Demand, Energy ratios Sch.4.1 L.\"&'Schedule 4.1'!$A$25","v":"Production - Demand, Energy ratios Sch.4.1 L.11"}]
[null,null,null,5,"Fuel Supply Deferral",0,{"$f":"IF(MarginalCostSwitch,0,$F291)","v":0},{"$f":"F291-G291","v":0},null,null,null,null,null,null,null,null,null,null,null,null,null,null,null,null,null,null,null,null,"Fuel Supply Deferral"]
[null,null,null,6,"Power Purchases -CF(L)Co",{"$f":"SUM(G292:AF292)","v":0},0,0,null,0,0,0,0,0,0,0,0,0,0,0,0,0,null,null,null,null,null,null,"Power Purchases -CF(L)Co",null,0,0]
[null,null,null,7,"Power Purchases-Other",62054740,{"$f":"'Schedules 4.2,4.3,4.4'!W26-'Schedules 4.2,4.3,4.4'!W23-'Schedules 4.2,4.3,4.4'!W24-'Schedules 4.2,4.3,4.4'!W25","v":23102570.078845982},{"$f":"'Schedules 4.2,4.3,4.4'!X26-'Schedules 4.2,4.3,4.4'!X24-'Schedules 4.2,4.3,4.4'!X23-'Schedules 4.2,4.3,4.4'!X25","v":38183108.921154022},0,{"$f":"'Schedules 4.2,4.3,4.4'!AA26-'Schedules 4.2,4.3,4.4'!AA23-'Schedules 4.2,4.3,4.4'!AA24","v":769061},0,0,0,0,0,0,0,0,0,0,0,0,null,null,null,null,null,null,"Power Purchases-Other",null,0,0,null,{"$f":"+\"Carryforward from Sch.4.4 L.\"&'Schedules 4.2,4.3,4.4'!T16 & \" - L.\"&'Schedules 4.2,4.3,4.4'!T22","v":"Carryforward from Sch.4.4 L.1 - L.7"}]
[null,null,null,8,"Power Purchases-MF",0,{"$f":"'Schedules 4.2,4.3,4.4'!W23","v":0},{"$f":"'Schedules 4.2,4.3,4.4'!X23","v":0},{"$f":"'Schedules 4.2,4.3,4.4'!Y23","v":0},null,null,null,null,null,null,null,null,null,null,null,null,null,null,null,null,null,null,null,"Power Purchases-MF",null,null,null,null,{"$f":"+\"Carryforward from Sch.4.4 L.\"&'Schedules 4.2,4.3,4.4'!T23","v":"Carryforward from Sch.4.4 L.8"}]
[null,null,null,9,"Power Purchases-LTA",0,{"$f":"'Schedules 4.2,4.3,4.4'!W24","v":0},{"$f":"'Schedules 4.2,4.3,4.4'!X24","v":0},{"$f":"'Schedules 4.2,4.3,4.4'!Y24","v":0},null,null,null,null,null,null,null,null,null,null,null,null,null,null,null,null,null,null,null,"Power Purchases-LTA",null,null,null,null,{"$f":"+\"Carryforward from Sch.4.4 L.\"&'Schedules 4.2,4.3,4.4'!T24","v":"Carryforward from Sch.4.4 L.9"}]
[null,null,null,10,"Power Purchases-LIL",0,{"$f":"'Schedules 4.2,4.3,4.4'!W25","v":0},{"$f":"'Schedules 4.2,4.3,4.4'!X25","v":0},{"$f":"'Schedules 4.2,4.3,4.4'!Y25","v":0},null,null,null,null,null,null,null,null,null,null,null,null,null,null,null,null,null,null,null,"Power Purchases-LIL",null,null,null,null,{"$f":"+\"Carryforward from Sch.4.4 L.\"&'Schedules 4.2,4.3,4.4'!T25","v":"Carryforward from Sch.4.4 L.10"}]
[null,null,null,11,"Depreciation",79898089.121001795,{"$f":"G$176","v":32262037.626569375},{"$f":"H$176","v":19341089.232523043},{"$f":"I$176","v":16105952.069013977},{"$f":"J$176","v":2866180.0262108818},598288.30575380579,3627689.1135389237,997725.80468781246,271192.14374595741,480032.63117359224,507018.18185730797,583296.27498579584,131101.45915971373,366658.94735976064,140137.57320492342,200460.62783801684,1419229.1033789276,null,null,null,null,null,null,"Depreciation",null,{"$f":"AE$176","v":0},{"$f":"AF$176","v":0},null,{"$f":"+\"Carryforward from Sch.2.5 L.\"&D176","v":"Carryforward from Sch.2.5 L.42"}]
[null,null,null,null,null,null,null,null,null,null,null,null,null,null,null,null,null,null,null,null,null,null,null,null,null,null,null,null,""]
[null,null,null,null,"Expense Credits",null,null,null,null,null,null,null,null,null,null,null,null,null,null,null,null,null,null,null,null,null,null,null,"Expense Credits"]
[null,null,null,{"$f":"MAX(D297:D299)+NoOne","v":12},"Sundry ",{"$f":"-AllocMisc!F26","v":-342483.44811588392},{"$f":"IF(SUM($G$271:$AF$271)<>0,$F300*(G$271/SUM($G$271:$AF$271)),0)","v":-154619.83361696565},{"$f":"IF(SUM($G$271:$AF$271)<>0,$F300*(H$271/SUM($G$271:$AF$271)),0)","v":-77408.504430617759},{"$f":"IF(SUM($G$271:$AF$271)<>0,$F300*(I$271/SUM($G$271:$AF$271)),0)","v":-42489.030668029125},{"$f":"IF(SUM($G$271:$AF$271)<>0,$F300*(J$271/SUM($G$271:$AF$271)),0)","v":-6862.974176996503},-3315.3897221981092,-19286.285813060171,-5027.4575720298226,-1248.5631431108236,-2210.0605220161119,-2701.7985631230863,-3022.8814733923896,-1152.1762614666243,-1410.3818071590229,-431.57282340887974,-10119.462824232824,-3793.3786664236832,null,null,null,null,null,null,"Sundry ",null,{"$f":"IF(SUM($G$271:$AF$271)<>0,$F300*(AE$271/SUM($G$271:$AF$271)),0)","v":-4122.0691459660784},{"$f":"IF(SUM($G$271:$AF$271)<>0,$F300*(AF$271/SUM($G$271:$AF$271)),0)","v":-3261.6268856871984},null,{"$f":"+\"Prorated on Total Operating & Maintenance Expenses - Sch 2.4 L.\"&$D$271","v":"Prorated on Total Operating & Maintenance Expenses - Sch 2.4 L.30"}]
[null,null,"EXPCR2",13,"Building Rental Income",-15600,{"$f":"$F301*G51/SUM($G$51:$AF$51)","v":-5237.224249157779},-3906.3054666525786,-3988.289825301445,-724.86948234363899,-147.39154281261114,-620.3665681531138,-161.71421655399874,-40.161534456240936,-71.08925351118549,-86.906598745449884,-97.234616543542245,-37.061134536827694,-43.666271337032718,-13.882058679489983,0,-423.83718121506195,null,null,null,null,null,null,"Building Rental Income",null,0,0,null,{"$f":"+\"Prorated on Production, Transmission & Distribution Plant - Sch.2.2 L.\"&D51","v":"Prorated on Production, Transmission & Distribution Plant - Sch.2.2 L.35"}]
[null,null,null,14,"Tax Refunds",{"$f":"-AllocMisc!F29","v":0},{"$f":"IF(SUM($G$271:$AF$271)<>0,$F302*(G$271/SUM($G$271:$AF$271)),0)","v":0},0,0,{"$f":"IF(SUM($G$271:$AF$271)<>0,$F302*(J$271/SUM($G$271:$AF$271)),0)","v":0},0,0,0,0,0,0,0,0,0,0,0,0,null,null,null,null,null,null,"Tax Refunds",null,{"$f":"IF(SUM($G$271:$AF$271)<>0,$F302*(AE$271/SUM($G$271:$AF$271)),0)","v":0},{"$f":"IF(SUM($G$271:$AF$271)<>0,$F302*(AF$271/SUM($G$271:$AF$271)),0)","v":0},null,{"$f":"+\"Prorated on Total Operating & Maintenance Expenses - Sch 2.4 L.\"&$D$271","v":"Prorated on Total Operating & Maintenance Expenses - Sch 2.4 L.30"}]
[null,null,null,15,"Suppliers' Discounts",{"$f":"-AllocMisc!F32","v":-29741.983652168867},-13427.511866736491,-6722.3174900273316,-3689.8368738025292,-595.99512589706478,-287.91542324352002,-1674.86166271312,-436.59499967627409,-108.42785190172943,-191.92630849087286,-234.62987521858383,-262.51339111039175,-100.05741217999632,-122.48052535854671,-37.47869255919219,-878.79545578863986,-329.42498945258302,null,null,null,null,null,null,"Suppliers' Discounts",null,{"$f":"IF(SUM($G$271:$AF$271)<>0,$F303*(AE$271/SUM($G$271:$AF$271)),0)","v":-357.96916267600159},{"$f":"IF(SUM($G$271:$AF$271)<>0,$F303*(AF$271/SUM($G$271:$AF$271)),0)","v":-283.24654533599352},null,{"$f":"+\"Prorated on Total Operating & Maintenance Expenses - Sch 2.4 L.\"&$D$271","v":"Prorated on Total Operating & Maintenance Expenses - Sch 2.4 L.30"}]
[null,null,"EXPCR5",16,"Pole Attachments",-1151878,{"$f":"$F304*'Schedule 4.1'!D67","v":0},{"$f":"$F304*'Schedule 4.1'!E67","v":0},{"$f":"$F304*'Schedule 4.1'!F67","v":0},{"$f":"$F304*'Schedule 4.1'!I67","v":0},{"$f":"$F304*'Schedule 4.1'!J67","v":0},{"$f":"$F304*'Schedule 4.1'!K67","v":-666186.33754400001},{"$f":"$F304*'Schedule 4.1'!L67","v":-227670.99045600003},{"$f":"$F304*'Schedule 4.1'!M67","v":0},{"$f":"$F304*'Schedule 4.1'!N67","v":0},{"$f":"$F304*'Schedule 4.1'!O67","v":-117915.44710399999},{"$f":"$F304*'Schedule 4.1'!P67","v":-140105.22489600003},{"$f":"$F304*'Schedule 4.1'!Q67","v":0},{"$f":"$F304*'Schedule 4.1'!R67","v":0},{"$f":"$F304*'Schedule 4.1'!S67","v":0},{"$f":"$F304*'Schedule 4.1'!T67","v":0},{"$f":"$F304*'Schedule 4.1'!U67","v":0},null,null,null,null,null,null,"Pole Attachments",null,0,0,null,{"$f":"+\"Prorated on Distribution Poles - Sch.4.1 L.\"&'Schedule 4.1'!$A$67","v":"Prorated on Distribution Poles - Sch.4.1 L.37"}]
[null,null,"EXPCR6",17,"Secondary Energy ",0,0,{"$f":"F305","v":0},0,0,0,0,0,0,0,0,0,0,0,0,0,0,null,null,null,null,null,null,"Secondary Energy ",null,0,0,null,"Production - Energy"]
[null,null,"EXPCR7",18,"Wheeling Revenues",0,{"$f":"$F306*'Schedule 4.1'!D$36","v":0},{"$f":"$F306*'Schedule 4.1'!E$36","v":0},{"$f":"$F306*'Schedule 4.1'!F$36","v":0},{"$f":"$F306*'Schedule 4.1'!I$36","v":0},{"$f":"$F306*'Schedule 4.1'!J$36","v":0},{"$f":"$F306*'Schedule 4.1'!K$36","v":0},{"$f":"$F306*'Schedule 4.1'!L$36","v":0},{"$f":"$F306*'Schedule 4.1'!M$36","v":0},{"$f":"$F306*'Schedule 4.1'!N$36","v":0},{"$f":"$F306*'Schedule 4.1'!O$36","v":0},{"$f":"$F306*'Schedule 4.1'!P$36","v":0},{"$f":"$F306*'Schedule 4.1'!Q$36","v":0},{"$f":"$F306*'Schedule 4.1'!R$36","v":0},{"$f":"$F306*'Schedule 4.1'!S$36","v":0},{"$f":"$F306*'Schedule 4.1'!T$36","v":0},{"$f":"$F306*'Schedule 4.1'!U$36","v":0},null,null,null,null,null,null,"Wheeling Revenues",null,0,0,null,"Transmission - Demand"]
[null,null,"EXPCR8",19,"Application Fees",-12200,0,0,0,0,0,0,0,0,0,0,0,0,0,0,{"$f":"+F307","v":-12200},0,null,null,null,null,null,null,"Application Fees",null,0,0,null,"Accounting - Customer"]
[null,null,null,20,"Meter Test Revenues",{"$f":"-AllocMisc!F38","v":0},0,0,0,0,0,0,0,0,0,0,0,0,{"$f":"+F308","v":0},0,0,0,null,null,null,null,null,null,"Meter Test Revenues",null,0,0,null,"Meters - Customer"]
[{"$f":"SUM(G309:AF309)-F309","v":0},null,null,21,"    Total Expense Credits",{"$f":"SUM(F300:F308)","v":-1551903.4317680527},{"$f":"SUM(G300:G308)","v":-173284.56973285993},{"$f":"SUM(H300:H308)","v":-88037.127387297674},{"$f":"SUM(I300:I308)","v":-50167.157367133099},{"$f":"SUM(J300:J308)","v":-8183.838785237207},-3750.6966882542401,-687767.85158792639,-233296.75724426014,-1397.152529468794,-2473.0760840181706,-120938.78214108711,-143487.85437704634,-1289.2948081834484,-1576.5286038546021,-482.93357464756195,-23198.258280021466,-4546.6408370913277,null,null,null,null,null,null,"    Total Expense Credits",null,{"$f":"SUM(AE300:AE308)","v":-4480.0383086420798},{"$f":"SUM(AF300:AF308)","v":-3544.8734310231921}]
[null,null,null,null,null,null,null,null,null,null,null,null,null,null,null,null,null,null,null,null,null,null,null,null,null,null,null,null,""]
[{"$f":"SUM(G311:AF311)-F311","v":0},null,null,{"$f":"MAX(D308:D310)+NoOne","v":22},"Subtotal Expenses",{"$f":"SUM(F309,F287:F297)","v":483440116.7912432},{"$f":"SUM(G309,G287:G297)","v":117241072.88138674},{"$f":"SUM(H309,H287:H297)","v":303221945.21453875},{"$f":"SUM(I309,I287:I297)","v":29597659.688788511},{"$f":"SUM(J309,J287:J297)","v":5814387.3157539051},1651200.7465753402,9086742.2952946424,2366753.2195280013,667730.30462629814,1181938.1292415638,1247182.0711500579,1403244.9061020073,497027.57050849998,814591.70433434728,277203.203104991,3402483.0023462679,2623687.6593029643,null,null,null,null,null,null,"Subtotal Expenses",null,{"$f":"SUM(AE309,AE287:AE297)","v":1309283.6159748174},{"$f":"SUM(AF309,AF287:AF297)","v":1035983.2626855113}]
[null,null,null,null,null,null,null,null,null,null,null,null,null,null,null,null,null,null,null,null,null,null,null,null,null,null,null,null,""]
[null,null,"DISGL",{"$f":"MAX(D310:D312)+NoOne","v":23},"Disposal Gain / Loss",0,{"$f":"IF(SUM($G$116:$V$116)<>0,$F313*(G$116/SUM($G$116:$V$116)),0)","v":0},0,0,0,0,0,0,0,0,0,0,0,0,0,0,0,null,null,null,null,null,null,"Disposal Gain / Loss",null,{"$f":"IF(SUM($G$116:$V$116)<>0,$F313*(AE$116/SUM($G$116:$V$116)),0)","v":0},{"$f":"IF(SUM($G$116:$V$116)<>0,$F313*(AF$116/SUM($G$116:$V$116)),0)","v":0},null,{"$f":"+\"Prorated on Total Net Book Value - Sch.2.3 L.\"&$D$116","v":"Prorated on Total Net Book Value - Sch.2.3 L.42"}]
[{"$f":"SUM(G314:AF314)-F314","v":0},null,null,{"$f":"MAX(D311:D313)+NoOne","v":24},"Subtotal Revenue Requirement  Ex. Return",{"$f":"SUM(F311,F313)","v":483440116.7912432},{"$f":"SUM(G311,G313)","v":117241072.88138674},{"$f":"SUM(H311,H313)","v":303221945.21453875},{"$f":"SUM(I311,I313)","v":29597659.688788511},{"$f":"SUM(J311,J313)","v":5814387.3157539051},1651200.7465753402,9086742.2952946424,2366753.2195280013,667730.30462629814,1181938.1292415638,1247182.0711500579,1403244.9061020073,497027.57050849998,814591.70433434728,277203.203104991,3402483.0023462679,2623687.6593029643,null,null,null,null,null,null,"Subtotal Revenue Requirement  Ex. Return",null,{"$f":"SUM(AE311,AE313)","v":1309283.6159748174},{"$f":"SUM(AF311,AF313)","v":1035983.2626855113}]
[null,null,null,null,null,null,null,null,null,null,null,null,null,null,null,null,null,null,null,null,null,null,null,null,null,null,null,null,""]
[null,null,null,{"$f":"MAX(D313:D315)+NoOne","v":25},"Return on Debt",{"$f":"SUM(G316:AF316)","v":84767028.678827539},{"$f":"+G215","v":26800429.018153738},23554814.330722131,23675010.240825839,3028747.1476076259,630828.67308993742,2814865.2634652378,755360.59179082629,191189.95407811707,338422.10708010197,390918.99457487342,442175.24020863033,129742.65131698552,221707.60351501327,46740.062802582746,128206.5971750405,1617870.2024208412,null,null,null,null,null,null,"Return on Debt",null,0,0,null,{"$f":"+\"Prorated on Rate Base - Sch.2.6 L.\"&$D$209","v":"Prorated on Rate Base - Sch.2.6 L.9"}]
[null,null,null,{"$f":"MAX(D314:D316)+NoOne","v":26},"Return on Equity",{"$f":"SUM(G317:AF317)","v":34428030.544837445},{"$f":"+G217","v":10884963.213087194},9566760.5659348574,9615577.9956467543,1230122.1469671424,256210.33512909073,1143254.2673798904,306788.82971200021,77651.578466989013,137449.74692633236,158771.29699536666,179588.9618091085,52694.827601348399,90046.286448920786,18983.422386219201,52070.960990218548,657096.1093560122,null,null,null,null,null,null,"Return on Equity",null,0,0,null,{"$f":"+\"Prorated on Rate Base - Sch.2.6 L.\"&$D$213","v":"Prorated on Rate Base - Sch.2.6 L.11"}]
[null,null,null,null,null,null,null,null,null,null,null,null,null,null,null,null,null,null,null,null,null,null,null,null,null,null,null,null,""]
[{"$f":"SUM(G319:AF319)-F319","v":0},null,null,{"$f":"MAX(D316:D318)+NoOne","v":27},"Total Revenue Reqmt",{"$f":"SUM(F311,F316,F313,F317)","v":602635176.01490819},{"$f":"SUM(G311,G316,G313,G317)","v":154926465.11262769},{"$f":"SUM(H311,H316,H313,H317)","v":336343520.11119574},{"$f":"SUM(I311,I316,I313,I317)","v":62888247.925261103},{"$f":"SUM(J311,J316,J313,J317)","v":10073256.610328674},2538239.7547943681,13044861.82613977,3428902.641030828,936571.83717140416,1657809.9832479982,1796872.3627202981,2025009.1081197462,679465.04942683387,1126345.5942982812,342926.68829379295,3582760.5605115267,4898653.971079818,null,null,null,null,null,null,"Total Revenue Reqmt",null,{"$f":"SUM(AE311,AE316,AE313,AE317)","v":1309283.6159748174},{"$f":"SUM(AF311,AF316,AF313,AF317)","v":1035983.2626855113}]
[null,null,null,null,null," "]
[null,null,null,null,"NBV for Margin Allocation"]
[null,null,null,null,{"$f":"+\"Rural Allocation=\"&IF(RuralMarginSwitch=0,\"Full\",\"Partial\")","v":"Rural Allocation=Full"},{"$f":"SUM(G322:V322)","v":1927122840.0911999},{"$f":"G116","v":625204752.00447297},{"$f":"H116","v":491594791.72721386},{"$f":"I116","v":558417140.15568864},{"$f":"IF(RuralMarginSwitch=1,0,J116)","v":71072875.321318045},14798575.317890272,66070044.162438042,17738453.984673046,4491211.9703959702,7949818.4185125344,9174200.8777575716,10379060.583248837,3029717.8051017453,5213111.026341307,1090485.6931017642,2996442.1682942132,{"$f":"V116","v":37902158.874750979}]
[]
[null,null,"RSPLINWO",null,"Include RSP w/ Fuel on an fallout yr basis",0]
[]
[]
[]
[]
[]
[null,null,null,null,null,null,null,null,null,null,null,null,null,null,null,null,null,null,null,null,null,"Schedule 3.1A",null,null,null,null,null,null,null,null,null,null,null,null,{"$f":"+V330","v":"Schedule 3.1A"}]
[null,null,null,null,null,null,null,null,null,null,null,null,null,null,null,null,null,null,null,null,null,"Page 1 of 2",null,null,null,null,null,null,null,null,null,null,null,null,"Page 2 of 2"]
[]
[null,null,null,{"$f":"D5","v":"NEWFOUNDLAND AND LABRADOR HYDRO"},null,null,null,null,null,null,null,null,null,null,null,null,null,null,null,null,null,null,null,null,null,null,"NEWFOUNDLAND & LABRADOR HYDRO"]
[null,null,null,{"$f":"D6","v":"2019 Test Year Cost of Service Study"},null,null,null,null,null,null,null,null,null,null,null,null,null,null,null,null,null,null,null,null,null,null,{"$f":"RunName","v":"2019 Test Year Cost of Service Study"}]
[null,null,null,{"$f":"$B$1","v":"Island Interconnected"},null,null,null,null,null,null,null,null,null,null,null,null,null,null,null,null,null,null,null,null,null,null,{"$f":"$B$1","v":"Island Interconnected"}]
[null,null,null,"Basis of Allocation to Classes of Service",null,null,null,null,null,null,null,null,null,null,null,null,null,null,null,null,null,null,null,null,null,null,{"$f":"+D336&\" (CONT'D.)\"","v":"Basis of Allocation to Classes of Service (CONT'D.)"}]
[]
[null,null,null,null,{"$f":"MAX(D338)+NoOne","v":1},2,3,4,5,6,7,8,9,10,11,12,13,14,15,16,17,18,null,null,null,null,null,null,{"$f":"MAX(AB338)+NoOne","v":1},null,{"$f":"MAX(V338)+NoOne","v":19},{"$f":"MAX(AE338)+NoOne","v":20}]
[null,null,null,null,null,null,null,null,null,"Rural Prod &","Distribution",null,null,null,null,null,null,null,null,null,null,"Specifically",null,null,null,null,null,null,null,null,"Revenue Related"]
[null,null,null,"Line",null,"Total","Production","Production","Transmission","Transmission","Substations","Primary Lines",null,"Line Transformers",null,"Secondary Lines",null,"Services","Meters","Street Lighting","Accounting","Assigned",null,null,null,null,null,null,null,null,"Municipal","PUB "]
[null,null,null,"No.","Description ","Amount","Demand","Energy","Demand","Demand","Demand","Demand","Customer","Demand","Customer","Demand","Customer","Customer","Customer","Customer","Customer","Customer",null,null,null,null,null,null,"Description ",null,"Tax","Assessment"]
[null,null,null,null,null,null,null,null,null,null,null,null,null,null,null,null,null,null,null,null,null,null,null,null,null,null,null,null,null,null,"(Prior Year","(Prior Year"]
[null,null,null," ",null,null,"(1 CP kW)","(MWh @ Gen)","(CP kW)","(CP kW)","(CP kW)","(CP kW)","(Rural Cust)","(CP kW)","(Rural Cust)","(CP kW)","(Rural Cust)","(Wtd Rural Cust)  ",null,null,"(Rural Cust)",null,null,null,null,null,null,null,{"$f":"IF(ISBLANK(E343),\"\",E343)","v":""},null,"(Rural Revenues)","(Revenues + RSP)"]
[null,null,null,null," ",null,null,null,null,null,null,null,null,null,null,null,null,null,null,null,null,null,null,null,null,null,null,null," "]
[null,null,null,null,"Amounts",null,null,null,null,null,null,null,null,null,null,null,null,null,null,null,null,null,null,null,null,null,null,null,"Amounts"]
[null,null,"ISLINTNP",{"$f":"MAX(D343:D345)+NoOne","v":1},"Newfoundland Power","-",1297608.198255355,6005327.8242558762,1288105.1732194375,0,0,0,0,0,0,0,0,{"$f":"Customers!F29","v":0},{"$f":"Customers!G29","v":0},0,0,0,null,null,null,null,null,null,"Newfoundland Power",null,0,494775786.07999998]
[null,null,"ISLINTINDF",{"$f":"MAX(D344:D346)+NoOne","v":2},"Industrial - Firm","-",87825.411188008104,765181.04974105058,84920,0,0,0,0,0,0,0,0,{"$f":"Customers!F30","v":0},{"$f":"Customers!G30","v":0},0,0,0,null,null,null,null,null,null,"Industrial - Firm",null,0,37423579.840000004]
[null,null,"ISLINTINDNF",{"$f":"MAX(D345:D347)+NoOne","v":3},"Industrial - Non-Firm","-",0,0,0,0,0,0,0,0,0,0,0,{"$f":"Customers!F31","v":0},{"$f":"Customers!G31","v":0},0,0,0,null,null,null,null,null,null,"Industrial - Non-Firm",null,0,0]
[null,null,null," ","Rural"," ",null,null,null,null,null,null,null,null,null,null,null,null,null,null,null,null,null,null,null,null,null,null,"Rural"]
[null,null,"ISLINT1.1",{"$f":"MAX(D347:D349)+NoOne","v":4},"1.1 Domestic","-",28436.173449616959,117404.27698408382,27495.45737021491,27495.45737021491,26082.640998763356,26082.640998763356,{"$f":"Customers!$D32","v":11410},23988.546093058983,{"$f":"Customers!$D32","v":11410},23988.546093058983,{"$f":"Customers!$D32","v":11410},{"$f":"Customers!F32","v":11410},{"$f":"Customers!G32","v":11410},0,{"$f":"Customers!$D32","v":11410},0,null,null,null,null,null,null,"1.1 Domestic",null,14212917.848101061,14212917.848101061]
[null,null,"ISLINT1.12",5,"1.12 Domestic All Electric ","-",34544.595643026005,159835.50771633626,33401.802762140891,33401.802762140891,31685.496932310663,31685.496932310663,{"$f":"Customers!$D33","v":8528.5},29141.565981690699,{"$f":"Customers!$D33","v":8528.5},29141.565981690699,{"$f":"Customers!$D33","v":8528.5},{"$f":"Customers!F33","v":8528.5},{"$f":"Customers!G33","v":8528.5},0,{"$f":"Customers!$D33","v":8528.5},0,null,null,null,null,null,null,"1.12 Domestic All Electric ",null,17933704.416061431,17933704.416061431]
[null,null,"ISLINT1.3",6,"1.3 Special","-",126.35625104569534,387.80328933791264,122.17617536489909,122.17617536489909,115.89832013838986,115.89832013838986,{"$f":"Customers!$D34","v":1},106.59320100597517,{"$f":"Customers!$D34","v":1},106.59320100597517,{"$f":"Customers!$D34","v":1},{"$f":"Customers!F34","v":1},{"$f":"Customers!G34","v":1},0,{"$f":"Customers!$D34","v":1},0,null,null,null,null,null,null,"1.3 Special",null,20857.389000000003,20857.389000000003]
[null,null,"ISLINT2.1",7,"2.1 GS 0-10 kW","-",14652.511549832252,82886.737231625317,14167.782011838204,14167.782011838204,13439.789961952714,13439.789961952714,{"$f":"Customers!$D35","v":2858},12360.750623321464,{"$f":"Customers!$D35","v":2858},12360.750623321464,{"$f":"Customers!$D35","v":2858},{"$f":"Customers!F35","v":13633.017775396853},{"$f":"Customers!G35","v":13633.017775396853},0,{"$f":"Customers!$D35","v":2858},0,null,null,null,null,null,null,"2.1 GS 0-10 kW",null,9586586.0057495963,9586586.0057495963]
[null,null,"ISLINT2.2",8,"2.2 GS 10-100 kW","-",0,0,0,0,0,0,{"$f":"Customers!$D36","v":0},0,{"$f":"Customers!$D36","v":0},0,{"$f":"Customers!$D36","v":0},{"$f":"Customers!F36","v":0},{"$f":"Customers!G36","v":0},0,{"$f":"Customers!$D36","v":0},0,null,null,null,null,null,null,"2.2 GS 10-100 kW",null,0,0]
[null,null,"ISLINT2.3",9,"2.3 GS 110-1,000 kVa","-",9373.3807003744823,62152.291871705624,9063.293622068315,9063.293622068315,8597.5887081212713,8597.5887081212713,{"$f":"Customers!$D37","v":93.5},7873.9122584780926,{"$f":"Customers!$D37","v":93.5},7873.9122584780926,{"$f":"Customers!$D37","v":93.5},{"$f":"Customers!F37","v":787.21685039881925},{"$f":"Customers!G37","v":787.21685039881925},0,{"$f":"Customers!$D37","v":93.5},0,null,null,null,null,null,null,"2.3 GS 110-1,000 kVa",null,6310222.9656907627,6310222.9656907627]
[null,null,"ISLINT2.4",10,"2.4 GS Over 1,000 kVa","-",4614.3276428109903,38248.822071551076,4461.6779827956361,4461.6779827956361,4232.4207781103614,4232.4207781103614,{"$f":"Customers!$D38","v":9},2781.2340626624364,{"$f":"Customers!$D38","v":9},2781.2340626624364,{"$f":"Customers!$D38","v":9},{"$f":"Customers!F38","v":75.774883995608278},{"$f":"Customers!G38","v":75.774883995608278},0,{"$f":"Customers!$D38","v":9},0,null,null,null,null,null,null,"2.4 GS Over 1,000 kVa",null,3379014.6797008812,3379014.6797008812]
[null,null,"ISLINT4.1",11,"4.1 Street and Area Lighting","-",790.66599606812099,3147.3890149163926,764.50944524894817,764.50944524894817,725.22617580433382,725.22617580433382,{"$f":"Customers!$D39","v":953},667,{"$f":"Customers!$D39","v":953},667,{"$f":"Customers!$D39","v":953},{"$f":"Customers!F39","v":0},{"$f":"Customers!G39","v":0},1,{"$f":"Customers!$D39","v":953},0,null,null,null,null,null,null,"4.1 Street and Area Lighting",null,1039403.2655999999,1039403.2655999999]
[null,null,null,12,"    Subtotal Rural","-",{"$f":"SUM(G350:G357)","v":92538.01123277453},464062.82817955635,89476.699369671798,89476.699369671798,84879.061875201078,84879.061875201078,{"$f":"SUM(M350:M357)","v":23853},76919.602220217639,23853,76919.602220217639,23853,34435.509509791285,34435.509509791285,1,23853,0,null,null,null,null,null,null,"    Subtotal Rural",null,{"$f":"SUM(AE350:AE357)","v":52482706.569903731},{"$f":"SUM(AF350:AF357)","v":52482706.569903731}]
[null,null,null,null,null,null,null,null,null,null,null,null,null,null,null,null,null,null,null,null,null,null,null,null,null,null,null,null,""]
[null,null,null,{"$f":"MAX(D357:D359)+NoOne","v":13},"      Total","-",{"$f":"SUM(G358,G346:G348)","v":1477971.6206761375},7234571.7021764824,1462501.8725891092,89476.699369671798,84879.061875201078,84879.061875201078,23853,76919.602220217639,23853,76919.602220217639,23853,34435.509509791285,34435.509509791285,1,23853,0,null,null,null,null,null,null,"      Total",null,{"$f":"SUM(AE358,AE346:AE348)","v":52482706.569903731},{"$f":"SUM(AF358,AF346:AF348)","v":584682072.48990381}]
[null,null,null,null,null,null,null,null,null,null,null,null,null,null,null,null,null,null,null,null,null,null,null,null,null,null,null,null,""]
[null,null,null,null,"Ratios Excluding Return on Equity",null,null,null,null,null,null,null,null,null,null,null,null,null,null,null,null,null,null,null,null,null,null,null,"Ratios Excluding Return on Equity"]
[null,null,null,{"$f":"MAX(D360:D362)+NoOne","v":14},{"$f":"+E346","v":"Newfoundland Power"},"-",{"$f":"IF(G$360<>0,G346/G$360,0)","v":0.87796557126159802},0.83008753959121107,{"$f":"IF(I$360<>0,I346/I$360,0)","v":0.88075454627560079},{"$f":"IF(J$360<>0,J346/J$360,0)","v":0},0,0,0,0,0,0,0,0,0,0,0,0,null,null,null,null,null,null,"Newfoundland Power",null,{"$f":"IF(AE$360<>0,AE346/AE$360,0)","v":0},0.84623047184082023]
[null,null,null,{"$f":"MAX(D361:D363)+NoOne","v":15},"Industrial - Firm","-",{"$f":"IF(G$360<>0,G347/G$360,0)","v":5.9422934756913688E-2},0.10576729089724135,{"$f":"IF(I$360<>0,I347/I$360,0)","v":5.8064882918518031E-2},{"$f":"IF(J$360<>0,J347/J$360,0)","v":0},0,0,0,0,0,0,0,0,0,0,0,0,null,null,null,null,null,null,"Industrial - Firm",null,0,6.4006716813856515E-2]
[null,null,null,{"$f":"MAX(D362:D364)+NoOne","v":16},"Industrial - Non-Firm","-",{"$f":"IF(G$360<>0,G348/G$360,0)","v":0},{"$f":"IF(H$360<>0,H348/H$360,0)","v":0},{"$f":"IF(I$360<>0,I348/I$360,0)","v":0},{"$f":"IF(J$360<>0,J348/J$360,0)","v":0},0,0,0,0,0,0,0,0,0,0,0,0,null,null,null,null,null,null,"Industrial - Non-Firm",null,0,0]
[null,null,null,null,"Rural"," ",null,null,null,null,null,null,null,null,null,null,null,null,null,null,null,null,null,null,null,null,null,null,"Rural"]
[null,null,null,{"$f":"MAX(D364:D366)+NoOne","v":17},"1.1 Domestic","-",{"$f":"IF(G$360<>0,G350/G$360,0)","v":1.9239999639917359E-2},1.6228227712327927E-2,{"$f":"IF(I$360<>0,I350/I$360,0)","v":1.8800288659828454E-2},{"$f":"IF(J$360<>0,J350/J$360,0)","v":0.30729181523133514},0.3072918152313352,0.3072918152313352,0.47834653921938541,0.3118651865148856,0.47834653921938541,0.3118651865148856,0.47834653921938541,0.33134401559401105,0.33134401559401105,0,0.47834653921938541,0,null,null,null,null,null,null,"1.1 Domestic",null,{"$f":"IF(AE$360<>0,AE350/AE$360,0)","v":0.27081144965666604},2.4308797065684767E-2]
[null,null,null,18,"1.12 Domestic All Electric ","-",2.3372976287070153E-2,2.2093292360106209E-2,2.2838810252604133E-2,{"$f":"IF(J$360<>0,J351/J$360,0)","v":0.37330168633223476},0.37330168633223482,0.37330168633223482,0.35754412442879302,0.37885747118477814,0.35754412442879302,0.37885747118477814,0.35754412442879302,0.24766585775578645,0.24766585775578645,0,0.35754412442879302,0,null,null,null,null,null,null,"1.12 Domestic All Electric ",null,0.34170692763672245,3.067257448084507E-2]
[null,null,null,19,"1.3 Special","-",8.5493015750796558E-5,5.3604180772891377E-5,8.353915824299568E-5,{"$f":"IF(J$360<>0,J352/J$360,0)","v":1.3654524163897669E-3},1.3654524163897671E-3,1.3654524163897671E-3,4.1923447784345781E-5,1.3857742100746081E-3,4.1923447784345781E-5,1.3857742100746081E-3,4.1923447784345781E-5,2.9039791024891416E-5,2.9039791024891416E-5,0,4.1923447784345781E-5,0,null,null,null,null,null,null,"1.3 Special",null,3.974145078097153E-4,3.5673043490417887E-5]
[null,null,null,20,"2.1 GS 0-10 kW","-",9.9139329503018948E-3,1.1457034451215582E-2,9.6873599120639552E-3,{"$f":"IF(J$360<>0,J353/J$360,0)","v":0.15834046306630289},0.15834046306630289,0.15834046306630289,0.11981721376766025,0.16069701697017552,0.11981721376766025,0.16069701697017552,0.11981721376766025,0.39589998723615466,0.39589998723615466,0,0.11981721376766025,0,null,null,null,null,null,null,"2.1 GS 0-10 kW",null,0.18266180676068705,1.6396237300255405E-2]
[null,null,null,21,"2.2 GS 10-100 kW","-",0,0,0,{"$f":"IF(J$360<>0,J354/J$360,0)","v":0},0,0,0,0,0,0,0,0,0,0,0,0,null,null,null,null,null,null,"2.2 GS 10-100 kW",null,0,0]
[null,null,null,22,"2.3 GS 110-1,000 kVa","-",6.342057296124793E-3,8.5910119396573875E-3,6.197115909344653E-3,{"$f":"IF(J$360<>0,J355/J$360,0)","v":0.101292221169485},0.10129222116948502,0.10129222116948502,3.9198423678363306E-3,0.10236548332550405,3.9198423678363306E-3,0.10236548332550405,3.9198423678363306E-3,2.286061282685492E-2,2.286061282685492E-2,0,3.9198423678363306E-3,0,null,null,null,null,null,null,"2.3 GS 110-1,000 kVa",null,0.12023432818362625,1.0792571317978502E-2]
[null,null,null,23,"2.4 GS Over 1,000 kVa","-",3.1220678247529834E-3,5.2869504438036218E-3,3.0507160820908894E-3,{"$f":"IF(J$360<>0,J356/J$360,0)","v":4.986413238559765E-2},4.9864132385597656E-2,4.9864132385597656E-2,3.7731103005911207E-4,3.6157676097958467E-2,3.7731103005911207E-4,3.6157676097958467E-2,3.7731103005911207E-4,2.2004867961678536E-3,2.2004867961678536E-3,0,3.7731103005911207E-4,0,null,null,null,null,null,null,"2.4 GS Over 1,000 kVa",null,6.4383392178912147E-2,5.7792342859276386E-3]
[null,null,null,24,"4.1 Street and Area Lighting","-",5.3496696757033115E-4,4.3504842366404601E-4,5.2274083170609218E-4,{"$f":"IF(J$360<>0,J357/J$360,0)","v":8.544229398654811E-3},8.544229398654811E-3,8.544229398654811E-3,3.9953045738481532E-2,8.6713916966237887E-3,3.9953045738481532E-2,8.6713916966237887E-3,3.9953045738481532E-2,0,0,1,3.9953045738481532E-2,0,null,null,null,null,null,null,"4.1 Street and Area Lighting",null,1.9804681075576369E-2,1.7777238511412512E-3]
[null,null,null,25,"    Subtotal Rural","-",6.2611493981488325E-2,6.4145169511547653E-2,6.1180570805881171E-2,{"$f":"IF(J$360<>0,J358/J$360,0)","v":1},1,1,1,1,1,1,1,1,1,1,1,0,null,null,null,null,null,null,"    Subtotal Rural",null,1,8.9762811345323046E-2]
[null,null,null,null,null,null,null,null,null,null,null,null,null,null,null,null,null,null,null,null,null,null,null,null,null,null,null,null,""]
[null,null,null,{"$f":"MAX(D374:D376)+NoOne","v":26},"      Total","-",{"$f":"SUM(G375,G363:G365)","v":1},{"$f":"SUM(H375,H363:H365)","v":1},{"$f":"SUM(I375,I363:I365)","v":1},{"$f":"SUM(J375,J363:J365)","v":1},1,1,1,1,1,1,1,1,1,1,1,0,null,null,null,null,null,null,"      Total",null,{"$f":"SUM(AE375,AE363:AE365)","v":1},{"$f":"SUM(AF375,AF363:AF365)","v":0.99999999999999978}]
[]
[]
[]
[]
[]
[]
[]
[]
[null,null,null,null,null,null,null,null,null,null,null,null,null,null,null,null,null,null,null,null,null,"Schedule 3.2A",null,null,null,null,null,null,null,null,null,null,null,null,{"$f":"+V386","v":"Schedule 3.2A"}]
[null,null,null,null,null,null,null,null,null,null,null,null,null,null,null,null,null,null,null,null,null,"Page 1 of 4",null,null,null,null,null,null,null,null,null,null,null,null,"Page 2 of 4"]
[null,null,null,{"$f":"$D$5","v":"NEWFOUNDLAND AND LABRADOR HYDRO"},null,null,null,null,null,null,null,null,null,null,null,null,null,null,null,null,null,null,null,null,null,null,"NEWFOUNDLAND & LABRADOR HYDRO"]
[null,null,null,{"$f":"$D$6","v":"2019 Test Year Cost of Service Study"},null,null,null,null,null,null,null,null,null,null,null,null,null,null,null,null,null,null,null,null,null,null,{"$f":"RunName","v":"2019 Test Year Cost of Service Study"}]
[null,null,null,{"$f":"$B$1","v":"Island Interconnected"},null,null,null,null,null,null,null,null,null,null,null,null,null,null,null,null,null,null,null,null,null,null,{"$f":"$B$1","v":"Island Interconnected"}]
[null,null,null,"Allocation of Functionalized Amounts to Classes of Service",null,null,null,null,null,null,null,null,null,null,null,null,null,null,null,null,null,null,null,null,null,null,{"$f":"+D391&\" (CONT'D.)\"","v":"Allocation of Functionalized Amounts to Classes of Service (CONT'D.)"}]
[null,null,null,null,{"$f":"MAX(D392)+NoOne","v":1},2,3,4,5,6,7,8,9,10,11,12,13,14,15,16,17,18,null,null,null,null,null,null,{"$f":"MAX(AB392)+NoOne","v":1},null,{"$f":"MAX(V392)+NoOne","v":19},{"$f":"MAX(AE392)+NoOne","v":20}]
[null,null,null,null,null,null,null,null,null,"Rural Prod &","Distribution",null,null,null,null,null,null,null,null,null,null,"Specifically",null,null,null,null,null,null,null,null,"Revenue Related"]
[null,null,null,"Line",null,"Total","Production","Production","Transmission","Transmission","Substations","Primary Lines",null,"Line Transformers",null,"Secondary Lines",null,"Services","Meters","Street Lighting","Accounting","Assigned",null,null,null,null,null,null,null,null,"Municipal","PUB "]
[null,null,null,"No.","Description ","Amount","Demand","Energy","Demand","Demand","Demand","Demand","Customer","Demand","Customer","Demand","Customer","Customer","Customer","Customer","Customer","Customer",null,null,null,null,null,null,"Description ",null,"Tax","Assessment"]
[null,null,null,null,"Allocated Rev Reqmt Excl Return",null,"($)","($)","($)","($)","($)","($)","($)","($)","($)","($)","($)","($)","($)","($)","($)","($)",null,null,null,null,null,null,{"$f":"IF(ISBLANK(E396),\"\",E396)","v":"Allocated Rev Reqmt Excl Return"},null,null,"($)"]
[null,null,null,{"$f":"MAX(D394:D396)+NoOne","v":1},"Newfoundland Power",{"$f":"SUM(G397:AF397)","v":383518819.38538587},{"$f":"G363*G$314","v":102933625.52762936},251700758.45319748,26068273.330018565,{"$f":"J363*J$314","v":0},0,0,0,0,0,0,0,0,0,0,0,{"$f":"R536","v":1939481.4693389232},null,null,null,null,null,null,"Newfoundland Power",null,{"$f":"AE363*AE$314","v":0},876680.60520155262]
[null,null,null,{"$f":"MAX(D395:D397)+NoOne","v":2},"Industrial - Firm",{"$f":"SUM(G398:AF398)","v":41506873.032368995},6966808.6246612072,32070963.685933501,1718584.6444916457,{"$f":"J364*J$314","v":0},0,0,0,0,0,0,0,0,0,0,0,{"$f":"R544","v":684206.18996404076},null,null,null,null,null,null,"Industrial - Firm",null,0,66309.887318606648]
[null,null,null,{"$f":"MAX(D396:D398)+NoOne","v":3},"Industrial - Non-Firm",{"$f":"SUM(G399:AF399)","v":0},0,0,0,{"$f":"J365*J$314","v":0},0,0,0,0,0,0,0,0,0,0,0,{"$f":"IF(V$360<>0,(V$314/V$360)*V$350,0)","v":0},null,null,null,null,null,null,"Industrial - Non-Firm",null,0,0]
[null,null,null,null,"Rural",null," "," "," "," "," "," "," "," "," "," "," "," "," "," "," ",null,null,null,null,null,null,null,"Rural",null," "," "]
[null,null,null,{"$f":"MAX(D398:D400)+NoOne","v":4},"1.1 Domestic",{"$f":"SUM(G401:AF401)","v":18227164.904561501},{"$f":"G367*G$314","v":2255718.2000214057},4920754.7743165586,556444.54580459243,{"$f":"J367*J$314","v":1786713.6327160676},507400.47472647217,2792281.5344604398,1132128.2117475579,208241.83599392185,565376.01369413675,388952.66923723416,671237.34451112663,164687.11107322184,269910.08638371201,0,1627565.9689251212,{"$f":"IF(V$360<>0,(V$314/V$360)*V$350,0)","v":0},null,null,null,null,null,null,"1.1 Domestic",null,{"$f":"AE367*AE$314","v":354568.99405386194},25183.506896068087]
[null,null,null,5,"1.12 Domestic All Electric ",20810995.317753382,2740272.8163273158,6699171.0856249128,675975.33355339104,{"$f":"J368*J$314","v":2170520.5899596885},616396.02316961961,3392096.2220999319,846218.7076151662,252974.61464416087,422595.03354868054,472504.24558290502,501721.97131140606,123096.75957826228,201746.55317471409,0,1216537.8059577472,{"$f":"IF(V$360<>0,(V$314/V$360)*V$351,0)","v":0},null,null,null,null,null,null,"1.12 Domestic All Electric ",null,447391.28181985323,31776.273785630226]
[null,null,null,6,"1.3 Special",54950.496289998671,10023.292890488683,16253.9639655879,2472.5635763640375,{"$f":"J369*J$314","v":7939.2692101221801},2254.6360493558859,12407.514224221168,99.222455017314431,925.32343543638569,49.550921445586035,1728.3127494671853,58.828864549616704,14.433576781176324,23.655572864479581,0,142.64381848598782,{"$f":"IF(V$360<>0,(V$314/V$360)*V$352,0)","v":0},null,null,null,null,null,null,"1.3 Special",null,520.32830382595637,36.956675985125258]
[null,null,null,7,"2.1 GS 0-10 kW",9628107.5809002165,1162320.1355675259,3474024.2726875744,286723.18196008116,{"$f":"J370*J$314","v":920652.78002331126},261451.89082816441,1438798.9828011137,283577.77643948467,107302.2680940327,141616.53349148491,200418.43845249951,168132.89488280454,196773.2088203321,322496.84534864558,0,407676.03323295322,{"$f":"IF(V$360<>0,(V$314/V$360)*V$353,0)","v":0},null,null,null,null,null,null,"2.1 GS 0-10 kW",null,239156.11085612568,16986.227414084475]
[null,null,null,8,"2.2 GS 10-100 kW",0,0,0,0,{"$f":"J371*J$314","v":0},0,0,0,0,0,0,0,0,0,0,0,{"$f":"IF(V$360<>0,(V$314/V$360)*V$354,0)","v":0},null,null,null,null,null,null,"2.2 GS 10-100 kW",null,0,0]
[null,null,null,9,"2.3 GS 110-1,000 kVa",5635930.5056379139,743549.60167289735,2604983.3517042408,183420.12773676019,{"$f":"J372*J$314","v":588952.20595239277},167253.79121732814,920416.31028509897,9277.2995441188996,68352.535364157055,4633.0111551622949,127668.39550817886,5500.4988353891613,11362.354853667153,18622.06556475539,0,13337.197028439861,{"$f":"IF(V$360<>0,(V$314/V$360)*V$355,0)","v":0},null,null,null,null,null,null,"2.3 GS 110-1,000 kVa",null,157420.83596856109,11180.923246765436]
[null,null,null,10,"2.4 GS Over 1,000 kVa",3050376.1352358065,366034.5813824971,1603119.3978230031,90294.056404840332,{"$f":"J373*J$314","v":289929.3788538925},82335.692622430448,453102.52076638158,893.00209515582992,24143.576075468827,445.95829301027436,45095.205363824789,529.45978094655038,1093.7026062353411,1792.4982896555994,0,1283.7943663738906,{"$f":"IF(V$360<>0,(V$314/V$360)*V$356,0)","v":0},null,null,null,null,null,null,"2.4 GS Over 1,000 kVa",null,84296.120520730881,5987.1899913592861]
[null,null,null,11,"4.1 Street and Area Lighting",1006899.4331095595,62720.101234047652,131916.22928593081,15471.905242271183,{"$f":"J374*J$314","v":49679.459038430148},14108.237961969793,77639.210657456584,94558.999631500657,5790.1510191205543,47222.028137643494,10814.804255948671,56063.907915784715,0,0,277203.203104991,135939.55901714641,{"$f":"IF(V$360<>0,(V$314/V$360)*V$357,0)","v":0},null,null,null,null,null,null,"4.1 Street and Area Lighting",null,25929.944451858664,1841.6921554591656]
[{"$f":"SUM(G409:AF409)-F409","v":0},null,null,12,"    Subtotal Rural",{"$f":"SUM(F401:F408)","v":58414424.373488374},{"$f":"SUM(G401:G408)","v":7340638.729096178},{"$f":"SUM(H401:H408)","v":19450223.075407807},{"$f":"SUM(I401:I408)","v":1810801.7142783005},{"$f":"SUM(J401:J408)","v":5814387.3157539051},1651200.7465753404,9086742.2952946443,2366753.2195280017,667730.30462629825,1181938.1292415638,1247182.0711500579,1403244.9061020073,497027.57050849986,814591.70433434704,277203.203104991,3402483.0023462679,0,null,null,null,null,null,null,"    Subtotal Rural",null,{"$f":"SUM(AE401:AE408)","v":1309283.6159748177},{"$f":"SUM(AF401:AF408)","v":92992.770165351802}]
[{"$f":"SUM(G410:AF410)-F410","v":0},null,null,13,"      Total",{"$f":"SUM(F409,F397:F399)","v":483440116.79124326},{"$f":"SUM(G409,G397:G399)","v":117241072.88138674},{"$f":"SUM(H409,H397:H399)","v":303221945.21453881},{"$f":"SUM(I409,I397:I399)","v":29597659.688788511},{"$f":"SUM(J409,J397:J399)","v":5814387.3157539051},1651200.7465753404,9086742.2952946443,2366753.2195280017,667730.30462629825,1181938.1292415638,1247182.0711500579,1403244.9061020073,497027.57050849986,814591.70433434704,277203.203104991,3402483.0023462679,2623687.6593029639,null,null,null,null,null,null,"      Total",null,{"$f":"SUM(AE409,AE397:AE399)","v":1309283.6159748177},{"$f":"SUM(AF409,AF397:AF399)","v":1035983.262685511}]
[null,null,null,null,"Allocated Return on Debt",null,null,null,null,null,null,null,null,null,null,null,null,null,null,null,null,null,null,null,null,null,null,null,"Allocated Return on Debt"]
[null,null,null,{"$f":"MAX(D409:D411)+NoOne","v":14},"Newfoundland Power",{"$f":"SUM(G412:AF412)","v":65131645.948993832},{"$f":"G363*G$316","v":23529853.972979255},19552557.873316932,20851872.902728766,{"$f":"J363*J$316","v":0},0,0,0,0,0,0,0,0,0,0,0,{"$f":"S536","v":1197361.1999688747},null,null," ",null,null,null,"Newfoundland Power",null,{"$f":"AE363*AE$316","v":0},0]
[null,null,null,{"$f":"MAX(D410:D412)+NoOne","v":15},"Industrial - Firm",{"$f":"SUM(G413:AF413)","v":5879084.7445312766},1592560.1450030459,2491328.8993479968,1374686.6977282676,{"$f":"J364*J$316","v":0},0,0,0,0,0,0,0,0,0,0,0,{"$f":"S544","v":420509.00245196634},null,null,null,null,null,null,"Industrial - Firm",null,0,0]
[null,null,null,{"$f":"MAX(D411:D413)+NoOne","v":16},"Industrial - Non-Firm",{"$f":"SUM(G414:AF414)","v":0},0,0,0,{"$f":"J365*J$316","v":0},0,0,0,0,0,0,0,0,0,0,0,{"$f":"IF(V$360<>0,(SUM(V$316:V$317)/V$360)*V$350,0)","v":0},null,null,null,null,null,null,"Industrial - Non-Firm",null,0,0]
[null,null,null,null,"Rural",null," "," "," "," "," "," "," "," "," "," "," "," "," "," "," ",null,null,null,null,null,null,null,"Rural",null," "," "]
[null,null,null,{"$f":"MAX(D413:D415)+NoOne","v":17},"1.1 Domestic",{"$f":"SUM(G416:AF416)","v":4426570.7164223567},{"$f":"G367*G$316","v":515640.24465890869},382252.89068056387,445097.02655192057,{"$f":"J367*J$316","v":930709.20886507595},193848.48805378142,864985.05644186353,361324.12494584866,59625.490688344391,161883.04371709903,121914.02515530445,211512.99588229877,42989.451081183586,73461.487636389371,0,61327.18206377446,{"$f":"IF(V$360<>0,(SUM(V$316:V$317)/V$360)*V$350,0)","v":0},null,null,null,null,null,null,"1.1 Domestic",null,{"$f":"AE367*AE$316","v":0},0]
[null,null,null,18,"1.12 Domestic All Electric ",5007028.8378993934,626405.79192461411,520403.39949666348,540709.06661868107,{"$f":"J368*J$316","v":1130636.4176758728},235489.40745119972,1050793.9496496038,270074.74141986592,72433.742517969295,121000.83596330229,148102.58172273255,158097.15910448597,32132.825025931135,54909.403795525577,0,45839.515532944824,{"$f":"IF(V$360<>0,(SUM(V$316:V$317)/V$360)*V$351,0)","v":0},null,null,null,null,null,null,"1.12 Domestic All Electric ",null,0,0]
[null,null,null,19,"1.3 Special",15258.862801182371,2291.2495001771226,1262.6365254559214,1977.7904269128931,{"$f":"J369*J$316","v":4135.6101113344466},861.36653599860551,3843.5645758102273,31.667320328295236,264.94610758680329,14.187821535240932,541.72546091015522,18.537510594417068,3.7676994812606126,6.4383424747054665,0,5.3748625822764637,{"$f":"IF(V$360<>0,(SUM(V$316:V$317)/V$360)*V$352,0)","v":0},null,null,null,null,null,null,"1.3 Special",null,0,0]
[null,null,null,20,"2.1 GS 0-10 kW",2222158.2010781742,265697.65632530139,269868.31927906995,229348.34512467985,{"$f":"J370*J$316","v":479573.22586293553},99885.704212562094,445707.06928633642,90505.201498267779,30723.655295018256,40548.793947718586,62819.516305162389,52980.205278843976,51365.114000379428,87774.037401752197,0,15361.357260146135,{"$f":"IF(V$360<>0,(SUM(V$316:V$317)/V$360)*V$353,0)","v":0},null,null,null,null,null,null,"2.1 GS 0-10 kW",null,0,0]
[null,null,null,21,"2.2 GS 10-100 kW",0,0,0,0,{"$f":"J371*J$316","v":0},0,0,0,0,0,0,0,0,0,0,0,{"$f":"IF(V$360<>0,(SUM(V$316:V$317)/V$360)*V$354,0)","v":0},null,null,null,null,null,null,"2.2 GS 10-100 kW",null,0,0]
[null,null,null,22,"2.3 GS 110-1,000 kVa",1249002.3431454815,169969.85639385655,202359.69115164675,146716.7826173194,{"$f":"J372*J$316","v":306788.52594191849},63898.037474678706,285123.95482922159,2960.8944506956045,19571.252056187375,1326.5613135450271,40016.611820777012,1733.2572405779958,2965.9965188872447,5068.3716847265769,0,502.54965144284938,{"$f":"IF(V$360<>0,(SUM(V$316:V$317)/V$360)*V$355,0)","v":0},null,null,null,null,null,null,"2.3 GS 110-1,000 kVa",null,0,0]
[null,null,null,23,"2.4 GS Over 1,000 kVa",625722.99113522528,83672.757127153978,124533.13607952328,72225.734485353882,{"$f":"J373*J$316","v":151025.84873080792},31455.724467587544,140360.81414505086,285.00588295465712,6912.9844327401106,127.6903938171684,14134.722386377856,166.83759534975363,285.49699112283639,487.86465414480432,0,48.373763240488181,{"$f":"IF(V$360<>0,(SUM(V$316:V$317)/V$360)*V$356,0)","v":0},null,null,null,null,null,null,"2.4 GS Over 1,000 kVa",null,0,0]
[null,null,null,24,"4.1 Street and Area Lighting",210556.03282060905,14337.344241425613,10247.484844279945,12375.894543939548,{"$f":"J374*J$316","v":25878.31041968098},5389.9448941294486,24050.854537351905,30178.956272865362,1657.8829802708678,13520.993923084608,3389.811723609077,17666.247596479465,0,0,46740.062802582746,5122.2440409094706,{"$f":"IF(V$360<>0,(SUM(V$316:V$317)/V$360)*V$357,0)","v":0},null,null,null,null,null,null,"4.1 Street and Area Lighting",null,0,0]
[{"$f":"SUM(G424:AF424)-F424","v":0},null,null,25,"    Subtotal Rural",{"$f":"SUM(F416:F423)","v":13756297.985302424},{"$f":"SUM(G416:G423)","v":1678014.9001714373},{"$f":"SUM(H416:H423)","v":1510927.5580572032},{"$f":"SUM(I416:I423)","v":1448450.6403688071},{"$f":"SUM(J416:J423)","v":3028747.1476076264},630828.67308993754,2814865.2634652387,755360.59179082641,191189.95407811709,338422.10708010191,390918.99457487353,442175.24020863039,129742.6513169855,221707.60351501324,46740.062802582746,128206.5971750405,0,null,null,null,null,null,null,"    Subtotal Rural",null,{"$f":"SUM(AE416:AE423)","v":0},{"$f":"SUM(AF416:AF423)","v":0}]
[{"$f":"SUM(G425:AF425)-F425","v":0},null,null,26,"      Total",{"$f":"SUM(F424,F412:F414)","v":84767028.678827524},{"$f":"SUM(G424,G412:G414)","v":26800429.018153738},{"$f":"SUM(H424,H412:H414)","v":23554814.330722135},{"$f":"SUM(I424,I412:I414)","v":23675010.240825843},{"$f":"SUM(J424,J412:J414)","v":3028747.1476076264},630828.67308993754,2814865.2634652387,755360.59179082641,191189.95407811709,338422.10708010191,390918.99457487353,442175.24020863039,129742.6513169855,221707.60351501324,46740.062802582746,128206.5971750405,1617870.202420841,null,null,null,null,null,null,"      Total",null,{"$f":"SUM(AE424,AE412:AE414)","v":0},{"$f":"SUM(AF424,AF412:AF414)","v":0}]
[null,null,null,null,"Allocated Return on Equity"," ",null,null,null,null,null,null,null,null,null,null,null,null,null,null,null,null,null,null,null,null,null,null,"Allocated Return on Equity"]
[null,null,null,{"$f":"MAX(D424:D426)+NoOne","v":27},"Newfoundland Power",{"$f":"SUM(G427:AF427)","v":26453142.585232269},{"$f":"G$317*G363","v":9556622.9455395769},7941248.7400350878,8468964.0347335078,{"$f":"J$317*J363","v":0},0,0,0,0,0,0,0,0,0,0,0,{"$f":"T536","v":486306.86492409714},null,null," ",null,null,null,{"$f":"IF(ISBLANK(E427),\"\",E427)","v":"Newfoundland Power"},null,{"$f":"AE$317*AE363","v":0},0]
[null,null,null,{"$f":"MAX(D425:D427)+NoOne","v":28},"Industrial - Firm",{"$f":"SUM(G428:AF428)","v":2387783.4615071975},646816.45884268591,1011850.3477214894,558327.41051110707,{"$f":"J$317*J364","v":0},0,0,0,0,0,0,0,0,0,0,0,{"$f":"T544","v":170789.24443191502},null,null,null,null,null,null,"Industrial - Firm",null,0,0]
[null,null,null,{"$f":"MAX(D426:D428)+NoOne","v":29},"Industrial - Non-Firm",{"$f":"SUM(G429:AF429)","v":0},0,0,0,{"$f":"J$317*J365","v":0},0,0,0,0,0,0,0,0,0,0,0,{"$f":"V$317*V365","v":0},null,null,null,null,null,null,"Industrial - Non-Firm",null,0,0]
[null,null,null,null,"Rural",null," "," "," "," "," "," "," "," "," "," "," "," "," "," "," "," ",null,null,null,null,null,null,"Rural",null," "," "]
[null,null,null,{"$f":"MAX(D428:D430)+NoOne","v":30},"1.1 Domestic",{"$f":"SUM(G431:AF431)","v":1797846.5708794713},{"$f":"G$317*G367","v":209426.6883003113},155251.56893331005,180775.64194925368,{"$f":"J$317*J367","v":378006.46749780042},78731.338962847018,351312.67909413675,146751.37496390066,24216.824001782803,65748.610758791445,49515.240150670317,85905.758363389425,17460.115778464908,29836.298141313997,0,24907.963983498663,0,null,null,null,null,null,null,"1.1 Domestic",null,{"$f":"AE$317*AE367","v":0},0]
[null,null,null,31,"1.12 Domestic All Electric ",2033598.9647958318,254413.98706511792,211361.23812233395,219608.36131169178,{"$f":"J$317*J368","v":459206.67185746337},95643.750159436589,426778.7459194368,109690.54350391119,29418.880651509829,49144.349417734687,60151.692076391977,64210.978107113646,13050.709677181243,22301.390771095215,0,18617.666155413528,0,null,null,null,null,null,null,"1.12 Domestic All Electric ",null,0,0]
[null,null,null,32,"1.3 Special",6197.3694582243179,930.58833142330457,512.81836278734067,803.27729177620142,{"$f":"J$317*J369","v":1679.6732580308526},349.843021206049,1561.0593019417843,12.861645483251591,107.60755481113814,5.7623672882376367,220.02116867627524,7.5289884630490285,1.5302467816358378,2.6149253410441715,0,2.1829942141541334,0,null,null,null,null,null,null,"1.3 Special",null,0,0]
[null,null,null,33,"2.1 GS 0-10 kW",902526.98029616242,107912.79546104911,109606.70539044634,93149.564806352646,{"$f":"J$317*J370","v":194778.11037889202},40568.463106712879,181023.41009945871,36758.582791133049,12478.377022670649,16468.845709783167,25514.073807641213,21517.849027394124,20861.881574785202,35649.323655790868,0,6238.9974640525134,0,null,null,null,null,null,null,"2.1 GS 0-10 kW",null,0,0]
[null,null,null,34,"2.2 GS 10-100 kW",0,0,0,0,{"$f":"J$317*J371","v":0},0,0,0,0,0,0,0,0,0,0,0,0,null,null,null,null,null,null,"2.2 GS 10-100 kW",null,0,0]
[null,null,null,35,"2.3 GS 110-1,000 kVa",507280.85542918841,69033.060363609606,82188.154245789818,59588.851374366874,{"$f":"J$317*J372","v":124601.80457607751},25952.113931803739,115802.76410440143,1202.5638526840237,7948.841360761633,538.78134145021909,16252.700555147856,703.96042129508419,1204.636051772294,2058.513291004851,0,204.10995902341148,0,null,null,null,null,null,null,"2.3 GS 110-1,000 kVa",null,0,0]
[null,null,null,36,"2.4 GS Over 1,000 kVa",254136.66831513331,33983.593421199381,50578.989019832283,29334.398429918834,{"$f":"J$317*J373","v":61338.973586825196},12775.706069435322,57007.38213903032,115.75480934926432,2807.7006227045949,51.861305594138734,5740.8011304112342,67.76089616744126,115.95427236310852,198.14566437479851,0,19.646947927387203,0,null,null,null,null,null,null,"2.4 GS Over 1,000 kVa",null,0,0]
[null,null,null,37,"4.1 Street and Area Lighting",85517.088923966643,5823.0957622198639,4162.0041037813162,5026.4552387791828,{"$f":"J$317*J374","v":10510.445812053033},2189.1198776491783,9768.2267214848271,12257.148145538766,673.34725274837911,5491.5360256904678,1376.768106427812,7175.1260052857251,0,0,18983.422386219201,2080.3934860888894,0,null,null,null,null,null,null,"4.1 Street and Area Lighting",null,0,0]
[null,null,null,38,"    Subtotal Rural",{"$f":"SUM(F431:F438)","v":5587104.4980979776},{"$f":"SUM(G431:G438)","v":681523.80870493047},{"$f":"SUM(H431:H438)","v":613661.47817828122},{"$f":"SUM(I431:I438)","v":588286.5504021392},{"$f":"SUM(J431:J438)","v":1230122.1469671426},256210.33512909079,1143254.2673798909,306788.82971200015,77651.578466989042,137449.74692633239,158771.29699536669,179588.96180910844,52694.827601348392,90046.286448920786,18983.422386219201,52070.960990218548,0,null,null,null,null,null,null,"    Subtotal Rural",null,{"$f":"SUM(AE431:AE438)","v":0},{"$f":"SUM(AF431:AF438)","v":0}]
[null,null,null,39,"      Total",{"$f":"SUM(F439,F427:F429)","v":34428030.544837445},{"$f":"SUM(G439,G427:G429)","v":10884963.213087194},{"$f":"SUM(H439,H427:H429)","v":9566760.5659348574},{"$f":"SUM(I439,I427:I429)","v":9615577.9956467524},{"$f":"SUM(J439,J427:J429)","v":1230122.1469671426},256210.33512909079,1143254.2673798909,306788.82971200015,77651.578466989042,137449.74692633239,158771.29699536669,179588.96180910844,52694.827601348392,90046.286448920786,18983.422386219201,52070.960990218548,657096.1093560122,null,null,null,null,null,null,"      Total",null,{"$f":"SUM(AE439,AE427:AE429)","v":0},{"$f":"SUM(AF439,AF427:AF429)","v":0}]
[]
[null,null,null,null,null,null,null,null,null,null,null,null,null,null,null,null,null,null,null,null,null,"Schedule 3.2A",null,null,null,null,null,null,null,null,null,null,null,null,{"$f":"+V442","v":"Schedule 3.2A"}]
[null,null,null,null,null,null,null,null,null,null,null,null,null,null,null,null,null,null,null,null,null,"Page 3 of 4",null,null,null,null,null,null,null,null,null,null,null,null,"Page 4 of 4"]
[null,null,null,{"$f":"$D$5","v":"NEWFOUNDLAND AND LABRADOR HYDRO"},null,null,null,null,null,null,null,null,null,null,null,null,null,null,null,null,null,null,null,null,null,null,"NEWFOUNDLAND & LABRADOR HYDRO"]
[null,null,null,{"$f":"$D$6","v":"2019 Test Year Cost of Service Study"},null,null,null,null,null,null,null,null,null,null,null,null,null,null,null,null,null,null,null,null,null,null,{"$f":"RunName","v":"2019 Test Year Cost of Service Study"}]
[null,null,null,{"$f":"$B$1","v":"Island Interconnected"},null,null,null,null,null,null,null,null,null,null,null,null,null,null,null,null,null,null,null,null,null,null,{"$f":"$B$1","v":"Island Interconnected"}]
[null,null,null,"Allocation of Functionalized Amounts to Classes of Service (CONT'D.)",null,null,null,null,null,null,null,null,null,null,null,null,null,null,null,null,null,null,null,null,null,null,{"$f":"+D447","v":"Allocation of Functionalized Amounts to Classes of Service (CONT'D.)"}]
[null,null,null,null,{"$f":"MAX(D448)+NoOne","v":1},2,3,4,5,6,7,8,9,10,11,12,13,14,15,16,17,18,null,null,null,null,null,null,{"$f":"MAX(AB448)+NoOne","v":1},null,{"$f":"MAX(V448)+NoOne","v":19},{"$f":"MAX(AE448)+NoOne","v":20}]
[null,null,null,null,null,null,null,null,null,"Rural Prod &","Distribution",null,null,null,null,null,null,null,null,null,null,"Specifically",null,null,null,null,null,null,null,null,"Revenue Related"]
[null,null,null,"Line",null,"Total","Production","Production","Transmission","Transmission","Substations","Primary Lines",null,"Line Transformers",null,"Secondary Lines",null,"Services","Meters","Street Lighting","Accounting","Assigned",null,null,null,null,null,null,null,null,"Municipal","PUB "]
[null,null,null,"No.","Description ","Amount","Demand","Energy","Demand","Demand","Demand","Demand","Customer","Demand","Customer","Demand","Customer","Customer","Customer","Customer","Customer","Customer",null,null,null,null,null,null,"Description ",null,"Tax","Assessment",null,"Basis of Proration"]
[null,null,null,null,"Total Revenue Requiremt","($)","($)","($)","($)","($)","($)","($)","($)","($)","($)","($)","($)","($)","($)","($)","($)","($)",null,null,null,null,null,null,{"$f":"IF(ISBLANK(E452),\"\",E452)","v":"Total Revenue Requiremt"},null,"($)","($)"]
[null,null,null,{"$f":"MAX(D440:D452)+NoOne","v":40},"Newfoundland Power",{"$f":"SUM(G453:AF453)","v":475103607.91961199},{"$f":"SUM(G397,G412,G427)","v":136020102.44614819},279194565.06654954,55389110.267480835,{"$f":"SUM(J397,J412,J427)","v":0},0,0,0,0,0,0,0,0,0,0,0,3623149.5342318951,null,null,null,null,null,null,{"$f":"IF(ISBLANK(E453),\"\",E453)","v":"Newfoundland Power"},null,{"$f":"SUM(AE397,AE412,AE427)","v":0},876680.60520155262]
[null,null,null,{"$f":"MAX(D451:D453)+NoOne","v":41},"Industrial - Firm",{"$f":"SUM(G454:AF454)","v":49773741.23840747},9206185.2285069395,35574142.933002986,3651598.7527310206,{"$f":"SUM(J398,J413,J428)","v":0},0,0,0,0,0,0,0,0,0,0,0,1275504.4368479222,null,null,null,null,null,null,"Industrial - Firm",null,0,66309.887318606648]
[null,null,null,{"$f":"MAX(D452:D454)+NoOne","v":42},"Industrial - Non-Firm",{"$f":"SUM(G455:AF455)","v":0},0,0,0,{"$f":"SUM(J399,J414,J429)","v":0},0,0,0,0,0,0,0,0,0,0,0,0,null,null,null,null,null,null,"Industrial - Non-Firm",null,0,0]
[null,null,null,null,"Rural",null," "," "," "," "," "," "," "," "," "," "," "," "," "," "," "," ",null,null,null,null,null,null,"Rural",null," "," "]
[null,null,null,{"$f":"MAX(D454:D456)+NoOne","v":43},"1.1 Domestic",{"$f":"SUM(G457:AF457)","v":24451582.191863321},{"$f":"SUM(G401,G416,G431)","v":2980785.1329806256},5458259.2339304322,1182317.2143057666,{"$f":"SUM(J401,J416,J431)","v":3095429.3090789439},779980.30174310063,4008579.26999644,1640203.7116573071,292084.15068404906,793007.6681700272,560381.93454320892,968656.09875681484,225136.67793287034,373207.87216141541,0,1713801.1149723944,0,null,null,null,null,null,null,"1.1 Domestic",null,{"$f":"SUM(AE401,AE416,AE431)","v":354568.99405386194},25183.506896068087]
[null,null,null,44,"1.12 Domestic All Electric ",27851623.120448615,3621092.5953170476,7430935.7232439099,1436292.7614837638,{"$f":"SUM(J402,J417,J432)","v":3760363.6794930245},947529.18078025593,4869668.9176689731,1225983.9925389434,354827.23781364004,592740.21892971755,680758.51938202954,724030.10852300562,168280.29428137466,278957.34774133487,0,1280994.9876461055,0,null,null,null,null,null,null,"1.12 Domestic All Electric ",null,447391.28181985323,31776.273785630226]
[null,null,null,45,"1.3 Special",76406.728549405365,13245.13072208911,18029.418853831161,5253.6312950531319,{"$f":"SUM(J403,J418,J433)","v":13754.552579487479},3465.8456065605401,17812.138101973178,143.75142082886126,1297.8770978343273,69.501110269064611,2490.0593790536159,84.8953636070828,19.731523044072777,32.708840680229216,0,150.20167528241842,0,null,null,null,null,null,null,"1.3 Special",null,520.32830382595637,36.956675985125258]
[null,null,null,46,"2.1 GS 0-10 kW",12752792.762274554,1535930.5873538763,3853499.2973570907,609221.09189111367,{"$f":"SUM(J404,J419,J434)","v":1595004.1162651388},401906.05814743938,2065529.4621869088,410841.56072888547,150504.3004117216,198634.17314898668,288752.02856530313,242630.94918904264,269000.20439549675,445920.20640618866,0,429276.38795715186,0,null,null,null,null,null,null,"2.1 GS 0-10 kW",null,239156.11085612568,16986.227414084475]
[null,null,null,47,"2.2 GS 10-100 kW",0,0,0,0,{"$f":"SUM(J405,J420,J435)","v":0},0,0,0,0,0,0,0,0,0,0,0,0,null,null,null,null,null,null,"2.2 GS 10-100 kW",null,0,0]
[null,null,null,48,"2.3 GS 110-1,000 kVa",7392213.7042125845,982552.5184303635,2889531.1971016773,389725.76172844646,{"$f":"SUM(J406,J421,J436)","v":1020342.5364703888},257103.94262381058,1321343.0292187219,13440.757847498528,95872.628781106061,6498.3538101575405,183937.70788410373,7937.7164972622413,15532.987424326691,25748.950540486821,0,14043.856638906122,0,null,null,null,null,null,null,"2.3 GS 110-1,000 kVa",null,157420.83596856109,11180.923246765436]
[null,null,null,49,"2.4 GS Over 1,000 kVa",3930235.7946861652,483690.93193085043,1778231.5229223587,191854.18932011304,{"$f":"SUM(J407,J422,J437)","v":502294.20117152564},126567.12315945332,650470.71705046273,1293.7627874597515,33864.261130913532,625.5099924215815,64970.728880613882,764.05827246374531,1495.1538697212859,2478.508608175202,0,1351.815077541766,0,null,null,null,null,null,null,"2.4 GS Over 1,000 kVa",null,84296.120520730881,5987.1899913592861]
[null,null,null,50,"4.1 Street and Area Lighting",1302972.5548541353,82880.541237693134,146325.71823399205,32874.255024989914,{"$f":"SUM(J408,J423,J438)","v":86068.215270164161},21687.302733748424,111458.29191629331,136995.10404990477,8121.3812521398013,66234.558086418576,15581.384085985559,80905.281517549898,0,0,342926.68829379295,143142.19654414477,0,null,null,null,null,null,null,"4.1 Street and Area Lighting",null,25929.944451858664,1841.6921554591656]
[{"$f":"(SUM(G465:AF465)-F465)*1000","v":1.4901161193847656E-5},null,null,51,"    Subtotal Rural",{"$f":"SUM(F457:F464)","v":77757826.856888786},{"$f":"SUM(G457:G464)","v":9700177.4379725456},{"$f":"SUM(H457:H464)","v":21574812.111643292},{"$f":"SUM(I457:I464)","v":3847538.9050492467},{"$f":"SUM(J457:J464)","v":10073256.610328672},2538239.7547943685,13044861.826139774,3428902.641030828,936571.83717140439,1657809.9832479982,1796872.3627202983,2025009.108119746,679465.04942683387,1126345.594298281,342926.68829379295,3582760.5605115267,0,null,null,null,null,null,null,"    Subtotal Rural",null,{"$f":"SUM(AE457:AE464)","v":1309283.6159748177},{"$f":"SUM(AF457:AF464)","v":92992.770165351802}]
[{"$f":"(SUM(G466:AF466)-F466)*1000","v":-1.1920928955078125E-4},null,null,52,"      Total",{"$f":"SUM(F465,F453:F455)","v":602635176.01490831},{"$f":"SUM(G465,G453:G455)","v":154926465.11262769},{"$f":"SUM(H465,H453:H455)","v":336343520.11119586},{"$f":"SUM(I465,I453:I455)","v":62888247.925261103},{"$f":"SUM(J465,J453:J455)","v":10073256.610328672},2538239.7547943685,13044861.826139774,3428902.641030828,936571.83717140439,1657809.9832479982,1796872.3627202983,2025009.108119746,679465.04942683387,1126345.594298281,342926.68829379295,3582760.5605115267,4898653.971079817,null,null,null,null,null,null,"      Total",null,{"$f":"SUM(AE465,AE453:AE455)","v":1309283.6159748177},{"$f":"SUM(AF465,AF453:AF455)","v":1035983.262685511}]
[null,null,null,null,"Re-classification of Revenue-Related",null,null,null,null,null,null,null,null,null,null,null,null,null,null,null,null,null,null,null,null,null,null,null,"Re-classification of Revenue-Related"]
[null,null,null,{"$f":"MAX(D465:D467)+NoOne","v":53},"Newfoundland Power",{"$f":"SUM(G468:AF468)","v":0},{"$f":"+G453/SUM($G453:$V453)*SUM($AE453,$AF453)","v":251453.84807093983},516133.61910436,102395.19503007157,0,0,0,0,0,0,0,0,0,0,0,0,6697.9429961813157,null,null,null,null,null,null,"Newfoundland Power",null,{"$f":"-AE453","v":0},{"$f":"-AF453","v":-876680.60520155262},null,"Re-classification to demand, energy and customer is based on rate class revenue"]
[null,null,null,{"$f":"MAX(D466:D468)+NoOne","v":54},"Industrial - Firm",{"$f":"SUM(G469:AF469)","v":0},{"$f":"+G454/SUM($G454:$V454)*SUM($AE454,$AF454)","v":12281.083301705223},47456.031125047499,4871.2455108798213,0,0,0,0,0,0,0,0,0,0,0,0,1701.5273809741088,null,null,null,null,null,null,"Industrial - Firm",null,{"$f":"-AE454","v":0},-66309.887318606648,null,"requirements excluding revenue-related items."]
[null,null,null,{"$f":"MAX(D467:D469)+NoOne","v":55},"Industrial - Non-Firm",{"$f":"SUM(G470:AF470)","v":0},{"$f":"IF(G455=0,0,+G455/SUM($G455:$V455)*SUM($AE455,$AF455))","v":0},{"$f":"IF(H455=0,0,H455/SUM($G455:$V455)*SUM($AE455,$AF455))","v":0},0,0,0,0,0,0,0,0,0,0,0,0,0,0,null,null,null,null,null,null,"Industrial - Non-Firm",null,{"$f":"IF(AE455=0,0,AE455/SUM($G455:$V455)*SUM($AE455,$AF455))","v":0},0]
[null,null,null,null,"Rural",null,null,null,null,null,null,null,null,null,null,null,null,null,null,null,null,null,null,null,null,null,null,null,"Rural"]
[null,null,null,{"$f":"MAX(D469:D471)+NoOne","v":56},"1.1 Domestic",{"$f":"SUM(G472:AF472)","v":8.0035533756017685E-11},{"$f":"+G457/SUM($G457:$V457)*SUM($AE457,$AF457)","v":47024.286212487357},86108.435525387773,18652.006300055073,48832.890425448983,12304.817460154789,63238.566514610109,25875.534579921907,4607.8627231221108,12510.334657847658,8840.4763519190874,15281.330118506045,3551.7124206324647,5887.6547668911971,0,27036.592892945584,0,null,null,null,null,null,null,"1.1 Domestic",null,{"$f":"-AE457","v":-354568.99405386194},-25183.506896068087]
[null,null,null,57,"1.12 Domestic All Electric ",-1.6007106751203537E-10,{"$f":"+G458/SUM($G458:$V458)*SUM($AE458,$AF458)","v":63388.908730122894},130081.98325259225,25142.972285539956,65826.913782794931,16586.938659697244,85245.817510227978,21461.419547278507,6211.415698625935,10376.192999593588,11916.994254211502,12674.483531953803,2945.824757167336,4883.2780135036555,0,22424.412582173773,0,null,null,null,null,null,null,"1.12 Domestic All Electric ",null,-447391.28181985323,-31776.273785630226]
[null,null,null,58,"1.3 Special",-2.5579538487363607E-13,{"$f":"+G459/SUM($G459:$V459)*SUM($AE459,$AF459)","v":97.315313859645883},132.46668464672268,38.599753306195701,101.05816464608695,25.464441240208139,130.87026819705667,1.0561779214757494,9.5358301686185616,0.51064217495024411,18.295093879114024,0.62374763435697844,0.14497247314897879,0.24032009676380181,0,1.1035695667371779,0,null,null,null,null,null,null,"1.3 Special",null,-520.32830382595637,-36.956675985125258]
[null,null,null,59,"2.1 GS 0-10 kW",0,{"$f":"+G460/SUM($G460:$V460)*SUM($AE460,$AF460)","v":31481.784215541436},78984.71086713612,12487.131327669616,32692.607221051669,8237.8200562532111,42336.908552254507,8420.9699762057371,3084.8685142964614,4071.3807175897641,5918.5155435662327,4973.1773357942438,5513.6647830585944,9139.9727507314165,0,8798.8264090611592,0,null,null,null,null,null,null,"2.1 GS 0-10 kW",null,-239156.11085612568,-16986.227414084475]
[null,null,null,60,"2.2 GS 10-100 kW",null,null,null,null,null,null,null,null,null,null,null,null,null,null,null,null,null,null,null,null,null,null,null,"2.2 GS 10-100 kW",null,0,0]
[null,null,null,61,"2.3 GS 110-1,000 kVa",-7.2759576141834259E-11,{"$f":"+G462/SUM($G462:$V462)*SUM($AE462,$AF462)","v":22933.137105120575},67442.720739769211,9096.3425969269992,23815.170023118029,6000.9005685295424,30840.632214120087,313.71223087985487,2237.70241205815,151.67396764093439,4293.1737434722481,185.26922207079349,362.54563860185567,600.98997456267136,0,327.78877845552842,0,null,null,null,null,null,null,"2.3 GS 110-1,000 kVa",null,-157420.83596856109,-11180.923246765436]
[null,null,null,62,"2.4 GS Over 1,000 kVa",-7.2759576141834259E-12,{"$f":"+G463/SUM($G463:$V463)*SUM($AE463,$AF463)","v":11372.333063852462},41809.014410478412,4510.7931462226607,11809.725125425628,2975.79173907009,15293.58760779568,30.418393964668905,796.20193623369141,14.70672179068889,1527.5638211411203,17.964209335004984,35.153414434094003,58.273627916231838,0,31.78329442971717,0,null,null,null,null,null,null,"2.4 GS Over 1,000 kVa",null,-84296.120520730881,-5987.1899913592861]
[null,null,null,63,"4.1 Street and Area Lighting",0,{"$f":"+G464/SUM($G464:$V464)*SUM($AE464,$AF464)","v":1804.9926408738127},3186.7171791925193,715.9435436617249,1874.4145833972527,472.31136826861757,2427.3658650020921,2983.5127878407529,176.86942163905812,1442.4723600036448,339.33518278041436,1761.9749529409116,0,0,7468.3410543175714,3117.3856673994565,0,null,null,null,null,null,null,"4.1 Street and Area Lighting",null,-25929.944451858664,-1841.6921554591656]
[null,null,null,64,"    Subtotal Rural",{"$f":"SUM(F472:F479)","v":-1.6032686289690901E-10},{"$f":"SUM(G472:G479)","v":178102.75728185818},{"$f":"SUM(H472:H479)","v":407746.04865920305},{"$f":"SUM(I472:I479)","v":70643.788953382216},{"$f":"SUM(J472:J479)","v":184952.77932588258},46604.044293213701,239513.74853220757,59086.623694012902,17124.456536144025,28567.272066641228,32854.353990969721,34894.823118235152,12409.045986367495,20570.409453701934,7468.3410543175714,61737.89319403196,0,null,null,null,null,null,null,"    Subtotal Rural",null,{"$f":"SUM(AE472:AE479)","v":-1309283.6159748177},{"$f":"SUM(AF472:AF479)","v":-92992.770165351802}]
[{"$f":"(SUM(G481:AF481)-F481)*1000","v":1.6032686289690901E-7},null,null,65,"      Total",{"$f":"SUM(F480,F468:F470)","v":-1.6032686289690901E-10},{"$f":"SUM(G480,G468:G470)","v":441837.68865450326},{"$f":"SUM(H480,H468:H470)","v":971335.69888861058},{"$f":"SUM(I480,I468:I470)","v":177910.22949433359},{"$f":"SUM(J480,J468:J470)","v":184952.77932588258},46604.044293213701,239513.74853220757,59086.623694012902,17124.456536144025,28567.272066641228,32854.353990969721,34894.823118235152,12409.045986367495,20570.409453701934,7468.3410543175714,61737.89319403196,8399.470377155425,null,null,null,null,null,null,"      Total",null,{"$f":"SUM(AE480,AE468:AE470)","v":-1309283.6159748177},{"$f":"SUM(AF480,AF468:AF470)","v":-1035983.262685511}]
[null,null,null,null,"Total Allocated Revenue Requirement",null,null,null,null,null,null,null,null,null,null,null,null,null,null,null,null,null,null,null,null,null,null,null,"Total Allocated Revenue Requirement"]
[null,null,null,{"$f":"MAX(D480:D482)+NoOne","v":66},"Newfoundland Power",{"$f":"SUM(G483:AF483)","v":475103607.91961205},{"$f":"SUM(G453,G468)","v":136271556.29421914},279710698.68565392,55491505.462510906,{"$f":"SUM(J453,J468)","v":0},0,0,0,0,0,0,0,0,0,0,0,3629847.4772280767,null,null,null,null,null,null,"Newfoundland Power",null,{"$f":"SUM(AE453,AE468)","v":0},0]
[null,null,null,{"$f":"MAX(D481:D483)+NoOne","v":67},"Industrial - Firm",{"$f":"SUM(G484:AF484)","v":49773741.238407478},9218466.3118086439,35621598.964128032,3656469.9982419005,{"$f":"SUM(J454,J469)","v":0},0,0,0,0,0,0,0,0,0,0,0,1277205.9642288962,null,null,null,null,null,null,"Industrial - Firm",null,0,0]
[null,null,null,{"$f":"MAX(D482:D484)+NoOne","v":68},"Industrial - Non-Firm",{"$f":"SUM(G485:AF485)","v":0},0,0,0,{"$f":"SUM(J455,J470)","v":0},0,0,0,0,0,0,0,0,0,0,0,0,null,null,null,null,null,null,"Industrial - Non-Firm",null,0,0]
[null,null,null,null,"Rural",null,null,null,null,null,null,null,null,null,null,null,null,null,null,null,null,null,null,null,null,null,null,null,"Rural"]
[null,null,null,{"$f":"MAX(D484:D486)+NoOne","v":69},"1.1 Domestic",{"$f":"SUM(G487:AF487)","v":24451582.191863324},{"$f":"SUM(G457,G472)","v":3027809.4191931128},5544367.6694558198,1200969.2206058218,{"$f":"SUM(J457,J472)","v":3144262.1995043927},792285.1192032554,4071817.8365110504,1666079.2462372291,296692.01340717118,805518.00282787485,569222.41089512804,983937.42887532094,228688.39035350279,379095.52692830662,0,1740837.7078653399,0,null,null,null,null,null,null,"1.1 Domestic",null,{"$f":"SUM(AE457,AE472)","v":0},0]
[null,null,null,70,"1.12 Domestic All Electric ",27851623.120448608,3684481.5040471703,7561017.7064965023,1461435.7337693037,{"$f":"SUM(J458,J473)","v":3826190.5932758194},964116.11943995312,4954914.7351792008,1247445.4120862219,361038.653512266,603116.41192931111,692675.51363624108,736704.59205495939,171226.11903854201,283840.62575483852,0,1303419.4002282792,0,null,null,null,null,null,null,"1.12 Domestic All Electric ",null,0,0]
[null,null,null,71,"1.3 Special",76406.72854940535,13342.446035948757,18161.885538477884,5292.2310483593274,{"$f":"SUM(J459,J474)","v":13855.610744133566},3491.3100478007482,17943.008370170235,144.80759875033701,1307.4129280029458,70.01175244401486,2508.35447293273,85.519111241439774,19.876495517221755,32.949160776993018,0,151.3052448491556,0,null,null,null,null,null,null,"1.3 Special",null,0,0]
[null,null,null,72,"2.1 GS 0-10 kW",{"$f":"SUM(G490:AF490)","v":12752792.762274554},{"$f":"SUM(G460,G475)","v":1567412.3715694176},3932484.008224227,621708.22321878327,{"$f":"SUM(J460,J475)","v":1627696.7234861904},410143.87820369261,2107866.3707391634,419262.53070509119,153589.16892601806,202705.55386657643,294670.54410886939,247604.12652483687,274513.86917855532,455060.17915692006,0,438075.21436621301,0,null,null,null,null,null,null,"2.1 GS 0-10 kW",null,0,0]
[null,null,null,73,"2.2 GS 10-100 kW",0,0,0,0,0,0,0,0,0,0,0,0,0,0,0,0,0,null,null,null,null,null,null,"2.2 GS 10-100 kW",null,0,0]
[null,null,null,74,"2.3 GS 110-1,000 kVa",7392213.7042125827,1005485.6555354841,2956973.9178414466,398822.10432537348,{"$f":"SUM(J462,J477)","v":1044157.7064935068},263104.84319234011,1352183.661432842,13754.470078378383,98110.331193164209,6650.0277777984747,188230.88162757599,8122.9857193330345,15895.533062928547,26349.940515049493,0,14371.645417361649,0,null,null,null,null,null,null,"2.3 GS 110-1,000 kVa",null,0,0]
[null,null,null,75,"2.4 GS Over 1,000 kVa",3930235.7946861647,495063.26499470288,1820040.537332837,196364.9824663357,{"$f":"SUM(J463,J478)","v":514103.92629695125},129542.91489852341,665764.30465825845,1324.1811814244204,34660.463067147226,640.2167142122704,66498.292701754996,782.02248179875028,1530.3072841553799,2536.7822360914338,0,1383.5983719714832,0,null,null,null,null,null,null,"2.4 GS Over 1,000 kVa",null,0,0]
[null,null,null,76,"4.1 Street and Area Lighting",1302972.554854135,84685.533878566945,149512.43541318458,33590.198568651642,{"$f":"SUM(J464,J479)","v":87942.629853561419},22159.61410201704,113885.65778129541,139978.61683774553,8298.250673778859,67677.030446422214,15920.719268765974,82667.256470490815,0,0,350395.02934811055,146259.58221154421,0,null,null,null,null,null,null,"4.1 Street and Area Lighting",null,0,0]
[null,null,null,77,"    Subtotal Rural",{"$f":"SUM(F487:F494)","v":77757826.856888786},{"$f":"SUM(G487:G494)","v":9878280.1952544041},{"$f":"SUM(H487:H494)","v":21982558.160302494},{"$f":"SUM(I487:I494)","v":3918182.6940026293},{"$f":"SUM(J487:J494)","v":10258209.389654554},2584843.7990875826,13284375.57467198,3487989.2647248404,953696.29370754852,1686377.2553146395,1829726.7167112678,2059903.9312379812,691874.09541320126,1146916.0037519832,350395.02934811055,3644498.4537055586,0,null,null,null,null,null,null,"    Subtotal Rural",null,{"$f":"SUM(AE487:AE494)","v":0},{"$f":"SUM(AF487:AF494)","v":0}]
[{"$f":"(SUM(G496:AF496)-F496)*1000","v":-2.384185791015625E-4},null,null,78,"      Total",{"$f":"SUM(F495,F483:F485)","v":602635176.01490831},{"$f":"SUM(G495,G483:G485)","v":155368302.8012822},{"$f":"SUM(H495,H483:H485)","v":337314855.81008446},{"$f":"SUM(I495,I483:I485)","v":63066158.154755436},{"$f":"SUM(J495,J483:J485)","v":10258209.389654554},2584843.7990875826,13284375.57467198,3487989.2647248404,953696.29370754852,1686377.2553146395,1829726.7167112678,2059903.9312379812,691874.09541320126,1146916.0037519832,350395.02934811055,3644498.4537055586,4907053.4414569726,null,null,null,null,null,null,"      Total",null,{"$f":"SUM(AE495,AE483:AE485)","v":0},{"$f":"SUM(AF495,AF483:AF485)","v":0}]
[]
[null,null,null,null,null,null,null,null,null,null,null,null,null,null,null,null,null,null,null,null,null,"Schedule 3.3A"]
[null,null,null,null,null,null,null,null,null,null,null,null,null,null,null,null,null,null,null,null,null,"Page 1 of 1"]
[null,null,null,{"$f":"D5","v":"NEWFOUNDLAND AND LABRADOR HYDRO"}]
[null,null,null,{"$f":"D6","v":"2019 Test Year Cost of Service Study"}]
[null,null,null,{"$f":"$B$1","v":"Island Interconnected"}]
[null,null,null,"Allocation of Specifically Assigned Amounts to Classes of Service"]
[]
[null,null," ",null,{"$f":"MAX(D505)+NoOne","v":1},2,3,4,5,6,7,8,9,10,11,12,13,14,15,16,17,18]
[null,null,null,null,null,null,"OM&A",null,null,null,"Depreciation",null,null,null,"Expense Credits",null,null,"Subtotal",null,null,"Subtotal"]
[null,null," ","Line",null,null,"Transmission",null,"Administrative & ",null,"Transmission",null,"Telecontrol &",null,"Rental",null," ","Excluding","Return on","Return on","Excl Rev","Revenue"]
[null,null," ","No.","Description ","Total","Lines","Terminals","General","Other","Lines","Terminals","Feasibility Study","General","Income","Other","Gains/Losses","Return","Debt","Equity","Related","Related"]
[null,null," ",null,null,"Amount","($)","($)","($)","($)","($)","($)","($)","($)","($)","($)","($)","($)","($)","($)","($)","($)"]
[null,null," ",null,null,"($)","(Plant)","(Plant)","(C3 & C4)","(C3 & C4)","(Direct)","(Direct)","(Direct)","(Exp C3,4,6)","(Plant)","( C6 )","(NBV)",null,"(NBV)","(NBV)"," "]
[null,null,null,null,null,null,null,null,null,null,null,null,null,null,null,null,null,null,null,null," "]
[null,null,null,null,"Basis of Allocation - Amounts",null,null,null,null,null,null,null,null,null,null,null,null,null," "]
[null,null,null,{"$f":"MAX(D510:D512)+NoOne","v":1},"Newfoundland Power",null,{"$f":"IF(IndexPlant=1,SPLTDetails!S31,SPLTDetails!D31)","v":75451166.626309603},{"$f":"IF(IndexPlant=1,SPLTDetails!S48,SPLTDetails!D48)","v":54896941.593671344},{"$f":"SUM(G513:H513)","v":130348108.21998096},{"$f":"+I513","v":130348108.21998096},0,0,0,{"$f":"SUM(G536,H536,J536)","v":444780.91484569298},{"$f":"+G513+H513","v":130348108.21998096},{"$f":"+J513","v":130348108.21998096},{"$f":"SUM(SNBVDetails!D30,SNBVDetails!D47)","v":27370594.639366016},0,{"$f":"Q513","v":27370594.639366016},{"$f":"S513","v":27370594.639366016},0,0]
[null,null,null,null,"Industrial",null,null,null,null,null,null,null,null,null,null,null,null,null,null," "]
[null,null,null,{"$f":"MAX(D512:D514)+NoOne","v":2},"Vale",null,{"$f":"IF(IndexPlant=1,SPLTDetails!S30,SPLTDetails!D30)","v":11413143.24754063},{"$f":"IF(IndexPlant=1,SPLTDetails!S45,SPLTDetails!D45)","v":4677548.673425328},{"$f":"SUM(G515:H515)","v":16090691.920965958},{"$f":"+I515","v":16090691.920965958},0,0,0,{"$f":"SUM(G538,H538,J538)","v":50500.179392726233},{"$f":"+G515+H515","v":16090691.920965958},{"$f":"+J515","v":16090691.920965958},{"$f":"SUM(SNBVDetails!D29,SNBVDetails!D44,SNBVDetails!D70)","v":592549.24063549342},0,{"$f":"Q515","v":592549.24063549342},{"$f":"S515","v":592549.24063549342},0,0]
[null,null,null,{"$f":"MAX(D513:D515)+NoOne","v":3},"Corner Brook P& P  - CB",null,0,{"$f":"IF(IndexPlant=1,SPLTDetails!S47,SPLTDetails!D47)","v":18032281.138932798},{"$f":"SUM(G516:H516)","v":18032281.138932798},{"$f":"+I516","v":18032281.138932798},0,0,0,{"$f":"SUM(G539,H539,J539)","v":83436.049742151095},{"$f":"+G516+H516","v":18032281.138932798},{"$f":"+J516","v":18032281.138932798},{"$f":"+SNBVDetails!D46","v":7728123.2085099192},0,{"$f":"Q516","v":7728123.2085099192},{"$f":"S516","v":7728123.2085099192},0,0]
[null,null,null,{"$f":"MAX(D514:D516)+NoOne","v":4},"Corner Brook P& P  - DL",null,0,{"$f":"IF(IndexPlant=1,SPLTDetails!S46,SPLTDetails!D46)","v":75526.918783026253},{"$f":"SUM(G517:H517)","v":75526.918783026253},{"$f":"+I517","v":75526.918783026253},0,0,0,{"$f":"SUM(G540,H540,J540)","v":349.46592191524218},{"$f":"+G517+H517","v":75526.918783026253},{"$f":"+J517","v":75526.918783026253},{"$f":"+SNBVDetails!D45","v":8167.6421359999995},0,{"$f":"Q517","v":8167.6421359999995},{"$f":"S517","v":8167.6421359999995},0,0]
[null,null,null,{"$f":"MAX(D515:D517)+NoOne","v":5},"North Atlantic Refining Limited",null,{"$f":"IF(IndexPlant=1,SPLTDetails!S32,SPLTDetails!D32)","v":0},{"$f":"IF(IndexPlant=1,SPLTDetails!S49,SPLTDetails!D49)","v":7610736.5194723569},{"$f":"SUM(G518:H518)","v":7610736.5194723569},{"$f":"+I518","v":7610736.5194723569},0,0,0,{"$f":"SUM(G541,H541,J541)","v":35215.166950900988},{"$f":"+G518+H518","v":7610736.5194723569},{"$f":"+J518","v":7610736.5194723569},{"$f":"SUM(SNBVDetails!D31,SNBVDetails!D48)","v":1283615.305846672},0,{"$f":"Q518","v":1283615.305846672},{"$f":"S518","v":1283615.305846672},0,0]
[null,null,null,{"$f":"MAX(D516:D518)+NoOne","v":6},"Teck Resources",null,{"$f":"IF(IndexPlant=1,SPLTDetails!S33,SPLTDetails!D33)","v":6648237.1969332835},{"$f":"IF(IndexPlant=1,SPLTDetails!S50,SPLTDetails!D50)","v":1422638.8316844802},{"$f":"SUM(G519:H519)","v":8070876.0286177639},{"$f":"+I519","v":8070876.0286177639},0,0,0,{"$f":"SUM(G542,H542,J542)","v":23392.00254439651},{"$f":"+G519+H519","v":8070876.0286177639},{"$f":"+J519","v":8070876.0286177639},{"$f":"SUM(SNBVDetails!D32,SNBVDetails!D49)","v":0.2667235},0,{"$f":"Q519","v":0.2667235},{"$f":"S519","v":0.2667235},0,0]
[]
[null,null,null,{"$f":"MAX(D518:D520)+NoOne","v":7},"Subtotal Industrial"," ",{"$f":"SUM(G515:G520)","v":18061380.444473915},31818732.082297992,49880112.526771896,49880112.526771896,0,0,0,192892.86455209006,49880112.526771896,49880112.526771896,9612455.6638515852,0,9612455.6638515852,9612455.6638515852,0,0]
[null,null,null,{"$f":"MAX(D519:D521)+NoOne","v":8},"    Total"," ",{"$f":"SUM(G521,G513)","v":93512547.070783526},86715673.675969332,180228220.74675286,180228220.74675286,0,0,0,637673.7793977831,180228220.74675286,180228220.74675286,36983050.303217605,0,36983050.303217605,36983050.303217605,0,0]
[]
[null,null,null,{"$f":"MAX(D521:D523)+NoOne","v":9},"Basis of Allocation - Ratios"]
[null,null,null,{"$f":"MAX(D522:D524)+NoOne","v":10},"Newfoundland Power",null,{"$f":"IF(G$522<>0,G513/G$522,0)","v":0.80685607428912709},0.63306827089650342,0.72323916687353429,0.72323916687353429,0,0,0,0.69750541611690942,0.72323916687353429,0.72323916687353429,{"$f":"IF(SUM($Q$522:$Q$522)<>0,SUM($Q513:$Q513)/SUM($Q$522:$Q$522))","v":0.7400848338619791},{"$f":"IF(R$522<>0,R513/R$522,0)","v":0},{"$f":"IF(S$522<>0,S513/S$522,0)","v":0.7400848338619791},{"$f":"IF(T$522<>0,T513/T$522,0)","v":0.7400848338619791},{"$f":"IF(U$522<>0,U513/U$522,0)","v":0},{"$f":"IF(V$522<>0,V513/V$522,0)","v":0}]
[null,null,null,null,"Industrial"]
[null,null,null,{"$f":"MAX(D524:D526)+NoOne","v":11},"Vale",null,{"$f":"IF(G$522<>0,G515/G$522,0)","v":0.12204932498418153},5.3941213567733272E-2,8.9279535992178194E-2,8.9279535992178194E-2,0,0,0,7.9194379672343482E-2,8.9279535992178194E-2,8.9279535992178194E-2,{"$f":"IF(SUM($Q$522:$Q$522)<>0,SUM($Q515:$Q515)/SUM($Q$522:$Q$522))","v":1.6022184102643916E-2},{"$f":"IF(R$522<>0,R515/R$522,0)","v":0},1.6022184102643916E-2,1.6022184102643916E-2,0,0]
[null,null,null,{"$f":"MAX(D525:D527)+NoOne","v":12},"Corner Brook P& P  - CB",null,{"$f":"IF(G$522<>0,G516/G$522,0)","v":0},0.20794719540914905,0.10005248381312494,0.10005248381312494,0,0,0,0.13084441047732559,0.10005248381312494,0.10005248381312494,{"$f":"IF(SUM($Q$522:$Q$522)<>0,SUM($Q516:$Q516)/SUM($Q$522:$Q$522))","v":0.2089639211787124},0,0.2089639211787124,0.2089639211787124,0,0]
[null,null,null,{"$f":"MAX(D526:D528)+NoOne","v":13},"Corner Brook P& P  - DL",null,{"$f":"IF(G$522<>0,G517/G$522,0)","v":0},8.7097194291827645E-4,4.1906266660176754E-4,4.1906266660176754E-4,0,0,0,5.480324473201275E-4,4.1906266660176754E-4,4.1906266660176754E-4,{"$f":"IF(SUM($Q$522:$Q$522)<>0,SUM($Q517:$Q517)/SUM($Q$522:$Q$522))","v":2.208482553233149E-4},0,2.208482553233149E-4,2.208482553233149E-4,0,0]
[null,null,null,{"$f":"MAX(D527:D529)+NoOne","v":14},"North Atlantic Refining Ltd.",null,{"$f":"IF(G$522<>0,G518/G$522,0)","v":0},8.7766561647337413E-2,4.2228328548871159E-2,4.2228328548871159E-2,0,0,0,5.5224423660885147E-2,4.2228328548871159E-2,4.2228328548871159E-2,{"$f":"IF(SUM($Q$522:$Q$522)<>0,SUM($Q518:$Q518)/SUM($Q$522:$Q$522))","v":3.4708205389294096E-2},0,3.4708205389294096E-2,3.4708205389294096E-2,0,0]
[null,null,null,{"$f":"MAX(D528:D530)+NoOne","v":15},"Teck Resources",null,{"$f":"IF(G$522<>0,G519/G$522,0)","v":7.1094600726691326E-2},1.640578653635856E-2,4.4781422105689715E-2,4.4781422105689715E-2,0,0,0,3.6683337625216195E-2,4.4781422105689715E-2,4.4781422105689715E-2,{"$f":"IF(SUM($Q$522:$Q$522)<>0,SUM($Q519:$Q519)/SUM($Q$522:$Q$522))","v":7.2120470813840493E-9},0,7.2120470813840493E-9,7.2120470813840493E-9,0,0]
[]
[null,null,null,{"$f":"MAX(D530:D532)+NoOne","v":16},"Subtotal Industrial",null,{"$f":"SUM(G527:G532)","v":0.19314392571087285},0.36693172910349658,0.27676083312646577,0.27676083312646577,0,0,0,0.30249458388309053,0.27676083312646577,0.27676083312646577,0.25991516613802079,0,0.25991516613802079,0.25991516613802079,0,0]
[null,null,null,{"$f":"MAX(D531:D533)+NoOne","v":17},"    Total",null,{"$f":"SUM(G533,G525)","v":1},1,1,1,0,0,0,1,1,1,0.99999999999999989,0,0.99999999999999989,0.99999999999999989,0,0]
[null,null,null,null,"Amounts Allocated"]
[null,null,null,{"$f":"MAX(D533:D535)+NoOne","v":18},"Newfoundland Power",{"$f":"SUM(U536:V536)","v":3629847.4772280767},{"$f":"G$545*G525","v":132807.74542208275},{"$f":"H$545*H525","v":211837.42159184479},{"$f":"I$545*I525","v":413209.25830254098},{"$f":"J$545*J525","v":100135.74783176545},{"$f":"+SDEPDetails!D31","v":680725.80339199991},{"$f":"+SDEPDetails!D48","v":352272.26665166626},0,{"$f":"N$545*N525","v":51781.534878114173},{"$f":"O$545*O525","v":-306.53564983200857},{"$f":"P$545*P525","v":-2981.7730812591121},{"$f":"Q$545*Q525","v":0},{"$f":"SUM(G536:Q536)","v":1939481.4693389232},{"$f":"S$545*S525","v":1197361.1999688747},{"$f":"T$545*T525","v":486306.86492409714},{"$f":"SUM(R536:T536)","v":3623149.5342318951},{"$f":"+V468","v":6697.9429961813157}]
[null,null,null,null,"Industrial"]
[null,null,null,{"$f":"MAX(D535:D537)+NoOne","v":19},"Vale",{"$f":"SUM(U538:V538)","v":170233.16646021849},{"$f":"G$545*G527","v":20089.203264308439},18049.818834771057,51008.203839952927,12361.157293646742,{"$f":"+SDEPDetails!D30","v":5035.6069549999993},{"$f":"+SDEPDetails!D45","v":21539.133212000004},{"$f":"+SDEPDetails!D73","v":0},{"$f":"N$545*N527","v":5879.2468680511729},-37.839986875113475,-368.08199738348895,0,{"$f":"SUM(G538:Q538)","v":133556.44828347172},{"$f":"S$545*S527","v":25921.814237368497},10528.114837233066,{"$f":"SUM(R538:T538)","v":170006.37735807328},{"$f":"+U538/$U$544*$V$544","v":226.78910214521508}]
[null,null,null,{"$f":"MAX(D536:D538)+NoOne","v":20},"Corner Brook P& P  - CB",{"$f":"SUM(U539:V539)","v":860199.96058171988},0,69583.328888601463,57163.127387675784,13852.720853549634,0,{"$f":"+SDEPDetails!D47","v":233810.17277},0,9713.6513182319213,-42.405962712920484,-412.4967460442524,0,{"$f":"SUM(G539:Q539)","v":383668.09850930166},338076.50145605614,137309.37960230833,{"$f":"SUM(R539:T539)","v":859053.97956766607},{"$f":"+U539/$U$544*$V$544","v":1145.9810140538418}]
[null,null,null,{"$f":"MAX(D537:D539)+NoOne","v":21},"Corner Brook P& P  - DL",{"$f":"SUM(U540:V540)","v":1711.2699106530588},0,291.44479221074505,239.42366727365066,58.021129704497142,0,{"$f":"+SDEPDetails!D46","v":578.89857599999993},0,40.684933234251758,-0.17761433936496043,-1.727713093907024,0,{"$f":"SUM(G540:Q540)","v":1206.5677709898728},357.30381154422111,145.11852933101343,{"$f":"SUM(R540:T540)","v":1708.9901118651073},{"$f":"+U540/$U$544*$V$544","v":2.2797987879513681}]
[null,null,null,{"$f":"MAX(D538:D540)+NoOne","v":22},"North Atlantic Refining Ltd.",{"$f":"SUM(U541:V541)","v":193496.1099547144},0,29368.46304905587,24126.370802711557,5846.703901845116,{"$f":"+SDEPDetails!D32","v":0},{"$f":"+SDEPDetails!D49","v":51029.029752000002},0,4099.7608819148963,-17.897935739577079,-174.09910732283012,0,{"$f":"SUM(G541:Q541)","v":114278.33134446504},56153.371278841369,22806.626724034526,{"$f":"SUM(R541:T541)","v":193238.32934734094},{"$f":"+U541/$U$544*$V$544","v":257.78060737345442}]
[null,null,null,{"$f":"MAX(D539:D541)+NoOne","v":23},"Teck Resources",{"$f":"SUM(U542:V542)","v":51565.4573215903},11702.103925429017,5489.7073172327182,25585.033363189927,6200.1913017347733,{"$f":"+SDEPDetails!D33","v":3.9520000000000007E-3},{"$f":"+SDEPDetails!D50","v":4.8990000000000006E-3},0,2723.304339714819,-18.980031716077391,-184.62501077267578,0,{"$f":"SUM(G542:Q542)","v":51496.744055812509},1.1668156071427448E-2,4.7390080776698422E-3,{"$f":"SUM(R542:T542)","v":51496.760462976657},{"$f":"+U542/$U$544*$V$544","v":68.696858613645873}]
[]
[null,null,null,{"$f":"MAX(D541:D543)+NoOne","v":24},"Subtotal Industrial",{"$f":"SUM(U544:V544)","v":1277205.9642288962},{"$f":"SUM(G538:G543)","v":31791.307189737454},122782.76288187185,158122.15906080385,38318.794480480763,5035.6109069999993,306957.23920900002,0,22456.648341147062,-117.3015313830534,-1141.0305746171543,0,684206.18996404076,420509.00245196634,170789.24443191502,1275504.4368479222,{"$f":"+V469","v":1701.5273809741088}]
[null,null,null,{"$f":"MAX(D542:D544)+NoOne","v":25},"    Total",{"$f":"SUM(U545:V545)","v":4907053.4414569726},{"$f":"V241","v":164599.05261182023},{"$f":"V242","v":334620.18447371665},{"$f":"V270","v":571331.41736334481},{"$f":"+V243","v":138454.54231224619},{"$f":"SUM(K536,K544)","v":685761.41429899994},{"$f":"SUM(L536,L544)","v":659229.50586066628},{"$f":"SUM(M536,M544)","v":0},{"$f":"V176-SUM(K545:M545)","v":74238.183219261235},{"$f":"V301","v":-423.83718121506195},{"$f":"SUM(V300,V302,V303)","v":-4122.803655876266},{"$f":"V313","v":0},{"$f":"SUM(R536,R544)","v":2623687.6593029639},{"$f":"V316","v":1617870.2024208412},{"$f":"V317","v":657096.1093560122},{"$f":"SUM(U536,U544)","v":4898653.971079817},{"$f":"SUM(V536,V544)","v":8399.470377155425}]
[]
[]
[]
[]
[]
[null,null,"RatiosIslInt:"]
["LookupCol",null,{"$f":"MAX(B552)+NoOne","v":1},2,3,4,5,6,7,{"$f":"MAX(I552)+NoOne","v":8},9,10,11,12,13,14,15,16,17,18,19,20]
[null,null,null,null,"Expense Ratios:"]
[{"$f":"(SUM(G554:AF554)-F554)*1000","v":0},null,"E-GTDC",null,"GTDC",{"$f":"SUM(G554:V554)","v":0.99999999999999989},{"$f":"IF(SUM($F$251,$F$253)<>0,(SUM(G251,G253)/SUM($F$251,$F$253)),0)","v":0.47406442341447774},0.23115418325029821,0.1123536851784374,1.7771158647322628E-2,9.5710424414161138E-3,5.7343384067268598E-2,1.4948001560755693E-2,3.7123185117974604E-3,6.5711122688049232E-3,8.0331834848494689E-3,8.9878504860271078E-3,3.4257340430851463E-3,4.2221010391333188E-3,1.2831836262103033E-3,3.6171878235322745E-2,1.0386759744793051E-2]
[{"$f":"(SUM(G555:AF555)-1)*1000","v":-1.1102230246251565E-13},null,"E-GTD",null,"GTD",{"$f":"SUM(G555:V555)","v":0.99999999999999989},{"$f":"IF($F$251<>0,G251/$F$251,0)","v":0.49185577045263118},0.2398292579667389,0.11657025006982422,1.8438099331222389E-2,9.930237793739043E-3,5.9495446099122259E-2,1.5508990890810832E-2,3.8516395485541132E-3,6.8177220817896914E-3,8.3346639337950404E-3,9.3251590019714416E-3,3.5542997405107403E-3,4.3805539014602057E-3,1.3313407206472837E-3,0,1.0776568467182598E-2]
[]
[]
[null,null,null,null,"Labour Ratios:"]
[null,null,null,null,"GTDC:"]
[null,null,null,null,"Hydraulic",{"$f":"+LabourRatios!E45","v":0.19371480693718957},{"$f":"+IslIntCos!G$24/IslIntCos!$F$24*IslIntCos!$F$560","v":8.7944223467103289E-2},{"$f":"+IslIntCos!H$24/IslIntCos!$F$24*IslIntCos!$F$560","v":0.10577058347008628},{"$f":"+IslIntCos!I$24/IslIntCos!$F$24*IslIntCos!$F$560","v":0},{"$f":"+IslIntCos!J$24/IslIntCos!$F$24*IslIntCos!$F$560","v":0}]
[null,null,null,null,"Holyrood",{"$f":"+LabourRatios!E46","v":0.26324955919796605},{"$f":"+IslIntCos!G$25/IslIntCos!$F$25*IslIntCos!$F$561","v":0.18311639337810517},{"$f":"+IslIntCos!H$25/IslIntCos!$F$25*IslIntCos!$F$561","v":8.0133165819860866E-2},{"$f":"+IslIntCos!I$25/IslIntCos!$F$25*IslIntCos!$F$561","v":0}]
[null,null,null,null,"Diesel",{"$f":"+LabourRatios!E47","v":1.1093745712244578E-2},{"$f":"IslIntCos!G28/IslIntCos!$F28*$F562","v":1.1093745712244578E-2},{"$f":"IslIntCos!H28/IslIntCos!$F28*$F562","v":0},{"$f":"IslIntCos!I28/IslIntCos!$F28*$F562","v":0},{"$f":"IslIntCos!J28/IslIntCos!$F28*$F562","v":0}]
[null,null,null,null,"Gas Turbines",{"$f":"+LabourRatios!E48","v":1.2079154469256372E-2},{"$f":"+IslIntCos!G26/IslIntCos!$F26*$F563","v":1.2079154469256372E-2},{"$f":"+IslIntCos!H26/IslIntCos!$F26*$F563","v":0},{"$f":"+IslIntCos!I26/IslIntCos!$F26*$F563","v":0},{"$f":"+IslIntCos!J26/IslIntCos!$F26*$F563","v":0}]
[null,null,null,null,"Production - General",{"$f":"+LabourRatios!E49","v":9.3371287459909039E-2},{"$f":"+IslIntCos!G29/IslIntCos!$F29*$F564","v":5.4113036950259569E-2},{"$f":"+IslIntCos!H29/IslIntCos!$F29*$F564","v":3.9258250509649477E-2},{"$f":"+IslIntCos!I29/IslIntCos!$F29*$F564","v":0},{"$f":"+IslIntCos!J29/IslIntCos!$F29*$F564","v":0}]
[null,null,null,null,"Transmission Lines",{"$f":"+LabourRatios!E50","v":7.803186772550065E-2},{"$f":"IslIntCos!G31/IslIntCos!$F31*$F565","v":2.9527616917214166E-3},{"$f":"IslIntCos!H31/IslIntCos!$F31*$F565","v":3.5512886994598231E-3},{"$f":"IslIntCos!I31/IslIntCos!$F31*$F565","v":5.5151641547364044E-2},{"$f":"IslIntCos!J31/IslIntCos!$F31*$F565","v":1.2078287497228392E-2},{"$f":"IslIntCos!K31/IslIntCos!$F31*$F565","v":0},{"$f":"IslIntCos!L31/IslIntCos!$F31*$F565","v":0},{"$f":"IslIntCos!M31/IslIntCos!$F31*$F565","v":0},{"$f":"IslIntCos!N31/IslIntCos!$F31*$F565","v":0},{"$f":"IslIntCos!O31/IslIntCos!$F31*$F565","v":0},{"$f":"IslIntCos!P31/IslIntCos!$F31*$F565","v":0},{"$f":"IslIntCos!Q31/IslIntCos!$F31*$F565","v":0},{"$f":"IslIntCos!R31/IslIntCos!$F31*$F565","v":0},{"$f":"IslIntCos!S31/IslIntCos!$F31*$F565","v":0},{"$f":"IslIntCos!T31/IslIntCos!$F31*$F565","v":0},{"$f":"IslIntCos!U31/IslIntCos!$F31*$F565","v":0},{"$f":"IslIntCos!V31/IslIntCos!$F31*$F565","v":4.2978882897269687E-3}]
[null,null,null,null,"Terminal Stations",{"$f":"+LabourRatios!E51","v":9.3238327365590984E-2},{"$f":"IslIntCos!G37/IslIntCos!$F37*$F566","v":8.3302169548860987E-3},{"$f":"IslIntCos!H37/IslIntCos!$F37*$F566","v":7.7424491031655319E-3},{"$f":"IslIntCos!I37/IslIntCos!$F37*$F566","v":5.7964857270622637E-2},{"$f":"IslIntCos!J37/IslIntCos!$F37*$F566","v":6.0480165354812139E-3},{"$f":"IslIntCos!K37/IslIntCos!$F37*$F566","v":3.579014066082767E-3},{"$f":"IslIntCos!L37/IslIntCos!$F37*$F566","v":0},{"$f":"IslIntCos!M37/IslIntCos!$F37*$F566","v":0},{"$f":"IslIntCos!N37/IslIntCos!$F37*$F566","v":0},{"$f":"IslIntCos!O37/IslIntCos!$F37*$F566","v":0},{"$f":"IslIntCos!P37/IslIntCos!$F37*$F566","v":0},{"$f":"IslIntCos!Q37/IslIntCos!$F37*$F566","v":0},{"$f":"IslIntCos!R37/IslIntCos!$F37*$F566","v":0},{"$f":"IslIntCos!S37/IslIntCos!$F37*$F566","v":0},{"$f":"IslIntCos!T37/IslIntCos!$F37*$F566","v":0},{"$f":"IslIntCos!U37/IslIntCos!$F37*$F566","v":0},{"$f":"IslIntCos!V37/IslIntCos!$F37*$F566","v":9.5737734353527164E-3}]
[null,null,null,null,"Transmission - General",{"$f":"+LabourRatios!E52","v":4.7813464210805831E-2},{"$f":"IslIntCos!G38/IslIntCos!$F38*$F567","v":2.6801069685396554E-3},{"$f":"IslIntCos!H38/IslIntCos!$F38*$F567","v":2.8105701756142476E-3},{"$f":"IslIntCos!I38/IslIntCos!$F38*$F567","v":3.2354898708203038E-2},{"$f":"IslIntCos!J38/IslIntCos!$F38*$F567","v":5.8804850462750328E-3},{"$f":"IslIntCos!K38/IslIntCos!$F38*$F567","v":6.490350722360372E-4},{"$f":"IslIntCos!L38/IslIntCos!$F38*$F567","v":0},{"$f":"IslIntCos!M38/IslIntCos!$F38*$F567","v":0},{"$f":"IslIntCos!N38/IslIntCos!$F38*$F567","v":0},{"$f":"IslIntCos!O38/IslIntCos!$F38*$F567","v":0},{"$f":"IslIntCos!P38/IslIntCos!$F38*$F567","v":0},{"$f":"IslIntCos!Q38/IslIntCos!$F38*$F567","v":0},{"$f":"IslIntCos!R38/IslIntCos!$F38*$F567","v":0},{"$f":"IslIntCos!S38/IslIntCos!$F38*$F567","v":0},{"$f":"IslIntCos!T38/IslIntCos!$F38*$F567","v":0},{"$f":"IslIntCos!U38/IslIntCos!$F38*$F567","v":0},{"$f":"IslIntCos!V38/IslIntCos!$F38*$F567","v":3.4383682399378151E-3}]
[null,null,null,null,"Distribution",{"$f":"+LabourRatios!E53","v":0.17088813379335271},{"$f":"SUM(IslIntCos!G50,-IslIntCos!G48)/SUM(IslIntCos!$F50,-IslIntCos!$F48)*$F568","v":0},{"$f":"SUM(IslIntCos!H50,-IslIntCos!H48)/SUM(IslIntCos!$F50,-IslIntCos!$F48)*$F568","v":0},{"$f":"SUM(IslIntCos!I50,-IslIntCos!I48)/SUM(IslIntCos!$F50,-IslIntCos!$F48)*$F568","v":0},{"$f":"SUM(IslIntCos!J50,-IslIntCos!J48)/SUM(IslIntCos!$F50,-IslIntCos!$F48)*$F568","v":0},{"$f":"SUM(IslIntCos!K50,-IslIntCos!K48)/SUM(IslIntCos!$F50,-IslIntCos!$F48)*$F568","v":9.6300422317392304E-3},{"$f":"SUM(IslIntCos!L50,-IslIntCos!L48)/SUM(IslIntCos!$F50,-IslIntCos!$F48)*$F568","v":8.8654477176404289E-2},{"$f":"SUM(IslIntCos!M50,-IslIntCos!M48)/SUM(IslIntCos!$F50,-IslIntCos!$F48)*$F568","v":2.3110028903182481E-2},{"$f":"SUM(IslIntCos!N50,-IslIntCos!N48)/SUM(IslIntCos!$F50,-IslIntCos!$F48)*$F568","v":5.7393483507986402E-3},{"$f":"SUM(IslIntCos!O50,-IslIntCos!O48)/SUM(IslIntCos!$F50,-IslIntCos!$F48)*$F568","v":1.0159123535070171E-2},{"$f":"SUM(IslIntCos!P50,-IslIntCos!P48)/SUM(IslIntCos!$F50,-IslIntCos!$F48)*$F568","v":1.241952656780791E-2},{"$f":"SUM(IslIntCos!Q50,-IslIntCos!Q48)/SUM(IslIntCos!$F50,-IslIntCos!$F48)*$F568","v":1.3895468478869258E-2},{"$f":"SUM(IslIntCos!R50,-IslIntCos!R48)/SUM(IslIntCos!$F50,-IslIntCos!$F48)*$F568","v":5.2962807388355366E-3},{"$f":"SUM(IslIntCos!S50,-IslIntCos!S48)/SUM(IslIntCos!$F50,-IslIntCos!$F48)*$F568","v":0},{"$f":"SUM(IslIntCos!T50,-IslIntCos!T48)/SUM(IslIntCos!$F50,-IslIntCos!$F48)*$F568","v":1.9838378106452007E-3},{"$f":"SUM(IslIntCos!U50,-IslIntCos!U48)/SUM(IslIntCos!$F50,-IslIntCos!$F48)*$F568","v":0},{"$f":"SUM(IslIntCos!V50,-IslIntCos!V48)/SUM(IslIntCos!$F50,-IslIntCos!$F48)*$F568","v":0}]
[null,null,null,null,"Meters",{"$f":"+LabourRatios!E54","v":3.563428922558942E-3},null,null,null,null,null,null,null,null,null,null,null,null,{"$f":"+F569","v":3.563428922558942E-3}]
[null,null,null,null,"Customer-Related",{"$f":"+LabourRatios!E55","v":3.2956224205625155E-2},null,null,null,null,null,null,null,null,null,null,null,null,null,null,{"$f":"+F570","v":3.2956224205625155E-2}]
[{"$f":"(SUM(G571:AF571)-1)*1000","v":-1.1102230246251565E-13},null,"L-GTDC",null,"Total",{"$f":"SUM(F560:F570)","v":0.99999999999999989},{"$f":"SUM(G560:G570)","v":0.36230963959211621},{"$f":"SUM(H560:H570)","v":0.23926630777783622},{"$f":"SUM(I560:I570)","v":0.14547139752618973},{"$f":"SUM(J560:J570)","v":2.4006789078984639E-2},1.3858091370058036E-2,8.8654477176404289E-2,2.3110028903182481E-2,5.7393483507986402E-3,1.0159123535070171E-2,1.241952656780791E-2,1.3895468478869258E-2,5.2962807388355366E-3,3.563428922558942E-3,1.9838378106452007E-3,3.2956224205625155E-2,1.7310029965017501E-2]
[]
[null,null,null,null,"GTD:"]
[null,null,null,null,"Hydraulic",{"$f":"+LabourRatios!E62","v":0.20031648182427234},{"$f":"+IslIntCos!G$24/IslIntCos!$F$24*IslIntCos!$F$574","v":9.0941305521419449E-2},{"$f":"+IslIntCos!H$24/IslIntCos!$F$24*IslIntCos!$F$574","v":0.10937517630285289},{"$f":"+IslIntCos!I$24/IslIntCos!$F$24*IslIntCos!$F$574","v":0},{"$f":"+IslIntCos!J$24/IslIntCos!$F$24*IslIntCos!$F$574","v":0}]
[null,null,null,null,"Holyrood",{"$f":"+LabourRatios!E63","v":0.27222093330958114},{"$f":"+IslIntCos!G$25/IslIntCos!$F$25*IslIntCos!$F$575","v":0.18935688121014463},{"$f":"+IslIntCos!H$25/IslIntCos!$F$25*IslIntCos!$F$575","v":8.2864052099436494E-2},{"$f":"+IslIntCos!I$25/IslIntCos!$F$25*IslIntCos!$F$575","v":0}]
[null,null,null,null,"Diesel",{"$f":"+LabourRatios!E64","v":1.1471813365565233E-2},{"$f":"IslIntCos!G28/IslIntCos!$F28*$F576","v":1.1471813365565233E-2},{"$f":"IslIntCos!H28/IslIntCos!$F28*$F576","v":0},{"$f":"IslIntCos!I28/IslIntCos!$F28*$F576","v":0},{"$f":"IslIntCos!J28/IslIntCos!$F28*$F576","v":0}]
[null,null,null,null,"Gas Turbines",{"$f":"+LabourRatios!E65","v":1.2490804213422493E-2},{"$f":"+IslIntCos!G26/IslIntCos!$F26*$F577","v":1.2490804213422493E-2},{"$f":"+IslIntCos!H26/IslIntCos!$F26*$F577","v":0},{"$f":"+IslIntCos!I26/IslIntCos!$F26*$F577","v":0},{"$f":"+IslIntCos!J26/IslIntCos!$F26*$F577","v":0}]
[null,null,null,null,"Production - General",{"$f":"+LabourRatios!E66","v":9.6553320332587345E-2},{"$f":"+IslIntCos!G29/IslIntCos!$F29*$F578","v":5.5957174126692051E-2},{"$f":"+IslIntCos!H29/IslIntCos!$F29*$F578","v":4.0596146205895307E-2},{"$f":"+IslIntCos!I29/IslIntCos!$F29*$F578","v":0},{"$f":"+IslIntCos!J29/IslIntCos!$F29*$F578","v":0}]
[null,null,null,null,"Transmission Lines",{"$f":"+LabourRatios!E67","v":8.0691143129897752E-2},{"$f":"IslIntCos!G31/IslIntCos!$F31*$F579","v":3.0533898936435226E-3},{"$f":"IslIntCos!H31/IslIntCos!$F31*$F579","v":3.6723143133232301E-3},{"$f":"IslIntCos!I31/IslIntCos!$F31*$F579","v":5.7031173694344822E-2},{"$f":"IslIntCos!J31/IslIntCos!$F31*$F579","v":1.2489907695550518E-2},{"$f":"IslIntCos!K31/IslIntCos!$F31*$F579","v":0},{"$f":"IslIntCos!L31/IslIntCos!$F31*$F579","v":0},{"$f":"IslIntCos!M31/IslIntCos!$F31*$F579","v":0},{"$f":"IslIntCos!N31/IslIntCos!$F31*$F579","v":0},{"$f":"IslIntCos!O31/IslIntCos!$F31*$F579","v":0},{"$f":"IslIntCos!P31/IslIntCos!$F31*$F579","v":0},{"$f":"IslIntCos!Q31/IslIntCos!$F31*$F579","v":0},{"$f":"IslIntCos!R31/IslIntCos!$F31*$F579","v":0},{"$f":"IslIntCos!S31/IslIntCos!$F31*$F579","v":0},{"$f":"IslIntCos!T31/IslIntCos!$F31*$F579","v":0},{"$f":"IslIntCos!U31/IslIntCos!$F31*$F579","v":0},{"$f":"IslIntCos!V31/IslIntCos!$F31*$F579","v":4.4443575330356507E-3}]
[null,null,null,null,"Terminal Stations",{"$f":"+LabourRatios!E68","v":9.6415829044554563E-2},{"$f":"IslIntCos!G37/IslIntCos!$F37*$F580","v":8.6141053418634251E-3},{"$f":"IslIntCos!H37/IslIntCos!$F37*$F580","v":8.0063067432552624E-3},{"$f":"IslIntCos!I37/IslIntCos!$F37*$F580","v":5.99402619834946E-2},{"$f":"IslIntCos!J37/IslIntCos!$F37*$F580","v":6.2541290134596975E-3},{"$f":"IslIntCos!K37/IslIntCos!$F37*$F580","v":3.7009845424451427E-3},{"$f":"IslIntCos!L37/IslIntCos!$F37*$F580","v":0},{"$f":"IslIntCos!M37/IslIntCos!$F37*$F580","v":0},{"$f":"IslIntCos!N37/IslIntCos!$F37*$F580","v":0},{"$f":"IslIntCos!O37/IslIntCos!$F37*$F580","v":0},{"$f":"IslIntCos!P37/IslIntCos!$F37*$F580","v":0},{"$f":"IslIntCos!Q37/IslIntCos!$F37*$F580","v":0},{"$f":"IslIntCos!R37/IslIntCos!$F37*$F580","v":0},{"$f":"IslIntCos!S37/IslIntCos!$F37*$F580","v":0},{"$f":"IslIntCos!T37/IslIntCos!$F37*$F580","v":0},{"$f":"IslIntCos!U37/IslIntCos!$F37*$F580","v":0},{"$f":"IslIntCos!V37/IslIntCos!$F37*$F580","v":9.9000414200364137E-3}]
[null,null,null,null,"Transmission - General",{"$f":"+LabourRatios!E69","v":4.9442916037104552E-2},{"$f":"IslIntCos!G38/IslIntCos!$F38*$F581","v":2.7714432744661332E-3},{"$f":"IslIntCos!H38/IslIntCos!$F38*$F581","v":2.9063525829588371E-3},{"$f":"IslIntCos!I38/IslIntCos!$F38*$F581","v":3.3457532655773746E-2},{"$f":"IslIntCos!J38/IslIntCos!$F38*$F581","v":6.0808881598400531E-3},{"$f":"IslIntCos!K38/IslIntCos!$F38*$F581","v":6.7115376623244345E-4},{"$f":"IslIntCos!L38/IslIntCos!$F38*$F581","v":0},{"$f":"IslIntCos!M38/IslIntCos!$F38*$F581","v":0},{"$f":"IslIntCos!N38/IslIntCos!$F38*$F581","v":0},{"$f":"IslIntCos!O38/IslIntCos!$F38*$F581","v":0},{"$f":"IslIntCos!P38/IslIntCos!$F38*$F581","v":0},{"$f":"IslIntCos!Q38/IslIntCos!$F38*$F581","v":0},{"$f":"IslIntCos!R38/IslIntCos!$F38*$F581","v":0},{"$f":"IslIntCos!S38/IslIntCos!$F38*$F581","v":0},{"$f":"IslIntCos!T38/IslIntCos!$F38*$F581","v":0},{"$f":"IslIntCos!U38/IslIntCos!$F38*$F581","v":0},{"$f":"IslIntCos!V38/IslIntCos!$F38*$F581","v":3.5555455978333343E-3}]
[null,null,null,null,"Distribution",{"$f":"+LabourRatios!E70","v":0.17671189047566874},{"$f":"SUM(IslIntCos!G50,-IslIntCos!G48)/SUM(IslIntCos!$F50,-IslIntCos!$F48)*$F582","v":0},{"$f":"SUM(IslIntCos!H50,-IslIntCos!H48)/SUM(IslIntCos!$F50,-IslIntCos!$F48)*$F582","v":0},{"$f":"SUM(IslIntCos!I50,-IslIntCos!I48)/SUM(IslIntCos!$F50,-IslIntCos!$F48)*$F582","v":0},{"$f":"SUM(IslIntCos!J50,-IslIntCos!J48)/SUM(IslIntCos!$F50,-IslIntCos!$F48)*$F582","v":0},{"$f":"SUM(IslIntCos!K50,-IslIntCos!K48)/SUM(IslIntCos!$F50,-IslIntCos!$F48)*$F582","v":9.9582278204817208E-3},{"$f":"SUM(IslIntCos!L50,-IslIntCos!L48)/SUM(IslIntCos!$F50,-IslIntCos!$F48)*$F582","v":9.1675764216133215E-2},{"$f":"SUM(IslIntCos!M50,-IslIntCos!M48)/SUM(IslIntCos!$F50,-IslIntCos!$F48)*$F582","v":2.3897603688311658E-2},{"$f":"SUM(IslIntCos!N50,-IslIntCos!N48)/SUM(IslIntCos!$F50,-IslIntCos!$F48)*$F582","v":5.9349416173885951E-3},{"$f":"SUM(IslIntCos!O50,-IslIntCos!O48)/SUM(IslIntCos!$F50,-IslIntCos!$F48)*$F582","v":1.0505339871222473E-2},{"$f":"SUM(IslIntCos!P50,-IslIntCos!P48)/SUM(IslIntCos!$F50,-IslIntCos!$F48)*$F582","v":1.2842775972169339E-2},{"$f":"SUM(IslIntCos!Q50,-IslIntCos!Q48)/SUM(IslIntCos!$F50,-IslIntCos!$F48)*$F582","v":1.4369017025578674E-2},{"$f":"SUM(IslIntCos!R50,-IslIntCos!R48)/SUM(IslIntCos!$F50,-IslIntCos!$F48)*$F582","v":5.4767745487890917E-3},{"$f":"SUM(IslIntCos!S50,-IslIntCos!S48)/SUM(IslIntCos!$F50,-IslIntCos!$F48)*$F582","v":0},{"$f":"SUM(IslIntCos!T50,-IslIntCos!T48)/SUM(IslIntCos!$F50,-IslIntCos!$F48)*$F582","v":2.0514457155939849E-3},{"$f":"SUM(IslIntCos!U50,-IslIntCos!U48)/SUM(IslIntCos!$F50,-IslIntCos!$F48)*$F582","v":0},{"$f":"SUM(IslIntCos!V50,-IslIntCos!V48)/SUM(IslIntCos!$F50,-IslIntCos!$F48)*$F582","v":0}]
[null,null,null,null,"Meters",{"$f":"+LabourRatios!E71","v":3.6848682673457835E-3},null,null,null,null,null,null,null,null,null,null,null,null,{"$f":"+F583","v":3.6848682673457835E-3}]
[null,null,null,null,"Customer-Related",{"$f":"+LabourRatios!E72","v":0},null,null,null,null,null,null,null,null,null,null,null,null,null,null,null,{"$f":"+F584","v":0}]
[{"$f":"(SUM(G585:AF585)-1)*1000","v":-1.1102230246251565E-13},null,"L-GTD",null,"Total",{"$f":"SUM(F574:F584)","v":1},{"$f":"SUM(G574:G584)","v":0.37465691694721692},{"$f":"SUM(H574:H584)","v":0.24742034824772202},{"$f":"SUM(I574:I584)","v":0.15042896833361316},{"$f":"SUM(J574:J584)","v":2.4824924868850271E-2},1.4330366129159307E-2,9.1675764216133215E-2,2.3897603688311658E-2,5.9349416173885951E-3,1.0505339871222473E-2,1.2842775972169339E-2,1.4369017025578674E-2,5.4767745487890917E-3,3.6848682673457835E-3,2.0514457155939849E-3,0,1.7899944550905399E-2]
[]
[{"$f":"(SUM(G587:AF587)-1)*1000","v":0},null,"P-DisxMet",null,"Plant - Distribution excl. Meters",{"$f":"SUM(G587:V587)","v":1},{"$f":"SUM(IslIntCos!G50,-IslIntCos!G48)/SUM(IslIntCos!$F50,-IslIntCos!$F48)","v":0},{"$f":"SUM(IslIntCos!H50,-IslIntCos!H48)/SUM(IslIntCos!$F50,-IslIntCos!$F48)","v":0},{"$f":"SUM(IslIntCos!I50,-IslIntCos!I48)/SUM(IslIntCos!$F50,-IslIntCos!$F48)","v":0},{"$f":"SUM(IslIntCos!J50,-IslIntCos!J48)/SUM(IslIntCos!$F50,-IslIntCos!$F48)","v":0},{"$f":"SUM(IslIntCos!K50,-IslIntCos!K48)/SUM(IslIntCos!$F50,-IslIntCos!$F48)","v":5.6352901854404967E-2},{"$f":"SUM(IslIntCos!L50,-IslIntCos!L48)/SUM(IslIntCos!$F50,-IslIntCos!$F48)","v":0.51878661910844048},{"$f":"SUM(IslIntCos!M50,-IslIntCos!M48)/SUM(IslIntCos!$F50,-IslIntCos!$F48)","v":0.135234836908737},{"$f":"SUM(IslIntCos!N50,-IslIntCos!N48)/SUM(IslIntCos!$F50,-IslIntCos!$F48)","v":3.3585411832860054E-2},{"$f":"SUM(IslIntCos!O50,-IslIntCos!O48)/SUM(IslIntCos!$F50,-IslIntCos!$F48)","v":5.9448969975616564E-2},{"$f":"SUM(IslIntCos!P50,-IslIntCos!P48)/SUM(IslIntCos!$F50,-IslIntCos!$F48)","v":7.2676354361890808E-2},{"$f":"SUM(IslIntCos!Q50,-IslIntCos!Q48)/SUM(IslIntCos!$F50,-IslIntCos!$F48)","v":8.1313243760227485E-2},{"$f":"SUM(IslIntCos!R50,-IslIntCos!R48)/SUM(IslIntCos!$F50,-IslIntCos!$F48)","v":3.099267702952441E-2},{"$f":"SUM(IslIntCos!S50,-IslIntCos!S48)/SUM(IslIntCos!$F50,-IslIntCos!$F48)","v":0},{"$f":"SUM(IslIntCos!T50,-IslIntCos!T48)/SUM(IslIntCos!$F50,-IslIntCos!$F48)","v":1.1608985168298261E-2},{"$f":"SUM(IslIntCos!U50,-IslIntCos!U48)/SUM(IslIntCos!$F50,-IslIntCos!$F48)","v":0},{"$f":"SUM(IslIntCos!V50,-IslIntCos!V48)/SUM(IslIntCos!$F50,-IslIntCos!$F48)","v":0}]
[]
[null,null,"Insert rows before this line to extend the ratio range"]
[]
[]
[]
[]
[]
[]
[]
[]
[]
[]
[]
[]
[]
[]
[]
[]
[]
[]
[]
[]
[]
[]
[]
[]
[null,null,null,null,null,"2019 CAEC",null,null,null,null,2015]
[null,null,null,null,null,"Total","$","Widgits",null,null,"Total","$","Widgits"]
[null,null,null,null,null,"NP",{"$f":"F483","v":475103607.91961205},6169300,{"$f":"G616/H616/10","v":7.7010942557439588},{"$f":"I616-N616","v":-0.12551969405432306},"NP",463656437,5924100,7.8266139497982818,{"$f":"H616/M616-1","v":4.1390253371820229E-2}]
[]
[null,null,null,null,null,"IC",{"$f":"F484","v":49773741.238407478},894300,{"$f":"G618/H618/10","v":5.5656649042164243},{"$f":"I618-N618","v":-1.293222607853096},"IC",42621127,621400,6.8588875120695203,{"$f":"H618/M618-1","v":0.43916961699388479}]
[]
[null,null,null,null,null,null,null,null,{"$f":"I616/I618-1","v":0.38367910901530933},null,null,null,null,0.14109087458073377]
[]
[null,null,null,null,null,"Generation",null,null,null,null,"Generation"]
[null,null,null,null,null,"NP",{"$f":"SUM(G483:H483)","v":415982254.97987306},6169300,{"$f":"G623/H623/10","v":6.7427788400608346},{"$f":"I623-N623","v":-0.54433150581448775},"NP",431695704,5924100,7.2871103458753224]
[]
[null,null,null,null,null,"IC",{"$f":"SUM(G484:H484)","v":44840065.275936678},894300,{"$f":"G625/H625/10","v":5.0139847116109442},{"$f":"I625-N625","v":-1.3208656263356282},"IC",39364760,621400,6.3348503379465724]
[]
[null,null,null,null,null,null,null,null,{"$f":"I623/I625-1","v":0.344794455484976},null,null,null,null,0.15032083745129543]
[]
[null,null,null,null,null,null,null,{"$f":"H616/(SUM(H616:H618))","v":0.87339317062121302},null,null,null,null,{"$f":"M616/(SUM(M616:M618))","v":0.90506454816285997}]

{"sheet":"LabIntCos","index":12,"n_rows":567,"n_cols":32,"rows_kept":567,"cut":false,"hidden":false,"merged":[[309,16,309,17],[483,10,483,13],[483,14,483,15],[484,6,484,7],[484,10,484,11]]}
[99,"Labrador Interconnected",null,null,null," "]
[19,"Plant Lookups"]
[null,null,null,null,null,null,null,null,null,null,null,null,null,null,null,null,null,null,null,null,"Schedule 2.2E",null,null,null,null,null,null,null,null,null,null,"Schedule 2.2E"]
[null,null,null,null,null,null,null,null,null,null,null,null,null,null,null,null,null,null,null,null,"Page 1 of 2",null,null,null,null,null,null,null,null,null,null,"Page 2 of 2"]
[]
[null,null,null,"NEWFOUNDLAND AND LABRADOR HYDRO",null,null,null,null,null,null,null,null,null,null,null,null,null,null,null,null,null,null,null,null,"NEWFOUNDLAND & LABRADOR HYDRO"]
[null,null,null,{"$f":"RunName","v":"2019 Test Year Cost of Service Study"},null,null,null,null,null,null,null,null,null,null,null,null,null,null,null,null,null,null,null,null,{"$f":"RunName","v":"2019 Test Year Cost of Service Study"}]
[null,null,null,{"$f":"$B$1","v":"Labrador Interconnected"},null,null,null,null,null,null,null,null,null,null,null,null,null,null,null,null,null,null,null,null,{"$f":"$B$1","v":"Labrador Interconnected"}]
[null,null,null,"Functional Classification of Plant in Service for the Allocation of O&M Expense",null,null,null,null,null,null,null,null,null,null,null,null,null,null,null,null,null,null,null,null,{"$f":"+D9&\" (CONT'D.)\"","v":"Functional Classification of Plant in Service for the Allocation of O&M Expense (CONT'D.)"}]
[]
[null,null,null,null,{"$f":"MAX(D11)+NoOne","v":1},2,3,4,5,6,7,8,9,10,11,12,13,14,15,16,17]
[null,null,null,null,null,null,null,null,"","Distribution",null,null,null,null,null,null,null,null,null,null,"Specifically",null,null,null,null,null,{"$f":"MAX(Z12)+NoOne","v":1},null,{"$f":"MAX(U11)+NoOne","v":18}]
["Check","Alloc","Code","Line",null,"Total","Production","Production","Transmission","Substations","Primary Lines",null,"Line Transformers",null,"Secondary Lines",null,"Services","Meters","Street Lighting","Accounting","Assigned"]
["Column","Factor","Reference","No.","Description ","Amount","Demand","Energy","Demand","Demand","Demand","Customer","Demand","Customer","Demand","Customer","Customer","Customer","Customer","Customer","Customer",null,null,null,null,null,"Description ","Basis of Functional Classification"]
[{"$f":"ROUND(SUM(A16:A567),2)","v":0},null,null,null,null,"($)","($)","($)","($)","($)","($)","($)","($)","($)","($)","($)","($)","($)","($)","($)","($)"]
[null,null,null,null," "]
[null,null,null,null,"Production",null,null,null,null,null,null,null,null,null,null,null,null,null,null,null,null,null,null,null,null,null,{"$f":"IF(ISBLANK(E17),\"\",E17)","v":"Production"}]
[null,null,null,null,null," ",null,null,null,null,null,null,null,null,null,null,null,null,null,null,null,null,null,null,null,null,{"$f":"IF(ISBLANK(E18),\"\",E18)","v":""}]
[null,null,"P04",{"$f":"MAX(D16:D18)+NoOne","v":1},"Gas Turbines",24130928.689999994,{"$f":"$F19*'Schedule 4.1'!D$21","v":24130928.689999994},{"$f":"$F19*'Schedule 4.1'!E$21","v":0},{"$f":"$F19*'Schedule 4.1'!G$16","v":0},{"$f":"$F19*'Schedule 4.1'!J$16","v":0},{"$f":"$F19*'Schedule 4.1'!K$16","v":0},{"$f":"$F19*'Schedule 4.1'!L$16","v":0},{"$f":"$F19*'Schedule 4.1'!M$16","v":0},{"$f":"$F19*'Schedule 4.1'!N$16","v":0},{"$f":"$F19*'Schedule 4.1'!O$16","v":0},{"$f":"$F19*'Schedule 4.1'!P$16","v":0},{"$f":"$F19*'Schedule 4.1'!Q$16","v":0},{"$f":"$F19*'Schedule 4.1'!R$16","v":0},{"$f":"$F19*'Schedule 4.1'!S$16","v":0},{"$f":"$F19*'Schedule 4.1'!T$16","v":0},{"$f":"$F19*'Schedule 4.1'!U$16","v":0},null,null,null,null,null,"Gas Turbines",{"$f":"\"Production - Demand, Energy ratios Sch.4.1 L.\"&'Schedule 4.1'!$A$21","v":"Production - Demand, Energy ratios Sch.4.1 L.9"}]
[null,null,"P03",{"$f":"MAX(D17:D19)+NoOne","v":2},"Diesel",3341091.2200000011,{"$f":"$F20*'Schedule 4.1'!$D$21","v":3341091.2200000011},{"$f":"$F20*'Schedule 4.1'!$E$21","v":0},0,0,0,0,0,0,0,0,0,0,0,0,0,null,null,null,null,null,"Diesel",{"$f":"\"Production - Demand, Energy ratios Sch.4.1 L.\"&'Schedule 4.1'!$A$21","v":"Production - Demand, Energy ratios Sch.4.1 L.9"}]
[{"$f":"SUM(G21:U21)-F21","v":0},null," ",{"$f":"MAX(D18:D20)+NoOne","v":3},"Subtotal Production",{"$f":"SUM(F19:F20)","v":27472019.909999996},{"$f":"SUM(G19:G20)","v":27472019.909999996},{"$f":"SUM(H19:H20)","v":0},0,0,0,0,0,0,0,0,0,0,0,0,0,null,null,null,null,null,"Subtotal Production"]
[null,null,null,null,null,null,null,null,null,null,null,null,null,null,null,null,null,null,null,null,null,null,null,null,null,null,""]
[null,null,null,null,"Transmission",null,null,null,null,null,null,null,null,null,null,null,null,null,null,null,null,null,null,null,null,null,"Transmission"]
[null,null,{"$f":"+SPLTDetails!C$139","v":"SPLT16"},{"$f":"MAX(D21:D23)+NoOne","v":4},"Lines",{"$f":"SUM(G24:U24)","v":44748091.329999998},0,{"$f":"+SPLTDetails!G139*'Schedule 4.1'!E32","v":0},{"$f":"SPLTDetails!I139*'Schedule 4.1'!G32","v":42551062.189999998},{"$f":"SPLTDetails!J139*'Schedule 4.1'!H32","v":2197029.14},{"$f":"+SPLTDetails!K139","v":0},0,0,0,0,0,0,0,0,0,{"$f":"+SPLTDetails!M139","v":0},null,null,null,null,null,"Lines","Production, Transmission - Demand; Distribution - Primary Demand; Spec Assigned - Custmr"]
[null,null,{"$f":"+SPLTDetails!C$153","v":"SPLT17"},{"$f":"MAX(D22:D24)+NoOne","v":5},"Terminal Stations ",{"$f":"SUM(G25:U25)","v":41789870.774999991},0,{"$f":"+SPLTDetails!G153*'Schedule 4.1'!E36","v":0},{"$f":"SPLTDetails!G153*'Schedule 4.1'!G36","v":25396248.365000006},{"$f":"SPLTDetails!K153","v":16393622.409999989},0,0,0,0,0,0,0,0,0,0,{"$f":"SNBVDetails!M146","v":0},null,null,null,null,null,"Terminal Stations ","Production, Transmission - Demand; Spec Assigned - Custmr"]
[{"$f":"SUM(G26:U26)-F26","v":0},null," ",{"$f":"MAX(D23:D25)+NoOne","v":6},"Subtotal Transmission",{"$f":"SUM(F24:F25)","v":86537962.104999989},{"$f":"SUM(G24:G25)","v":0},0,67947310.555000007,18590651.54999999,0,0,0,0,0,0,0,0,0,0,0,null,null,null,null,null,"Subtotal Transmission"]
[null,null,null,null,null,null,null,null,null,null,null,null,null,null,null,null,null,null,null,null,null,null,null,null,null,null,""]
[null,null,null,null,"Distribution",null,null,null,null,null,null,null,null,null,null,null,null,null,null,null,null,null,null,null,null,null,"Distribution"]
[null,null,{"$f":"+SPLTDetails!C$159","v":"SPLT18"},{"$f":"MAX(D26:D28)+NoOne","v":7},"Substations",{"$f":"SUM(G29:U29)","v":9816507.9572499692},{"$f":"+SPLTDetails!E159","v":0},0,0,{"$f":"SPLTDetails!K159","v":9816507.9572499692},0,0,0,0,0,0,0,0,0,0,0,null,null,null,null,null,"Substations","Production - Demand; Dist Substns - Demand"]
[null,null,"D11",8,"Land & Land Improvements",{"$f":"DistnDetails!G13+DistnDetails!G22","v":1308897.2790850266},{"$f":"$F30*'Schedule 4.1'!D$62","v":0},{"$f":"$F30*'Schedule 4.1'!E$62","v":0},{"$f":"$F30*'Schedule 4.1'!G$62","v":0},{"$f":"$F30*'Schedule 4.1'!J$62","v":0},{"$f":"$F30*'Schedule 4.1'!K$62","v":986843.10356615577},{"$f":"$F30*'Schedule 4.1'!L$62","v":125719.5836561168},{"$f":"$F30*'Schedule 4.1'!M$62","v":0},{"$f":"$F30*'Schedule 4.1'!N$62","v":0},{"$f":"$F30*'Schedule 4.1'!O$62","v":114463.06705598555},{"$f":"$F30*'Schedule 4.1'!P$62","v":81871.524806768401},{"$f":"$F30*'Schedule 4.1'!Q$62","v":0},{"$f":"$F30*'Schedule 4.1'!R$62","v":0},{"$f":"$F30*'Schedule 4.1'!S$62","v":0},{"$f":"$F30*'Schedule 4.1'!T$62","v":0},{"$f":"$F30*'Schedule 4.1'!U$62","v":0},null,null,null,null,null,"Land & Land Improvements",{"$f":"\"Primary, Secondary - Demand, Customer - zero intercept ratios Sch.4.1 L.\"&'Schedule 4.1'!$A$62","v":"Primary, Secondary - Demand, Customer - zero intercept ratios Sch.4.1 L.32"}]
[null,null,"D11",9,"Poles",{"$f":"DistnDetails!G14+DistnDetails!G16","v":38639236.600915007},{"$f":"$F31*'Schedule 4.1'!D$67","v":0},{"$f":"$F31*'Schedule 4.1'!E$67","v":0},{"$f":"$F31*'Schedule 4.1'!G$67","v":0},{"$f":"$F31*'Schedule 4.1'!J$67","v":0},{"$f":"$F31*'Schedule 4.1'!K$67","v":22346925.209665991},{"$f":"$F31*'Schedule 4.1'!L$67","v":7637122.3926440543},{"$f":"$F31*'Schedule 4.1'!M$67","v":0},{"$f":"$F31*'Schedule 4.1'!N$67","v":0},{"$f":"$F31*'Schedule 4.1'!O$67","v":3955421.372362467},{"$f":"$F31*'Schedule 4.1'!P$67","v":4699767.6262424951},{"$f":"$F31*'Schedule 4.1'!Q$67","v":0},{"$f":"$F31*'Schedule 4.1'!R$67","v":0},{"$f":"$F31*'Schedule 4.1'!S$67","v":0},{"$f":"$F31*'Schedule 4.1'!T$67","v":0},{"$f":"$F31*'Schedule 4.1'!U$67","v":0},null,null,null,null,null,"Poles",{"$f":"\"Primary, Secondary - Demand, Customer - zero intercept ratios Sch.4.1 L.\"&'Schedule 4.1'!$A$67","v":"Primary, Secondary - Demand, Customer - zero intercept ratios Sch.4.1 L.37"}]
[null,null,"D11",10,"Primary Conductor & Eqpt",{"$f":"DistnDetails!G17","v":6962493.4399999995},{"$f":"$F32*'Schedule 4.1'!D$68","v":0},{"$f":"$F32*'Schedule 4.1'!E$68","v":0},{"$f":"$F32*'Schedule 4.1'!G$68","v":0},{"$f":"$F32*'Schedule 4.1'!J$68","v":0},{"$f":"$F32*'Schedule 4.1'!K$68","v":6175731.6812799992},{"$f":"$F32*'Schedule 4.1'!L$68","v":786761.75871999993},{"$f":"$F32*'Schedule 4.1'!M$68","v":0},{"$f":"$F32*'Schedule 4.1'!N$68","v":0},{"$f":"$F32*'Schedule 4.1'!O$68","v":0},{"$f":"$F32*'Schedule 4.1'!P$68","v":0},{"$f":"$F32*'Schedule 4.1'!Q$68","v":0},{"$f":"$F32*'Schedule 4.1'!R$68","v":0},{"$f":"$F32*'Schedule 4.1'!S$68","v":0},{"$f":"$F32*'Schedule 4.1'!T$68","v":0},{"$f":"$F32*'Schedule 4.1'!U$68","v":0},null,null,null,null,null,"Primary Conductor & Eqpt",{"$f":"\"Primary - Demand, Customer - zero intercept ratios Sch.4.1 L.\"&'Schedule 4.1'!$A$68","v":"Primary - Demand, Customer - zero intercept ratios Sch.4.1 L.38"}]
[null,null,"D05",11,"Submarine Conductor",620107.91,{"$f":"$F33*'Schedule 4.1'!D$69","v":0},{"$f":"$F33*'Schedule 4.1'!E$69","v":0},{"$f":"$F33*'Schedule 4.1'!G$69","v":0},{"$f":"$F33*'Schedule 4.1'!J$69","v":0},{"$f":"$F33*'Schedule 4.1'!K$69","v":620107.91},{"$f":"$F33*'Schedule 4.1'!L$69","v":0},{"$f":"$F33*'Schedule 4.1'!M$69","v":0},{"$f":"$F33*'Schedule 4.1'!N$69","v":0},{"$f":"$F33*'Schedule 4.1'!O$69","v":0},{"$f":"$F33*'Schedule 4.1'!P$69","v":0},{"$f":"$F33*'Schedule 4.1'!Q$69","v":0},{"$f":"$F33*'Schedule 4.1'!R$69","v":0},{"$f":"$F33*'Schedule 4.1'!S$69","v":0},{"$f":"$F33*'Schedule 4.1'!T$69","v":0},{"$f":"$F33*'Schedule 4.1'!U$69","v":0},null,null,null,null,null,"Submarine Conductor",{"$f":"\"Primary - Demand, Customer - zero intercept ratios Sch.4.1 L.\"&'Schedule 4.1'!$A$69","v":"Primary - Demand, Customer - zero intercept ratios Sch.4.1 L.39"}]
[null,null,"D11",12,"Transformers",{"$f":"DistnDetails!G18","v":16394541.52999993},{"$f":"$F34*'Schedule 4.1'!D$70","v":0},{"$f":"$F34*'Schedule 4.1'!E$70","v":0},{"$f":"$F34*'Schedule 4.1'!G$70","v":0},{"$f":"$F34*'Schedule 4.1'!J$70","v":0},{"$f":"$F34*'Schedule 4.1'!K$70","v":0},{"$f":"$F34*'Schedule 4.1'!L$70","v":0},{"$f":"$F34*'Schedule 4.1'!M$70","v":5918429.4923299747},{"$f":"$F34*'Schedule 4.1'!N$70","v":10476112.037669955},{"$f":"$F34*'Schedule 4.1'!O$70","v":0},{"$f":"$F34*'Schedule 4.1'!P$70","v":0},{"$f":"$F34*'Schedule 4.1'!Q$70","v":0},{"$f":"$F34*'Schedule 4.1'!R$70","v":0},{"$f":"$F34*'Schedule 4.1'!S$70","v":0},{"$f":"$F34*'Schedule 4.1'!T$70","v":0},{"$f":"$F34*'Schedule 4.1'!U$70","v":0},null,null,null,null,null,"Transformers",{"$f":"+\"Transformers - Demand, Customer - zero intercept ratios Sch.4.1 L.\"&'Schedule 4.1'!$A$70","v":"Transformers - Demand, Customer - zero intercept ratios Sch.4.1 L.40"}]
[null,null,"D11",13,"Secondary Conductor&Eqpt",{"$f":"DistnDetails!G19","v":1215204.7999999993},{"$f":"$F35*'Schedule 4.1'!D$71","v":0},{"$f":"$F35*'Schedule 4.1'!E$71","v":0},{"$f":"$F35*'Schedule 4.1'!G$71","v":0},{"$f":"$F35*'Schedule 4.1'!J$71","v":0},{"$f":"$F35*'Schedule 4.1'!K$71","v":0},{"$f":"$F35*'Schedule 4.1'!L$71","v":0},{"$f":"$F35*'Schedule 4.1'!M$71","v":0},{"$f":"$F35*'Schedule 4.1'!N$71","v":0},{"$f":"$F35*'Schedule 4.1'!O$71","v":708464.3983999996},{"$f":"$F35*'Schedule 4.1'!P$71","v":506740.40159999969},{"$f":"$F35*'Schedule 4.1'!Q$71","v":0},{"$f":"$F35*'Schedule 4.1'!R$71","v":0},{"$f":"$F35*'Schedule 4.1'!S$71","v":0},{"$f":"$F35*'Schedule 4.1'!T$71","v":0},{"$f":"$F35*'Schedule 4.1'!U$71","v":0},null,null,null,null,null,"Secondary Conductor&Eqpt",{"$f":"\"Secondary - Demand, Customer - zero intercept ratios Sch. 4.1 L.\"&'Schedule 4.1'!$A$71","v":"Secondary - Demand, Customer - zero intercept ratios Sch. 4.1 L.41"}]
[null,null,"D11",14,"Services",{"$f":"DistnDetails!G20","v":3681936.3400000008},{"$f":"$F36*'Schedule 4.1'!D$72","v":0},{"$f":"$F36*'Schedule 4.1'!E$72","v":0},{"$f":"$F36*'Schedule 4.1'!G$72","v":0},{"$f":"$F36*'Schedule 4.1'!J$72","v":0},{"$f":"$F36*'Schedule 4.1'!K$72","v":0},{"$f":"$F36*'Schedule 4.1'!L$72","v":0},{"$f":"$F36*'Schedule 4.1'!M$72","v":0},{"$f":"$F36*'Schedule 4.1'!N$72","v":0},{"$f":"$F36*'Schedule 4.1'!O$72","v":0},{"$f":"$F36*'Schedule 4.1'!P$72","v":0},{"$f":"$F36*'Schedule 4.1'!Q$72","v":3681936.3400000008},{"$f":"$F36*'Schedule 4.1'!R$72","v":0},{"$f":"$F36*'Schedule 4.1'!S$72","v":0},{"$f":"$F36*'Schedule 4.1'!T$72","v":0},{"$f":"$F36*'Schedule 4.1'!U$72","v":0},null,null,null,null,null,"Services","Services Customer"]
[null,null,{"$f":"+SystemizedPlant!C$21","v":"SMET01"},15,"Meters",{"$f":"SUM((IF(VLOOKUP($C37,AllocatedMeters,9,FALSE)=\"\",0,VLOOKUP($C37,AllocatedMeters,9,FALSE))))","v":3504100.723543616},{"$f":"$F37*'Schedule 4.1'!D$73","v":0},{"$f":"$F37*'Schedule 4.1'!E$73","v":0},{"$f":"$F37*'Schedule 4.1'!G$73","v":0},{"$f":"$F37*'Schedule 4.1'!J$73","v":0},{"$f":"$F37*'Schedule 4.1'!K$73","v":0},{"$f":"$F37*'Schedule 4.1'!L$73","v":0},{"$f":"$F37*'Schedule 4.1'!M$73","v":0},{"$f":"$F37*'Schedule 4.1'!N$73","v":0},{"$f":"$F37*'Schedule 4.1'!O$73","v":0},{"$f":"$F37*'Schedule 4.1'!P$73","v":0},{"$f":"$F37*'Schedule 4.1'!Q$73","v":0},{"$f":"$F37*'Schedule 4.1'!R$73","v":3504100.723543616},{"$f":"$F37*'Schedule 4.1'!S$73","v":0},{"$f":"$F37*'Schedule 4.1'!T$73","v":0},{"$f":"$F37*'Schedule 4.1'!U$73","v":0},null,null,null,null,null,"Meters","Meters - Customer"]
[null,null,"D11",16,"Street Lighting",{"$f":"DistnDetails!G21","v":899027.98000000033},{"$f":"$F38*'Schedule 4.1'!D$74","v":0},{"$f":"$F38*'Schedule 4.1'!E$74","v":0},{"$f":"$F38*'Schedule 4.1'!G$74","v":0},{"$f":"$F38*'Schedule 4.1'!J$74","v":0},{"$f":"$F38*'Schedule 4.1'!K$74","v":0},{"$f":"$F38*'Schedule 4.1'!L$74","v":0},{"$f":"$F38*'Schedule 4.1'!M$74","v":0},{"$f":"$F38*'Schedule 4.1'!N$74","v":0},{"$f":"$F38*'Schedule 4.1'!O$74","v":0},{"$f":"$F38*'Schedule 4.1'!P$74","v":0},{"$f":"$F38*'Schedule 4.1'!Q$74","v":0},{"$f":"$F38*'Schedule 4.1'!R$74","v":0},{"$f":"$F38*'Schedule 4.1'!S$74","v":899027.98000000033},{"$f":"$F38*'Schedule 4.1'!T$74","v":0},{"$f":"$F38*'Schedule 4.1'!U$74","v":0},null,null,null,null,null,"Street Lighting","Street Lighting - Customer"]
[{"$f":"SUM(G39:U39)-F39","v":0},null," ",17,"Subtotal Distribution",{"$f":"SUM(F29:F38)","v":83042054.560793549},{"$f":"SUM(G29:G38)","v":0},0,0,9816507.9572499692,30129607.904512145,8549603.73502017,5918429.4923299747,10476112.037669955,4778348.8378184522,5288379.5526492633,3681936.3400000008,3504100.723543616,899027.98000000033,0,0,null,null,null,null,null,"Subtotal Distribution"]
[null,null,null,null,null,null,null,null,null,null,null,null,null,null,null,null,null,null,null,null,null,null,null,null,null,null,""]
[{"$f":"SUM(G41:U41)-F41","v":0},null," ",{"$f":"MAX(D38:D40)+NoOne","v":18},"Subttl Prod, Trans, & Dist",{"$f":"SUM(F39,F26,F21)","v":197052036.57579353},{"$f":"SUM(G39,G26,G21)","v":27472019.909999996},0,67947310.555000007,28407159.507249959,30129607.904512145,8549603.73502017,5918429.4923299747,10476112.037669955,4778348.8378184522,5288379.5526492633,3681936.3400000008,3504100.723543616,899027.98000000033,0,0,null,null,null,null,null,"Subttl Prod, Trans, & Dist"]
[null,null,null,null," ",null,null,null,null,null,null,null,null,null,null,null,null,null,null,null,null,null,null,null,null,null," "]
[null,{"$f":"IF(OverheadAlloc=\"Expenses\",\"E-GTDC\",\"L-GTDC\")","v":"E-GTDC"},{"$f":"+SystemizedPlant!C99","v":"SGPLT01"},{"$f":"MAX(D40:D42)+NoOne","v":19},"General",{"$f":"SystemizedPlant!K99","v":19251604.138122309},{"$f":"$F43*VLOOKUP($B43,RatiosLabInt,G$530,FALSE)","v":2224386.4408689048},0,7310341.5334154973,1283412.5495075698,1896413.6802270957,538127.99472856103,372516.98363566212,659386.01812517492,300758.18223904242,332860.46607912867,231747.93601796601,356708.84396871366,56586.496763657058,3688357.0125453351,0,null,null,null,null,null,"General",{"$f":"+\"Prorated on Subtotal Production, Transmission, Distribution, Accounting Expenses - Sch2.4 L.\"&$D$223&\", \"&$D$225","v":"Prorated on Subtotal Production, Transmission, Distribution, Accounting Expenses - Sch2.4 L.11, 12"}]
[null,null,null,{"$f":"MAX(D41:D43)+NoOne","v":20},"Telecontrol - Specific",0,{"$f":"$F44*'Schedule 4.1'!D$35","v":0},{"$f":"$F44*'Schedule 4.1'!E$35","v":0},{"$f":"$F44*'Schedule 4.1'!G$35","v":0},{"$f":"$F44*'Schedule 4.1'!J$35","v":0},{"$f":"$F44*'Schedule 4.1'!K$35","v":0},{"$f":"$F44*'Schedule 4.1'!L$35","v":0},{"$f":"$F44*'Schedule 4.1'!M$35","v":0},{"$f":"$F44*'Schedule 4.1'!N$35","v":0},{"$f":"$F44*'Schedule 4.1'!O$35","v":0},{"$f":"$F44*'Schedule 4.1'!P$35","v":0},{"$f":"$F44*'Schedule 4.1'!Q$35","v":0},{"$f":"$F44*'Schedule 4.1'!R$35","v":0},{"$f":"$F44*'Schedule 4.1'!S$35","v":0},{"$f":"$F44*'Schedule 4.1'!T$35","v":0},{"$f":"$F44*'Schedule 4.1'!U$35","v":0},null,null,null,null,null,"Telecontrol - Specific","Specifically Assigned - Customer"]
[null,null,{"$f":"+SPLTDetails!C$166","v":"SPLT19"},{"$f":"MAX(D42:D44)+NoOne","v":21},"Feasibility Studies",{"$f":"SUM(G45:U45)","v":-2191.466175},{"$f":"+SPLTDetails!E166","v":0},0,{"$f":"+SPLTDetails!G166","v":0},{"$f":"+SPLTDetails!K166","v":-2191.466175},0,0,0,0,0,0,0,0,0,0,0,null,null,null,null,null,"Feasibility Studies","Production, Transmission - Demand"]
[null,null,{"$f":"+SystemizedPlant!C62","v":"SCS2_01"},{"$f":"MAX(D43:D45)+NoOne","v":22},"Software - General",{"$f":"SystemizedPlant!K62","v":107065.44975109254},{"$f":"$F46*G$41/SUM($G$41:$U$41)","v":14926.535235801961},0,36918.214550652832,15434.63017001043,16370.498256078099,4645.3068183919586,3215.6953382854799,5692.0479810648794,2596.2485660068992,2873.3665741185705,2000.5282718575945,1903.903793427796,488.47419539606278,0,0,null,null,null,null,null,"Software - General",{"$f":"+\"Prorated on subtotal Production, Transmission, & Distribution plant - L.\"&$D$41","v":"Prorated on subtotal Production, Transmission, & Distribution plant - L.18"}]
[null,null,{"$f":"+SystemizedPlant!C47","v":"SCS1_01"},{"$f":"MAX(D44:D46)+NoOne","v":23},"Software - Cust Acctng",{"$f":"SUM(G47:U47)","v":0},0,0,0,0,0,0,0,0,0,0,0,0,0,{"$f":"+SystemizedPlant!K47","v":0},0,null,null,null,null,null,"Software - Cust Acctng"]
[null,null,null,null,null,null,null,null,null,null,null,null,null,null,null,null,null,null,null,null,null,null,null,null,null,null,""]
[{"$f":"SUM(G49:U49)-F49","v":0},null," ",{"$f":"MAX(D46:D48)+NoOne","v":24},"Total Plant",{"$f":"SUM(F41:F47)","v":216408514.69749194},{"$f":"SUM(G41:G47)","v":29711332.886104707},0,75294570.302966163,29703815.220752537,32042392.082995322,9092377.0365671236,6294162.1713039223,11141190.103776194,5081703.268623502,5624113.385302511,3915684.8042898243,3862713.4713057573,956102.95095905347,3688357.0125453351,0,null,null,null,null,null,"Total Plant"]
[null,null,null,null,null,null,null,null,null,null,null,null,null,null,null,null,null,null,null,null,null,null,null,null,null,null,""]
[]
[null,null,null,null,null,null,null,null,null,null,null,null,null,null,null,null,null,null,null,null,"Schedule 2.3E"]
[null,null,null,null,null,null,null,null,null,null,null,null,null,null,null,null,null,null,null,null,"Page 1 of 1"]
[]
[null,null,null,{"$f":"D6","v":"NEWFOUNDLAND AND LABRADOR HYDRO"}]
[null,null,null,{"$f":"D7","v":"2019 Test Year Cost of Service Study"}]
[null,null,null,{"$f":"$B$1","v":"Labrador Interconnected"}]
[null,null,null,"Functional Classification of Net Book Value"]
[]
[]
[null,null,null,null,{"$f":"MAX(D61)+NoOne","v":1},2,3,4,5,6,7,8,9,10,11,12,13,14,15,16,17]
[null,null,null,null,null,null,null,null,"","Distribution",null,null,null,null,null,null,null,null,null,null,"Specifically"]
[null,null,null,"Line",null,"Total","Production","Production","Transmission","Substations","Primary Lines",null,"Line Transformers",null,"Secondary Lines",null,"Services","Meters","Street Lighting","Accounting","Assigned"]
[null,null,null,"No.","Description ","Amount","Demand","Energy","Demand","Demand","Demand","Customer","Demand","Customer","Demand","Customer","Customer","Customer","Customer","Customer","Customer"]
[null,null,null,null,null,"($)","($)","($)","($)","($)","($)","($)","($)","($)","($)","($)","($)","($)","($)","($)","($)"]
[null,null,null,null," "]
[null,null,null,null,"Production"]
[null,null,null,null," "]
[null,null,"P04",{"$f":"MAX(D66:D68)+NoOne","v":1},"Gas Turbines",5678524.6703794999,{"$f":"$F69*'Schedule 4.1'!$D$21","v":5678524.6703794999},{"$f":"$F69*'Schedule 4.1'!$E$21","v":0},0,0,0,0,0,0,0,0,0,0,0,0,0]
[null,null,"P03",{"$f":"MAX(D67:D69)+NoOne","v":2},"Diesel",507192.00839849911,{"$f":"$F70*'Schedule 4.1'!$D$21","v":507192.00839849911},{"$f":"$F70*'Schedule 4.1'!$E$21","v":0},0,0,0,0,0,0,0,0,0,0,0,0,0]
[{"$f":"SUM(G71:U71)-F71","v":0},null," ",{"$f":"MAX(D68:D70)+NoOne","v":3},"Subtotal Production",{"$f":"SUM(F69:F70)","v":6185716.6787779992},{"$f":"SUM(G69:G70)","v":6185716.6787779992},{"$f":"SUM(H69:H70)","v":0},0,0,0,0,0,0,0,0,0,0,0,0,0]
[]
[null,null,null,null,"Transmission"]
[null,null,{"$f":"+SNBVDetails!C$134","v":"SNBV16"},{"$f":"MAX(D71:D73)+NoOne","v":4},"Lines",{"$f":"SUM(G74:U74)","v":32590981.025389727},0,{"$f":"+SNBVDetails!G134*'Schedule 4.1'!E32","v":0},{"$f":"+SNBVDetails!I134*'Schedule 4.1'!G32","v":32590981.025389727},{"$f":"+SNBVDetails!J134*'Schedule 4.1'!H32","v":0},{"$f":"+SNBVDetails!K134","v":0},0,0,0,0,0,0,0,0,0,{"$f":"+SNBVDetails!M134","v":0}]
[null,null,{"$f":"+SNBVDetails!C$146","v":"SNBV17"},{"$f":"MAX(D72:D74)+NoOne","v":5},"Terminal Stations ",{"$f":"SUM(G75:U75)","v":34367828.382238172},0,{"$f":"+SNBVDetails!G146*'Schedule 4.1'!E36","v":0},{"$f":"+SNBVDetails!G146*'Schedule 4.1'!G36","v":21512989.691606194},{"$f":"+SNBVDetails!K146","v":12854838.690631978},0,0,0,0,0,0,0,0,0,0,{"$f":"+SNBVDetails!M146","v":0}]
[{"$f":"SUM(G76:U76)-F76","v":0},null," ",{"$f":"MAX(D73:D75)+NoOne","v":6},"Subtotal Transmission",{"$f":"SUM(F74:F75)","v":66958809.407627895},{"$f":"SUM(G74:G75)","v":0},0,54103970.716995925,12854838.690631978,0,0,0,0,0,0,0,0,0,0,0]
[]
[null,null,null,null,"Distribution"]
[null,null,{"$f":"+SNBVDetails!C$152","v":"SNBV18"},{"$f":"MAX(D76:D78)+NoOne","v":7},"Substations",{"$f":"SUM(G79:U79)","v":4332146.1730303233},{"$f":"+SNBVDetails!E152","v":0},0,0,{"$f":"+SNBVDetails!K152","v":4332146.1730303233},0,0,0,0,0,0,0,0,0,0,0]
[null,null,"D11",8,"Land & Land Improvements",{"$f":"DistnDetails!G29+DistnDetails!G38","v":533487.22472331044},{"$f":"$F80*'Schedule 4.1'!D$62","v":0},{"$f":"$F80*'Schedule 4.1'!E$62","v":0},{"$f":"$F80*'Schedule 4.1'!G$62","v":0},{"$f":"$F80*'Schedule 4.1'!J$62","v":0},{"$f":"$F80*'Schedule 4.1'!K$62","v":402222.69308013993},{"$f":"$F80*'Schedule 4.1'!L$62","v":51241.447934673968},{"$f":"$F80*'Schedule 4.1'!M$62","v":0},{"$f":"$F80*'Schedule 4.1'!N$62","v":0},{"$f":"$F80*'Schedule 4.1'!O$62","v":46653.45780205349},{"$f":"$F80*'Schedule 4.1'!P$62","v":33369.625906443063},{"$f":"$F80*'Schedule 4.1'!Q$62","v":0},{"$f":"$F80*'Schedule 4.1'!R$62","v":0},{"$f":"$F80*'Schedule 4.1'!S$62","v":0},{"$f":"$F80*'Schedule 4.1'!T$62","v":0},{"$f":"$F80*'Schedule 4.1'!U$62","v":0}]
[null,null,"D11",9,"Poles",{"$f":"DistnDetails!G30+DistnDetails!G32","v":23852242.662901375},{"$f":"$F81*'Schedule 4.1'!D$67","v":0},{"$f":"$F81*'Schedule 4.1'!E$67","v":0},{"$f":"$F81*'Schedule 4.1'!G$67","v":0},{"$f":"$F81*'Schedule 4.1'!J$67","v":0},{"$f":"$F81*'Schedule 4.1'!K$67","v":13794896.839603685},{"$f":"$F81*'Schedule 4.1'!L$67","v":4714443.4668077836},{"$f":"$F81*'Schedule 4.1'!M$67","v":0},{"$f":"$F81*'Schedule 4.1'!N$67","v":0},{"$f":"$F81*'Schedule 4.1'!O$67","v":2441706.3769158875},{"$f":"$F81*'Schedule 4.1'!P$67","v":2901195.9795740205},{"$f":"$F81*'Schedule 4.1'!Q$67","v":0},{"$f":"$F81*'Schedule 4.1'!R$67","v":0},{"$f":"$F81*'Schedule 4.1'!S$67","v":0},{"$f":"$F81*'Schedule 4.1'!T$67","v":0},{"$f":"$F81*'Schedule 4.1'!U$67","v":0}]
[null,null,"D11",10,"Primary Conductor & Eqpt",{"$f":"DistnDetails!G33","v":4313897.2890748344},{"$f":"$F82*'Schedule 4.1'!D$68","v":0},{"$f":"$F82*'Schedule 4.1'!E$68","v":0},{"$f":"$F82*'Schedule 4.1'!G$68","v":0},{"$f":"$F82*'Schedule 4.1'!J$68","v":0},{"$f":"$F82*'Schedule 4.1'!K$68","v":3826426.8954093782},{"$f":"$F82*'Schedule 4.1'!L$68","v":487470.39366545633},{"$f":"$F82*'Schedule 4.1'!M$68","v":0},{"$f":"$F82*'Schedule 4.1'!N$68","v":0},{"$f":"$F82*'Schedule 4.1'!O$68","v":0},{"$f":"$F82*'Schedule 4.1'!P$68","v":0},{"$f":"$F82*'Schedule 4.1'!Q$68","v":0},{"$f":"$F82*'Schedule 4.1'!R$68","v":0},{"$f":"$F82*'Schedule 4.1'!S$68","v":0},{"$f":"$F82*'Schedule 4.1'!T$68","v":0},{"$f":"$F82*'Schedule 4.1'!U$68","v":0}]
[null,null,"D05",11,"Submarine Conductor",250045.82174450002,{"$f":"$F83*'Schedule 4.1'!D$69","v":0},{"$f":"$F83*'Schedule 4.1'!E$69","v":0},{"$f":"$F83*'Schedule 4.1'!G$69","v":0},{"$f":"$F83*'Schedule 4.1'!J$69","v":0},{"$f":"$F83*'Schedule 4.1'!K$69","v":250045.82174450002},{"$f":"$F83*'Schedule 4.1'!L$69","v":0},{"$f":"$F83*'Schedule 4.1'!M$69","v":0},{"$f":"$F83*'Schedule 4.1'!N$69","v":0},{"$f":"$F83*'Schedule 4.1'!O$69","v":0},{"$f":"$F83*'Schedule 4.1'!P$69","v":0},{"$f":"$F83*'Schedule 4.1'!Q$69","v":0},{"$f":"$F83*'Schedule 4.1'!R$69","v":0},{"$f":"$F83*'Schedule 4.1'!S$69","v":0},{"$f":"$F83*'Schedule 4.1'!T$69","v":0},{"$f":"$F83*'Schedule 4.1'!U$69","v":0}]
[null,null,"D11",12,"Transformers",{"$f":"DistnDetails!G34","v":10156020.063067444},{"$f":"$F84*'Schedule 4.1'!D$70","v":0},{"$f":"$F84*'Schedule 4.1'!E$70","v":0},{"$f":"$F84*'Schedule 4.1'!G$70","v":0},{"$f":"$F84*'Schedule 4.1'!J$70","v":0},{"$f":"$F84*'Schedule 4.1'!K$70","v":0},{"$f":"$F84*'Schedule 4.1'!L$70","v":0},{"$f":"$F84*'Schedule 4.1'!M$70","v":3666323.242767347},{"$f":"$F84*'Schedule 4.1'!N$70","v":6489696.8203000966},{"$f":"$F84*'Schedule 4.1'!O$70","v":0},{"$f":"$F84*'Schedule 4.1'!P$70","v":0},{"$f":"$F84*'Schedule 4.1'!Q$70","v":0},{"$f":"$F84*'Schedule 4.1'!R$70","v":0},{"$f":"$F84*'Schedule 4.1'!S$70","v":0},{"$f":"$F84*'Schedule 4.1'!T$70","v":0},{"$f":"$F84*'Schedule 4.1'!U$70","v":0}]
[null,null,"D11",13,"Secondary Conductor&Eqpt",{"$f":"DistnDetails!G35","v":509106.11241199984},{"$f":"$F85*'Schedule 4.1'!D$71","v":0},{"$f":"$F85*'Schedule 4.1'!E$71","v":0},{"$f":"$F85*'Schedule 4.1'!G$71","v":0},{"$f":"$F85*'Schedule 4.1'!J$71","v":0},{"$f":"$F85*'Schedule 4.1'!K$71","v":0},{"$f":"$F85*'Schedule 4.1'!L$71","v":0},{"$f":"$F85*'Schedule 4.1'!M$71","v":0},{"$f":"$F85*'Schedule 4.1'!N$71","v":0},{"$f":"$F85*'Schedule 4.1'!O$71","v":296808.86353619589},{"$f":"$F85*'Schedule 4.1'!P$71","v":212297.24887580393},{"$f":"$F85*'Schedule 4.1'!Q$71","v":0},{"$f":"$F85*'Schedule 4.1'!R$71","v":0},{"$f":"$F85*'Schedule 4.1'!S$71","v":0},{"$f":"$F85*'Schedule 4.1'!T$71","v":0},{"$f":"$F85*'Schedule 4.1'!U$71","v":0}]
[null,null,"D11",14,"Services",{"$f":"DistnDetails!G36","v":2502437.0361014996},{"$f":"$F86*'Schedule 4.1'!D$72","v":0},{"$f":"$F86*'Schedule 4.1'!E$72","v":0},{"$f":"$F86*'Schedule 4.1'!G$72","v":0},{"$f":"$F86*'Schedule 4.1'!J$72","v":0},{"$f":"$F86*'Schedule 4.1'!K$72","v":0},{"$f":"$F86*'Schedule 4.1'!L$72","v":0},{"$f":"$F86*'Schedule 4.1'!M$72","v":0},{"$f":"$F86*'Schedule 4.1'!N$72","v":0},{"$f":"$F86*'Schedule 4.1'!O$72","v":0},{"$f":"$F86*'Schedule 4.1'!P$72","v":0},{"$f":"$F86*'Schedule 4.1'!Q$72","v":2502437.0361014996},{"$f":"$F86*'Schedule 4.1'!R$72","v":0},{"$f":"$F86*'Schedule 4.1'!S$72","v":0},{"$f":"$F86*'Schedule 4.1'!T$72","v":0},{"$f":"$F86*'Schedule 4.1'!U$72","v":0}]
[null,null,{"$f":"+SystemizedPlant!C31","v":"SMET02"},15,"Meters",{"$f":"SUM((IF(VLOOKUP($C87,AllocatedMeters,9,FALSE)=\"\",0,VLOOKUP($C87,AllocatedMeters,9,FALSE))))","v":2214112.4517035224},{"$f":"$F87*'Schedule 4.1'!D$73","v":0},{"$f":"$F87*'Schedule 4.1'!E$73","v":0},{"$f":"$F87*'Schedule 4.1'!G$73","v":0},{"$f":"$F87*'Schedule 4.1'!J$73","v":0},{"$f":"$F87*'Schedule 4.1'!K$73","v":0},{"$f":"$F87*'Schedule 4.1'!L$73","v":0},{"$f":"$F87*'Schedule 4.1'!M$73","v":0},{"$f":"$F87*'Schedule 4.1'!N$73","v":0},{"$f":"$F87*'Schedule 4.1'!O$73","v":0},{"$f":"$F87*'Schedule 4.1'!P$73","v":0},{"$f":"$F87*'Schedule 4.1'!Q$73","v":0},{"$f":"$F87*'Schedule 4.1'!R$73","v":2214112.4517035224},{"$f":"$F87*'Schedule 4.1'!S$73","v":0},{"$f":"$F87*'Schedule 4.1'!T$73","v":0},{"$f":"$F87*'Schedule 4.1'!U$73","v":0}]
[null,null,"D11",16,"Street Lighting",{"$f":"DistnDetails!G37","v":310260.5145045002},{"$f":"$F88*'Schedule 4.1'!D$74","v":0},{"$f":"$F88*'Schedule 4.1'!E$74","v":0},{"$f":"$F88*'Schedule 4.1'!G$74","v":0},{"$f":"$F88*'Schedule 4.1'!J$74","v":0},{"$f":"$F88*'Schedule 4.1'!K$74","v":0},{"$f":"$F88*'Schedule 4.1'!L$74","v":0},{"$f":"$F88*'Schedule 4.1'!M$74","v":0},{"$f":"$F88*'Schedule 4.1'!N$74","v":0},{"$f":"$F88*'Schedule 4.1'!O$74","v":0},{"$f":"$F88*'Schedule 4.1'!P$74","v":0},{"$f":"$F88*'Schedule 4.1'!Q$74","v":0},{"$f":"$F88*'Schedule 4.1'!R$74","v":0},{"$f":"$F88*'Schedule 4.1'!S$74","v":310260.5145045002},{"$f":"$F88*'Schedule 4.1'!T$74","v":0},{"$f":"$F88*'Schedule 4.1'!U$74","v":0}]
[{"$f":"SUM(G89:U89)-F89","v":0},null," ",17,"Subtotal Distribution",{"$f":"SUM(F79:F88)","v":48973755.349263303},{"$f":"SUM(G79:G88)","v":0},0,0,4332146.1730303233,18273592.249837704,5253155.3084079139,3666323.242767347,6489696.8203000966,2785168.6982541368,3146862.8543562675,2502437.0361014996,2214112.4517035224,310260.5145045002,0,0]
[]
[{"$f":"SUM(G91:U91)-F91","v":0},null," ",{"$f":"MAX(D88:D90)+NoOne","v":18},"Subttl Prod, Trans, & Dist",{"$f":"SUM(F89,F76,F71)","v":122118281.43566918},{"$f":"SUM(G89,G76,G71)","v":6185716.6787779992},0,54103970.716995925,17186984.863662302,18273592.249837704,5253155.3084079139,3666323.242767347,6489696.8203000966,2785168.6982541368,3146862.8543562675,2502437.0361014996,2214112.4517035224,310260.5145045002,0,0]
[]
[null,{"$f":"IF(OverheadAlloc=\"Expenses\",\"E-GTDC\",\"L-GTDC\")","v":"E-GTDC"},{"$f":"+SystemizedPlant!C109","v":"SGPLT02"},{"$f":"MAX(D90:D92)+NoOne","v":19},"General",{"$f":"+SystemizedPlant!K109","v":8570449.5882567316},{"$f":"$F93*VLOOKUP($B93,RatiosLabInt,G$530,FALSE)","v":990254.7195284348},0,3254425.6123057669,571350.96263014548,844247.45742003305,239564.39254420722,165837.50663648811,293546.16825683077,133891.84717501944,148183.17600899175,103169.79242739848,158800.02222076512,25191.236761856504,1641986.6943407936,0]
[null,null,null,{"$f":"MAX(D91:D93)+NoOne","v":20},"Telecontrol - Specific",0,{"$f":"$F94*'Schedule 4.1'!D$35","v":0},{"$f":"$F94*'Schedule 4.1'!E$35","v":0},{"$f":"$F94*'Schedule 4.1'!G$35","v":0},{"$f":"$F94*'Schedule 4.1'!J$35","v":0},{"$f":"$F94*'Schedule 4.1'!K$35","v":0},{"$f":"$F94*'Schedule 4.1'!L$35","v":0},{"$f":"$F94*'Schedule 4.1'!M$35","v":0},{"$f":"$F94*'Schedule 4.1'!N$35","v":0},{"$f":"$F94*'Schedule 4.1'!O$35","v":0},{"$f":"$F94*'Schedule 4.1'!P$35","v":0},{"$f":"$F94*'Schedule 4.1'!Q$35","v":0},{"$f":"$F94*'Schedule 4.1'!R$35","v":0},{"$f":"$F94*'Schedule 4.1'!S$35","v":0},{"$f":"$F94*'Schedule 4.1'!T$35","v":0},{"$f":"$F94*'Schedule 4.1'!U$35","v":0}]
[null,null,{"$f":"+SNBVDetails!C$159","v":"SNBV19"},{"$f":"MAX(D92:D94)+NoOne","v":21},"Feasibility Studies",{"$f":"+SNBVDetails!D159","v":-2191.466175},{"$f":"+SNBVDetails!E159","v":0},0,0,{"$f":"+SNBVDetails!K159","v":-2191.466175},0,0,0,0,0,0,0,0,0,0,0]
[null,null,{"$f":"+SystemizedPlant!C68","v":"SCS2_02"},{"$f":"MAX(D93:D95)+NoOne","v":22},"Software - General",{"$f":"+SystemizedPlant!K68","v":99423.109260105019},{"$f":"$F96*G$91/SUM($G$91:$U$91)","v":5036.1270890483083},0,44048.973902692145,13992.855564806154,14877.521510055845,4276.8783514471215,2984.9523925747744,5283.6137918428822,2267.5567371149027,2562.0315461125006,2037.3695726132398,1802.6289070882708,252.59989470886279,0,0]
[null,null,{"$f":"+SystemizedPlant!C51","v":"SCS1_02"},{"$f":"MAX(D94:D96)+NoOne","v":23},"Software - Cust Acctng",{"$f":"SUM(G97:U97)","v":0},0,0,0,0,0,0,0,0,0,0,0,0,0,{"$f":"+SystemizedPlant!K51","v":0},0]
[]
[{"$f":"SUM(G99:U99)-F99","v":0},null," ",{"$f":"MAX(D96:D98)+NoOne","v":24},"Total Net Book Value",{"$f":"SUM(F91:F97)","v":130785962.66701102},{"$f":"SUM(G91:G97)","v":7181007.5253954828},0,57402445.303204387,17770137.215682253,19132717.228767794,5496996.5793035682,3835145.7017964101,6788526.60234877,2921328.1021662708,3297608.061911372,2607644.1981015112,2374715.1028313758,335704.35116106551,1641986.6943407936,0]
[]
[]
[]
[]
[null,null,null,null,null,null,null,null,null,null,null,null,null,null,null,null,null,null,null,null,"Schedule 2.5E"]
[null,null,null,null,null,null,null,null,null,null,null,null,null,null,null,null,null,null,null,null,"Page 1 of 1"]
[]
[null,null,null,{"$f":"D6","v":"NEWFOUNDLAND AND LABRADOR HYDRO"}]
[null,null,null,{"$f":"D7","v":"2019 Test Year Cost of Service Study"}]
[null,null,null,{"$f":"$B$1","v":"Labrador Interconnected"}]
[null,null,null,"Functional Classification of Depreciation Expense"]
[null,null,null,null,{"$f":"MAX(D111)+NoOne","v":1},2,3,4,5,6,7,8,9,10,11,12,13,14,15,16,17]
[null,null,null,null,null,null,null,null,"","Distribution",null,null,null,null,null,null,null,null,null,null,"Specifically"]
[null,null,"Check","Line",null,"Total","Production","Production","Transmission","Substations","Primary Lines",null,"Line Transformers",null,"Secondary Lines",null,"Services","Meters","Street Lighting","Accounting","Assigned"]
[null,null,"Column","No.","Description ","Amount","Demand","Energy","Demand","Demand","Demand","Customer","Demand","Customer","Demand","Customer","Customer","Customer","Customer","Customer","Customer"]
[null,null,null,null,null,"($)","($)","($)","($)","($)","($)","($)","($)","($)","($)","($)","($)","($)","($)","($)","($)"]
[null,null,null,null," "]
[null,null,null,null,"Production"]
[null,null,null,null," "]
[null,null,"P04",{"$f":"MAX(D116:D118)+NoOne","v":1},"Gas Turbines",213024.17974700002,{"$f":"$F119*'Schedule 4.1'!$D$21","v":213024.17974700002},{"$f":"$F119*'Schedule 4.1'!$E$21","v":0},0,0,0,0,0,0,0,0,0,0,0,0,0]
[null,null,"P03",{"$f":"MAX(D117:D119)+NoOne","v":2},"Diesel",21816.634400999974,{"$f":"$F120*'Schedule 4.1'!$D$21","v":21816.634400999974},{"$f":"$F120*'Schedule 4.1'!$E$21","v":0},0,0,0,0,0,0,0,0,0,0,0,0,0]
[{"$f":"SUM(G121:U121)-F121","v":0},null," ",{"$f":"MAX(D118:D120)+NoOne","v":3},"Subtotal Production",{"$f":"SUM(F119:F120)","v":234840.81414799998},{"$f":"SUM(G119:G120)","v":234840.81414799998},{"$f":"SUM(H119:H120)","v":0},0,0,0,0,0,0,0,0,0,0,0,0,0]
[]
[null,null,null,null,"Transmission"]
[null,null,{"$f":"+SDEPDetails!C$135","v":"SDEP16"},{"$f":"MAX(D121:D123)+NoOne","v":4},"Lines",{"$f":"SUM(G124:U124)","v":1236077.5290190002},0,{"$f":"+SDEPDetails!G135*'Schedule 4.1'!E32","v":0},{"$f":"+SDEPDetails!I135*'Schedule 4.1'!G32","v":1170807.0821270002},{"$f":"+SDEPDetails!J135*'Schedule 4.1'!H32","v":65270.446892000007},{"$f":"+SDEPDetails!K135","v":0},0,0,0,0,0,0,0,0,0,{"$f":"+SDEPDetails!M135","v":0}]
[null,null,{"$f":"+SDEPDetails!C$147","v":"SDEP17"},{"$f":"MAX(D122:D124)+NoOne","v":5},"Terminal Stations",{"$f":"SUM(G125:U125)","v":1002593.9482109996},0,{"$f":"+SDEPDetails!G147*'Schedule 4.1'!E36","v":0},{"$f":"+SDEPDetails!G147*'Schedule 4.1'!G36","v":536949.77529899997},{"$f":"+SDEPDetails!K147","v":465644.17291199963},0,0,0,0,0,0,0,0,0,0,{"$f":"+SDEPDetails!M147","v":0}]
[{"$f":"SUM(G126:U126)-F126","v":0},null," ",{"$f":"MAX(D123:D125)+NoOne","v":6},"Subtotal Transmission",{"$f":"SUM(F124:F125)","v":2238671.4772299998},{"$f":"SUM(G124:G125)","v":0},0,1707756.8574260003,530914.61980399967,0,0,0,0,0,0,0,0,0,0,0]
[]
[null,null,null,null,"Distribution"]
[null,null,{"$f":"+SDEPDetails!C$153","v":"SDEP18"},{"$f":"MAX(D126:D128)+NoOne","v":7},"Substations",{"$f":"SUM(G129:U129)","v":141589.68520200058},{"$f":"+SDEPDetails!E153","v":0},0,0,{"$f":"+SDEPDetails!K153","v":141589.68520200058},0,0,0,0,0,0,0,0,0,0,0]
[null,null,"D11",8,"Land & Land Improvements",{"$f":"DistnDetails!G45+DistnDetails!G54","v":19482.279144963581},{"$f":"$F130*'Schedule 4.1'!D$62","v":0},{"$f":"$F130*'Schedule 4.1'!E$62","v":0},{"$f":"$F130*'Schedule 4.1'!G$62","v":0},{"$f":"$F130*'Schedule 4.1'!J$62","v":0},{"$f":"$F130*'Schedule 4.1'!K$62","v":14688.664361345292},{"$f":"$F130*'Schedule 4.1'!L$62","v":1871.2729118737518},{"$f":"$F130*'Schedule 4.1'!M$62","v":0},{"$f":"$F130*'Schedule 4.1'!N$62","v":0},{"$f":"$F130*'Schedule 4.1'!O$62","v":1703.7253112270648},{"$f":"$F130*'Schedule 4.1'!P$62","v":1218.616560517472},{"$f":"$F130*'Schedule 4.1'!Q$62","v":0},{"$f":"$F130*'Schedule 4.1'!R$62","v":0},{"$f":"$F130*'Schedule 4.1'!S$62","v":0},{"$f":"$F130*'Schedule 4.1'!T$62","v":0},{"$f":"$F130*'Schedule 4.1'!U$62","v":0}]
[null,null,"D11",9,"Poles",{"$f":"DistnDetails!G46+DistnDetails!G48","v":1378352.4027760364},{"$f":"$F131*'Schedule 4.1'!D$67","v":0},{"$f":"$F131*'Schedule 4.1'!E$67","v":0},{"$f":"$F131*'Schedule 4.1'!G$67","v":0},{"$f":"$F131*'Schedule 4.1'!J$67","v":0},{"$f":"$F131*'Schedule 4.1'!K$67","v":797167.3554407151},{"$f":"$F131*'Schedule 4.1'!L$67","v":272434.10911348916},{"$f":"$F131*'Schedule 4.1'!M$67","v":0},{"$f":"$F131*'Schedule 4.1'!N$67","v":0},{"$f":"$F131*'Schedule 4.1'!O$67","v":141099.17876737728},{"$f":"$F131*'Schedule 4.1'!P$67","v":167651.75945445488},{"$f":"$F131*'Schedule 4.1'!Q$67","v":0},{"$f":"$F131*'Schedule 4.1'!R$67","v":0},{"$f":"$F131*'Schedule 4.1'!S$67","v":0},{"$f":"$F131*'Schedule 4.1'!T$67","v":0},{"$f":"$F131*'Schedule 4.1'!U$67","v":0}]
[null,null,"D11",10,"Primary Conductor & Equip",{"$f":"DistnDetails!G49","v":170489.90950566661},{"$f":"$F132*'Schedule 4.1'!D$68","v":0},{"$f":"$F132*'Schedule 4.1'!E$68","v":0},{"$f":"$F132*'Schedule 4.1'!G$68","v":0},{"$f":"$F132*'Schedule 4.1'!J$68","v":0},{"$f":"$F132*'Schedule 4.1'!K$68","v":151224.54973152629},{"$f":"$F132*'Schedule 4.1'!L$68","v":19265.359774140328},{"$f":"$F132*'Schedule 4.1'!M$68","v":0},{"$f":"$F132*'Schedule 4.1'!N$68","v":0},{"$f":"$F132*'Schedule 4.1'!O$68","v":0},{"$f":"$F132*'Schedule 4.1'!P$68","v":0},{"$f":"$F132*'Schedule 4.1'!Q$68","v":0},{"$f":"$F132*'Schedule 4.1'!R$68","v":0},{"$f":"$F132*'Schedule 4.1'!S$68","v":0},{"$f":"$F132*'Schedule 4.1'!T$68","v":0},{"$f":"$F132*'Schedule 4.1'!U$68","v":0}]
[null,null,"D05",11,"Submarine Conductor",22445.138836999999,{"$f":"$F133*'Schedule 4.1'!D$69","v":0},{"$f":"$F133*'Schedule 4.1'!E$69","v":0},{"$f":"$F133*'Schedule 4.1'!G$69","v":0},{"$f":"$F133*'Schedule 4.1'!J$69","v":0},{"$f":"$F133*'Schedule 4.1'!K$69","v":22445.138836999999},{"$f":"$F133*'Schedule 4.1'!L$69","v":0},{"$f":"$F133*'Schedule 4.1'!M$69","v":0},{"$f":"$F133*'Schedule 4.1'!N$69","v":0},{"$f":"$F133*'Schedule 4.1'!O$69","v":0},{"$f":"$F133*'Schedule 4.1'!P$69","v":0},{"$f":"$F133*'Schedule 4.1'!Q$69","v":0},{"$f":"$F133*'Schedule 4.1'!R$69","v":0},{"$f":"$F133*'Schedule 4.1'!S$69","v":0},{"$f":"$F133*'Schedule 4.1'!T$69","v":0},{"$f":"$F133*'Schedule 4.1'!U$69","v":0}]
[null,null,"D11",12,"Transformers",{"$f":"DistnDetails!G50","v":578115.05795499717},{"$f":"$F134*'Schedule 4.1'!D$70","v":0},{"$f":"$F134*'Schedule 4.1'!E$70","v":0},{"$f":"$F134*'Schedule 4.1'!G$70","v":0},{"$f":"$F134*'Schedule 4.1'!J$70","v":0},{"$f":"$F134*'Schedule 4.1'!K$70","v":0},{"$f":"$F134*'Schedule 4.1'!L$70","v":0},{"$f":"$F134*'Schedule 4.1'!M$70","v":208699.53592175397},{"$f":"$F134*'Schedule 4.1'!N$70","v":369415.52203324321},{"$f":"$F134*'Schedule 4.1'!O$70","v":0},{"$f":"$F134*'Schedule 4.1'!P$70","v":0},{"$f":"$F134*'Schedule 4.1'!Q$70","v":0},{"$f":"$F134*'Schedule 4.1'!R$70","v":0},{"$f":"$F134*'Schedule 4.1'!S$70","v":0},{"$f":"$F134*'Schedule 4.1'!T$70","v":0},{"$f":"$F134*'Schedule 4.1'!U$70","v":0}]
[null,null,"D11",13,"Secondary Conductor & Equip",{"$f":"DistnDetails!G51","v":23944.458392},{"$f":"$F135*'Schedule 4.1'!D$71","v":0},{"$f":"$F135*'Schedule 4.1'!E$71","v":0},{"$f":"$F135*'Schedule 4.1'!G$71","v":0},{"$f":"$F135*'Schedule 4.1'!J$71","v":0},{"$f":"$F135*'Schedule 4.1'!K$71","v":0},{"$f":"$F135*'Schedule 4.1'!L$71","v":0},{"$f":"$F135*'Schedule 4.1'!M$71","v":0},{"$f":"$F135*'Schedule 4.1'!N$71","v":0},{"$f":"$F135*'Schedule 4.1'!O$71","v":13959.619242535999},{"$f":"$F135*'Schedule 4.1'!P$71","v":9984.839149464},{"$f":"$F135*'Schedule 4.1'!Q$71","v":0},{"$f":"$F135*'Schedule 4.1'!R$71","v":0},{"$f":"$F135*'Schedule 4.1'!S$71","v":0},{"$f":"$F135*'Schedule 4.1'!T$71","v":0},{"$f":"$F135*'Schedule 4.1'!U$71","v":0}]
[null,null,"D11",14,"Services",{"$f":"DistnDetails!G52","v":115842.83759900014},{"$f":"$F136*'Schedule 4.1'!D$72","v":0},{"$f":"$F136*'Schedule 4.1'!E$72","v":0},{"$f":"$F136*'Schedule 4.1'!G$72","v":0},{"$f":"$F136*'Schedule 4.1'!J$72","v":0},{"$f":"$F136*'Schedule 4.1'!K$72","v":0},{"$f":"$F136*'Schedule 4.1'!L$72","v":0},{"$f":"$F136*'Schedule 4.1'!M$72","v":0},{"$f":"$F136*'Schedule 4.1'!N$72","v":0},{"$f":"$F136*'Schedule 4.1'!O$72","v":0},{"$f":"$F136*'Schedule 4.1'!P$72","v":0},{"$f":"$F136*'Schedule 4.1'!Q$72","v":115842.83759900014},{"$f":"$F136*'Schedule 4.1'!R$72","v":0},{"$f":"$F136*'Schedule 4.1'!S$72","v":0},{"$f":"$F136*'Schedule 4.1'!T$72","v":0},{"$f":"$F136*'Schedule 4.1'!U$72","v":0}]
[null,null,{"$f":"+SystemizedPlant!C40","v":"SMET03"},15,"Meters",{"$f":"SUM((IF(VLOOKUP($C137,AllocatedMeters,9,FALSE)=\"\",0,VLOOKUP($C137,AllocatedMeters,9,FALSE))))","v":154605.3330769935},{"$f":"$F137*'Schedule 4.1'!D$73","v":0},{"$f":"$F137*'Schedule 4.1'!E$73","v":0},{"$f":"$F137*'Schedule 4.1'!G$73","v":0},{"$f":"$F137*'Schedule 4.1'!J$73","v":0},{"$f":"$F137*'Schedule 4.1'!K$73","v":0},{"$f":"$F137*'Schedule 4.1'!L$73","v":0},{"$f":"$F137*'Schedule 4.1'!M$73","v":0},{"$f":"$F137*'Schedule 4.1'!N$73","v":0},{"$f":"$F137*'Schedule 4.1'!O$73","v":0},{"$f":"$F137*'Schedule 4.1'!P$73","v":0},{"$f":"$F137*'Schedule 4.1'!Q$73","v":0},{"$f":"$F137*'Schedule 4.1'!R$73","v":154605.3330769935},{"$f":"$F137*'Schedule 4.1'!S$73","v":0},{"$f":"$F137*'Schedule 4.1'!T$73","v":0},{"$f":"$F137*'Schedule 4.1'!U$73","v":0}]
[null,null,"D11",16,"Street Lighting",{"$f":"DistnDetails!G53","v":41248.656996999998},{"$f":"$F138*'Schedule 4.1'!D$74","v":0},{"$f":"$F138*'Schedule 4.1'!E$74","v":0},{"$f":"$F138*'Schedule 4.1'!G$74","v":0},{"$f":"$F138*'Schedule 4.1'!J$74","v":0},{"$f":"$F138*'Schedule 4.1'!K$74","v":0},{"$f":"$F138*'Schedule 4.1'!L$74","v":0},{"$f":"$F138*'Schedule 4.1'!M$74","v":0},{"$f":"$F138*'Schedule 4.1'!N$74","v":0},{"$f":"$F138*'Schedule 4.1'!O$74","v":0},{"$f":"$F138*'Schedule 4.1'!P$74","v":0},{"$f":"$F138*'Schedule 4.1'!Q$74","v":0},{"$f":"$F138*'Schedule 4.1'!R$74","v":0},{"$f":"$F138*'Schedule 4.1'!S$74","v":41248.656996999998},{"$f":"$F138*'Schedule 4.1'!T$74","v":0},{"$f":"$F138*'Schedule 4.1'!U$74","v":0}]
[{"$f":"SUM(G139:U139)-F139","v":0},null," ",17,"Subtotal Distribution",{"$f":"SUM(F129:F138)","v":2646115.7594856573},{"$f":"SUM(G129:G138)","v":0},0,0,141589.68520200058,985525.70837058674,293570.74179950327,208699.53592175397,369415.52203324321,156762.52332114032,178855.21516443635,115842.83759900014,154605.3330769935,41248.656996999998,0,0]
[]
[{"$f":"SUM(G141:U141)-F141","v":0},null," ",{"$f":"MAX(D138:D140)+NoOne","v":18},"Subttl Prod, Trans, & Dist",{"$f":"SUM(F139,F126,F121)","v":5119628.0508636571},{"$f":"SUM(G139,G126,G121)","v":234840.81414799998},0,1707756.8574260003,672504.30500600021,985525.70837058674,293570.74179950327,208699.53592175397,369415.52203324321,156762.52332114032,178855.21516443635,115842.83759900014,154605.3330769935,41248.656996999998,0,0]
[]
[null,{"$f":"IF(OverheadAlloc=\"Expenses\",\"E-GTDC\",\"L-GTDC\")","v":"E-GTDC"},{"$f":"+SystemizedPlant!C119","v":"SGPLT03"},{"$f":"MAX(D140:D142)+NoOne","v":19},"General",{"$f":"+SystemizedPlant!K119","v":602018.21438516886},{"$f":"$F143*VLOOKUP($B143,RatiosLabInt,G$530,FALSE)","v":69558.938757873766},0,228602.18426046334,40133.680592573357,59302.880389336489,16827.836899868718,11649.003776906235,20619.704746379739,9405.0294476363179,10408.902135669865,7247.0053730593645,11154.666372772603,1769.520165465628,115338.86146716338,0]
[null,null,null,{"$f":"MAX(D141:D143)+NoOne","v":20},"Telecontrol - Specific",0,{"$f":"$F144*'Schedule 4.1'!D$35","v":0},{"$f":"$F144*'Schedule 4.1'!E$35","v":0},{"$f":"$F144*'Schedule 4.1'!G$35","v":0},{"$f":"$F144*'Schedule 4.1'!J$35","v":0},{"$f":"$F144*'Schedule 4.1'!K$35","v":0},{"$f":"$F144*'Schedule 4.1'!L$35","v":0},{"$f":"$F144*'Schedule 4.1'!M$35","v":0},{"$f":"$F144*'Schedule 4.1'!N$35","v":0},{"$f":"$F144*'Schedule 4.1'!O$35","v":0},{"$f":"$F144*'Schedule 4.1'!P$35","v":0},{"$f":"$F144*'Schedule 4.1'!Q$35","v":0},{"$f":"$F144*'Schedule 4.1'!R$35","v":0},{"$f":"$F144*'Schedule 4.1'!S$35","v":0},{"$f":"$F144*'Schedule 4.1'!T$35","v":0},{"$f":"$F144*'Schedule 4.1'!U$35","v":0}]
[null,null,{"$f":"+SDEPDetails!C$160","v":"SDEP19"},{"$f":"MAX(D142:D144)+NoOne","v":21},"Feasibility Studies",{"$f":"SUM(G145:U145)","v":1460.9774500000001},{"$f":"+SDEPDetails!E160","v":0},0,{"$f":"+SDEPDetails!G160","v":0},{"$f":"+SDEPDetails!K160","v":1460.9774500000001},0,0,0,0,0,0,0,0,0,0,0]
[null,null,{"$f":"+SystemizedPlant!C74","v":"SCS2_03"},{"$f":"MAX(D143:D145)+NoOne","v":22},"Software - General",{"$f":"+SystemizedPlant!K74","v":55207.776455630861},{"$f":"$F146*G$141/SUM($G$141:$U$141)","v":2532.4181837690326},0,18415.685258510221,7251.9852941186655,10627.467944633616,3165.7354257301154,2250.522344805579,3983.6115743234486,1690.4568570511988,1928.6945533194014,1249.1972890633472,1667.1946833956272,444.8070469106068,0,0]
[null,null,{"$f":"+SystemizedPlant!C55","v":"SCS1_03"},{"$f":"MAX(D144:D146)+NoOne","v":23},"Software - Cust Acctng",{"$f":"SUM(G147:U147)","v":0},0,0,0,0,0,0,0,0,0,0,0,0,0,{"$f":"+SystemizedPlant!K55","v":0},0]
[]
[{"$f":"SUM(G149:U149)-F149","v":0},null," ",{"$f":"MAX(D146:D148)+NoOne","v":24},"Total Depreciation Expense",{"$f":"SUM(F141:F147)","v":5778315.0191544564},{"$f":"SUM(G141:G147)","v":306932.1710896428},0,1954774.7269449739,721350.94834269222,1055456.0567045568,313564.31412510213,222599.06204346579,394018.8383539464,167858.00962582784,191192.81185342561,124339.04026112285,167427.19413316171,43462.984209376235,115338.86146716338,0]
[]
[]
[]
[]
[null,null,null,null,null,null,null,null,null,null,null,null,null,null,null,null,null,null,null,null,"Schedule 2.6E",null,null,null,null,null,null,null,null,null,null,"Schedule 2.6E"]
[null,null,null,null,null,null,null,null,null,null,null,null,null,null,null,null,null,null,null,null,"Page 1 of 2",null,null,null,null,null,null,null,null,null,null,"Page 2 of 2"]
[]
[null,null,null,{"$f":"D6","v":"NEWFOUNDLAND AND LABRADOR HYDRO"},null,null,null,null,null,null,null,null,null,null,null,null,null,null,null,null,null,null,null,null,"NEWFOUNDLAND & LABRADOR HYDRO"]
[null,null,null,{"$f":"D7","v":"2019 Test Year Cost of Service Study"},null,null,null,null,null,null,null,null,null,null,null,null,null,null,null,null,null,null,null,null,{"$f":"RunName","v":"2019 Test Year Cost of Service Study"}]
[null,null,null,{"$f":"$B$1","v":"Labrador Interconnected"},null,null,null,null,null,null,null,null,null,null,null,null,null,null,null,null,null,null,null,null,{"$f":"$B$1","v":"Labrador Interconnected"}]
[null,null,null,"Functional Classification of Rate Base",null,null,null,null,null,null,null,null,null,null,null,null,null,null,null,null,null,null,null,null,{"$f":"+D160&\" (CONT'D.)\"","v":"Functional Classification of Rate Base (CONT'D.)"}]
[]
[null,null,null,null,{"$f":"MAX(D162)+NoOne","v":1},2,3,4,5,6,7,8,9,10,11,12,13,14,15,16,17,null,null,null,null,null,{"$f":"MAX(Z162)+NoOne","v":1},null,{"$f":"MAX(U162)+NoOne","v":18}]
[null,null,null,null,null,null,null,null,"","Distribution",null,null,null,null,null,null,null,null,null,null,"Specifically"]
[null,null,"Check","Line",null,"Total","Production","Production","Transmission","Substations","Primary Lines",null,"Line Transformers",null,"Secondary Lines",null,"Services","Meters","Street Lighting","Accounting","Assigned",null,null,null,null,null,"Description ",null,"Basis of Functional Classification"]
[null,null,"Column","No.","Description ","Amount","Demand","Energy","Demand","Demand","Demand","Customer","Demand","Customer","Demand","Customer","Customer","Customer","Customer","Customer","Customer"]
[null,null,null,null,null,"($)","($)","($)","($)","($)","($)","($)","($)","($)","($)","($)","($)","($)","($)","($)","($)",null,null,null,null,null,{"$f":"IF(ISBLANK(E166),\"\",E166)","v":""}]
[null,null,null,null," ",null,null,null,null,null,null,null,null,null,null,null,null,null,null,null,null,null,null,null,null,null," "]
[null,null,null,{"$f":"MAX(D165:D167)+NoOne","v":1},"Average Net Book Value",{"$f":"SUM(G168:U168)","v":130785962.66701105},{"$f":"G99","v":7181007.5253954828},{"$f":"H99","v":0},57402445.303204387,17770137.215682253,19132717.228767794,5496996.5793035682,3835145.7017964101,6788526.60234877,2921328.1021662708,3297608.061911372,2607644.1981015112,2374715.1028313758,335704.35116106551,1641986.6943407936,0,null,null,null,null,null,"Average Net Book Value",null,{"$f":"+\"Sch. 2.3 , L. \"&D99","v":"Sch. 2.3 , L. 24"}]
[null,null,null,null,null," ",null,null,null,null,null,null,null,null,null,null,null,null,null,null,null,null,null,null,null,null,""]
[{"$f":"F170-SUM(G170:U170)","v":0},null,null,{"$f":"MAX(D167:D169)+NoOne","v":2},"Cash Working Capital",{"$f":"'Rate Base'!I15","v":135347.53932034731},{"$f":"IF(SUM($G$168:$U$168)<>0,$F170*(G$168/SUM($G$168:$U$168)),0)","v":7431.4680152469555},0,59404.538257217988,18389.927301687287,19800.031628921271,5688.7218283156717,3968.9086128818985,7025.2980710014763,3023.2187163868903,3412.6226371786502,2698.5940879192194,2457.5408491920971,347.41310873299699,1699.256205664909,0,null,null,null,null,null,"Cash Working Capital",null,"Prorated on Average Net Book Value, L. 1"]
[null,null,null,null,null," ",null,null,null,null,null,null,null,null,null,null,null,null,null,null,null,null,null,null,null,null,""]
[null,null,null,{"$f":"MAX(D169:D171)+NoOne","v":3},"Fuel Inventory - No. 6 Fuel",0,0,0,0,0,0,0,0,0,0,0,0,0,0,0,0,null,null,null,null,null,{"$f":"IF(ISBLANK(E172),\"\",E172)","v":"Fuel Inventory - No. 6 Fuel"}]
[{"$f":"F173-SUM(G173:U173)","v":0},null,null,{"$f":"MAX(D170:D172)+NoOne","v":4},"Fuel Inventory - Diesel",{"$f":"'Rate Base'!I17","v":30034.348122384516},{"$f":"$F173*(G262/$F262)","v":30034.348122384516},0,0,0,0,0,0,0,0,0,0,0,0,0,0,null,null,null,null,null,"Fuel Inventory - Diesel",null,"Production - Demand"]
[null,null,null,{"$f":"MAX(D171:D173)+NoOne","v":5},"Fuel Inventory - Gas Turbine",{"$f":"'Rate Base'!I18","v":263144.18307692313},{"$f":"$F174*(G262/$F262)","v":263144.18307692313},0,0,0,0,0,0,0,0,0,0,0,0,0,0,null,null,null,null,null,{"$f":"IF(ISBLANK(E174),\"\",E174)","v":"Fuel Inventory - Gas Turbine"},null,"Production - Demand"]
[]
[{"$f":"F176-SUM(G176:U176)","v":0},null,null,{"$f":"MAX(D173:D175)+NoOne","v":6},"Inventory/Supplies",{"$f":"'Rate Base'!I19","v":2118174.5173139134},{"$f":"IF(SUM($G$49:$U$49)<>0,$F176*(G$49/SUM($G$49:$U$49)),0)","v":290810.1295494322},0,736972.11189117888,290736.54775344359,313626.19201400748,88994.840926607401,61606.327910588858,109048.32004118084,49738.959593135958,55047.989548305552,38326.143413876249,37807.66784542719,9358.1941980472911,36101.092628681792,0,null,null,null,null,null,"Inventory/Supplies",null,{"$f":"+\"Prorated on Total Plant in Service, Sch. 2.2, L. \"&D49","v":"Prorated on Total Plant in Service, Sch. 2.2, L. 24"}]
[null,null,null,null,null," ",null,null,null,null,null,null,null,null,null,null,null,null,null,null,null,null,null,null,null,null,""]
[{"$f":"F178-SUM(G178:U178)","v":0},null,null,{"$f":"MAX(D175:D177)+NoOne","v":7},"Deferred Charges: \nForeign Exchange Loss and Regulatory Costs",{"$f":"'Rate Base'!I21","v":4559081.3266939865},{"$f":"IF(SUM($G$168:$U$168)<>0,$F178*(G$168/SUM($G$168:$U$168)),0)","v":250323.48004528967},0,2000997.7458721788,619451.04123350896,666949.35807964602,191620.36923955733,133689.73854424976,236641.94717389363,101834.87683339929,114951.65865845492,90900.137352624413,82780.438058950458,11702.352511370724,57238.183090862593,0,null,null,null,null,null,"Deferred Charges: \nForeign Exchange Loss and Regulatory Costs",null,"Prorated on Average Net Book Value, L. 1 "]
[null,null,null,null,null," ",null,null,null,null,null,null,null,null,null,null,null,null,null,null,null,null,null,null,null,null,""]
[{"$f":"SUM(F168:F178)-F180","v":0},null,null,{"$f":"MAX(D177:D179)+NoOne","v":8},"Total Rate Base",{"$f":"SUM(G180:U180)","v":137891744.58153862},{"$f":"SUM(G168:G178)","v":8022751.1342047593},0,60199819.699224964,18698714.731970891,20133092.81049037,5783300.5112980483,4034410.6768641309,7141242.1676348457,3075925.1573091927,3471020.3327553114,2739569.0729559311,2497760.7495849454,357112.31097921653,1737025.226266003,0,null,null,null,null,null,"Total Rate Base"]
[null,null,null,null,null," ",null,null,null,null,null,null,null,null,null,null,null,null,null,null,null,null,null,null,null,null,""]
[null,null,null,{"$f":"MAX(D179:D181)+NoOne","v":9},"Less:  Rural Portion",0,null,null,null,null,null,null,null,null,null,null,null,null,null,null,null,null,null,null,null,null,{"$f":"IF(ISBLANK(E182),\"\",E182)","v":"Less:  Rural Portion"}]
[]
[null,null,null,{"$f":"MAX(D181:D183)+NoOne","v":10},"Rate Base Available for Equity Return",{"$f":"SUM(F180,F182)","v":137891744.58153862},{"$f":"SUM(G180,G182)","v":8022751.1342047593},0,60199819.699224964,18698714.731970891,20133092.81049037,5783300.5112980483,4034410.6768641309,7141242.1676348457,3075925.1573091927,3471020.3327553114,2739569.0729559311,2497760.7495849454,357112.31097921653,1737025.226266003,0,null,null,null,null,null,{"$f":"IF(ISBLANK(E184),\"\",E184)","v":"Rate Base Available for Equity Return"}]
[]
[{"$f":"('Rate Base'!H41*F180)-F186","v":0},null,null,{"$f":"MAX(D183:D185)+NoOne","v":11},"Return on Debt",{"$f":"SUM(G186:U186)","v":5574895.9527416211},{"$f":"G180*'Rate Base'!$I41","v":324355.91386316693},{"$f":"H180*'Rate Base'!$I41","v":0},{"$f":"I180*'Rate Base'!$I41","v":2433849.3375035357},{"$f":"J180*'Rate Base'!$I41","v":755979.91306211276},{"$f":"K180*'Rate Base'!$I41","v":813971.11890918238},{"$f":"L180*'Rate Base'!$I41","v":233816.01786072837},{"$f":"M180*'Rate Base'!$I41","v":163109.25517986843},{"$f":"N180*'Rate Base'!$I41","v":288716.93645411613},{"$f":"O180*'Rate Base'!$I41","v":124358.15329233982},{"$f":"P180*'Rate Base'!$I41","v":140331.6584592126},{"$f":"Q180*'Rate Base'!$I41","v":110759.44091813966},{"$f":"R180*'Rate Base'!$I41","v":100983.24838833229},{"$f":"S180*'Rate Base'!$I41","v":14437.876489226637},{"$f":"T180*'Rate Base'!$I41","v":70227.082361658118},{"$f":"U180*'Rate Base'!$I41","v":0},null,null,null,null,null,"Return on Debt",null,{"$f":"+\"L.\"&D180&\" x Sch.1.1,p2,L.\"&'Rate Base'!$B$32","v":"L.8 x Sch.1.1,p2,L.12"}]
[null,null,null,null,null," ",null,null,null,null,null,null,null,null,null,null,null,null,null,null,null,null,null,null,null,null,""]
[{"$f":"('Rate Base'!I42*F180)-F188","v":0},null,null,{"$f":"MAX(D185:D187)+NoOne","v":12},"Return on Equity",{"$f":"SUM(G188:U188)","v":2264237.5359467878},{"$f":"G180*'Rate Base'!$I42","v":131736.77883873932},{"$f":"H180*'Rate Base'!$I42","v":0},{"$f":"I180*'Rate Base'!$I42","v":988505.09023484518},{"$f":"J180*'Rate Base'!$I42","v":307040.36632921145},{"$f":"K180*'Rate Base'!$I42","v":330593.42743507447},{"$f":"L180*'Rate Base'!$I42","v":94964.104914910626},{"$f":"M180*'Rate Base'!$I42","v":66246.635124545792},{"$f":"N180*'Rate Base'!$I42","v":117262.0494309827},{"$f":"O180*'Rate Base'!$I42","v":50507.919963433036},{"$f":"P180*'Rate Base'!$I42","v":56995.540590986937},{"$f":"Q180*'Rate Base'!$I42","v":44984.818678813397},{"$f":"R180*'Rate Base'!$I42","v":41014.229402838369},{"$f":"S180*'Rate Base'!$I42","v":5863.9268182563892},{"$f":"T180*'Rate Base'!$I42","v":28522.648184150352},{"$f":"U180*'Rate Base'!$I42","v":0},null,null,null,null,null,"Return on Equity",null,{"$f":"+\"L.\"&D184&\" x Sch.1.1,p2,L.\"&'Rate Base'!$B$36","v":"L.10 x Sch.1.1,p2,L.15"}]
[null,null,null,null,null," ",null,null,null,null,null,null,null,null,null,null,null,null,null,null,null,null,null,null,null,null,""]
[null,null,null,{"$f":"MAX(D187:D189)+NoOne","v":13},"Return on Rate Base",{"$f":"SUM(G190:U190)","v":7839133.4886884084},{"$f":"SUM(G186:G188)","v":456092.69270190626},{"$f":"SUM(H186:H188)","v":0},3422354.4277383806,1063020.2793913241,1144564.546344257,328780.122775639,229355.89030441421,405978.98588509881,174866.07325577285,197327.19905019953,155744.25959695305,141997.47779117065,20301.803307483027,98749.730545808474,0,null,null,null,null,null,"Return on Rate Base"]
[]
[]
[]
[null,null,null,null,null," ",null,null,null,null,null,null,null,null,null,null,null,null,null,null,"Schedule 2.4E",null,null,null,null,null,null,null,null,null,null,"Schedule 2.4E"]
[null,null,null,null,null,null,null,null,null,null,null,null,null,null,null,null,null,null,null,null,"Page 1 of 2",null,null,null,null,null,null,null,null,null,null,"Page 2 of 2"]
[null,null,null,{"$f":"D6","v":"NEWFOUNDLAND AND LABRADOR HYDRO"},null,null,null,null,null,null,null,null,null,null,null,null,null,null,null,null,null,null,null,null,"NEWFOUNDLAND & LABRADOR HYDRO"]
[null,null,null,{"$f":"D7","v":"2019 Test Year Cost of Service Study"},null,null,null,null,null,null,null,null,null,null,null,null,null,null,null,null,null,null,null,null,{"$f":"RunName","v":"2019 Test Year Cost of Service Study"}]
[null,null,null,{"$f":"$B$1","v":"Labrador Interconnected"},null,null,null,null,null,null,null,null,null,null,null,null,null,null,null,null,null,null,null,null,{"$f":"$B$1","v":"Labrador Interconnected"}]
[null,null,null,"Functional Classification of Operating & Maintenance Expense",null,null,null,null,null,null,null,null,null,null,null,null,null,null,null,null,null,null,null,null,{"$f":"+D199&\" (CONT'D.)\"","v":"Functional Classification of Operating & Maintenance Expense (CONT'D.)"}]
[]
[null,null,null,null,{"$f":"MAX(D201)+NoOne","v":1},2,3,4,5,6,7,8,9,10,11,12,13,14,15,16,17,null,null,null,null,null,{"$f":"MAX(Z201)+NoOne","v":1},null,{"$f":"MAX(U201)+NoOne","v":18},{"$f":"MAX(AC201)+NoOne","v":19},{"$f":"MAX(AD201)+NoOne","v":20}]
[null,null,null,null,null,null,null,null,"","Distribution",null,null,null,null,null,null,null,null,null,null,"Specifically",null,null,null,null,null,null,null,"Revenue Related"]
[null,null,"Check","Line",null,"Total","Production","Production","Transmission","Substations","Primary Lines",null,"Line Transformers",null,"Secondary Lines",null,"Services","Meters","Street Lighting","Accounting","Assigned",null,null,null,null,null,null,null,"Municipal","PUB "]
[null,null,"Column","No.","Description ","Amount","Demand","Energy","Demand","Demand","Demand","Customer","Demand","Customer","Demand","Customer","Customer","Customer","Customer","Customer","Customer",null,null,null,null,null,"Description ",null,"Tax","Assessment","Basis of Functional Classification"]
[null,null,null,null,null,"($)","($)","($)","($)","($)","($)","($)","($)","($)","($)","($)","($)","($)","($)","($)","($)"]
[null,null,null,null," ",null,null,null,null,null,null,null,null,null,null,null,null,null,null,null,null,null,null,null,null,null,{"$f":"+E206","v":" "}]
[null,null,null,null,"Production",null,null,null,null,null,null,null,null,null,null,null,null,null,null,null,null,null,null,null,null,null,{"$f":"IF(ISBLANK(E207),\"\",E207)","v":"Production"}]
[null,null,null,{"$f":"MAX(D205:D207)+NoOne","v":1},"Gas Turbine / Diesel",{"$f":"SUM('O&M Summary'!J19,'O&M Summary'!J20)","v":656127.87555},{"$f":"$F208*'Schedule 4.1'!D$21","v":656127.87555},{"$f":"$F208*'Schedule 4.1'!E$21","v":0},{"$f":"$F208*'Schedule 4.1'!G$16","v":0},{"$f":"$F208*'Schedule 4.1'!J$16","v":0},{"$f":"$F208*'Schedule 4.1'!K$16","v":0},{"$f":"$F208*'Schedule 4.1'!L$16","v":0},{"$f":"$F208*'Schedule 4.1'!M$16","v":0},{"$f":"$F208*'Schedule 4.1'!N$16","v":0},{"$f":"$F208*'Schedule 4.1'!O$16","v":0},{"$f":"$F208*'Schedule 4.1'!P$16","v":0},{"$f":"$F208*'Schedule 4.1'!Q$16","v":0},{"$f":"$F208*'Schedule 4.1'!R$16","v":0},{"$f":"$F208*'Schedule 4.1'!S$16","v":0},{"$f":"$F208*'Schedule 4.1'!T$16","v":0},{"$f":"$F208*'Schedule 4.1'!U$16","v":0},null,null,null,null,null,"Gas Turbine / Diesel",null,0,0,{"$f":"\"Production - Demand, Energy ratios Sch.4.1 L.\"&'Schedule 4.1'!$A$21","v":"Production - Demand, Energy ratios Sch.4.1 L.9"}]
[null,null,null,{"$f":"MAX(D206:D208)+NoOne","v":2},"Other",{"$f":"'O&M Summary'!J21","v":80919.780400000003},{"$f":"$F209*'Schedule 4.1'!D$21","v":80919.780400000003},{"$f":"$F209*'Schedule 4.1'!E$21","v":0},{"$f":"$F209*'Schedule 4.1'!G$16","v":0},{"$f":"$F209*'Schedule 4.1'!J$16","v":0},{"$f":"$F209*'Schedule 4.1'!K$16","v":0},{"$f":"$F209*'Schedule 4.1'!L$16","v":0},{"$f":"$F209*'Schedule 4.1'!M$16","v":0},{"$f":"$F209*'Schedule 4.1'!N$16","v":0},{"$f":"$F209*'Schedule 4.1'!O$16","v":0},{"$f":"$F209*'Schedule 4.1'!P$16","v":0},{"$f":"$F209*'Schedule 4.1'!Q$16","v":0},{"$f":"$F209*'Schedule 4.1'!R$16","v":0},{"$f":"$F209*'Schedule 4.1'!S$16","v":0},{"$f":"$F209*'Schedule 4.1'!T$16","v":0},{"$f":"$F209*'Schedule 4.1'!U$16","v":0},null,null,null,null,null,{"$f":"IF(ISBLANK(E209),\"\",E209)","v":"Other"},null,0,0,{"$f":"\"Production - Demand, Energy ratios Sch.4.1 L.\"&'Schedule 4.1'!$A$21","v":"Production - Demand, Energy ratios Sch.4.1 L.9"}]
[{"$f":"SUM(G210:AD210)-F210","v":0},null,null,{"$f":"MAX(D207:D209)+NoOne","v":3},"Subtotal Production",{"$f":"SUM(F208:F209)","v":737047.65595000004},737047.65595000004,0,0,0,0,0,0,0,0,0,0,0,0,0,0,null,null,null,null,null,"Subtotal Production",null,{"$f":"SUM(AC208:AC209)","v":0},{"$f":"SUM(AD208:AD209)","v":0}]
[null,null,null,null,null,null,null,null,null,null,null,null,null,null,null,null,null,null,null,null,null,null,null,null,null,null,""]
[null,null,null,null,"Transmission",null,null,null,null,null,null,null,null,null,null,null,null,null,null,null,null,null,null,null,null,null,"Transmission"]
[null,null,null,{"$f":"MAX(D210:D212)+NoOne","v":4},"Transmission Lines",{"$f":"+'O&M Summary'!J26","v":2280520.41665},{"$f":"$F$213*G24/SUM($G$24:$U$24)","v":0},0,2168552.0698261,111968.34682389998,0,0,0,0,0,0,0,0,0,0,0,null,null,null,null,null,"Transmission Lines",null,0,0,{"$f":"+\"Prorated on Transmission Lines Plant in Service - Sch.2.2 L.\"&D24","v":"Prorated on Transmission Lines Plant in Service - Sch.2.2 L.4"}]
[null,null,null,{"$f":"MAX(D211:D213)+NoOne","v":5},"Terminal Stations",{"$f":"+'O&M Summary'!J30","v":173173.39},{"$f":"$F214*G25/SUM($G$25:$U$25)","v":0},0,105239.72295410885,67933.667045891198,0,0,0,0,0,0,0,0,0,0,0,null,null,null,null,null,"Terminal Stations",null,0,0,{"$f":"+\"Prorated on Transmission Terminal Stations Plant in Service - Sch.2.2 L.\"&D25","v":"Prorated on Transmission Terminal Stations Plant in Service - Sch.2.2 L.5"}]
[null,null,null,{"$f":"MAX(D212:D214)+NoOne","v":6},"Other",{"$f":"'O&M Summary'!J31+'O&M Summary'!J33","v":189105.60516799998},{"$f":"$F215*(G26/$F$26)","v":0},0,148480.70106447433,40624.904103525696,0,0,0,0,0,0,0,0,0,0,0,null,null,null,null,null,{"$f":"IF(ISBLANK(E215),\"\",E215)","v":"Other"},null,0,0,{"$f":"+\"Prorated on Transmission Plant in Service - Sch.2.2 L.\"&$D$26","v":"Prorated on Transmission Plant in Service - Sch.2.2 L.6"}]
[{"$f":"SUM(G216:AD216)-F216","v":0},null,null,{"$f":"MAX(D213:D215)+NoOne","v":7},"Subtotal Transmission",{"$f":"SUM(F213:F215)","v":2642799.411818},0,0,2422272.4938446833,220526.91797331686,0,0,0,0,0,0,0,0,0,0,0,null,null,null,null,null,"Subtotal Transmission",null,{"$f":"SUM(AC213:AC215)","v":0},{"$f":"SUM(AD213:AD215)","v":0}]
[null,null,null,null,null,null,null,null,null,null,null,null,null,null,null,null,null,null,null,null,null,null,null,null,null,null,""]
[null,null,null,null,"Distribution",null,null,null,null,null,null,null,null,null,null,null,null,null,null,null,null,null,null,null,null,null,"Distribution"]
[null,"P-DisxMet",null,{"$f":"MAX(D216:D218)+NoOne","v":8},"Other",{"$f":"+'O&M Summary'!J39","v":1658820.3101877777},{"$f":"$F219*VLOOKUP($B219,RatiosLabInt,G$530,FALSE)","v":0},0,0,204730.21983851935,628374.29326214397,178308.03579292959,123433.03508134035,218486.72968691547,99655.846283830833,110292.89775126135,76789.38779476186,0,18749.864696074954,0,0,null,null,null,null,null,"Other",null,0,0,{"$f":"+\"Prorated on Distribution Plant, excluding Meters - Sch. 2.2 L. \"&D39&\", less L. \"&D37","v":"Prorated on Distribution Plant, excluding Meters - Sch. 2.2 L. 17, less L. 15"}]
[null,null,null,{"$f":"MAX(D217:D219)+NoOne","v":9},"Meters",{"$f":"+'O&M Summary'!J43","v":118195.0278392609},{"$f":"$F220*'Schedule 4.1'!D$73","v":0},{"$f":"$F220*'Schedule 4.1'!E$73","v":0},{"$f":"$F220*'Schedule 4.1'!G$73","v":0},{"$f":"$F220*'Schedule 4.1'!J$73","v":0},{"$f":"$F220*'Schedule 4.1'!K$73","v":0},{"$f":"$F220*'Schedule 4.1'!L$73","v":0},{"$f":"$F220*'Schedule 4.1'!M$73","v":0},{"$f":"$F220*'Schedule 4.1'!N$73","v":0},{"$f":"$F220*'Schedule 4.1'!O$73","v":0},{"$f":"$F220*'Schedule 4.1'!P$73","v":0},{"$f":"$F220*'Schedule 4.1'!Q$73","v":0},{"$f":"$F220*'Schedule 4.1'!R$73","v":118195.0278392609},{"$f":"$F220*'Schedule 4.1'!S$73","v":0},{"$f":"$F220*'Schedule 4.1'!T$73","v":0},{"$f":"$F220*'Schedule 4.1'!U$73","v":0},null,null,null,null,null,"Meters",null,0,0,"Meters - Customer"]
[{"$f":"SUM(G221:AD221)-F221","v":0},null,null,{"$f":"MAX(D218:D220)+NoOne","v":10},"Subtotal Distribution",{"$f":"SUM(F219:F220)","v":1777015.3380270386},{"$f":"SUM(G219:G220)","v":0},0,0,204730.21983851935,628374.29326214397,178308.03579292959,123433.03508134035,218486.72968691547,99655.846283830833,110292.89775126135,76789.38779476186,118195.0278392609,18749.864696074954,0,0,null,null,null,null,null,"Subtotal Distribution",null,{"$f":"SUM(AC219:AC220)","v":0},{"$f":"SUM(AD219:AD220)","v":0}]
[null,null,null,null,null,null,null,null,null,null,null,null,null,null,null,null,null,null,null,null,null,null,null,null,null,null,""]
[{"$f":"SUM(G223:AD223)-F223","v":0},null,null,{"$f":"MAX(D220:D222)+NoOne","v":11},"Subttl Prod, Trans, & Dist",{"$f":"SUM(F221,F216,F210)","v":5156862.4057950396},{"$f":"SUM(G221,G216,G210)","v":737047.65595000004},0,2422272.4938446833,425257.1378118362,628374.29326214397,178308.03579292959,123433.03508134035,218486.72968691547,99655.846283830833,110292.89775126135,76789.38779476186,118195.0278392609,18749.864696074954,0,0,null,null,null,null,null,"Subttl Prod, Trans, & Dist",null,{"$f":"SUM(AC221,AC216,AC210)","v":0},{"$f":"SUM(AD221,AD216,AD210)","v":0}]
[null,null,null,null,null,null,null,null,null,null,null,null,null,null,null,null,null,null,null,null,null,null,null,null,null,null,""]
[null,null,null,{"$f":"MAX(D222:D224)+NoOne","v":12},"Customer Accounting",{"$f":"+'O&M Summary'!J53","v":1222132.4678374534},{"$f":"$F225*'Schedule 4.1'!D$75","v":0},{"$f":"$F225*'Schedule 4.1'!E$75","v":0},{"$f":"$F225*'Schedule 4.1'!G$75","v":0},{"$f":"$F225*'Schedule 4.1'!J$75","v":0},{"$f":"$F225*'Schedule 4.1'!K$75","v":0},{"$f":"$F225*'Schedule 4.1'!L$75","v":0},{"$f":"$F225*'Schedule 4.1'!M$75","v":0},{"$f":"$F225*'Schedule 4.1'!N$75","v":0},{"$f":"$F225*'Schedule 4.1'!O$75","v":0},{"$f":"$F225*'Schedule 4.1'!P$75","v":0},{"$f":"$F225*'Schedule 4.1'!Q$75","v":0},{"$f":"$F225*'Schedule 4.1'!R$75","v":0},{"$f":"$F225*'Schedule 4.1'!S$75","v":0},{"$f":"$F225*'Schedule 4.1'!T$75","v":1222132.4678374534},{"$f":"$F225*'Schedule 4.1'!U$75","v":0},null,null,null,null,null,"Customer Accounting",null,0,0,"Accounting - Customer"]
[null,null,null,null,null,null,null,null,null,null,null,null,null,null,null,null,null,null,null,null,null,null,null,null,null,null,""]
[null,null,null,null,"Administrative & General:",null,null,null,null,null,null,null,null,null,null,null,null,null,null,null,null,null,null,null,null,null,"Administrative & General:"]
[null,null,null," ","Plant-Related:",null,null,null,null,null,null,null,null,null,null,null,null,null,null,null,null,null,null,null,null,null,"Plant-Related:"]
[null,null,null,{"$f":"MAX(D225:D228)+NoOne","v":13},"Production",{"$f":"+'O&M Summary'!J79","v":117916.74522000001},{"$f":"IF($F$21<>0,$F229*(G21/$F$21),0)","v":117916.74522000001},0,0,0,0,0,0,0,0,0,0,0,0,0,0,null,null,null,null,null,"Production",null,0,0,{"$f":"+\"Prorated on Production Plant in Service - Sch.2.2 L.\"&D21","v":"Prorated on Production Plant in Service - Sch.2.2 L.3"}]
[{"$f":"SUM(G230:AD230)-F230","v":0},null,null,{"$f":"MAX(D227:D229)+NoOne","v":14},"Transmission  ",{"$f":"+'O&M Summary'!J86","v":164210.17789799999},{"$f":"IF($F$26<>0,$F230*(G26/$F$26),0)","v":0},0,128933.47246135969,35276.705436640324,0,0,0,0,0,0,0,0,0,0,0,null,null,null,null,null,"Transmission  ",null,0,0,{"$f":"+\"Prorated on Transmission Plant in Service - Sch.2.2 L. \"&D26","v":"Prorated on Transmission Plant in Service - Sch.2.2 L. 6"}]
[{"$f":"SUM(G231:AD231)-F231","v":0},null,null,{"$f":"MAX(D228:D230)+NoOne","v":15},"Distribution  ",{"$f":"+'O&M Summary'!J87","v":325493.56698200002},{"$f":"IF($F$39<>0,$F231*(G39/$F$39),0)","v":0},0,0,38477.012728211397,118096.71136483265,33511.225495475657,23198.013784445342,41062.41221124812,18729.327155160881,20728.455398298534,14431.803247713358,13734.754632490869,3523.8509641231826,0,0,null,null,null,null,null,"Distribution  ",null,0,0,{"$f":"+\"Prorated on Distribution Plant in Service - Sch.2.2 L.\"&D39","v":"Prorated on Distribution Plant in Service - Sch.2.2 L.17"}]
[{"$f":"SUM(G232:AD232)-F232","v":0},null,null,{"$f":"MAX(D229:D231)+NoOne","v":16},"Prod, Trans, Distn Plant",{"$f":"+'O&M Summary'!J94","v":0},{"$f":"IF($F$41<>0,$F232*(G41/$F$41),0)","v":0},0,0,0,0,0,0,0,0,0,0,0,0,0,0,null,null,null,null,null,"Prod, Trans, Distn Plant",null,0,0,{"$f":"+\"Prorated on Production, Transmission, Distribution Plant in Service - Sch.2.2 L. \"&$D$41","v":"Prorated on Production, Transmission, Distribution Plant in Service - Sch.2.2 L. 18"}]
[null,null,null,{"$f":"MAX(D230:D232)+NoOne","v":17},"Prod, Trans, Distn & General Plt",{"$f":"+'O&M Summary'!J92","v":679913.78843034443},{"$f":"IF($F$49<>0,$F233*(G49/$F$49),0)","v":93347.27392840726},0,236561.00876846845,93323.654874707412,100671.01205316998,28566.493908111774,19775.042829845777,35003.469164186841,15965.730950459281,17669.878857161053,12302.325965803051,12135.900260521779,3003.8909532959142,11588.105916205846,0,null,null,null,null,null,"Prod, Trans, Distn & General Plt",null,0,0,{"$f":"+\"Prorated on Production, Transmission, Distribution & General Plant in Service - Sch.2.2 L.\"&D49","v":"Prorated on Production, Transmission, Distribution & General Plant in Service - Sch.2.2 L.24"}]
[null,null,null,{"$f":"MAX(D231:D233)+NoOne","v":18},"Property Insurance",{"$f":"+'O&M Summary'!J98","v":145899.99877002803},{"$f":"IF(SUM($F$21,$F$25,$F$29,$F$43:$F$44)<>0,$F234*((SUM(G$21,G$25,G$29,G$43:G$44)/SUM($F$21,$F$25,$F$29,$F$43:$F$44))),0)","v":44062.905802448338},0,48529.353107098199,40794.343174160233,2813.8589015460425,798.46304839815116,552.73289858084445,978.38316396997141,446.25869193518628,493.8913883691032,343.86273389516293,529.27711201775696,83.961858789510188,5472.7068888195481,0,null,null,null,null,null,{"$f":"IF(ISBLANK(E234),\"\",E234)","v":"Property Insurance"},null,0,0,{"$f":"+\"Prorated on Prod., Trans. Terminal, Dist. Sub & General Plant in Service - Sch.2.2  L.\"&D21&\", \"&D25&\", \"&D29&\", \"&D43&\" - \"&D44","v":"Prorated on Prod., Trans. Terminal, Dist. Sub & General Plant in Service - Sch.2.2  L.3, 5, 7, 19 - 20"}]
[null,null,null,null,"Revenue-Related:"," ",null,null,null,null,null,null,null,null,null,null,null,null,null,null,null,null,null,null,null,null,"Revenue-Related:"]
[null,null,null,{"$f":"MAX(D233:D235)+NoOne","v":19},"Municipal  Tax",{"$f":"+'O&M Summary'!J102","v":506563.79601135361},0,0,0,0,0,0,0,0,0,0,0,0,0,0,0,null,null,null,null,null,{"$f":"IF(ISBLANK(E236),\"\",E236)","v":"Municipal  Tax"},null,{"$f":"+F236","v":506563.79601135361},0,"Revenue-related"]
[null,null,null,{"$f":"MAX(D234:D236)+NoOne","v":20},"PUB Assessment",{"$f":"+'O&M Summary'!J106","v":35979.042341791595},0,0,0,0,0,0,0,0,0,0,0,0,0,0,0,null,null,null,null,null,{"$f":"IF(ISBLANK(E237),\"\",E237)","v":"PUB Assessment"},null,0,{"$f":"+F237","v":35979.042341791595},"Revenue-related"]
[null,{"$f":"IF(OverheadAlloc=\"Expenses\",\"E-GTDC\",\"L-GTDC\")","v":"E-GTDC"},null,{"$f":"MAX(D235:D237)+NoOne","v":21},"All Expense-Related",{"$f":"+'O&M Summary'!J66","v":2982340.2832850888},{"$f":"$F238*VLOOKUP($B238,RatiosLabInt,G$530,FALSE)","v":344588.28680462937},0,1132473.2153880429,198818.39035380055,293780.76090368978,83363.484140233544,57708.043367904262,102148.03244346491,46591.610547555065,51564.699210445011,35900.967015311086,55259.143453160032,8766.0325642191219,571377.61709263304,0,null,null,null,null,null,"All Expense-Related",null,0,0,{"$f":"+\"Prorated on Subtotal Production, Transmission, Distribution, Accounting Expenses - L \"&$D$223&\", \"&$D$225","v":"Prorated on Subtotal Production, Transmission, Distribution, Accounting Expenses - L 11, 12"}]
[null,{"$f":"IF(OverheadAlloc=\"Expenses\",\"E-GTD\",\"L-GTD\")","v":"E-GTD"},null,{"$f":"MAX(D236:D238)+NoOne","v":22},"Prod,Trans & Distn Expense-Related ",{"$f":"'O&M Summary'!J70","v":126134.75736525666},18027.885938048708,0,59247.800162418716,10401.616656566539,15369.779679620051,4361.3420450664971,3019.121843031171,5344.096558717225,2437.5414742333764,2697.7194274823046,1878.2371984240708,2891.0023159686125,458.61406567937888,0,0,null,null,null,null,null,{"$f":"IF(ISBLANK(E239),\"\",E239)","v":"Prod,Trans & Distn Expense-Related "},null,{"$f":"IF(SUM($F$218,$F$220)<>0,$F239*(SUM(AC224,AC226)/SUM($F$218,$F$220)),0)","v":0},{"$f":"IF(SUM($F$218,$F$220)<>0,$F239*(SUM(AD224,AD226)/SUM($F$218,$F$220)),0)","v":0},{"$f":"+\"Prorated on Subtotal Production, Transmission, Distribution Expenses - L.\"&D223","v":"Prorated on Subtotal Production, Transmission, Distribution Expenses - L.11"}]
[{"$f":"SUM(G240:AD240)-F240","v":0},null,null,{"$f":"MAX(D237:D239)+NoOne","v":23},"Subtotal Admin & General",{"$f":"SUM(F229:F239)","v":5084452.156303863},617943.09769353375,0,1605744.8498873878,417091.72322408645,530732.12290285854,150601.00863728562,104252.9547238074,184536.39354158708,84170.468819343805,93154.644281756002,64857.196161146727,84550.077774159043,15836.350406107107,588438.42989765841,0,null,null,null,null,null,"Subtotal Admin & General",null,{"$f":"SUM(AC229:AC239)","v":506563.79601135361},{"$f":"SUM(AD229:AD239)","v":35979.042341791595}]
[null,null,null,null,null,null,null,null,null,null,null,null,null,null,null,null,null,null,null,null,null,null,null,null,null,null,""]
[{"$f":"SUM(G242:AD242)-F242","v":0},null," ",{"$f":"MAX(D239:D241)+NoOne","v":24},"Total Operating & Maintenance Expenses",{"$f":"SUM(F240,F225,F223)","v":11463447.029936356},1354990.7536435337,0,4028017.3437320711,842348.86103592266,1159106.4161650026,328909.0444302152,227685.98980514775,403023.12322850258,183826.31510317465,203447.54203301735,141646.5839559086,202745.10561341996,34586.215102182061,1810570.8977351119,0,null,null,null,null,null,"Total Operating & Maintenance Expenses",null,{"$f":"SUM(AC240,AC225,AC223)","v":506563.79601135361},{"$f":"SUM(AD240,AD225,AD223)","v":35979.042341791595}]
[null,null,null,null,null,null,null,null,null,null,null,null,null,null,null,null,null,null,null,null,null,null,null,null,null,null,""]
[null,null,null,null,null,null,null,null,null,null,null,null,null,null,null,null,null,null,null,null,"Schedule 2.1E",null,null,null,null,null,null,null,null,null,null,"Schedule 2.1E"]
[null,null,null,null,null,null,null,null,null,null,null,null,null,null,null,null,null,null,null,null,"Page 1 of 2",null,null,null,null,null,null,null,null,null,null,"Page 2 of 2"]
[]
[null,null,null,{"$f":"D6","v":"NEWFOUNDLAND AND LABRADOR HYDRO"},null,null,null,null,null,null,null,null,null,null,null,null,null,null,null,null,null,null,null,null,"NEWFOUNDLAND & LABRADOR HYDRO"]
[null,null,null,{"$f":"D7","v":"2019 Test Year Cost of Service Study"},null,null,null,null,null,null,null,null,null,null,null,null,null,null,null,null,null,null,null,null,{"$f":"RunName","v":"2019 Test Year Cost of Service Study"}]
[null,null,null,{"$f":"$B$1","v":"Labrador Interconnected"},null,null,null,null,null,null,null,null,null,null,null,null,null,null,null,null,null,null,null,null,{"$f":"$B$1","v":"Labrador Interconnected"}]
[null,null,null,"Functional Classification of Revenue Requirement",null,null,null,null,null,null,null,null,null,null,null,null,null,null,null,null,null,null,null,null,{"$f":"+D250&\" (CONT'D.)\"","v":"Functional Classification of Revenue Requirement (CONT'D.)"}]
[]
[null,null,null,null,{"$f":"MAX(D252)+NoOne","v":1},2,3,4,5,6,7,8,9,10,11,12,13,14,15,16,17,null,null,null,null,null,{"$f":"MAX(Z252)+NoOne","v":1},null,{"$f":"MAX(U252)+NoOne","v":18},{"$f":"MAX(AC252)+NoOne","v":19},{"$f":"MAX(AD252)+NoOne","v":20}]
[null,null,null,null,null,null,null,null,"","Distribution",null,null,null,null,null,null,null,null,null,null,"Specifically",null,null,null,null,null,null,null,"Revenue Related"]
[null,null,null,"Line",null,"Total","Production","Production","Transmission","Substations","Primary Lines",null,"Line Transformers",null,"Secondary Lines",null,"Services","Meters","Street Lighting","Accounting","Assigned",null,null,null,null,null,null,null,"Municipal","PUB "]
[null,null,null,"No.","Description ","Amount","Demand","Energy","Demand","Demand","Demand","Customer","Demand","Customer","Demand","Customer","Customer","Customer","Customer","Customer","Customer",null,null,null,null,null,"Description ",null,"Tax","Assessment","Basis of Functional Classification"]
[null,null,null,null,null,"($)","($)","($)","($)","($)","($)","($)","($)","($)","($)","($)","($)","($)","($)","($)","($)",null,null,null,null,null,{"$f":"IF(ISBLANK(E256),\"\",E256)","v":""}]
[null,null,null,null," ",null,null,null,null,null,null,null,null,null,null,null,null,null,null,null,null,null,null,null,null,null," "]
[null,null,null,null,"Expenses",null,null,null,null,null,null,null,null,null,null,null,null,null,null,null,null,null,null,null,null,null,"Expenses"]
[null,null,null,{"$f":"MAX(D256:D258)+NoOne","v":1},"Operating & Maintenance",{"$f":"SUM(G259:AD259)","v":11463447.029936353},{"$f":"G$242","v":1354990.7536435337},{"$f":"H$242","v":0},4028017.3437320711,842348.86103592266,1159106.4161650026,328909.0444302152,227685.98980514775,403023.12322850258,183826.31510317465,203447.54203301735,141646.5839559086,202745.10561341996,34586.215102182061,1810570.8977351119,0,null,null,null,null,null,"Operating & Maintenance",null,{"$f":"AC$242","v":506563.79601135361},{"$f":"AD$242","v":35979.042341791595},{"$f":"+\"Carryforward from Sch.2.4 L.\"&D242","v":"Carryforward from Sch.2.4 L.24"}]
[null,null,"FUEL1",2,"Fuels",0,0,0,0,0,0,0,0,0,0,0,0,0,0,0,0,null,null,null,null,null,"Fuels",null,0,0]
[null,null,"FUEL2",3,"Fuels-Diesel",42408,{"$f":"$F261*'Schedule 4.1'!D$29","v":42408},{"$f":"$F261*'Schedule 4.1'!E$29","v":0},0,0,0,0,0,0,0,0,0,0,0,0,0,null,null,null,null,null,"Fuels-Diesel",null,0,0,"Production - Demand"]
[null,null,"FUEL3",4,"Fuels-Gas Turbine",260210.5,{"$f":"$F262*'Schedule 4.1'!D$29","v":260210.5},{"$f":"$F262*'Schedule 4.1'!E$29","v":0},0,0,0,0,0,0,0,0,0,0,0,0,0,null,null,null,null,null,{"$f":"IF(ISBLANK(E262),\"\",E262)","v":"Fuels-Gas Turbine"},null,0,0,"Production - Demand"]
[null,null,null,5,"Power Purchases -CF(L)Co",1428356,{"$f":"'Schedules 4.2,4.3,4.4'!W30","v":408329.07957648812},{"$f":"'Schedules 4.2,4.3,4.4'!X30","v":1020026.9204235119},{"$f":"'Schedules 4.2,4.3,4.4'!Z30","v":0},0,0,0,0,0,0,0,0,0,0,0,0,null,null,null,null,null,"Power Purchases -CF(L)Co",null,0,0,{"$f":"+\"Carryforward from Sch.4.4 L.\"&'Schedules 4.2,4.3,4.4'!T30","v":"Carryforward from Sch.4.4 L.9"}]
[null,null,null,6,"Power Purchases-Other",0,{"$f":"'Schedules 4.2,4.3,4.4'!W$31","v":0},{"$f":"'Schedules 4.2,4.3,4.4'!X$31","v":0},{"$f":"'Schedules 4.2,4.3,4.4'!Z$31","v":0},{"$f":"'Schedules 4.2,4.3,4.4'!AB$31","v":0},0,0,0,0,0,0,0,0,0,0,0,null,null,null,null,null,"Power Purchases-Other",null,0,0,{"$f":"+\"Carryforward from Sch.4.4 L.\"&'Schedules 4.2,4.3,4.4'!T31","v":"Carryforward from Sch.4.4 L.10"}]
[null,null,null,7,"Depreciation",5778315.0191544574,{"$f":"G$149","v":306932.1710896428},0,1954774.7269449739,721350.94834269222,1055456.0567045568,313564.31412510213,222599.06204346579,394018.8383539464,167858.00962582784,191192.81185342561,124339.04026112285,167427.19413316171,43462.984209376235,115338.86146716338,0,null,null,null,null,null,"Depreciation",null,0,0,{"$f":"+\"Carryforward from Sch.2.5 L.\"&D149","v":"Carryforward from Sch.2.5 L.24"}]
[null,null,null,null,null,null,null,null,null,null,null,null,null,null,null,null,null,null,null,null,null,null,null,null,null,null,""]
[null,null,null,null,"Expense Credits",null,null,null,null,null,null,null,null,null,null,null,null,null,null,null,null,null,null,null,null,null,"Expense Credits"]
[null,null,null,{"$f":"MAX(D265:D267)+NoOne","v":8},"Sundry ",{"$f":"-AllocMisc!J26","v":-35967.748958841083},{"$f":"IF(SUM($G$242:$AD$242)<>0,$F268*(G$242/SUM($G$242:$AD$242)),0)","v":-4251.4234279906723},0,-12638.320414694446,-2642.9565461754478,-3636.816088941815,-1031.9860954095559,-714.38830758066263,-1264.5266718671564,-576.77404853821815,-638.33767443835472,-444.43078589702475,-636.13370762683223,-108.51782181948717,-5680.8531807104791,0,null,null,null,null,null,"Sundry ",null,{"$f":"IF(SUM($G$242:$AD$242)<>0,$F268*(AC$242/SUM($G$242:$AD$242)),0)","v":-1589.3962260211281},{"$f":"IF(SUM($G$242:$AD$242)<>0,$F268*(AD$242/SUM($G$242:$AD$242)),0)","v":-112.88796112980852},{"$f":"+\"Prorated on Total Operating & Maintenance Expenses - Sch 2.4 L.\"&$D$242","v":"Prorated on Total Operating & Maintenance Expenses - Sch 2.4 L.24"}]
[null,null,"EXPCR9",9,"Building Rental Income",0,{"$f":"$F269*G41/SUM($G$41:$U$41)","v":0},0,0,0,0,0,0,0,0,0,0,0,0,0,0,null,null,null,null,null,"Building Rental Income",null,0,0,{"$f":"+\"Prorated on Production, Transmission & Distribution Plant - Sch.2.2 L.\"&D41","v":"Prorated on Production, Transmission & Distribution Plant - Sch.2.2 L.18"}]
[null,null,null,10,"Tax Refunds",{"$f":"-AllocMisc!J29","v":0},{"$f":"IF(SUM($G$242:$AD$242)<>0,$F270*(G$242/SUM($G$242:$AD$242)),0)","v":0},0,0,0,0,0,0,0,0,0,0,0,0,0,0,null,null,null,null,null,"Tax Refunds",null,{"$f":"IF(SUM($G$242:$AD$242)<>0,$F270*(AC$242/SUM($G$242:$AD$242)),0)","v":0},{"$f":"IF(SUM($G$242:$AD$242)<>0,$F270*(AD$242/SUM($G$242:$AD$242)),0)","v":0},{"$f":"+\"Prorated on Total Operating & Maintenance Expenses - Sch 2.4 L.\"&$D$242","v":"Prorated on Total Operating & Maintenance Expenses - Sch 2.4 L.24"}]
[null,null,null,11,"Suppliers' Discounts",{"$f":"-AllocMisc!J32","v":-3123.515041162515},-369.20256085182154,0,-1097.5383518024125,-229.51991058892045,-315.82876561863128,-89.619845127671965,-62.038984605689123,-109.81415834635831,-50.088272636213681,-55.434587517015018,-38.595305091057412,-55.243190399172278,-9.4239161053765166,-493.33724990380477,0,null,null,null,null,null,"Suppliers' Discounts",null,{"$f":"IF(SUM($G$242:$AD$242)<>0,$F271*(AC$242/SUM($G$242:$AD$242)),0)","v":-138.02651436499272},{"$f":"IF(SUM($G$242:$AD$242)<>0,$F271*(AD$242/SUM($G$242:$AD$242)),0)","v":-9.8034282033781075},{"$f":"+\"Prorated on Total Operating & Maintenance Expenses - Sch 2.4 L.\"&$D$242","v":"Prorated on Total Operating & Maintenance Expenses - Sch 2.4 L.24"}]
[null,null,"EXPCR5",12,"Pole Attachments",-250912,{"$f":"$F272*'Schedule 4.1'!D67","v":0},{"$f":"$F272*'Schedule 4.1'!E67","v":0},{"$f":"$F272*'Schedule 4.1'!G67","v":0},{"$f":"$F272*'Schedule 4.1'!J67","v":0},{"$f":"$F272*'Schedule 4.1'!K67","v":-145114.45337599999},{"$f":"$F272*'Schedule 4.1'!L67","v":-49593.258624000009},{"$f":"$F272*'Schedule 4.1'!M67","v":0},{"$f":"$F272*'Schedule 4.1'!N67","v":0},{"$f":"$F272*'Schedule 4.1'!O67","v":-25685.359615999998},{"$f":"$F272*'Schedule 4.1'!P67","v":-30518.928384000006},{"$f":"$F272*'Schedule 4.1'!Q67","v":0},{"$f":"$F272*'Schedule 4.1'!R67","v":0},{"$f":"$F272*'Schedule 4.1'!S67","v":0},{"$f":"$F272*'Schedule 4.1'!T67","v":0},{"$f":"$F272*'Schedule 4.1'!U67","v":0},null,null,null,null,null,"Pole Attachments",null,0,0,{"$f":"+\"Prorated on Distribution Poles - Sch.4.1 L.\"&'Schedule 4.1'!$A$67","v":"Prorated on Distribution Poles - Sch.4.1 L.37"}]
[null,null,"EXPCR6",13,"Secondary Energy Revenues",0,{"$f":"F273","v":0},0,0,0,0,0,0,0,0,0,0,0,0,0,0,null,null,null,null,null,"Secondary Energy Revenues",null,0,0,"Production - Energy"]
[null,null,"EXPCR7",14,"Wheeling Revenues",0,{"$f":"$F274*'Schedule 4.1'!D$36","v":0},{"$f":"$F274*'Schedule 4.1'!E$36","v":0},{"$f":"$F274*'Schedule 4.1'!G$36","v":0},{"$f":"$F274*'Schedule 4.1'!J$36","v":0},{"$f":"$F274*'Schedule 4.1'!K$36","v":0},{"$f":"$F274*'Schedule 4.1'!L$36","v":0},{"$f":"$F274*'Schedule 4.1'!M$36","v":0},{"$f":"$F274*'Schedule 4.1'!N$36","v":0},{"$f":"$F274*'Schedule 4.1'!O$36","v":0},{"$f":"$F274*'Schedule 4.1'!P$36","v":0},{"$f":"$F274*'Schedule 4.1'!Q$36","v":0},{"$f":"$F274*'Schedule 4.1'!R$36","v":0},{"$f":"$F274*'Schedule 4.1'!S$36","v":0},{"$f":"$F274*'Schedule 4.1'!T$36","v":0},{"$f":"$F274*'Schedule 4.1'!U$36","v":0},null,null,null,null,null,"Wheeling Revenues",null,0,0,{"$f":"+\"Transmission - Demand, Energy ratios Sch.4.1 L.\"&'Schedule 4.1'!A32","v":"Transmission - Demand, Energy ratios Sch.4.1 L.16"}]
[null,null,"EXPCR8",15,"Application Fees",-10120,0,0,0,0,0,0,0,0,0,0,0,0,0,{"$f":"+F275","v":-10120},0,null,null,null,null,null,"Application Fees",null,0,0,"Accounting - Customer"]
[null,null,null,16,"Meter Test Revenues",{"$f":"-AllocMisc!J38","v":0},0,0,0,0,0,0,0,0,0,0,0,{"$f":"F276","v":0},0,0,0,null,null,null,null,null,{"$f":"IF(ISBLANK(E276),\"\",E276)","v":"Meter Test Revenues"},null,0,0,"Meters - Customer"]
[{"$f":"SUM(G277:AD277)-F277","v":0},null,null,17,"    Total Expense Credits",{"$f":"SUM(F268:F276)","v":-300123.26400000358},-4620.6259888424938,0,-13735.858766496858,-2872.4764567643683,-149067.09823056043,-50714.864564537238,-776.42729218635179,-1374.3408302135147,-26312.221937174429,-31212.700645955374,-483.02609098808216,-691.37689802600448,-117.94173792486369,-16294.190430614284,0,null,null,null,null,null,"    Total Expense Credits",null,{"$f":"SUM(AC268:AC276)","v":-1727.4227403861207},{"$f":"SUM(AD268:AD276)","v":-122.69138933318662}]
[null,null,null,null,null,null,null,null,null,null,null,null,null,null,null,null,null,null,null,null,null,null,null,null,null,null,""]
[{"$f":"SUM(G279:AD279)-F279","v":0},null,null,{"$f":"MAX(D276:D278)+NoOne","v":18},"Subtotal Expenses",{"$f":"SUM(F277,F259:F265)","v":18672613.285090804},{"$f":"SUM(G277,G259:G265)","v":2368249.878320822},1020026.9204235119,5969056.2119105486,1560827.3329218505,2065495.3746389989,591758.49399078009,449508.62455642718,795667.62075223541,325372.10279182805,363427.65324048756,265502.59812604339,369480.92284855567,77931.257573633426,1909615.5687716608,0,null,null,null,null,null,"Subtotal Expenses",null,{"$f":"SUM(AC277,AC259:AC265)","v":504836.37327096751},{"$f":"SUM(AD277,AD259:AD265)","v":35856.350952458408}]
[null,null,null,null,null,null,null,null,null,null,null,null,null,null,null,null,null,null,null,null,null,null,null,null,null,null,""]
[null,null,"DISGL",{"$f":"MAX(D278:D280)+NoOne","v":19},"Disposal Gain / Loss",0,{"$f":"IF(SUM($G$99:$U$99)<>0,$F281*(G$99/SUM($G$99:$U$99)),0)","v":0},0,0,0,0,0,0,0,0,0,0,0,0,0,0,null,null,null,null,null,"Disposal Gain / Loss",null,0,0,{"$f":"+\"Prorated on Total Net Book Value - Sch.2.3 L.\"&$D$99","v":"Prorated on Total Net Book Value - Sch.2.3 L.24"}]
[{"$f":"SUM(G282:AD282)-F282","v":0},null,null,{"$f":"MAX(D279:D281)+NoOne","v":20},"Subtotal Revenue Requirement  Ex. Return",{"$f":"SUM(F279,F281)","v":18672613.285090804},{"$f":"SUM(G279,G281)","v":2368249.878320822},1020026.9204235119,5969056.2119105486,1560827.3329218505,2065495.3746389989,591758.49399078009,449508.62455642718,795667.62075223541,325372.10279182805,363427.65324048756,265502.59812604339,369480.92284855567,77931.257573633426,1909615.5687716608,0,null,null,null,null,null,"Subtotal Revenue Requirement  Ex. Return",null,{"$f":"SUM(AC279,AC281)","v":504836.37327096751},{"$f":"SUM(AD279,AD281)","v":35856.350952458408}]
[null,null,null,null,null,null,null,null,null,null,null,null,null,null,null,null,null,null,null,null,null,null,null,null,null,null,""]
[null,null,null,{"$f":"MAX(D281:D283)+NoOne","v":21},"Return on Debt",{"$f":"SUM(G284:U284)","v":5574895.9527416211},{"$f":"+G186","v":324355.91386316693},{"$f":"+H186","v":0},2433849.3375035357,755979.91306211276,813971.11890918238,233816.01786072837,163109.25517986843,288716.93645411613,124358.15329233982,140331.6584592126,110759.44091813966,100983.24838833229,14437.876489226637,70227.082361658118,0,null,null,null,null,null,"Return on Debt",null,0,0,{"$f":"+\"Prorated on Rate Base - Sch.2.6 L.\"&D180","v":"Prorated on Rate Base - Sch.2.6 L.8"}]
[null,null,null,{"$f":"MAX(D282:D284)+NoOne","v":22},"Return on Equity",{"$f":"SUM(G285:U285)","v":2264237.5359467878},{"$f":"+G188","v":131736.77883873932},{"$f":"+H188","v":0},988505.09023484518,307040.36632921145,330593.42743507447,94964.104914910626,66246.635124545792,117262.0494309827,50507.919963433036,56995.540590986937,44984.818678813397,41014.229402838369,5863.9268182563892,28522.648184150352,0,null,null,null,null,null,"Return on Equity",null,0,0,{"$f":"+\"Prorated on Rate Base - Sch.2.6 L.\"&D184","v":"Prorated on Rate Base - Sch.2.6 L.10"}]
[null,null,null,null,null,null,null,null,null,null,null,null,null,null,null,null,null,null,null,null,null,null,null,null,null,null,""]
[{"$f":"SUM(G287:AD287)-F287","v":0},null,null,{"$f":"MAX(D284:D286)+NoOne","v":23},"Total Revenue Requirement",{"$f":"SUM(F279,F284,F281,F285)","v":26511746.773779213},{"$f":"SUM(G279,G284,G281,G285)","v":2824342.571022728},1020026.9204235119,9391410.6396489292,2623847.6123131746,3210059.9209832558,920538.61676641903,678864.51486084145,1201646.6066373342,500238.17604760092,560754.85229068715,421246.85772299644,511478.40063972631,98233.060881116442,2008365.2993174694,0,null,null,null,null,null,"Total Revenue Requirement",null,{"$f":"SUM(AC279,AC284,AC281,AC285)","v":504836.37327096751},{"$f":"SUM(AD279,AD284,AD281,AD285)","v":35856.350952458408}]
[null,null,null,null,null,null,null,null,null,null,null,null,null,null,null,null,null,null,null,null,null,null,null,null,null,null,""]
[]
[]
[]
[]
[]
[]
[]
[]
[]
[null,null,null,null,null,null,null,null,null,null,null,null,null,null,null,null,null,null,null,null,"Schedule 3.1E",null,null,null,null,null,null,null,null,null,null,"Schedule 3.1E"]
[null,null,null,null,null,null,null,null,null,null,null,null,null,null,null,null,null,null,null,null,"Page 1 of 2",null,null,null,null,null,null,null,null,null,null,"Page 2 of 2"]
[null,null,null,{"$f":"D6","v":"NEWFOUNDLAND AND LABRADOR HYDRO"},null,null,null,null,null,null,null,null,null,null,null,null,null,null,null,null,null,null,null,null,{"$f":"Y6","v":"NEWFOUNDLAND & LABRADOR HYDRO"}]
[null,null,null,{"$f":"D7","v":"2019 Test Year Cost of Service Study"},null,null,null,null,null,null,null,null,null,null,null,null,null,null,null,null,null,null,null,null,{"$f":"Y7","v":"2019 Test Year Cost of Service Study"}]
[null,null,null,{"$f":"$B$1","v":"Labrador Interconnected"},null,null,null,null,null,null,null,null,null,null,null,null,null,null,null,null,null,null,null,null,{"$f":"$B$1","v":"Labrador Interconnected"}]
[null,null,null,"Basis of Allocation to Classes of Service",null,null,null,null,null,null,null,null,null,null,null,null,null,null,null,null,null,null,null,null,{"$f":"+D303&\" (CONT'D.)\"","v":"Basis of Allocation to Classes of Service (CONT'D.)"}]
[]
[null,null,null,null,{"$f":"MAX(D305)+NoOne","v":1},2,3,4,5,6,7,8,9,10,11,12,13,14,15,16,17,null,null,null,null,null,{"$f":"MAX(Z305)+NoOne","v":1},null,{"$f":"MAX(U305)+NoOne","v":18},{"$f":"MAX(AC305)+NoOne","v":19}]
[null,null,null,null,null,null,null,null,"","Distribution",null,null,null,null,null,null,null,null,null,null,"Specifically",null,null,null,null,null,null,null,"Revenue Related"]
[null,null,null,"Line",null,"Total","Production","Production","Transmission","Substations","Primary Lines",null,"Line Transformers",null,"Secondary Lines",null,"Services","Meters","Street Lighting","Accounting","Assigned",null,null,null,null,null,null,null,"Municipal","PUB "]
[null,null,null,"No.","Description ","Amount","Demand","Energy","Demand","Demand","Demand","Customer","Demand","Customer","Demand","Customer","Customer","Customer","Customer","Customer","Customer",null,null,null,null,null,null,null,"Tax","Assessment"]
[null,null,null,null,null,null,null,null,null,null,null,null,null,null,null,null,null,null,null,null,null,null,null,null,null,null,null,null,"(Prior Year","(Prior Year"]
[null,null,null," ","Amounts",null,{"$f":"IF(CP_AED_Switch=0,\"(AED kW)\",\"(CP kW)\")","v":"(CP kW)"},"(MWh @ Gen)","(CP kW)","(CP kW)","(CP kW)","(Rural Cust)","(CP kW)","(Rural Cust)","(CP kW)","(Rural Cust)","(Wtd Rural Cust)  ",null,null,"(Rural Cust)",null,null,null,null,null,null,{"$f":"IF(ISBLANK(E310),\"\",E310)","v":"Amounts"},null,"(Rural Revenues)","(Revenues + RSP)"]
[null,null,"LINTCFB",{"$f":"MAX(D308:D310)+NoOne","v":1},"CFB - Goose Bay Secondary","-",0,0,0,0,0,{"$f":"+Customers!D132","v":0},0,{"$f":"+Customers!D132","v":0},0,{"$f":"+Customers!D132","v":0},{"$f":"Customers!F132","v":0},{"$f":"Customers!G132","v":0},0,0,0,null,null,null,null,null,"CFB - Goose Bay Secondary",null,0,0]
[null,null,"LINTIOCF",{"$f":"MAX(D309:D311)+NoOne","v":2},"Labrador Industrial Firm","-",238865.65511261197,1841096.6922695739,220500,0,0,{"$f":"+Customers!D133","v":0},0,0,0,0,{"$f":"Customers!F133","v":0},{"$f":"Customers!G133","v":0},0,0,0,null,null,null,null,null,"Labrador Industrial Firm",null,0,0]
[" ",null,"LINTIOCNF",{"$f":"MAX(D310:D312)+NoOne","v":3},"Labrador Industrial Non-Firm","-",0,0,0,0,0,0,0,{"$f":"Customers!$D134","v":0},0,{"$f":"Customers!$D134","v":0},{"$f":"Customers!F134","v":0},{"$f":"Customers!G134","v":0},0,{"$f":"Customers!$D134","v":0},0,null,null,null,null,null,"Labrador Industrial Non-Firm",null,0,0]
[null,null,null,null,null,null,null,null,null,null,null,null,null,null,null,null,null,null,null,null,null,null,null,null,null,null,"",null,0,0]
[null,null,null,null,"Rural",null,null,null,null,null,null,null,null,null,null,null,null,null,null,null,null,null,null,null,null,null,"Rural"]
[" ",null,"LINT1.1",{"$f":"MAX(D313:D315)+NoOne","v":4},"1.1Domestic ","-",725.08115556671657,2370.4745439559733,669.33186659708872,647.70301836053852,647.70301836053852,{"$f":"Customers!$D135","v":339.5},615,{"$f":"Customers!$D135","v":339.5},615,{"$f":"Customers!$D135","v":339.5},{"$f":"Customers!F135","v":339.5},{"$f":"Customers!G135","v":339.5},0,{"$f":"Customers!$D135","v":339.5},0,null,null,null,null,null,"1.1Domestic ",null,99238.692973780489,99238.692973780489]
[" ",null,"LINT1.1A",5,"1.1A Domestic All Electric ","-",94420.893373522063,350553.26615970291,87161.157509421872,84344.624273857058,84344.624273857058,{"$f":"Customers!$D136","v":9548.5},80086,{"$f":"Customers!$D136","v":9548.5},80086,{"$f":"Customers!$D136","v":9548.5},{"$f":"Customers!F136","v":9548.5},{"$f":"Customers!G136","v":9548.5},null,{"$f":"Customers!$D136","v":9548.5},null,null,null,null,null,null,"1.1A Domestic All Electric ",null,11006553.288681708,11006553.288681708]
[" ",null,"LINT2.1",6,"2.1GS 0-10 kW","-",1492.6060860934363,7353.4453124897627,1377.8441351413242,1333.3203597470599,1333.3203597470599,{"$f":"Customers!$D137","v":517.5},1266,{"$f":"Customers!$D137","v":517.5},1266,{"$f":"Customers!$D137","v":517.5},{"$f":"Customers!F137","v":971.59552730381972},{"$f":"Customers!G137","v":971.59552730381972},0,{"$f":"Customers!$D137","v":517.5},0,null,null,null,null,null,"2.1GS 0-10 kW",null,404753.83292041847,404753.83292041847]
[" ",null,"LINT2.2",7,"2.2GS 10-100 kW ","-",17063.925001074505,79546.509082105491,15751.9316075937,15242.92231762029,15242.92231762029,{"$f":"Customers!$D138","v":678.5},14384.825894362222,{"$f":"Customers!$D138","v":678.5},14384.825894362222,{"$f":"Customers!$D138","v":678.5},{"$f":"Customers!F138","v":3236.5299372311983},{"$f":"Customers!G138","v":3236.5299372311983},0,{"$f":"Customers!$D138","v":678.5},0,null,null,null,null,null,"2.2GS 10-100 kW ",null,2234076.995342846,2234076.995342846]
[" ",null,"LINT2.3",8,"2.3GS 110-1,000 kVa","-",29472.151102501572,145286.92523683928,27206.126870930275,26326.985717547992,26326.985717547992,{"$f":"Customers!$D139","v":184.75},24597.460926195967,{"$f":"Customers!$D139","v":184.75},24597.460926195967,{"$f":"Customers!$D139","v":184.75},{"$f":"Customers!F139","v":1555.4899797987366},{"$f":"Customers!G139","v":1555.4899797987366},0,{"$f":"Customers!$D139","v":184.75},0,null,null,null,null,null,"2.3GS 110-1,000 kVa",null,3452666.4564297022,3452666.4564297022]
[" ",null,"LINT2.4",9,"2.4GS Over 1,000 kVa","-",28575.447655682863,143658.67825442515,26378.368230072887,25525.9753415097,25525.9753415097,{"$f":"Customers!$D140","v":6},16416.828230029645,{"$f":"Customers!$D140","v":6},16416.828230029645,{"$f":"Customers!$D140","v":6},{"$f":"Customers!F140","v":50.516589330405516},{"$f":"Customers!G140","v":50.516589330405516},0,{"$f":"Customers!$D140","v":6},0,null,null,null,null,null,"2.4GS Over 1,000 kVa",null,2608074.5004794607,2608074.5004794607]
[" ",null,"LINT4.1",10,"4.1Street and Area Lighting","-",508.14630577114605,2021.7426442237197,469.07647886722799,453.9187006721823,453.9187006721823,{"$f":"Customers!$D141","v":384.5},431,{"$f":"Customers!$D141","v":384.5},431,{"$f":"Customers!$D141","v":384.5},{"$f":"Customers!F141","v":0},{"$f":"Customers!G141","v":0},1,{"$f":"Customers!$D141","v":384.5},0,null,null,null,null,null,"4.1Street and Area Lighting",null,431030.33519999991,431030.33519999991]
[null,null,null,11,"Subtotal Rural",null,{"$f":"SUM(G316:G322)","v":172258.25068021228},{"$f":"SUM(H316:H322)","v":730791.04123374238},159013.83669862439,153875.44972931483,153875.44972931483,11659.25,137797.11505058783,11659.25,137797.11505058783,11659.25,15702.13203366416,15702.13203366416,1,11659.25,0,null,null,null,null,null,"Subtotal Rural",null,{"$f":"SUM(AC316:AC322)","v":20236394.102027915},{"$f":"SUM(AD316:AD322)","v":20236394.102027915}]
[null,null,null,12,"Total Labrador Interconnected",null,{"$f":"SUM(G311:G313,G323)","v":411123.90579282423},{"$f":"SUM(H311:H313,H323)","v":2571887.7335033165},379513.83669862442,153875.44972931483,153875.44972931483,11659.25,137797.11505058783,11659.25,137797.11505058783,11659.25,15702.13203366416,15702.13203366416,1,11659.25,{"$f":"SUM(U311:U313,U323)","v":0},null,null,null,null,null,"Total Labrador Interconnected",null,{"$f":"SUM(AC311:AC314,AC323)","v":20236394.102027915},{"$f":"SUM(AD311:AD314,AD323)","v":20236394.102027915}]
[null,null,null,null,null,null,null,null,null,null,null,null,null,null,null,null,null,null,null,null,null,null,null,null,null,null,""]
[null,null,null,null,"Ratios",null,null,null,null,null,null,null,null,null,null,null,null,null,null,null,null,null,null,null,null,null,"Ratios"]
[null,null,null,{"$f":"MAX(D324:D326)+NoOne","v":13},"CFB - Goose Bay Secondary","-",{"$f":"IF(G$324<>0,G311/G$324,0)","v":0},0,0,0,0,0,0,0,0,0,0,0,0,0,0,null,null,null,null,null,"CFB - Goose Bay Secondary",null,{"$f":"IF(AC$324<>0,AC311/AC$324,0)","v":0},0]
[null,null,null,{"$f":"MAX(D325:D327)+NoOne","v":14},"Labrador Industrial Firm","-",{"$f":"IF(G$324<>0,G312/G$324,0)","v":0.58100648429085133},0.71585422189549075,0.58100648429085122,{"$f":"IF(J$324<>0,J312/J$324,0)","v":0},0,0,0,0,0,0,0,0,0,0,0,null,null,null,null,null,"Labrador Industrial Firm",null,0,0]
[null,null,null,{"$f":"MAX(D326:D328)+NoOne","v":15},"Labrador Industrial Non-Firm","-",{"$f":"IF(G$324<>0,G313/G$324,0)","v":0},0,0,0,0,0,0,0,0,0,0,0,0,0,0,null,null,null,null,null,"Labrador Industrial Non-Firm",null,0,0]
[null,null,null,null,null,null,null,null,null,null,null,null,null,null,null,null,null,null,null,null,null,null,null,null,null,null,"",null,0,0]
[null,null,null,null,"Rural",null,null,null,null,null,null,null,null,null,null,null,null,null,null,null,null,null,null,null,null,null,"Rural"]
[null,null,null,{"$f":"MAX(D329:D331)+NoOne","v":16},"1.1Domestic ","-",{"$f":"IF(G$324<>0,G316/G$324,0)","v":1.7636560300925517E-3},9.2168663238150492E-4,1.7636560300925512E-3,4.209268076875973E-3,4.209268076875973E-3,2.911851105345541E-2,4.4630832784432551E-3,2.911851105345541E-2,4.4630832784432551E-3,2.911851105345541E-2,2.1621267689772204E-2,2.1621267689772204E-2,0,2.911851105345541E-2,0,null,null,null,null,null,"1.1Domestic ",null,{"$f":"IF(AC$324<>0,AC316/AC$324,0)","v":4.9039711558016971E-3},4.9039711558016971E-3]
[null,null,null,17,"1.1A Domestic All Electric ","-",{"$f":"IF(G$324<>0,G317/G$324,0)","v":0.22966529565201968},0.13630193168742794,0.22966529565201962,0.54813568000762469,0.54813568000762469,0.81896348392906915,0.58118778445106756,0.81896348392906915,0.58118778445106756,0.81896348392906915,0.60810213412603797,0.60810213412603797,0,0.81896348392906915,0,null,null,null,null,null,"1.1A Domestic All Electric ",null,0.54389893936581946,0.54389893936581946]
[null,null,null,18,"2.1GS 0-10 kW","-",{"$f":"IF(G$324<>0,G318/G$324,0)","v":3.6305504619466192E-3},2.8591626363384109E-3,3.6305504619466179E-3,8.6649323338617596E-3,8.6649323338617596E-3,4.4385359264103606E-2,9.1874202122100186E-3,4.4385359264103606E-2,9.1874202122100186E-3,4.4385359264103606E-2,6.1876662686366019E-2,6.1876662686366019E-2,0,4.4385359264103606E-2,0,null,null,null,null,null,"2.1GS 0-10 kW",null,2.0001282386562021E-2,2.0001282386562021E-2]
[null,null,null,19,"2.2GS 10-100 kW ","-",{"$f":"IF(G$324<>0,G319/G$324,0)","v":4.1505552853142648E-2},3.0929230714806747E-2,4.1505552853142641E-2,9.90601317132421E-2,9.90601317132421E-2,5.819413770182473E-2,0.10439134294706598,5.819413770182473E-2,0.10439134294706598,5.819413770182473E-2,0.20612041283899077,0.20612041283899077,0,5.819413770182473E-2,0,null,null,null,null,null,"2.2GS 10-100 kW ",null,0.11039896653915068,0.11039896653915068]
[null,null,null,20,"2.3GS 110-1,000 kVa","-",{"$f":"IF(G$324<>0,G320/G$324,0)","v":7.1686785144898235E-2},5.6490383831387374E-2,7.1686785144898207E-2,0.17109282711348875,0.17109282711348875,1.584578767931042E-2,0.17850490496238466,1.584578767931042E-2,0.17850490496238466,1.584578767931042E-2,9.9062342391713812E-2,9.9062342391713812E-2,0,1.584578767931042E-2,0,null,null,null,null,null,"2.3GS 110-1,000 kVa",null,0.17061668393203047,0.17061668393203047]
[null,null,null,21,"2.4GS Over 1,000 kVa","-",{"$f":"IF(G$324<>0,G321/G$324,0)","v":6.9505682479293132E-2},5.5857289718762096E-2,6.9505682479293118E-2,0.16588725093192527,0.16588725093192527,5.1461286103308534E-4,0.11913767733092763,5.1461286103308534E-4,0.11913767733092763,5.1461286103308534E-4,3.2171802671192577E-3,3.2171802671192577E-3,0,5.1461286103308534E-4,0,null,null,null,null,null,"2.4GS Over 1,000 kVa",null,0.12888039674114185,0.12888039674114185]
[null,null,null,22,"4.1Street and Area Lighting","-",{"$f":"IF(G$324<>0,G322/G$324,0)","v":1.2359930877559183E-3},7.8609288340505728E-4,1.2359930877559179E-3,2.9499098229813733E-3,2.9499098229813733E-3,3.2978107511203551E-2,3.1277868179008829E-3,3.2978107511203551E-2,3.1277868179008829E-3,3.2978107511203551E-2,0,0,1,3.2978107511203551E-2,0,null,null,null,null,null,"4.1Street and Area Lighting",null,2.1299759879493837E-2,2.1299759879493837E-2]
[null,null,null,23,"Subtotal Rural",null,{"$f":"SUM(G332:G338)","v":0.41899351570914878},{"$f":"SUM(H332:H338)","v":0.28414577810450908},0.41899351570914867,0.99999999999999989,0.99999999999999989,0.99999999999999989,1,0.99999999999999989,1,0.99999999999999989,1.0000000000000002,1.0000000000000002,1,0.99999999999999989,0,null,null,null,null,null,"Subtotal Rural",null,{"$f":"SUM(AC332:AC338)","v":1},{"$f":"SUM(AD332:AD338)","v":1}]
[null,null,null,24,"Total Labrador Interconnected",null,{"$f":"SUM(G327:G329,G332:G338)","v":1},{"$f":"SUM(H327:H329,H332:H338)","v":0.99999999999999989},0.99999999999999989,0.99999999999999989,0.99999999999999989,0.99999999999999989,1,0.99999999999999989,1,0.99999999999999989,1.0000000000000002,1.0000000000000002,1,0.99999999999999989,{"$f":"SUM(U327:U338)","v":0},null,null,null,null,null,"Total Labrador Interconnected",null,{"$f":"SUM(AC327:AC338)","v":1},{"$f":"SUM(AD327:AD338)","v":1}]
[null,null,null,null,null,null,null,null,null,null,null,null,null,null,null,null,null,null,null,null,null,null,null,null,null,null,""]
[null,null,null,null,"Ratios Excluding Labrador Industrial",null,null,null,null,null,null,null,null,null,null,null,null,null,null,null,null,null,null,null,null,null,"Ratios Excluding Labrador Industrial"]
[null,null,null,{"$f":"MAX(D340:D342)+NoOne","v":25},"CFB - Goose Bay Secondary",0,{"$f":"IF(SUM(G$311,G$314,G$323)<>0,G311/SUM(G$311,G$314,G$323),0)","v":0},{"$f":"IF(SUM(H$311,H$314,H$323)<>0,H311/SUM(H$311,H$314,H$323),0)","v":0},0,0,0,0,0,0,0,0,0,0,0,0,{"$f":"IF(SUM(U$311,U$323)<>0,U311/SUM(U$311,U$323),0)","v":0},null,null,null,null,null,"CFB - Goose Bay Secondary",null,{"$f":"IF(SUM(AC$311,AC$314,AC$323)<>0,AC311/SUM(AC$311,AC$314,AC$323),0)","v":0},{"$f":"IF(SUM(AD$311,AD$314,AD$323)<>0,AD311/SUM(AD$311,AD$314,AD$323),0)","v":0}]
[null,null,null,null,null,null,null,null,null,null,null,null,null,null,null,null,null,null,null,null,null,null,null,null,null,null,{"$f":"IF(ISBLANK(E344),\"\",E344)","v":""},null,{"$f":"IF(SUM(AC$311,AC$314,AC$323)<>0,AC314/SUM(AC$311,AC$314,AC$323),0)","v":0},{"$f":"IF(SUM(AD$311,AD$314,AD$323)<>0,AD314/SUM(AD$311,AD$314,AD$323),0)","v":0}]
[null,null,null,null,"Rural",null,null,null,null,null,null,null,null,null,null,null,null,null,null,null,null,null,null,null,null,null,"Rural"]
[null,null,null,{"$f":"MAX(D343:D345)+NoOne","v":26},"1.1Domestic ",0,{"$f":"IF(SUM(G$311,G$314,G$323)<>0,G316/SUM(G$311,G$314,G$323),0)","v":4.2092680768759739E-3},3.2437104592224751E-3,4.209268076875973E-3,4.209268076875973E-3,4.209268076875973E-3,2.911851105345541E-2,4.4630832784432551E-3,2.911851105345541E-2,4.4630832784432551E-3,2.911851105345541E-2,2.1621267689772204E-2,2.1621267689772204E-2,0,2.911851105345541E-2,{"$f":"IF(SUM(U$311,U$323)<>0,U316/SUM(U$311,U$323),0)","v":0},null,null,null,null,null,"1.1Domestic ",null,{"$f":"IF(SUM(AC$311,AC$314,AC$323)<>0,AC316/SUM(AC$311,AC$314,AC$323),0)","v":4.9039711558016971E-3},4.9039711558016971E-3]
[null,null,null,27,"1.1A Domestic All Electric ",0,{"$f":"IF(SUM(G$311,G$314,G$323)<>0,G317/SUM(G$311,G$314,G$323),0)","v":0.5481356800076248},0.47969015269794335,0.54813568000762469,0.54813568000762469,0.54813568000762469,0.81896348392906915,0.58118778445106756,0.81896348392906915,0.58118778445106756,0.81896348392906915,0.60810213412603797,0.60810213412603797,0,0.81896348392906915,0,null,null,null,null,null,"1.1A Domestic All Electric ",null,0.54389893936581946,0.54389893936581946]
[null,null,null,28,"2.1GS 0-10 kW",0,{"$f":"IF(SUM(G$311,G$314,G$323)<>0,G318/SUM(G$311,G$314,G$323),0)","v":8.6649323338617613E-3},1.0062309056328147E-2,8.6649323338617596E-3,8.6649323338617596E-3,8.6649323338617596E-3,4.4385359264103606E-2,9.1874202122100186E-3,4.4385359264103606E-2,9.1874202122100186E-3,4.4385359264103606E-2,6.1876662686366019E-2,6.1876662686366019E-2,0,4.4385359264103606E-2,0,null,null,null,null,null,"2.1GS 0-10 kW",null,2.0001282386562021E-2,2.0001282386562021E-2]
[null,null,null,29,"2.2GS 10-100 kW ",0,{"$f":"IF(SUM(G$311,G$314,G$323)<>0,G319/SUM(G$311,G$314,G$323),0)","v":9.9060131713242114E-2},0.10884986896912802,9.9060131713242086E-2,9.90601317132421E-2,9.90601317132421E-2,5.819413770182473E-2,0.10439134294706598,5.819413770182473E-2,0.10439134294706598,5.819413770182473E-2,0.20612041283899077,0.20612041283899077,0,5.819413770182473E-2,0,null,null,null,null,null,"2.2GS 10-100 kW ",null,0.11039896653915068,0.11039896653915068]
[null,null,null,30,"2.3GS 110-1,000 kVa",0,{"$f":"IF(SUM(G$311,G$314,G$323)<>0,G320/SUM(G$311,G$314,G$323),0)","v":0.17109282711348878},0.19880775357010635,0.17109282711348875,0.17109282711348875,0.17109282711348875,1.584578767931042E-2,0.17850490496238466,1.584578767931042E-2,0.17850490496238466,1.584578767931042E-2,9.9062342391713812E-2,9.9062342391713812E-2,0,1.584578767931042E-2,0,null,null,null,null,null,"2.3GS 110-1,000 kVa",null,0.17061668393203047,0.17061668393203047]
[null,null,null,31,"2.4GS Over 1,000 kVa",0,{"$f":"IF(SUM(G$311,G$314,G$323)<>0,G321/SUM(G$311,G$314,G$323),0)","v":0.16588725093192527},0.19657969261896868,0.16588725093192525,0.16588725093192527,0.16588725093192527,5.1461286103308534E-4,0.11913767733092763,5.1461286103308534E-4,0.11913767733092763,5.1461286103308534E-4,3.2171802671192577E-3,3.2171802671192577E-3,0,5.1461286103308534E-4,0,null,null,null,null,null,"2.4GS Over 1,000 kVa",null,0.12888039674114185,0.12888039674114185]
[null,null,null,32,"4.1Street and Area Lighting",0,{"$f":"IF(SUM(G$311,G$314,G$323)<>0,G322/SUM(G$311,G$314,G$323),0)","v":2.9499098229813733E-3},2.7665126283028261E-3,2.9499098229813728E-3,2.9499098229813733E-3,2.9499098229813733E-3,3.2978107511203551E-2,3.1277868179008829E-3,3.2978107511203551E-2,3.1277868179008829E-3,3.2978107511203551E-2,0,0,1,3.2978107511203551E-2,0,null,null,null,null,null,"4.1Street and Area Lighting",null,2.1299759879493837E-2,2.1299759879493837E-2]
[null,null,null,33,"Subtotal Rural",null,{"$f":"SUM(G346:G352)","v":1},{"$f":"SUM(H346:H352)","v":0.99999999999999989},{"$f":"SUM(I346:I352)","v":0.99999999999999989},0.99999999999999989,{"$f":"SUM(K346:K352)","v":0.99999999999999989},0.99999999999999989,1,0.99999999999999989,1,0.99999999999999989,1.0000000000000002,1.0000000000000002,1,0.99999999999999989,0,null,null,null,null,null,"Subtotal Rural",null,{"$f":"SUM(AC346:AC352)","v":1},{"$f":"SUM(AD346:AD352)","v":1}]
[null,null,null,34,"Total Labrador Interconnected",null,{"$f":"SUM(G343:G352)","v":1},{"$f":"SUM(H343:H352)","v":0.99999999999999989},{"$f":"SUM(I343:I352)","v":0.99999999999999989},{"$f":"SUM(J343:J352)","v":0.99999999999999989},{"$f":"SUM(K343:K352)","v":0.99999999999999989},0.99999999999999989,1,0.99999999999999989,1,0.99999999999999989,1.0000000000000002,1.0000000000000002,1,0.99999999999999989,0,null,null,null,null,null,"Total Labrador Interconnected",null,{"$f":"SUM(AC343:AC352)","v":1},{"$f":"SUM(AD343:AD352)","v":1}]
[]
[null,null,null,null,null,null,null,null,null,null,null,null,null,null,null,null,null,null,null,null,"Schedule 3.2E",null,null,null,null,null,null,null,null,null,null,"Schedule 3.2E"]
[null,null,null,null,null,null,null,null,null,null,null,null,null,null,null,null,null,null,null,null,"Page 1 of 4",null,null,null,null,null,null,null,null,null,null,"Page 2 of 4"]
[null,null,null,{"$f":"$D$6","v":"NEWFOUNDLAND AND LABRADOR HYDRO"},null,null,null,null,null,null,null,null,null,null,null,null,null,null,null,null,null,null,null,null,{"$f":"$D$6","v":"NEWFOUNDLAND AND LABRADOR HYDRO"}]
[null,null,null,{"$f":"$D$7","v":"2019 Test Year Cost of Service Study"},null,null,null,null,null,null,null,null,null,null,null,null,null,null,null,null,null,null,null,null,{"$f":"$D$7","v":"2019 Test Year Cost of Service Study"}]
[null,null,null,{"$f":"$B$1","v":"Labrador Interconnected"},null,null,null,null,null,null,null,null,null,null,null,null,null,null,null,null,null,null,null,null,{"$f":"$B$1","v":"Labrador Interconnected"}]
[null,null,null,"Allocation of Functionalized Amounts to Classes of Service",null,null,null,null,null,null,null,null,null,null,null,null,null,null,null,null,null,null,null,null,{"$f":"+D361&\" (CONT'D.)\"","v":"Allocation of Functionalized Amounts to Classes of Service (CONT'D.)"}]
[null,null,null,null,{"$f":"MAX(D362)+NoOne","v":1},2,3,4,5,6,7,8,9,10,11,12,13,14,15,16,17,null,null,null,null,null,{"$f":"MAX(Z362)+NoOne","v":1},null,{"$f":"MAX(U362)+NoOne","v":18},{"$f":"MAX(AC362)+NoOne","v":19}]
[null,null,null,null,null,null,null,null,"","Distribution",null,null,null,null,null,null,null,null,null,null,"Specifically",null,null,null,null,null,null,null,"Revenue Related"]
[null,null,null,"Line",null,"Total","Production","Production","Transmission","Substations","Primary Lines",null,"Line Transformers",null,"Secondary Lines",null,"Services","Meters","Street Lighting","Accounting","Assigned",null,null,null,null,null,null,null,"Municipal","PUB "]
[null,null,null,"No.","Description ","Amount","Demand","Energy","Demand","Demand","Demand","Customer","Demand","Customer","Demand","Customer","Customer","Customer","Customer","Customer","Customer",null,null,null,null,null,"Description",null,"Tax","Assessment","Basis of Proration"]
[null,null,null,null,"Allocated Rev Reqmt Excl Return","($)","($)","($)","($)","($)","($)","($)","($)","($)","($)","($)","($)","($)","($)","($)","($)",null,null,null,null,null,{"$f":"IF(ISBLANK(E366),\"\",E366)","v":"Allocated Rev Reqmt Excl Return"},null,"($)","($)"]
[null,null,null,{"$f":"MAX(D364:D366)+NoOne","v":1},"CFB - Goose Bay Secondary",{"$f":"SUM(G367:AD367)","v":0},{"$f":"IF(G$324<>0,(G$282/G$324)*G$311,0)","v":0},{"$f":"IF(H$324<>0,(H$343*H$287),0)","v":0},0,0,0,0,0,0,0,0,0,0,0,0,{"$f":"R516","v":0},null,null,null,null,null,{"$f":"IF(ISBLANK(E367),\"\",E367)","v":"CFB - Goose Bay Secondary"},null,{"$f":"IF(AC$324<>0,(AC$282/AC$324)*AC$311,0)","v":0},{"$f":"IF(AD$324<>0,(AD$282/AD$324)*AD$311,0)","v":0}]
[null,null,null,{"$f":"MAX(D365:D367)+NoOne","v":2},"Labrador Industrial Firm",{"$f":"SUM(G368:AD368)","v":4606787.0569835771},{"$f":"IF(G$324<>0,(G$282/G$324)*G$312,0)-$G$263*$G$328","v":1138726.6927669626},0,{"$f":"IF(I$324<>0,(I$282/I$324)*I$312,0)","v":3468060.364216614},0,0,0,0,0,0,0,0,0,0,0,0,null,null,null,null,null,{"$f":"IF(ISBLANK(E368),\"\",E368)","v":"Labrador Industrial Firm"},null,{"$f":"IF(AC$324<>0,(AC$282/AC$324)*AC$312,0)","v":0},{"$f":"IF(AD$324<>0,(AD$282/AD$324)*AD$312,0)","v":0}]
[null,null,null,{"$f":"MAX(D366:D368)+NoOne","v":3},"Labrador Industrial Non-Firm",{"$f":"SUM(G369:AD369)","v":0},{"$f":"IF(G$324<>0,(G$282/G$324)*G$313,0)","v":0},0,0,0,0,0,0,0,0,0,0,0,0,0,0,null,null,null,null,null,{"$f":"IF(ISBLANK(E369),\"\",E369)","v":"Labrador Industrial Non-Firm"},null,{"$f":"IF(AC$324<>0,(AC$282/AC$324)*AC$313,0)","v":0},{"$f":"IF(AD$324<>0,(AD$282/AD$324)*AD$313,0)","v":0}]
[null,null,null,null,null,null,null,null,null,null,null,null,null,null,null,null,null,null,null,null,null,null,null,null,null,null,{"$f":"IF(ISBLANK(E370),\"\",E370)","v":""},null,{"$f":"IF(AC$324<>0,(AC$282/AC$324)*AC$314,0)","v":0},{"$f":"IF(AD$324<>0,(AD$282/AD$324)*AD$314,0)","v":0}]
[null,null,null,null,"Rural:",null,null,null,null,null,null,null,null,null,null,null,null,null,null,null,null,null,null,null,null,null,"Rural:"]
[null,null,null,{"$f":"MAX(D369:D371)+NoOne","v":4},"1.1Domestic ",{"$f":"SUM(G372:AD372)","v":160702.05534616587},{"$f":"IF(G$324<>0,(G$282/G$324)*G$316,0)+$G$263*$G$328*G346","v":5175.3926947307154},{"$f":"IF(H$324<>0,(H$346*H$287),0)","v":3308.6719904662368},{"$f":"IF(I$324<>0,(I$282/I$324)*I$316,0)","v":10527.36198209744},6569.9406659834121,8694.2237434029175,17231.126248246659,2006.1944257738173,23168.656409750532,1452.1627912421277,10582.472138014497,5740.5027464131963,7988.6459391726921,0,55605.162047128142,0,null,null,null,null,null,"1.1Domestic ",null,{"$f":"IF(AC$324<>0,(AC$282/AC$324)*AC$316,0)","v":2475.7030129203636},{"$f":"IF(AD$324<>0,(AD$282/AD$324)*AD$316,0)","v":175.83851082315874}]
[null,null,null,5,"1.1A Domestic All Electric ",8650203.2869739495,{"$f":"IF(G$324<>0,(G$282/G$324)*G$317,0)+$G$263*$G$328*G347","v":673945.52739870583},{"$f":"IF(H$324<>0,(H$347*H$287),0)","v":489296.86921396735},{"$f":"IF(I$324<>0,(I$282/I$324)*I$317,0)","v":1370885.0596719605},855545.15150560578,1132171.7117303512,484628.59788330842,261248.92159759664,651622.72674080404,189102.29154376755,297633.97705399536,161452.69653645481,224682.13770306465,0,1563905.4191664304,0,null,null,null,null,null,"1.1A Domestic All Electric ",null,{"$f":"IF(AC$324<>0,(AC$282/AC$324)*AC$317,0)","v":274579.96797536616},{"$f":"IF(AD$324<>0,(AD$282/AD$324)*AD$317,0)","v":19502.23125257072}]
[null,null,null,6,"2.1GS 0-10 kW",293705.97243801563,{"$f":"IF(G$324<>0,(G$282/G$324)*G$318,0)+$G$263*$G$328*G348","v":10653.735205738352},{"$f":"IF(H$324<>0,(H$348*H$287),0)","v":10263.826119076013},{"$f":"IF(I$324<>0,(I$282/I$324)*I$318,0)","v":21670.959787537173},13524.463224609757,17897.377657151374,26265.413353365671,4129.8246228124435,35315.993201902507,2989.3302336789166,16130.866955589108,16428.414706598982,22862.246432147305,0,84758.973076255716,0,null,null,null,null,null,"2.1GS 0-10 kW",null,{"$f":"IF(AC$324<>0,(AC$282/AC$324)*AC$318,0)","v":10097.374860800452},{"$f":"IF(AD$324<>0,(AD$282/AD$324)*AD$318,0)","v":717.17300075179264}]
[null,null,null,7,"2.2GS 10-100 kW ",1324283.1883179289,{"$f":"IF(G$324<>0,(G$282/G$324)*G$319,0)+$G$263*$G$328*G349","v":121796.72870545034},{"$f":"IF(H$324<>0,(H$349*H$287),0)","v":111029.79663308244},{"$f":"IF(I$324<>0,(I$282/I$324)*I$319,0)","v":247748.97808683268},154615.76118086689,204608.24386483157,34436.875285523878,46924.808983733914,46303.191086938838,33966.030767949727,21149.35889732794,54725.505135564723,76157.560353675581,0,111128.43136664639,0,null,null,null,null,null,"2.2GS 10-100 kW ",null,{"$f":"IF(AC$324<>0,(AC$282/AC$324)*AC$319,0)","v":55733.413880487722},{"$f":"IF(AD$324<>0,(AD$282/AD$324)*AD$319,0)","v":3958.5040890164996}]
[null,null,null,8,"2.3GS 110-1,000 kVa",1812969.2978022934,{"$f":"IF(G$324<>0,(G$282/G$324)*G$320,0)+$G$263*$G$328*G350","v":210362.59781799247},{"$f":"IF(H$324<>0,(H$350*H$287),0)","v":202789.26063043202},{"$f":"IF(I$324<>0,(I$282/I$324)*I$320,0)","v":427902.45018105151},267046.36102560593,353391.44303682091,9376.8794532063912,80239.494306217282,12607.980181742007,58080.516286266517,5758.7974300388169,26301.309281451708,36601.645686430013,0,30259.36285186134,0,null,null,null,null,null,"2.3GS 110-1,000 kVa",null,{"$f":"IF(AC$324<>0,(AC$282/AC$324)*AC$320,0)","v":86133.507935765214},{"$f":"IF(AD$324<>0,(AD$282/AD$324)*AD$320,0)","v":6117.6916974115557}]
[null,null,null,9,"2.4GS Over 1,000 kVa",1586851.5943333847,{"$f":"IF(G$324<>0,(G$282/G$324)*G$321,0)+$G$263*$G$328*G351","v":203962.22120859323},{"$f":"IF(H$324<>0,(H$351*H$287),0)","v":200516.57847992721},{"$f":"IF(I$324<>0,(I$282/I$324)*I$321,0)","v":414883.32576610678},258921.35543781467,342639.34951147059,304.5265316332252,53553.413469872714,409.46079074669569,38764.076594898223,187.02454441262734,854.16971956000134,1188.6867340653862,0,982.71273131890689,0,null,null,null,null,null,"2.4GS Over 1,000 kVa",null,{"$f":"IF(AC$324<>0,(AC$282/AC$324)*AC$321,0)","v":65063.512076521467},{"$f":"IF(AD$324<>0,(AD$282/AD$324)*AD$321,0)","v":4621.1807364424594}]
[null,null,null,10,"4.1Street and Area Lighting",237110.83289549415,{"$f":"IF(G$324<>0,(G$282/G$324)*G$322,0)+$G$263*$G$328*G352","v":3626.9825226486801},{"$f":"IF(H$324<>0,(H$352*H$287),0)","v":2821.9173565604874},{"$f":"IF(I$324<>0,(I$282/I$324)*I$322,0)","v":7377.7122183479623},4604.2998813639852,6093.0250949701749,19515.075235495846,1405.96715042035,26239.612340350752,1017.6945740249708,11985.156221109202,0,0,77931.257573633426,62975.507532019947,0,null,null,null,null,null,"4.1Street and Area Lighting",null,{"$f":"IF(AC$324<>0,(AC$282/AC$324)*AC$322,0)","v":10752.893529106128},{"$f":"IF(AD$324<>0,(AD$282/AD$324)*AD$322,0)","v":763.7316654422242}]
[{"$f":"SUM(G379:AD379)-F379","v":0},null,null,11,"Subtotal Rural",14065826.228107229,{"$f":"SUM(G372:G378)","v":1229523.1855538595},{"$f":"SUM(H372:H378)","v":1020026.9204235119},2500995.8476939336,1560827.3329218503,2065495.3746389986,591758.49399077997,449508.62455642724,795667.62075223541,325372.1027918281,363427.65324048756,265502.59812604339,369480.92284855561,77931.257573633426,1909615.568771661,{"$f":"SUM(U372:U378)","v":0},null,null,null,null,null,"Subtotal Rural",null,{"$f":"SUM(AC372:AC378)","v":504836.37327096751},{"$f":"SUM(AD372:AD378)","v":35856.350952458415}]
[{"$f":"SUM(G380:AD380)-F380","v":0},null,null,12,"      Total",{"$f":"SUM(F367:F378)","v":18672613.285090808},{"$f":"SUM(G367:G378)","v":2368249.8783208225},{"$f":"SUM(H367:H378)","v":1020026.9204235119},5969056.2119105486,1560827.3329218503,2065495.3746389986,591758.49399077997,449508.62455642724,795667.62075223541,325372.1027918281,363427.65324048756,265502.59812604339,369480.92284855561,77931.257573633426,1909615.568771661,{"$f":"SUM(U367:U378)","v":0},null,null,null,null,null,"      Total",null,{"$f":"SUM(AC367:AC378)","v":504836.37327096751},{"$f":"SUM(AD367:AD378)","v":35856.350952458415}]
[null,null,null,null,"Allocated Return on Debt",null,null,null,null,null,null,null,null,null,null,null,null,null,null,null,null,null,null,null,null,null,"Allocated Return on Debt"]
[null,null,null,{"$f":"MAX(D379:D381)+NoOne","v":13},"CFB - Goose Bay Secondary",{"$f":"SUM(G382:AD382)","v":0},{"$f":"IF(G$324<>0,(G$284/G$324)*G$311,0)","v":0},0,0,0,0,0,0,0,0,0,0,0,0,0,{"$f":"S516","v":0},null,null,null,null,null,"CFB - Goose Bay Secondary",null,{"$f":"IF(AC$324<>0,(AC$284/AC$324)*AC$311,0)","v":0},{"$f":"IF(AD$324<>0,(AD$284/AD$324)*AD$311,0)","v":0}]
[null,null,null,{"$f":"MAX(D380:D382)+NoOne","v":14},"Labrador Industrial Firm",{"$f":"SUM(G383:AD383)","v":1602535.1360491314},{"$f":"IF(G$324<>0,(G$284/G$324)*G$312,0)","v":188452.88917258481},0,1414082.2468765466,0,0,0,0,0,0,0,0,0,0,0,0,null,null,null,null,null,"Labrador Industrial Firm",null,{"$f":"IF(AC$324<>0,(AC$284/AC$324)*AC$312,0)","v":0},{"$f":"IF(AD$324<>0,(AD$284/AD$324)*AD$312,0)","v":0}]
[null,null,null,{"$f":"MAX(D381:D383)+NoOne","v":15},"Labrador Industrial Non-Firm",{"$f":"SUM(G384:AD384)","v":0},{"$f":"IF(G$324<>0,(G$284/G$324)*G$313,0)","v":0},0,0,0,0,0,0,0,0,0,0,0,0,0,0,null,null,null,null,null,"Labrador Industrial Non-Firm",null,{"$f":"IF(AC$324<>0,(AC$284/AC$324)*AC$313,0)","v":0},{"$f":"IF(AD$324<>0,(AD$284/AD$324)*AD$313,0)","v":0}]
[null,null,null,{"$f":"+D384+1","v":16},"MFP Construction",{"$f":"SUM(G385:AD385)","v":0},{"$f":"IF(G$324<>0,(G$284/G$324)*G$314,0)","v":0},0,0,0,0,0,0,0,0,0,0,0,0,0,{"$f":"S518","v":0},null,null,null,null,null,{"$f":"IF(ISBLANK(E385),\"\",E385)","v":"MFP Construction"},null,{"$f":"IF(AC$324<>0,(AC$284/AC$324)*AC$314,0)","v":0},{"$f":"IF(AD$324<>0,(AD$284/AD$324)*AD$314,0)","v":0}]
[null,null,null,null,"Rural:",null,null,null,null,null,null,null,null,null,null,null,null,null,null,null,null,null,null,null,null,null,"Rural:"]
[null,null,null,{"$f":"MAX(D384:D386)+NoOne","v":17},"1.1Domestic ",{"$f":"SUM(G387:AD387)","v":38680.545063644},{"$f":"IF(G$324<>0,(G$284/G$324)*G$316,0)","v":572.05226338095463},0,4292.4730604248716,3182.1221148118243,3426.2226463234383,6808.3743005525466,727.97018935260473,8407.0073054589629,555.02079449712494,4086.2489479943115,2394.7595212606061,2183.3858455868894,0,2044.9080739998653,0,null,null,null,null,null,"1.1Domestic ",null,{"$f":"IF(AC$324<>0,(AC$284/AC$324)*AC$316,0)","v":0},{"$f":"IF(AD$324<>0,(AD$284/AD$324)*AD$316,0)","v":0}]
[null,null,null,18,"1.1A Domestic All Electric ",2390219.2571848622,{"$f":"IF(G$324<>0,(G$284/G$324)*G$317,0)","v":74493.296853865264},0,558970.72767022159,414379.56371840619,446166.61276985187,191486.78058564357,94797.106641451537,236448.62814779062,72275.439590401205,114926.50391730099,67353.052396927538,61408.128855924639,0,57513.416037077215,0,null,null,null,null,null,"1.1A Domestic All Electric ",null,{"$f":"IF(AC$324<>0,(AC$284/AC$324)*AC$317,0)","v":0},{"$f":"IF(AD$324<>0,(AD$284/AD$324)*AD$317,0)","v":0}]
[null,null,null,19,"2.1GS 0-10 kW",71898.875912599877,{"$f":"IF(G$324<>0,(G$284/G$324)*G$318,0)","v":1177.5905129110383},0,8836.2128365819317,6550.5147924419025,7053.0046670658103,10378.007954450493,1498.5532678380448,12814.804950147316,1142.5306111111547,6228.6710768396351,6853.4245650222138,6248.5063974983514,0,3117.0542806919893,0,null,null,null,null,null,"2.1GS 0-10 kW",null,{"$f":"IF(AC$324<>0,(AC$284/AC$324)*AC$318,0)","v":0},{"$f":"IF(AD$324<>0,(AD$284/AD$324)*AD$318,0)","v":0}]
[null,null,null,20,"2.2GS 10-100 kW ",386315.62826503982,{"$f":"IF(G$324<>0,(G$284/G$324)*G$319,0)","v":13462.571526077059},0,101018.2623143392,74887.469760498192,80632.086249918648,13606.721540279537,17027.194195322143,16801.633156859814,12981.914628604449,8166.4798563008553,22829.781687862753,20814.708847625399,0,4086.804501351719,0,null,null,null,null,null,"2.2GS 10-100 kW ",null,{"$f":"IF(AC$324<>0,(AC$284/AC$324)*AC$319,0)","v":0},{"$f":"IF(AD$324<>0,(AD$284/AD$324)*AD$319,0)","v":0}]
[null,null,null,21,"2.3GS 110-1,000 kVa",550240.71229668369,{"$f":"IF(G$324<>0,(G$284/G$324)*G$320,0)","v":23252.032707585964},0,174474.83453266881,129342.7405668063,139264.61992290174,3704.998975042954,29115.802094367762,4574.9472744728819,22198.540334746784,2223.6656646301885,10972.089659347548,10003.637127672455,0,1112.8034364402802,0,null,null,null,null,null,"2.3GS 110-1,000 kVa",null,{"$f":"IF(AC$324<>0,(AC$284/AC$324)*AC$320,0)","v":0},{"$f":"IF(AD$324<>0,(AD$284/AD$324)*AD$320,0)","v":0}]
[null,null,null,22,"2.4GS Over 1,000 kVa",487452.47137576703,{"$f":"IF(G$324<>0,(G$284/G$324)*G$321,0)","v":22544.579159254234},0,169166.35925495866,125407.42953762974,135027.43125382753,120.32472990667239,19432.457813307101,148.57744869736018,14815.741540412817,72.216476253213159,356.33308771900016,324.88131402454519,0,36.139759776139002,0,null,null,null,null,null,"2.4GS Over 1,000 kVa",null,{"$f":"IF(AC$324<>0,(AC$284/AC$324)*AC$321,0)","v":0},{"$f":"IF(AD$324<>0,(AD$284/AD$324)*AD$321,0)","v":0}]
[null,null,null,23,"4.1Street and Area Lighting",47553.326593891397,{"$f":"IF(G$324<>0,(G$284/G$324)*G$322,0)","v":400.9016675076283},0,3008.2209577936901,2230.0725715185308,2401.1413992933367,7710.8097748525897,510.17097822922381,9521.3381706891651,388.9657925662778,4627.8725198934098,0,0,14437.876489226637,2315.9562723209078,0,null,null,null,null,null,"4.1Street and Area Lighting",null,{"$f":"IF(AC$324<>0,(AC$284/AC$324)*AC$322,0)","v":0},{"$f":"IF(AD$324<>0,(AD$284/AD$324)*AD$322,0)","v":0}]
[{"$f":"SUM(G394:AD394)-F394","v":0},null,null,24,"Subtotal Rural",3972360.8166924883,{"$f":"SUM(G387:G393)","v":135903.02469058213},0,1019767.0906269888,755979.91306211264,813971.11890918238,233816.0178607284,163109.2551798684,288716.93645411613,124358.15329233979,140331.65845921257,110759.44091813966,100983.24838833229,14437.876489226637,70227.082361658133,0,null,null,null,null,null,"Subtotal Rural",null,{"$f":"SUM(AC387:AC393)","v":0},{"$f":"SUM(AD387:AD393)","v":0}]
[{"$f":"SUM(G395:AD395)-F395","v":0},null,null,25,"      Total",{"$f":"SUM(F382:F393)","v":5574895.9527416192},{"$f":"SUM(G382:G385,G394)","v":324355.91386316693},{"$f":"SUM(H382:H385,H394)","v":0},2433849.3375035357,755979.91306211264,813971.11890918238,233816.0178607284,163109.2551798684,288716.93645411613,124358.15329233979,140331.65845921257,110759.44091813966,100983.24838833229,14437.876489226637,70227.082361658133,0,null,null,null,null,null,"      Total",null,{"$f":"SUM(AC382:AC385,AC394)","v":0},{"$f":"SUM(AD382:AD385,AD394)","v":0}]
[null,null,null,null,"Allocated Return on Equity",null,null,null,null,null,null,null,null,null,null,null,null,null,null,null,null,null,null,null,null,null,"Allocated Return on Equity"]
[null,null,null,{"$f":"MAX(D394:D396)+NoOne","v":26},"CFB - Goose Bay Secondary",{"$f":"SUM(G397:AD397)","v":0},{"$f":"IF(G$324<>0,(G$285/G$324)*G311,0)","v":0},0,0,0,0,0,0,0,0,0,0,0,0,0,{"$f":"T516","v":0},null,null,null,null,null,"CFB - Goose Bay Secondary",null,{"$f":"IF(AC$324<>0,(AC$285/AC$324)*AC311,0)","v":0},{"$f":"IF(AD$324<>0,(AD$285/AD$324)*AD311,0)","v":0}]
[null,null,null,{"$f":"MAX(D395:D397)+NoOne","v":27},"Labrador Industrial Firm",{"$f":"SUM(G398:AD398)","v":650867.78990585543},{"$f":"IF(TestYrSwitch=1,IF(G$324<>0,(G$285/G$324)*G312,0),G328*G$184*$F$474)","v":76539.922724897348},0,574327.86718095804,0,0,0,0,0,0,0,0,0,0,0,0,null,null,null,null,null,"Labrador Industrial Firm",null,{"$f":"IF(TestYrSwitch=1,IF(AC$324<>0,(AC$285/AC$324)*AC312,0),AC328*AC$184*$F$474)","v":0},0]
[null,null,null,{"$f":"MAX(D396:D398)+NoOne","v":28},"Labrador Industrial Non-Firm",{"$f":"SUM(G399:AD399)","v":0},{"$f":"IF(TestYrSwitch=1,IF(G$324<>0,(G$285/G$324)*G313,0),G329*G$184*$F$474)","v":0},0,0,0,0,0,0,0,0,0,0,0,0,0,0,null,null,null,null,null,"Labrador Industrial Non-Firm",null,0,0]
[null,null,null,{"$f":"+D399+1","v":29},"MFP Construction",{"$f":"SUM(G400:AD400)","v":0},{"$f":"IF(TestYrSwitch=1,IF(G$324<>0,(G$285/G$324)*G314,0),G330*G$184*$F$474)","v":0},0,0,0,0,0,0,0,0,0,0,0,0,0,{"$f":"T518","v":0},null,null,null,null,null,{"$f":"IF(ISBLANK(E400),\"\",E400)","v":"MFP Construction"},null,0,0]
[null,null,null,null,"Rural:",null,null,null,null,null,null,null,null,null,null,null,null,null,null,null,null,null,null,null,null,null,"Rural:"]
[null,null,null,{"$f":"MAX(D399:D401)+NoOne","v":30},"1.1Domestic ",{"$f":"SUM(G402:AD402)","v":15710.05858879088},{"$f":"IF(G$324<>0,(G$285/G$324)*G316,0)","v":232.33836438391145},0,1743.3829631698661,1292.4152123018544,1391.5563605274726,2765.2133386463242,295.66424947749198,3414.4962825069051,225.42105301774828,1659.6252786963198,972.62880663048918,886.77963300849433,0,830.5370464240018,0,null,null,null,null,null,"1.1Domestic ",null,{"$f":"IF(AC$324<>0,(AC$285/AC$324)*AC316,0)","v":0},0]
[null,null,null,31,"1.1A Domestic All Electric ",970784.78363336832,{"$f":"IF(G$324<>0,(G$285/G$324)*G317,0)","v":30255.366260243794},0,227025.31380231204,168299.77998765252,181210.05315317589,77772.134209320837,38501.735095373042,96033.336534660324,29354.586100779492,46677.266490815346,27355.364241859283,24940.840429400909,0,23359.007327774911,0,null,null,null,null,null,"1.1A Domestic All Electric ",null,0,0]
[null,null,null,32,"2.1GS 0-10 kW",29201.645199069451,{"$f":"IF(G$324<>0,(G$285/G$324)*G318,0)","v":478.27702326834458},0,3588.8176119886998,2660.4839980067441,2864.5696787443585,4215.0159138423351,608.63567453415419,5204.7181920392441,464.03748474873061,2529.7675455827557,2783.5104513962742,2537.823638100665,0,1265.9879868171456,0,null,null,null,null,null,"2.1GS 0-10 kW",null,0,0]
[null,null,null,33,"2.2GS 10-100 kW ",156901.64509893756,{"$f":"IF(G$324<>0,(G$285/G$324)*G319,0)","v":5467.8078367940589},0,41028.450268342895,30415.459129853793,32748.628465250622,5526.3541981488388,6915.5752063756072,6823.9638517847861,5272.5895944456988,3316.8063375418351,9272.28939756416,8453.8698967861183,0,1659.8509160491465,0,null,null,null,null,null,"2.2GS 10-100 kW ",null,0,0]
[null,null,null,34,"2.3GS 110-1,000 kVa",223479.628166971,{"$f":"IF(G$324<>0,(G$285/G$324)*G320,0)","v":9443.786160293681},0,70862.752018303567,52532.404313226034,56562.164125004885,1504.7810436374327,11825.349306984821,1858.1095381241553,9015.9114529203453,903.13923487229772,4456.301510389776,4062.965636036271,0,451.9638271777153,0,null,null,null,null,null,"2.3GS 110-1,000 kVa",null,0,0]
[null,null,null,35,"2.4GS Over 1,000 kVa",197978.25682042688,{"$f":"IF(G$324<>0,(G$285/G$324)*G321,0)","v":9156.4547208102776},0,68706.720931028132,50934.082295484157,54841.234853367423,48.869749725708232,7892.4702397278343,60.344558748281088,6017.3962712598031,29.330638209655135,144.72427097341625,131.95016950591406,0,14.678121586285748,0,null,null,null,null,null,"2.4GS Over 1,000 kVa",null,0,0]
[null,null,null,36,"4.1Street and Area Lighting",19313.728533368347,{"$f":"IF(G$324<>0,(G$285/G$324)*G322,0)","v":162.8257480479119},0,1221.7854587418085,905.74139268634019,975.22079900380606,3131.7364615891361,207.20535207284397,3867.0804731190128,157.9780062612187,1879.6050652687334,0,0,5863.9268182563892,940.62295832114501,0,null,null,null,null,null,"4.1Street and Area Lighting",null,0,0]
[{"$f":"SUM(G409:AD409)-F409","v":0},null,null,37,"Subtotal Rural",1613369.7460409324,{"$f":"SUM(G402:G408)","v":55196.856113841983},0,414177.22305388702,307040.36632921139,330593.42743507447,94964.104914910611,66246.635124545792,117262.04943098273,50507.919963433029,56995.540590986944,44984.81867881339,41014.229402838369,5863.9268182563892,28522.648184150348,0,null,null,null,null,null,"Subtotal Rural",null,{"$f":"SUM(AC402:AC408)","v":0},{"$f":"SUM(AD402:AD408)","v":0}]
[{"$f":"SUM(G410:AD410)-F410","v":0},null,null,38,"      Total",{"$f":"SUM(F397:F408)","v":2264237.5359467883},{"$f":"SUM(G397:G408)","v":131736.77883873932},0,988505.09023484506,307040.36632921139,330593.42743507447,94964.104914910611,66246.635124545792,117262.04943098273,50507.919963433029,56995.540590986944,44984.81867881339,41014.229402838369,5863.9268182563892,28522.648184150348,0,null,null,null,null,null,"      Total",null,{"$f":"SUM(AC397:AC408)","v":0},{"$f":"SUM(AD397:AD408)","v":0}]
[]
[null,null,null,null,null,null,null,null,null,null,null,null,null,null,null,null,null,null,null,null,"Schedule 3.2E",null,null,null,null,null,null,null,null,null,null,"Schedule 3.2E"]
[null,null,null,null,null,null,null,null,null,null,null,null,null,null,null,null,null,null,null,null,"Page 3 of 4",null,null,null,null,null,null,null,null,null,null,"Page 4 of 4"]
[null,null,null,{"$f":"$D$6","v":"NEWFOUNDLAND AND LABRADOR HYDRO"},null,null,null,null,null,null,null,null,null,null,null,null,null,null,null,null,null,null,null,null,{"$f":"$D$6","v":"NEWFOUNDLAND AND LABRADOR HYDRO"}]
[null,null,null,{"$f":"$D$7","v":"2019 Test Year Cost of Service Study"},null,null,null,null,null,null,null,null,null,null,null,null,null,null,null,null,null,null,null,null,{"$f":"$D$7","v":"2019 Test Year Cost of Service Study"}]
[null,null,null,{"$f":"$B$1","v":"Labrador Interconnected"},null,null,null,null,null,null,null,null,null,null,null,null,null,null,null,null,null,null,null,null,{"$f":"$B$1","v":"Labrador Interconnected"}]
[null,null,null,"Allocation of Functionalized Amounts to Classes of Service (CONT'D.)",null,null,null,null,null,null,null,null,null,null,null,null,null,null,null,null,null,null,null,null,{"$f":"+D417","v":"Allocation of Functionalized Amounts to Classes of Service (CONT'D.)"}]
[null,null,null,null,{"$f":"MAX(D418)+NoOne","v":1},2,3,4,5,6,7,8,9,10,11,12,13,14,15,16,17,null,null,null,null,null,{"$f":"MAX(Z418)+NoOne","v":1},null,{"$f":"MAX(U418)+NoOne","v":18},{"$f":"MAX(AC418)+NoOne","v":19}]
[null,null,null,null,null,null,null,null,"","Distribution",null,null,null,null,null,null,null,null,null,null,"Specifically",null,null,null,null,null,null,null,"Revenue Related"]
[null,null,null,"Line",null,"Total","Production","Production","Transmission","Substations","Primary Lines",null,"Line Transformers",null,"Secondary Lines",null,"Services","Meters","Street Lighting","Accounting","Assigned",null,null,null,null,null,null,null,"Municipal","PUB "]
[null,null,null,"No.","Description ","Amount","Demand","Energy","Demand","Demand","Demand","Customer","Demand","Customer","Demand","Customer","Customer","Customer","Customer","Customer","Customer",null,null,null,null,null,"Description",null,"Tax","Assessment","Basis of Proration"]
[null,null,null,null,"Total Revenue Requirement","($)","($)","($)","($)","($)","($)","($)","($)","($)","($)","($)","($)","($)","($)","($)","($)",null,null,null,null,null,{"$f":"IF(ISBLANK(E422),\"\",E422)","v":"Total Revenue Requirement"},null,"($)","($)"]
[null,null,null,{"$f":"MAX(D410:D422)+NoOne","v":39},"CFB - Goose Bay Secondary",{"$f":"SUM(G423:AD423)","v":0},{"$f":"SUM(G382,G367,G397)","v":0},0,0,0,0,0,0,0,0,0,0,0,0,0,{"$f":"SUM(U382,U367,U397)","v":0},null,null,null,null,null,{"$f":"IF(ISBLANK(E423),\"\",E423)","v":"CFB - Goose Bay Secondary"},null,{"$f":"SUM(AC382,AC367,AC397)","v":0},0]
[null,null,null,{"$f":"MAX(D421:D423)+NoOne","v":40},"Labrador Industrial Firm",{"$f":"SUM(G424:AD424)","v":6860189.9829385635},{"$f":"SUM(G383,G368,G398)","v":1403719.5046644446},0,5456470.4782741191,0,0,0,0,0,0,0,0,0,0,0,{"$f":"SUM(U383,U368,U398)","v":0},null,null,null,null,null,{"$f":"IF(ISBLANK(E424),\"\",E424)","v":"Labrador Industrial Firm"},null,0,0]
[null,null,null,{"$f":"MAX(D422:D424)+NoOne","v":41},"Labrador Industrial Non-Firm",{"$f":"SUM(G425:AD425)","v":0},{"$f":"SUM(G384,G369,G399)","v":0},0,0,0,0,0,0,0,0,0,0,0,0,0,{"$f":"SUM(U384,U369,U399)","v":0},null,null,null,null,null,{"$f":"IF(ISBLANK(E425),\"\",E425)","v":"Labrador Industrial Non-Firm"},null,0,0]
[null,null,null,{"$f":"+D425+1","v":42},"MFP Construction",{"$f":"SUM(G426:AD426)","v":0},{"$f":"SUM(G385,G370,G400)","v":0},0,0,0,0,0,0,0,0,0,0,0,0,0,{"$f":"SUM(U385,U370,U400)","v":0},null,null,null,null,null,{"$f":"IF(ISBLANK(E426),\"\",E426)","v":"MFP Construction"},null,0,0]
[null,null,null,null,"Rural:",null,null,null,null,null,null,null,null,null,null,null,null,null,null,null,null,null,null,null,null,null,"Rural:"]
[null,null,null,{"$f":"MAX(D425:D427)+NoOne","v":43},"1.1Domestic ",{"$f":"SUM(G428:AD428)","v":215092.65899860079},{"$f":"SUM(G387,G372,G402)","v":5979.7833224955812},3308.6719904662368,16563.218005692175,11044.477993097091,13512.002750253829,26804.71388744553,3029.8288646039141,34990.159997716401,2232.6046387570009,16328.346364705129,9107.8910743042925,11058.811417768076,0,58480.607167552014,0,null,null,null,null,null,"1.1Domestic ",null,{"$f":"SUM(AC387,AC372,AC402)","v":2475.7030129203636},175.83851082315874]
[null,null,null,44,"1.1A Domestic All Electric ",12011207.327792184,{"$f":"SUM(G388,G373,G403)","v":778694.19051281491},489296.86921396735,2156881.101144494,1438224.4952116646,1759548.377653379,753887.51267827291,394547.76333442127,984104.69142325502,290732.31723494822,459237.74746211164,256161.11317524163,311031.10698839021,0,1644777.8425312827,0,null,null,null,null,null,"1.1A Domestic All Electric ",null,274579.96797536616,19502.23125257072]
[null,null,null,45,"2.1GS 0-10 kW",394806.49354968494,{"$f":"SUM(G389,G374,G404)","v":12309.602741917735},10263.826119076013,34095.990236107806,22735.462015058405,27814.952002961545,40858.437221658496,6237.0135651846431,53335.516344089068,4595.8983295388025,24889.305578011499,26065.349723017469,31648.576467746323,0,89142.015343764841,0,null,null,null,null,null,"2.1GS 0-10 kW",null,10097.374860800452,717.17300075179264]
[null,null,null,46,"2.2GS 10-100 kW ",1867500.4616819064,{"$f":"SUM(G390,G375,G405)","v":140727.10806832145},111029.79663308244,389795.69066951476,259918.69007121885,317988.95858000079,53569.95102395225,70867.578385431669,69928.788095583441,52220.534990999877,32632.645091170631,86827.576220991643,105426.13909808709,0,116875.08678404726,0,null,null,null,null,null,"2.2GS 10-100 kW ",null,55733.413880487722,3958.5040890164996]
[null,null,null,47,"2.3GS 110-1,000 kVa",2586689.6382659487,{"$f":"SUM(G391,G376,G406)","v":243058.4166858721},202789.26063043202,673240.03673202393,448921.50590563827,549218.22708472749,14586.659471886778,121180.64570756986,19041.036994339043,89294.968073933647,8885.6023295413033,41729.700451189034,50668.248450138737,0,31824.130115479336,0,null,null,null,null,null,"2.3GS 110-1,000 kVa",null,86133.507935765214,6117.6916974115557]
[null,null,null,48,"2.4GS Over 1,000 kVa",2272282.3225295786,{"$f":"SUM(G392,G377,G407)","v":235663.25508865775},200516.57847992721,652756.40595209354,435262.86727092857,532508.01561866549,473.7210112656058,80878.341522907649,618.38279819233696,59597.214406570842,288.57165887549564,1355.2270782524176,1645.5182175958455,0,1033.5306126813316,0,null,null,null,null,null,"2.4GS Over 1,000 kVa",null,65063.512076521467,4621.1807364424594]
[null,null,null,49,"4.1Street and Area Lighting",303977.88802275388,{"$f":"SUM(G393,G378,G408)","v":4190.7099382042197},2821.9173565604874,11607.71863488346,7740.113845568856,9469.3872932673166,30357.621471937571,2123.343480722418,39628.030984158933,1564.6383728524675,18492.633806271348,0,0,98233.060881116442,66232.086762662002,0,null,null,null,null,null,"4.1Street and Area Lighting",null,10752.893529106128,763.7316654422242]
[{"$f":"SUM(G435:AD435)-F435","v":0},null,null,50,"Subtotal Rural",19651556.790840644,{"$f":"SUM(G428:G434)","v":1420623.0663582836},1020026.9204235119,3934940.1613748097,2623847.6123131746,3210059.9209832558,920538.61676641926,678864.51486084133,1201646.6066373342,500238.17604760086,560754.85229068703,421246.8577229965,511478.40063972626,98233.060881116442,2008365.2993174694,0,null,null,null,null,null,"Subtotal Rural",null,{"$f":"SUM(AC428:AC434)","v":504836.37327096751},{"$f":"SUM(AD428:AD434)","v":35856.350952458415}]
[{"$f":"SUM(G436:AD436)-F436","v":0},null,null,51,"      Total",{"$f":"SUM(F423:F434)","v":26511746.773779225},{"$f":"SUM(G423:G434)","v":2824342.5710227285},1020026.9204235119,9391410.6396489292,2623847.6123131746,3210059.9209832558,920538.61676641926,678864.51486084133,1201646.6066373342,500238.17604760086,560754.85229068703,421246.8577229965,511478.40063972626,98233.060881116442,2008365.2993174694,0,null,null,null,null,null,"      Total",null,{"$f":"SUM(AC423:AC434)","v":504836.37327096751},{"$f":"SUM(AD423:AD434)","v":35856.350952458415}]
[null,null,null,null,"Re-classification of Revenue-Related",null,null,null,null,null,null,null,null,null,null,null,null,null,null,null,null,null,null,null,null,null,"Re-classification of Revenue-Related"]
[null,null,null,{"$f":"MAX(D435:D437)+NoOne","v":52},"CFB - Goose Bay Secondary",{"$f":"SUM(G438:AD438)","v":0},{"$f":"IF(SUM($G423:$U423)<>0,+G423/SUM($G423:$U423)*SUM($AC423,$AD423),0)","v":0},{"$f":"IF(SUM($G423:$U423)<>0,+H423/SUM($G423:$U423)*SUM($AC423,$AD423),0)","v":0},0,0,0,0,0,0,0,0,0,0,0,0,{"$f":"IF(SUM($G423:$U423)<>0,+U423/SUM($G423:$U423)*SUM($AC423,$AD423),0)","v":0},null,null,null,null,null,"CFB - Goose Bay Secondary",null,{"$f":"-AC423","v":0},0,"Re-classification to demand, energy and customer is based on rate class revenue"]
[null,null,null,{"$f":"MAX(D436:D438)+NoOne","v":53},"Labrador Industrial Firm",0,{"$f":"IF(SUM($G424:$U424)<>0,+G424/SUM($G424:$U424)*SUM($AC424,$AD424),0)","v":0},0,0,0,0,0,0,0,0,0,0,0,0,0,0,null,null,null,null,null,"Labrador Industrial Firm",null,0,0,"requirements excluding revenue-related items."]
[null,null,null,{"$f":"MAX(D437:D439)+NoOne","v":54},"Labrador Industrial Non-Firm",0,{"$f":"IF(SUM($G425:$U425)<>0,+G425/SUM($G425:$U425)*SUM($AC425,$AD425),0)","v":0},0,0,0,0,0,0,0,0,0,0,0,0,0,0,null,null,null,null,null,"Labrador Industrial Non-Firm",null,0,0]
[null,null,null,{"$f":"+D440+1","v":55},"MFP Construction",{"$f":"SUM(G441:AD441)","v":0},0,0,0,0,0,0,0,0,0,0,0,0,0,0,0,null,null,null,null,null,{"$f":"IF(ISBLANK(E441),\"\",E441)","v":"MFP Construction"},null,0,0]
[null,null,null,null,"Rural:",null,null,null,null,null,null,null,null,null,null,null,null,null,null,null,null,null,null,null,null,null,"Rural:"]
[null,null,null,{"$f":"MAX(D440:D442)+NoOne","v":56},"1.1Domestic ",0,{"$f":"IF(SUM($G428:$U428)<>0,+G428/SUM($G428:$U428)*SUM($AC428,$AD428),0)","v":74.635475331005892},41.296530894998071,206.73050881549304,137.84945379151645,168.64737291487347,334.55770120884512,37.816205920140533,436.72271761305802,27.865810423762323,203.79900517707597,113.67832962048419,138.02835357864012,0,729.91405845362885,0,null,null,null,null,null,"1.1Domestic ",null,{"$f":"-AC428","v":-2475.7030129203636},-175.83851082315874]
[null,null,null,57,"1.1A Domestic All Electric ",-8.3673512563109398E-11,{"$f":"IF(SUM($G429:$U429)<>0,+G429/SUM($G429:$U429)*SUM($AC429,$AD429),0)","v":19544.051766910427},12280.614723743216,54134.468202565884,36097.26941502437,44162.015073714581,18921.441502611327,9902.5548220007622,24699.546070286226,7296.9434311711912,11526.17602528671,6429.2582602540078,7806.4124917861664,0,41281.447442581921,0,null,null,null,null,null,"1.1A Domestic All Electric ",null,-274579.96797536616,-19502.23125257072]
[null,null,null,58,"2.1GS 0-10 kW",1.8189894035458565E-12,{"$f":"IF(SUM($G430:$U430)<>0,+G430/SUM($G430:$U430)*SUM($AC430,$AD430),0)","v":346.68119866577263},289.06501830001275,960.26159516085283,640.30963377561,783.36572701738976,1150.7156070422479,175.65598047366672,1502.1135226940758,129.43647128471909,700.96935479166029,734.0908455840605,891.33391677547479,0,2510.5489899867007,0,null,null,null,null,null,"2.1GS 0-10 kW",null,-10097.374860800452,-717.17300075179264]
[null,null,null,59,"2.2GS 10-100 kW ",-1.0459189070388675E-11,{"$f":"IF(SUM($G431:$U431)<>0,+G431/SUM($G431:$U431)*SUM($AC431,$AD431),0)","v":4646.659636672327},3666.0859557520994,12870.639688719428,8582.2390763855237,10499.657663851134,1768.8228840790487,2339.972167071232,2308.9743088261816,1724.2665999382978,1077.4952805068649,2866.954343865983,3481.0591358095171,0,3859.0912280265788,0,null,null,null,null,null,"2.2GS 10-100 kW ",null,-55733.413880487722,-3958.5040890164996]
[null,null,null,60,"2.3GS 110-1,000 kVa",-1.0913936421275139E-11,{"$f":"IF(SUM($G432:$U432)<>0,+G432/SUM($G432:$U432)*SUM($AC432,$AD432),0)","v":8988.969289818282},7499.7050543111854,24898.269713825779,16602.352986360565,20311.601811565732,539.45481839982949,4481.5938392024027,704.18996026627281,3302.3737120334381,328.61403258876402,1543.2791875454427,1873.8512967267816,0,1176.9439305322876,0,null,null,null,null,null,"2.3GS 110-1,000 kVa",null,-86133.507935765214,-6117.6916974115557]
[null,null,null,61,"2.4GS Over 1,000 kVa",-2.8194335754960775E-11,{"$f":"IF(SUM($G433:$U433)<>0,+G433/SUM($G433:$U433)*SUM($AC433,$AD433),0)","v":7455.7973351987748},6343.8441895890228,20651.583846623122,13770.63099925652,16847.224834979032,14.987350709778781,2558.788908245092,19.564088670338865,1885.5071495580255,9.1296872074876205,42.876003027380349,52.060090306215159,0,32.698329593117386,0,null,null,null,null,null,"2.4GS Over 1,000 kVa",null,-65063.512076521467,-4621.1807364424594]
[null,null,null,62,"4.1Street and Area Lighting",-1.2505552149377763E-12,{"$f":"IF(SUM($G434:$U434)<>0,+G434/SUM($G434:$U434)*SUM($AC434,$AD434),0)","v":165.02300233079731},111.12228748252376,457.09214132831386,304.79246810512643,372.88830398929986,1195.4313022837721,83.613640966640261,1560.484200981482,61.612787727496759,728.20834577317464,0,0,3868.2502186472875,2608.1064949324377,0,null,null,null,null,null,"4.1Street and Area Lighting",null,-10752.893529106128,-763.7316654422242]
[{"$f":"SUM(G450:AD450)-F450","v":0},null,null,63,"Subtotal Rural",{"$f":"SUM(G450:AD450)","v":-1.964508555829525E-10},{"$f":"SUM(G443:G449)","v":41221.817704927387},30231.733760073061,114179.04569703886,76135.444032699219,93145.400788032028,23925.411166334845,19579.995563879937,31231.594869337638,14428.005962136929,14574.391731331736,11730.136969897358,14242.745284982795,3868.2502186472875,52198.750474106673,0,null,null,null,null,null,"Subtotal Rural",null,{"$f":"SUM(AC443:AC449)","v":-504836.37327096751},{"$f":"SUM(AD443:AD449)","v":-35856.350952458415}]
[{"$f":"SUM(G451:AD451)-F451","v":-6.3778315961826593E-11},null,null,64,"      Total",{"$f":"SUM(F438:F449)","v":-1.3267253962112591E-10},{"$f":"SUM(G438:G440,G450)","v":41221.817704927387},30231.733760073061,114179.04569703886,76135.444032699219,93145.400788032028,23925.411166334845,19579.995563879937,31231.594869337638,14428.005962136929,14574.391731331736,11730.136969897358,14242.745284982795,3868.2502186472875,52198.750474106673,0,null,null,null,null,null,"      Total",null,{"$f":"SUM(AC438:AC440,AC450)","v":-504836.37327096751},{"$f":"SUM(AD438:AD440,AD450)","v":-35856.350952458415}]
[null,null,null,null,"Total Allocated Revenue Requirement",null,null,null,null,null,null,null,null,null,null,null,null,null,null,null,null,null,null,null,null,null,"Total Allocated Revenue Requirement"]
[null,null,null,{"$f":"MAX(D450:D452)+NoOne","v":65},"CFB - Goose Bay Secondary",{"$f":"SUM(G453:AD453)","v":0},{"$f":"SUM(G423,G438)","v":0},{"$f":"SUM(H423,H438)","v":0},0,0,0,0,0,0,0,0,0,0,0,0,{"$f":"SUM(U423,U438)","v":0},null,null,null,null,null,"CFB - Goose Bay Secondary",null,{"$f":"SUM(AC423,AC438)","v":0},0]
[null,null,null,{"$f":"MAX(D451:D453)+NoOne","v":66},"Labrador Industrial Firm",{"$f":"SUM(G454:AD454)","v":6860189.9829385635},{"$f":"SUM(G424,G439)","v":1403719.5046644446},{"$f":"SUM(H424,H439)","v":0},{"$f":"SUM(I424,I439)","v":5456470.4782741191},{"$f":"SUM(J424,J439)","v":0},0,{"$f":"SUM(L424,L439)","v":0},0,0,0,0,0,0,0,0,0,null,null,null,null,null,"Labrador Industrial Firm",null,0,0]
[null,null,null,{"$f":"MAX(D452:D454)+NoOne","v":67},"Labrador Industrial Non-Firm",{"$f":"SUM(G455:AD455)","v":0},{"$f":"SUM(G425,G440)","v":0},0,0,0,0,0,0,0,0,0,0,0,0,0,0,null,null,null,null,null,"Labrador Industrial Non-Firm",null,0,0]
[null,null,null,{"$f":"+D455+1","v":68},"MFP Construction",{"$f":"SUM(G456:AD456)","v":0},{"$f":"SUM(G426,G441)","v":0},0,0,0,0,0,0,0,0,0,0,0,0,0,0,null,null,null,null,null,{"$f":"IF(ISBLANK(E456),\"\",E456)","v":"MFP Construction"},null,0,0]
[null,null,null,null,"Rural:",null,{"$f":"SUM(G427,G442)","v":0},0,0,0,0,0,0,0,0,0,0,0,0,0,0,null,null,null,null,null,"Rural:",null,0,0]
[null,null,null,{"$f":"MAX(D455:D457)+NoOne","v":69},"1.1Domestic ",215092.65899860079,{"$f":"SUM(G428,G443)","v":6054.4187978265873},3349.9685213612347,16769.948514507669,11182.327446888607,13680.650123168702,27139.271588654374,3067.6450705240545,35426.882715329455,2260.4704491807634,16532.145369882204,9221.5694039247774,11196.839771346717,0,59210.521226005643,0,null,null,null,null,null,"1.1Domestic ",null,0,0]
[null,null,null,70,"1.1A Domestic All Electric ",12011207.327792181,{"$f":"SUM(G429,G444)","v":798238.24227972538},501577.48393771058,2211015.5693470598,1474321.764626689,1803710.3927270935,772808.95418088418,404450.318156422,1008804.2374935412,298029.2606661194,470763.92348739837,262590.37143549562,318837.51948017639,0,1686059.2899738646,0,null,null,null,null,null,"1.1A Domestic All Electric ",null,0,0]
[null,null,null,71,"2.1GS 0-10 kW",394806.49354968488,{"$f":"SUM(G430,G445)","v":12656.283940583508},10552.891137376026,35056.251831268659,23375.771648834016,28598.317729978935,42009.152828700746,6412.6695456583102,54837.629866783143,4725.3348008235216,25590.27493280316,26799.440568601531,32539.910384521798,0,91652.564333751536,0,null,null,null,null,null,"2.1GS 0-10 kW",null,0,0]
[null,null,null,72,"2.2GS 10-100 kW ",1867500.4616819066,{"$f":"SUM(G431,G446)","v":145373.76770499378},114695.88258883455,402666.33035823418,268500.92914760439,328488.61624385195,55338.773908031297,73207.5505525029,72237.762404409616,53944.801590938172,33710.140371677495,89694.530564857632,108907.1982338966,0,120734.17801207384,0,null,null,null,null,null,"2.2GS 10-100 kW ",null,0,0]
[null,null,null,73,"2.3GS 110-1,000 kVa",2586689.6382659478,{"$f":"SUM(G432,G447)","v":252047.38597569038},210288.96568474322,698138.30644584971,465523.85889199883,569529.82889629318,15126.114290286609,125662.23954677225,19745.226954605318,92597.341785967088,9214.2163621300679,43272.979638734476,52542.099746865519,0,33001.074046011621,0,null,null,null,null,null,"2.3GS 110-1,000 kVa",null,0,0]
[null,null,null,74,"2.4GS Over 1,000 kVa",2272282.3225295786,{"$f":"SUM(G433,G448)","v":243119.05242385651},206860.42266951624,673407.98979871662,449033.49827018508,549355.24045364454,488.70836197538461,83437.130431152735,637.9468868626758,61482.721556128869,297.70134608298326,1398.1030812797981,1697.5783079020607,0,1066.2289422744491,0,null,null,null,null,null,"2.4GS Over 1,000 kVa",null,0,0]
[null,null,null,75,"4.1Street and Area Lighting",303977.88802275388,{"$f":"SUM(G434,G449)","v":4355.7329405350174},2933.0396440430113,12064.810776211774,8044.9063136739824,9842.2755972566156,31553.052774221342,2206.9571216890581,41188.515185140415,1626.2511605799641,19220.842152044523,0,0,102101.31109976373,68840.193257594437,0,null,null,null,null,null,"4.1Street and Area Lighting",null,0,0]
[{"$f":"SUM(G465:AD465)-F465","v":0},null,null,76,"Subtotal Rural",{"$f":"SUM(G465:AD465)","v":19651556.790840656},{"$f":"SUM(G458:G464)","v":1461844.884063211},1050258.6541835847,4049119.2070718487,2699983.056345874,3303205.3217712874,944464.02793275379,698444.5104247214,1232878.2015066717,514666.18200973776,575329.24402201874,432976.99469289387,525721.14592470904,102101.31109976373,2060564.0497915759,0,null,null,null,null,null,"Subtotal Rural",null,{"$f":"SUM(AC458:AC464)","v":0},{"$f":"SUM(AD458:AD464)","v":0}]
[{"$f":"SUM(G466:AD466)-F466","v":0},null,null,77,"      Total",{"$f":"SUM(F453:F464)","v":26511746.773779217},{"$f":"SUM(G453:G464)","v":2865564.3887276566},1050258.6541835847,9505589.6853459682,2699983.056345874,3303205.3217712874,944464.02793275379,698444.5104247214,1232878.2015066717,514666.18200973776,575329.24402201874,432976.99469289387,525721.14592470904,102101.31109976373,2060564.0497915759,0,null,null,null,null,null,"      Total",null,{"$f":"SUM(AC453:AC464)","v":0},{"$f":"SUM(AD453:AD464)","v":0}]
[]
[null,null,null,"Fallout Year Option:",null,null," "]
[null,null,null,null,"Labrador Industrial Costs, Excl. ROE",{"$f":"SUM(G469:AD469)","v":6209322.193032708},{"$f":"SUM(G368:G369,G383,G384)","v":1327179.5819395473},0,4882142.6110931607,0,0,0,0,0,0,0,0,0,0,0,0,null,null,null,null,null,null,null,{"$f":"SUM(AC368:AC369,AC383,AC384)","v":0},{"$f":"SUM(AD368:AD369,AD383,AD384)","v":0}]
[]
[null,null,null,null,"Labrador Industrial Rate Base",{"$f":"SUM(G471:AD471)","v":39637756.029214576},{"$f":"SUM(G328:G329)*G180","v":4661270.4308247473},0,34976485.598389827,0,0,0,0,0,0,0,0,0,0,0,0,null,null,null,null,null,null,null,{"$f":"SUM(AC328:AC329)*AC180","v":0},{"$f":"SUM(AD328:AD329)*AD180","v":0}]
[]
[null,null,null,null,"Input ROE for Fallout Year",8.7995805341657476E-2]
[null,null,null,null,"Weighted Equity Ratio",1.6999132699017202E-2]
[null,null,null,null,"Labrador Industrial Return on Rate Base - Equity",{"$f":"+F471*F474","v":673807.47463188774}]
[null,null,null,null,"Labrador Industrial Cost of Service, Fallout Year",{"$f":"SUM(F469,F475)","v":6883129.6676645959}]
[]
[null,null,null,{"$f":"D6","v":"NEWFOUNDLAND AND LABRADOR HYDRO"}]
[null,null,null,{"$f":"D7","v":"2019 Test Year Cost of Service Study"}]
[null,null,null,{"$f":"$B$1","v":"Labrador Interconnected"}]
[null,null,null,"Allocation of Specifically Assigned Amounts to Classes of Service"]
[]
[null,null," ",null,{"$f":"MAX(D483)+NoOne","v":1},2,3,4,5,6,7,8,9,10,11,12,13,14,15,16,17,{"$f":"+U483+1","v":18}]
[null,null,null,null,null,null,"OM&A",null,null,null,"Depreciation",null,null,null,"Expense Credits",null,null,"Subtotal",null,null,"Subtotal"]
[null,null," ","Line",null,null,"Transmission",null,"Administrative & ",null,"Transmission",null,"Telecontrol &",null,"Rental",null," ","Excluding","Return on","Return on","Excl Rev","Revenue"]
[null,null," ","No.","Description ","Total","Lines","Terminals","General","Other","Lines","Terminals","Feasibility Study","General","Income","Other","Gains/Losses","Return","Debt","Equity","Related","Related"]
[null,null," ",null,null,"Amount","($)","($)","($)","($)","($)","($)","($)","($)","($)","($)","($)","($)","($)","($)","($)","($)"]
[null,null," ",null,null,"($)","(Plant)","(Plant)","(C3 & C4)","(C3 & C4)","(Direct)","(Direct)","(Direct)","(Exp C3,4,6)","(Plant)","( C6 )","(NBV)",null,"(NBV)","(NBV)"," "]
[]
[null,null,null,null,"Basis of Allocation - Amounts",null,null,null,null,null,null,null,null,null,null,null,null,null," "]
[null,null,null,{"$f":"MAX(D488:D490)+NoOne","v":1},"CFB - Goose Bay Secondary",null,0,null,{"$f":"SUM(G491:H491)","v":0},{"$f":"+I491","v":0},0,0,0,{"$f":"SUM(G516,H516,J516)","v":0},{"$f":"+G491+H491","v":0},{"$f":"+J491","v":0},null,0,{"$f":"Q491","v":0},{"$f":"S491","v":0},0,0]
[null,null,null,2,"Industrial",null,null,null,null,null,null,null,null,null,null,null,null,null,null," "]
[null,null,null,3,"MFP Construction",null,null,null,{"$f":"SUM(G493:H493)","v":0},{"$f":"+I493","v":0},0,0,0,{"$f":"SUM(G518,H518,J518)","v":0},{"$f":"+G493+H493","v":0},{"$f":"+J493","v":0},0,0,{"$f":"Q493","v":0},{"$f":"S493","v":0},0,0]
[null,null,null,4]
[null,null,null,5]
[null,null,null,6]
[null,null,null,7]
[null,null,null,8]
[]
[null,null,null,{"$f":"MAX(D497:D499)+NoOne","v":9},"Subtotal Industrial"," ",{"$f":"SUM(G493:G499)","v":0},0,0,0,0,0,0,0,0,0,0,0,0,0,0,0]
[null,null,null,{"$f":"MAX(D498:D500)+NoOne","v":10},"    Total"," ",{"$f":"SUM(G500,G491)","v":0},0,0,0,0,0,0,0,0,0,0,0,0,0,0,0]
[]
[null,null,null,{"$f":"MAX(D500:D502)+NoOne","v":11},"Basis of Allocation - Ratios"]
[null,null,null,{"$f":"MAX(D501:D503)+NoOne","v":12},"CFB - Goose Bay Secondary",null,{"$f":"IF(G$501<>0,G491/G$501,0)","v":0},{"$f":"IF(H$501<>0,H491/H$501,0)","v":0},{"$f":"IF(I$501<>0,I491/I$501,0)","v":0},{"$f":"IF(J$501<>0,J491/J$501,0)","v":0},0,0,0,0,0,0,0,0,0,0,0,0]
[null,null,null,null,"Industrial"]
[null,null,null,{"$f":"+D503+1","v":12},"MFP Construction",null,{"$f":"IF(G$501<>0,G493/G$501,0)","v":0},0,0,0,0,0,0,0,0,0,0,0,0,0,0,0]
[null,null,null,{"$f":"MAX(D504:D506)+NoOne","v":13}]
[null,null,null,{"$f":"MAX(D505:D507)+NoOne","v":14}]
[null,null,null,{"$f":"MAX(D506:D508)+NoOne","v":15}]
[null,null,null,{"$f":"MAX(D507:D509)+NoOne","v":16}]
[null,null,null,{"$f":"MAX(D508:D510)+NoOne","v":17}]
[]
[null,null,null,{"$f":"MAX(D510:D512)+NoOne","v":18},"Subtotal Industrial",null,{"$f":"SUM(G506:G512)","v":0},{"$f":"SUM(H506:H512)","v":0},0,0,0,0,0,0,0,0,0,0,0,0,0,0]
[null,null,null,{"$f":"MAX(D511:D513)+NoOne","v":19},"    Total",null,{"$f":"SUM(G513,G504)","v":0},0,0,0,0,0,0,0,0,0,0,0,0,0,{"$f":"SUM(U513,U504)","v":0},{"$f":"SUM(V513,V504)","v":0}]
[null,null,null,null,"Amounts Allocated"]
[null,null,null,{"$f":"MAX(D513:D515)+NoOne","v":20},"CFB - Goose Bay Secondary",{"$f":"SUM(U516:V516)","v":0},{"$f":"G504*G526","v":0},{"$f":"H504*H526","v":0},{"$f":"I504*I526","v":0},{"$f":"J504*J526","v":0},0,null,0,{"$f":"N504*N526","v":0},0,0,0,{"$f":"SUM(G516:Q516)","v":0},{"$f":"S504*S526","v":0},0,{"$f":"SUM(R516:T516)","v":0},{"$f":"U438","v":0}]
[null,null,null,null,"Industrial"]
[null,null,null,{"$f":"+D516+1","v":21},"MFP Construction",{"$f":"SUM(U518:V518)","v":{"$error":"#DIV/0!"}},{"$f":"G506*G526","v":0},{"$f":"H506*H526","v":0},{"$f":"I506*I526","v":0},{"$f":"J506*J526","v":0},0,0,0,{"$f":"N506*N526","v":0},{"$f":"O506*O526","v":0},{"$f":"P506*P526","v":0},{"$f":"Q506*Q526","v":0},{"$f":"SUM(G518:Q518)","v":0},{"$f":"S506*S526","v":0},{"$f":"T506*T526","v":0},{"$f":"SUM(R518:T518)","v":0},{"$f":"U518/U525*V525","v":{"$error":"#DIV/0!"}}]
[null,null,null,{"$f":"MAX(D516:D518)+NoOne","v":22}]
[null,null,null,{"$f":"MAX(D517:D519)+NoOne","v":23}]
[null,null,null,{"$f":"MAX(D518:D520)+NoOne","v":24}]
[null,null,null,{"$f":"MAX(D519:D521)+NoOne","v":25}]
[null,null,null,{"$f":"MAX(D520:D522)+NoOne","v":26}]
[]
[null,null,null,{"$f":"MAX(D522:D524)+NoOne","v":27},"Subtotal Industrial",{"$f":"SUM(U525:V525)","v":0},{"$f":"SUM(G518:G524)","v":0},{"$f":"SUM(H518:H524)","v":0},0,0,0,{"$f":"L518","v":0},{"$f":"M518","v":0},0,0,0,0,0,0,0,{"$f":"U518","v":0},{"$f":"U441","v":0}]
[null,null,null,{"$f":"MAX(D523:D525)+NoOne","v":28},"    Total",{"$f":"SUM(U526:V526)","v":0},{"$f":"U213","v":0},{"$f":"U214","v":0},{"$f":"U240","v":0},{"$f":"U215","v":0},{"$f":"K525","v":0},{"$f":"L525","v":0},{"$f":"M525","v":0},{"$f":"U149-SUM(K526:M526)","v":0},{"$f":"U269","v":0},{"$f":"U268+U270+U271","v":0},{"$f":"U281","v":0},{"$f":"R525+R516","v":0},{"$f":"U284","v":0},{"$f":"U285","v":0},{"$f":"U525+U516","v":0},{"$f":"SUM(V516,V525)","v":0}]
[]
[]
[null,null,"RatiosLabInt"]
["LookupCol-->",null,{"$f":"MAX(B530)+NoOne","v":1},2,3,4,5,6,7,8,9,10,11,12,13,14,15,16,17,18,19]
[null,null,null,null,"Expense Ratios:"]
[{"$f":"(SUM(G532:AD532)-1)*1000","v":-2.2204460492503131E-13},null,"E-GTDC",null,"GTDC",{"$f":"SUM(G532:U532)","v":0.99999999999999978},{"$f":"IF(SUM($F$223,$F$225)<>0,(SUM(G223,G225)/SUM($F$223,$F$225)),0)","v":0.11554291397796519},0,0.37972635843573427,6.6665226455915813E-2,9.8506787622533204E-2,2.7952371702000257E-2,1.9349919152866775E-2,3.4250964927096596E-2,1.5622499822935619E-2,1.729001197463818E-2,1.2037850682741567E-2,1.8528785518831314E-2,2.9393133350172958E-3,0.19158699639172386,0]
[{"$f":"(SUM(G533:AD533)-1)*1000","v":-1.1102230246251565E-13},null,"E-GTD",null,"GTD",{"$f":"SUM(G533:U533)","v":0.99999999999999989},{"$f":"IF($F$223<>0,G223/$F$223,0)","v":0.14292560048174652},0,0.46971827115702125,8.2464317320926045E-2,0.12185205728118836,3.4576845717767341E-2,2.3935685183811013E-2,4.2368151890457721E-2,1.9324899220084343E-2,2.1387597549106484E-2,1.4890718765051702E-2,2.2919949872317495E-2,3.6359055605215949E-3,0,0]
[]
[]
[null,null,null,null,"Labour Ratios:"]
[null,null,null,null,"GTDC:"]
[null,null,null,null,"Hydraulic",{"$f":"+LabourRatios!I45","v":0}]
[null,null,null,null,"Holyrood",{"$f":"+LabourRatios!I46","v":0}]
[null,null,null,null,"Diesel",{"$f":"+LabourRatios!I47","v":4.4018244091125563E-2},{"$f":"+G20/$F20*$F540","v":4.4018244091125563E-2},{"$f":"+H20/$F20*$F540","v":0},{"$f":"+I20/$F20*$F540","v":0},{"$f":"+J20/$F20*$F540","v":0}]
[null,null,null,null,"Gas Turbines",{"$f":"+LabourRatios!I48","v":0},{"$f":"+G19/$F19*$F541","v":0},{"$f":"+H19/$F19*$F541","v":0},{"$f":"+I19/$F19*$F541","v":0},{"$f":"+J19/$F19*$F541","v":0}]
[null,null,null,null,"Production - General",{"$f":"+LabourRatios!I49","v":1.8299117832722058E-2},{"$f":"+G21/$F21*$F542","v":1.8299117832722058E-2},{"$f":"+H21/$F21*$F542","v":0},{"$f":"+I21/$F21*$F542","v":0},{"$f":"+J21/$F21*$F542","v":0}]
[null,null,null,null,"Transmission Lines",{"$f":"+LabourRatios!I50","v":0},{"$f":"+G24/$F24*$F543","v":0},0,0,0,0,0,0,0,0,0,0,0,0,0,0]
[null,null,null,null,"Terminal Stations",{"$f":"+LabourRatios!I51","v":3.1535629787104932E-2},{"$f":"+G25/$F25*$F544","v":0},0,1.9164612657743E-2,1.2371017129361934E-2,0,0,0,0,0,0,0,0,0,0,0]
[null,null,null,null,"Transmission - General",{"$f":"+LabourRatios!I52","v":4.6764412239178592E-2},{"$f":"+G26/$F26*$F545","v":0},0,3.6718175053418789E-2,1.0046237185759808E-2,0,0,0,0,0,0,0,0,0,0,0]
[null,null,null,null,"Distribution",{"$f":"+LabourRatios!I53","v":0.49726033250312957},{"$f":"SUM(G39,-G37)/SUM($F39,-$F37)*$F546","v":0},0,0,6.1371455705661548E-2,0.18836615882077171,5.3450945000990006E-2,3.7001206031453612E-2,6.549520956814088E-2,2.9873578804547489E-2,3.3062220586337975E-2,2.301895887880261E-2,0,5.6205991064237079E-3,0,0]
[null,null,null,null,"Meters",{"$f":"+LabourRatios!I54","v":2.9051134894704754E-2},null,null,null,null,null,null,null,null,null,null,null,{"$f":"+F547","v":2.9051134894704754E-2}]
[null,null,null,null,"Customer-Related",{"$f":"+LabourRatios!I55","v":0.33307112865203459},null,null,null,null,null,null,null,null,null,null,null,null,null,{"$f":"+F548","v":0.33307112865203459}]
[{"$f":"(SUM(G549:AD549)-1)*1000","v":0},null,"L-GTDC",null,"Total",{"$f":"SUM(F538:F548)","v":1},{"$f":"SUM(G538:G548)","v":6.2317361923847625E-2},{"$f":"SUM(H538:H548)","v":0},5.5882787711161785E-2,8.3788710020783294E-2,0.18836615882077171,5.3450945000990006E-2,3.7001206031453612E-2,6.549520956814088E-2,2.9873578804547489E-2,3.3062220586337975E-2,2.301895887880261E-2,2.9051134894704754E-2,5.6205991064237079E-3,0.33307112865203459,0]
[]
[null,null,null,null,"GTD:"]
[null,null,null,null,"Hydraulic",{"$f":"+LabourRatios!I62","v":0}]
[null,null,null,null,"Holyrood",{"$f":"+LabourRatios!I63","v":0}]
[null,null,null,null,"Diesel",{"$f":"+LabourRatios!I64","v":6.6001407319731031E-2},{"$f":"G20/$F20*$F554","v":6.6001407319731031E-2},{"$f":"H20/$F20*$F554","v":0},{"$f":"I20/$F20*$F554","v":0},{"$f":"J20/$F20*$F554","v":0}]
[null,null,null,null,"Gas Turbines",{"$f":"+LabourRatios!I65","v":0},{"$f":"G19/$F19*$F555","v":0},{"$f":"H19/$F19*$F555","v":0},{"$f":"I19/$F19*$F555","v":0},{"$f":"J19/$F19*$F555","v":0}]
[null,null,null,null,"Production - General",{"$f":"+LabourRatios!I66","v":2.7437885236152301E-2},{"$f":"G21/$F21*$F556","v":2.7437885236152301E-2},{"$f":"H21/$F21*$F556","v":0},{"$f":"I21/$F21*$F556","v":0},{"$f":"J21/$F21*$F556","v":0}]
[null,null,null,null,"Transmission Lines",{"$f":"+LabourRatios!I67","v":0},{"$f":"+G24/$F24*$F557","v":0},0,0,0,0,0,0,0,0,0,0,0,0,0,0]
[null,null,null,null,"Terminal Stations",{"$f":"+LabourRatios!I68","v":4.7284847218214722E-2},{"$f":"+G25/$F25*$F558","v":0},0,2.8735617066642172E-2,1.8549230151572553E-2,0,0,0,0,0,0,0,0,0,0,0]
[null,null,null,null,"Transmission - General",{"$f":"+LabourRatios!I69","v":7.0119040047944767E-2},{"$f":"+G26/$F26*$F559","v":0},0,5.5055608822580634E-2,1.5063431225364143E-2,0,0,0,0,0,0,0,0,0,0,0]
[null,null,null,null,"Distribution",{"$f":"+LabourRatios!I70","v":0.74559725012067657},{"$f":"SUM(G39,-G37)/SUM($F39,-$F37)*$F560","v":0},0,0,9.2020991056543142E-2,0.28243815332218986,8.0144895951134124E-2,5.5479988378173681E-2,9.82041899547174E-2,4.4792750903358568E-2,4.9573833142826998E-2,3.4514863380074944E-2,0,8.4275840316578518E-3,0,0]
[null,null,null,null,"Meters",{"$f":"+LabourRatios!I71","v":4.3559570057280561E-2},null,null,null,null,null,null,null,null,null,null,null,{"$f":"+F561","v":4.3559570057280561E-2}]
[null,null,null,null,"Customer-Related",{"$f":"+LabourRatios!I72","v":0},null,null,null,null,null,null,null,null,null,null,null,null,null,{"$f":"+F562","v":0}]
[{"$f":"(SUM(G563:AD563)-1)*1000","v":0},null,"L-GTD",null,"Total",{"$f":"SUM(F552:F562)","v":1},{"$f":"SUM(G552:G562)","v":9.3439292555883333E-2},{"$f":"SUM(H552:H562)","v":0},8.3791225889222803E-2,0.12563365243347985,0.28243815332218986,8.0144895951134124E-2,5.5479988378173681E-2,9.82041899547174E-2,4.4792750903358568E-2,4.9573833142826998E-2,3.4514863380074944E-2,4.3559570057280561E-2,8.4275840316578518E-3,0,0]
[]
[{"$f":"(SUM(G565:AE565)-1)*1000","v":0},null,"P-DisxMet",null,"Plant - Distribution excl. Meters",{"$f":"SUM(G565:V565)","v":1},{"$f":"SUM(G39,-G37)/SUM($F39,-$F37)","v":0},{"$f":"SUM(H39,-H37)/SUM($F39,-$F37)","v":0},0,0.12341916636850436,0.37880793320586498,0.10749086847914539,7.4410130092612492E-2,0.13171211393124482,6.0076335979121112E-2,6.6488755336481409E-2,4.6291564748245299E-2,0,1.1303131858780097E-2,0,0]
[]
[null,null,"Insert rows before this line to extend the ratio range"]

{"sheet":"NLSOCos","index":13,"n_rows":630,"n_cols":37,"rows_kept":630,"cut":false,"hidden":false,"merged":[[221,32,221,33],[435,20,435,21],[543,6,543,7]]}
[1,"Newfoundland and Labrador Independent System Operator"]
[8,"Plant Column Lookups"]
[6,null,null,null,null,null,null,null,null,null,null,null,null,null,null,null,null,null,null,null,null,null,null,null,"Schedule 2.2A",null,null,null,null,null,null,null,null,null,null,null,"Schedule 2.2A"]
[null,null,null,null,null,null,null,null,null,null,null,null,null,null,null,null,null,null,null,null,null,null,null,null,"Page 1 of 2",null,null,null,null,null,null,null,null,null,null,null,"Page 2 of 2"]
[null,null,null,"NEWFOUNDLAND AND LABRADOR HYDRO",null,null,null,null,null,null,null,null,null,null,null,null,null,null,null,null,null,null,null,null,null,null,null,null,"NEWFOUNDLAND & LABRADOR HYDRO"]
[null,null,null,{"$f":"RunName","v":"2019 Test Year Cost of Service Study"},null,null,null,null,null,null,null,null,null,null,null,null,null,null,null,null,null,null,null,null,null,null,null,null,{"$f":"RunName","v":"2019 Test Year Cost of Service Study"}]
[null,null,null,{"$f":"$B$1","v":"Newfoundland and Labrador Independent System Operator"},null,null,null,null,null,null,null,null,null,null,null,null,null,null,null,null,null,null,null,null,null,null,null,null,{"$f":"$B$1","v":"Newfoundland and Labrador Independent System Operator"}]
[null,null,null,"Functional Classification of Plant in Service for the Allocation of O&M Expense",null,null,null,null,null,null,null,null,null,null,null,null,null,null,null,null,null,null,null,null,null,null,null,null,{"$f":"+D8&\" (CONT'D.)\"","v":"Functional Classification of Plant in Service for the Allocation of O&M Expense (CONT'D.)"}]
[null,null,null,null,{"$f":"MAX(D9)+NoOne","v":1},2,3,4,5,6,{"$f":"MAX(J9)+NoOne","v":7},{"$f":"MAX(K9)+NoOne","v":8},{"$f":"MAX(L9)+NoOne","v":9},10,11,12,13,14,15,16,17,18,19,20,21]
[null,null,null,null,null,null,"Production and",null,"Transmission","Transmission",null,"Scheduling, ","Rural Prod &","Distribution",null,null,null,null,null,null,null,null,null,null,"Specifically",null,null,null,null,null,{"$f":"MAX(AD10)+NoOne","v":1},null,{"$f":"MAX(Y9)+NoOne","v":22}]
["Check","Alloc","Code","Line",null,"Total","Transmission","Production","Point-to-Point","Network Service","Ancillary","System control","Transmission","Substations","Primary Lines",null,"Line Transformers",null,"Secondary Lines",null,"Services","Meters","Street Lighting","Accounting","Assigned"]
["Column","Factor","Reference","No.","Description ","Amount","Demand","Energy","Demand","Demand","Services","& Dispatch","Demand","Demand","Demand","Customer","Demand","Customer","Demand","Customer","Customer","Customer","Customer","Customer","Customer",null,null,null,null,null,"Description ",null,"Basis of Functional Classification"]
[{"$f":"ROUND(SUM(A14:A649),2)","v":0},null,null,null,null,"($)","($)","($)","($)","($)","($)","($)","($)","($)","($)","($)","($)","($)","($)","($)","($)","($)","($)","($)","($)"]
[null,null,null,null,"Production Hydraulic"," ",null,null,null,null,null,null,null,null,null,null,null,null,null,null,null,null,null,null,null,null,null,null,null,null,{"$f":"IF(ISBLANK(E14),\"\",E14)","v":"Production Hydraulic"}]
[null,null,"P01",{"$f":"MAX(D12:D14)+NoOne","v":1},"Bay D'Espoir",283399657.96871012,{"$f":"($F15-$K15)*'Schedule 4.1'!$D$13","v":127444538.48032574},{"$f":"($F15-$K15)*'Schedule 4.1'!$E$13","v":153277641.93838438},0,0,2677477.5499999998,0,0,0,0,0,0,0,0,0,0,0,0,0,0,null,null,null,null,null,{"$f":"IF(ISBLANK(E15),\"\",E15)","v":"Bay D'Espoir"},null,{"$f":"+\"Production - Demand, Energy ratios Sch.4.1 L.\"&'Schedule 4.1'!$A$13","v":"Production - Demand, Energy ratios Sch.4.1 L.1"}]
[null,null,"P10",2,"Upper Salmon",177079567.16704985,{"$f":"($F16-$K16)*'Schedule 4.1'!$D$13","v":80086572.102167398},{"$f":"($F16-$K16)*'Schedule 4.1'!$E$13","v":96320180.284882456},0,0,672814.78,0,0,0,0,0,0,0,0,0,0,0,0,0,0,null,null,null,null,null,"Upper Salmon",null,{"$f":"+\"Production - Demand, Energy ratios Sch.4.1 L.\"&'Schedule 4.1'!$A$13","v":"Production - Demand, Energy ratios Sch.4.1 L.1"}]
[null,null,"P05",3,"Hinds Lake",86138997.553250045,{"$f":"($F17-$K17)*'Schedule 4.1'!$D$13","v":38788852.977950118},{"$f":"($F17-$K17)*'Schedule 4.1'!$E$13","v":46651382.545299925},0,0,698762.03,0,0,0,0,0,0,0,0,0,0,0,0,0,0,null,null,null,null,null,"Hinds Lake",null,{"$f":"+\"Production - Demand, Energy ratios Sch.4.1 L.\"&'Schedule 4.1'!$A$13","v":"Production - Demand, Energy ratios Sch.4.1 L.1"}]
[null,null,"P02",4,"Cat Arm",279565999.93999994,{"$f":"($F18-$K18)*'Schedule 4.1'!$D$13","v":126504444.7797785},{"$f":"($F18-$K18)*'Schedule 4.1'!$E$13","v":152146990.54022142},0,0,914564.62,0,0,0,0,0,0,0,0,0,0,0,0,0,0,null,null,null,null,null,"Cat Arm",null,{"$f":"+\"Production - Demand, Energy ratios Sch.4.1 L.\"&'Schedule 4.1'!$A$13","v":"Production - Demand, Energy ratios Sch.4.1 L.1"}]
[null,null,"P08",5,"Paradise River",22797149.34999999,{"$f":"($F19-$K19)*'Schedule 4.1'!$D$13","v":10250091.382615997},{"$f":"($F19-$K19)*'Schedule 4.1'!$E$13","v":12327792.587383995},0,0,219265.38,0,0,0,0,0,0,0,0,0,0,0,0,0,0,null,null,null,null,null,"Paradise River",null,{"$f":"+\"Production - Demand, Energy ratios Sch.4.1 L.\"&'Schedule 4.1'!$A$13","v":"Production - Demand, Energy ratios Sch.4.1 L.1"}]
[null,null,"P09",6,"Granite Canal",113415629.00999998,{"$f":"($F20-$K20)*'Schedule 4.1'!$D$13","v":50994309.408635117},{"$f":"($F20-$K20)*'Schedule 4.1'!$E$13","v":61330894.141364865},0,0,1090425.46,0,0,0,0,0,0,0,0,0,0,0,0,0,0,null,null,null,null,null,"Granite Canal",null,{"$f":"+\"Production - Demand, Energy ratios Sch.4.1 L.\"&'Schedule 4.1'!$A$13","v":"Production - Demand, Energy ratios Sch.4.1 L.1"}]
[null,null,"P12",7,"Exploits",0,{"$f":"($F21-$K21)*'Schedule 4.1'!$D$13","v":0},{"$f":"($F21-$K21)*'Schedule 4.1'!$E$13","v":0},0,0,0,0,0,0,0,0,0,0,0,0,0,0,0,0,0,null,null,null,null,null,"Exploits"]
[null,null,"P13",8,"Star Lake",0,{"$f":"($F22-$K22)*'Schedule 4.1'!$D$13","v":0},{"$f":"($F22-$K22)*'Schedule 4.1'!$E$13","v":0},0,0,0,0,0,0,0,0,0,0,0,0,0,0,0,0,0,null,null,null,null,null,"Star Lake"]
[null,null,"P07",{"$f":"MAX(D20:D22)+NoOne","v":9},"Other Hydraulic",5376974.5100000016,{"$f":"($F23-$K23)*'Schedule 4.1'!$D$13","v":2441082.6170747173},{"$f":"($F23-$K23)*'Schedule 4.1'!$E$13","v":2935891.8929252843},0,0,0,0,{"$f":"+SPLTDetails!$J13","v":0},0,0,0,0,0,0,0,0,0,0,0,0,null,null,null,null,null,"Other Hydraulic",null,{"$f":"+\"Production - Demand, Energy ratios Sch.4.1 L.\"&'Schedule 4.1'!$A$13&\", \"&'Schedule 4.1'!$A$14","v":"Production - Demand, Energy ratios Sch.4.1 L.1, 2"}]
[{"$f":"SUM(G24:Y24)-F24","v":0},null," ",{"$f":"MAX(D19:D23)+NoOne","v":10},"Subtotal Hydraulic",{"$f":"SUM(F15:F23)","v":967773975.49900997},436509891.74854761,524990773.9304623,0,0,6273309.8200000003,0,0,0,0,0,0,0,0,0,0,0,0,0,0,null,null,null,null,null,"Subtotal Hydraulic"]
[null,null,"P06",{"$f":"MAX(D20:D24)+NoOne","v":11},"Holyrood",322171222.6700002,{"$f":"($F25-$K25)*'Schedule 4.1'!$D$13","v":144445667.02733153},{"$f":"($F25-$K25)*'Schedule 4.1'!$E$13","v":173724911.98266864},0,0,4000643.6599999997,0,0,0,0,0,0,0,0,0,0,0,0,0,0,null,null,null,null,null,"Holyrood",null,{"$f":"+\"Production - Demand, Energy ratios Sch.4.1 L.\"&'Schedule 4.1'!$A$15","v":"Production - Demand, Energy ratios Sch.4.1 L.3"}]
[null,null,"P04",{"$f":"MAX(D23:D25)+NoOne","v":12},"Gas Turbines",190828508.17500022,{"$f":"($F26-$K26)*'Schedule 4.1'!$D$13","v":86365958.410843611},{"$f":"($F26-$K26)*'Schedule 4.1'!$E$13","v":103872402.9041566},0,0,590146.86,0,{"$f":"$F26*'Schedule 4.1'!I16","v":0},{"$f":"$F26*'Schedule 4.1'!J16","v":0},{"$f":"$F26*'Schedule 4.1'!K16","v":0},{"$f":"$F26*'Schedule 4.1'!L16","v":0},{"$f":"$F26*'Schedule 4.1'!M16","v":0},{"$f":"$F26*'Schedule 4.1'!N16","v":0},{"$f":"$F26*'Schedule 4.1'!O16","v":0},{"$f":"$F26*'Schedule 4.1'!P16","v":0},{"$f":"$F26*'Schedule 4.1'!Q16","v":0},{"$f":"$F26*'Schedule 4.1'!R16","v":0},{"$f":"$F26*'Schedule 4.1'!S16","v":0},{"$f":"$F26*'Schedule 4.1'!T16","v":0},{"$f":"$F26*'Schedule 4.1'!U16","v":0},null,null,null,null,null,"Gas Turbines",null,{"$f":"+\"Production - Demand, Energy ratios Sch.4.1 L.\"&'Schedule 4.1'!$A$16","v":"Production - Demand, Energy ratios Sch.4.1 L.4"}]
[null,null,"P04",{"$f":"MAX(D24:D26)+NoOne","v":13},"Gas Turbines - Labrador",24050127.199999996,{"$f":"($F27-$K27)*'Schedule 4.1'!$D$21","v":24050127.199999996},{"$f":"($F27-$K27)*'Schedule 4.1'!$E$21","v":0},0,0,0,0,{"$f":"$F27*'Schedule 4.1'!I21","v":0},{"$f":"$F27*'Schedule 4.1'!J21","v":0},{"$f":"$F27*'Schedule 4.1'!K21","v":0},{"$f":"$F27*'Schedule 4.1'!L21","v":0},{"$f":"$F27*'Schedule 4.1'!M21","v":0},{"$f":"$F27*'Schedule 4.1'!N21","v":0},{"$f":"$F27*'Schedule 4.1'!O21","v":0},{"$f":"$F27*'Schedule 4.1'!P21","v":0},{"$f":"$F27*'Schedule 4.1'!Q21","v":0},{"$f":"$F27*'Schedule 4.1'!R21","v":0},{"$f":"$F27*'Schedule 4.1'!S21","v":0},{"$f":"$F27*'Schedule 4.1'!T21","v":0},{"$f":"$F27*'Schedule 4.1'!U21","v":0}]
[null,null,"P03",{"$f":"MAX(D25:D27)+NoOne","v":14},"Diesel - Labrador",3341091.2200000011,{"$f":"($F28-$K28)*'Schedule 4.1'!$D$21","v":3341091.2200000011},{"$f":"($F28-$K28)*'Schedule 4.1'!$E$21","v":0},0,0,0,0,{"$f":"$F28*'Schedule 4.1'!I18","v":0},{"$f":"$F28*'Schedule 4.1'!J18","v":0},{"$f":"$F28*'Schedule 4.1'!K18","v":0},{"$f":"$F28*'Schedule 4.1'!L18","v":0},{"$f":"$F28*'Schedule 4.1'!M18","v":0},{"$f":"$F28*'Schedule 4.1'!N18","v":0},{"$f":"$F28*'Schedule 4.1'!O18","v":0},{"$f":"$F28*'Schedule 4.1'!P18","v":0},{"$f":"$F28*'Schedule 4.1'!Q18","v":0},{"$f":"$F28*'Schedule 4.1'!R18","v":0},{"$f":"$F28*'Schedule 4.1'!S18","v":0},{"$f":"$F28*'Schedule 4.1'!T18","v":0},{"$f":"$F28*'Schedule 4.1'!U18","v":0}]
[null,null,"P11",{"$f":"MAX(D24:D26)+NoOne","v":13},"Roddickton",0,{"$f":"($F29-$K29)*'Schedule 4.1'!$D$13","v":0},{"$f":"($F29-$K29)*'Schedule 4.1'!$E$13","v":0},0,0,0,0,{"$f":"$F29*'Schedule 4.1'!I15","v":0},{"$f":"$F29*'Schedule 4.1'!J15","v":0},{"$f":"$F29*'Schedule 4.1'!K15","v":0},{"$f":"$F29*'Schedule 4.1'!L15","v":0},{"$f":"$F29*'Schedule 4.1'!M15","v":0},{"$f":"$F29*'Schedule 4.1'!N15","v":0},{"$f":"$F29*'Schedule 4.1'!O15","v":0},{"$f":"$F29*'Schedule 4.1'!P15","v":0},{"$f":"$F29*'Schedule 4.1'!Q15","v":0},{"$f":"$F29*'Schedule 4.1'!R15","v":0},{"$f":"$F29*'Schedule 4.1'!S15","v":0},{"$f":"$F29*'Schedule 4.1'!T15","v":0},{"$f":"$F29*'Schedule 4.1'!U15","v":0},null,null,null,null,null,"Roddickton",null,{"$f":"+\"Production - Demand, Energy ratios Sch.4.1 L.\"&'Schedule 4.1'!$A$15","v":"Production - Demand, Energy ratios Sch.4.1 L.3"}]
[null,null,{"$f":"+SPLTDetails!C18","v":"SPLT2"},{"$f":"MAX(D25:D29)+NoOne","v":15},"Diesel",{"$f":"SUM(G30:Y30)","v":9249661.1099999975},{"$f":"+SPLTDetails!$E18*'Schedule 4.1'!D$16","v":9249661.1099999975},{"$f":"+SPLTDetails!$E18*'Schedule 4.1'!E$16","v":0},0,0,0,0,{"$f":"+SPLTDetails!$J18","v":0},0,0,0,0,0,0,0,0,0,0,0,0,null,null,null,null,null,"Diesel",null,{"$f":"+\"Production - Demand, Energy ratios Sch.4.1 L.\"&'Schedule 4.1'!$A$17","v":"Production - Demand, Energy ratios Sch.4.1 L.5"}]
[{"$f":"SUM(G31:Y31)-F31","v":0},null," ",{"$f":"MAX(D26:D30)+NoOne","v":16},"Subtotal Production",{"$f":"SUM(F24:F30)","v":1517414585.8740103},{"$f":"SUM(G24:G30)","v":703962396.71672285},802588088.81728756,0,0,10864100.34,0,0,0,0,0,0,0,0,0,0,0,0,0,0,null,null,null,null,null,"Subtotal Production"]
[null,null,null,null,"Transmission",null,null,null,null,null,null,null,null,null,null,null,null,null,null,null,null,null,null,null,null,null,null,null,null,null,"Transmission"]
[null,null,{"$f":"+SPLTDetails!C35","v":"SPLT3"},{"$f":"MAX(D30:D32)+NoOne","v":17},"Lines",{"$f":"SUM(G33:Y33)","v":670434679.21000051},{"$f":"SPLTDetails!E35*'Schedule 4.1'!D34","v":25369555.993927419},{"$f":"SPLTDetails!E35*'Schedule 4.1'!E34","v":30511984.006072573},{"$f":"SPLTDetails!F35","v":435470929.27000028},{"$f":"SPLTDetails!G35","v":38381282.480000012},{"$f":"SPLTDetails!H35","v":0},0,{"$f":"SPLTDetails!J35","v":103774304.52000016},0,{"$f":"+SPLTDetails!K35","v":0},0,0,0,0,0,0,0,0,0,{"$f":"SPLTDetails!M35","v":36926622.940000005},null,null,null,null,null,"Lines",null,{"$f":"\"Production - Demand, Energy ratios Sch.4.1 L.\"&'Schedule 4.1'!$A$34 & \" Transmission - Demand; Distribution - Primary Demand; Spec Assigned - Custmr\"","v":"Production - Demand, Energy ratios Sch.4.1 L.17 Transmission - Demand; Distribution - Primary Demand; Spec Assigned - Custmr"}]
[null,null,{"$f":"+SPLTDetails!C52","v":"SPLT4"},{"$f":"MAX(D31:D33)+NoOne","v":18},"Terminal Stations ",{"$f":"SUM(G34:Y34)","v":289486824.89590025},{"$f":"+SPLTDetails!E52*G31/F31","v":0},{"$f":"+SPLTDetails!E52*H31/F31","v":0},{"$f":"SPLTDetails!F52","v":64736612.380000025},{"$f":"SPLTDetails!G52","v":162349293.7817502},{"$f":"SPLTDetails!H52","v":945443.49000000011},0,{"$f":"SPLTDetails!J52","v":23792646.75600002},0,0,0,0,0,0,0,0,0,0,0,{"$f":"SPLTDetails!M52","v":37662828.488149971},null,null,null,null,null,"Terminal Stations ",null,{"$f":"+\"Production - Demand, Energy subtotals, L. \"&D31&\"; Transmission - Demand; Spec Assigned - Custmr\"","v":"Production - Demand, Energy subtotals, L. 16; Transmission - Demand; Spec Assigned - Custmr"}]
[null,null,{"$f":"+SPLTDetails!C59","v":"SPLT5"},{"$f":"MAX(D33:D34)+NoOne","v":19},"Term Stns - Hydraulic",{"$f":"SUM(G35:Y35)","v":47364963.839950003},{"$f":"SPLTDetails!D59*'Schedule 4.1'!D34","v":21503131.486497317},{"$f":"SPLTDetails!E59*'Schedule 4.1'!E34","v":25861832.353452686},0,0,0,0,0,0,0,0,0,0,0,0,0,0,0,0,0,null,null,null,null,null,"Term Stns - Hydraulic",null,{"$f":"+\"Production - Demand, Energy ratios Sch.4.1 L.\"&'Schedule 4.1'!$A$38","v":"Production - Demand, Energy ratios Sch.4.1 L.20"}]
[null,null,"T24",{"$f":"MAX(D34:D35)+NoOne","v":20},"Term Stns - Holyrood",15100663.601999987,{"$f":"$F36*'Schedule 4.1'!D$39","v":10504021.60155119},{"$f":"$F36*'Schedule 4.1'!E$39","v":4596642.000448796},0,0,0,0,0,0,0,0,0,0,0,0,0,0,0,0,0,null,null,null,null,null,"Term Stns - Holyrood",null,{"$f":"+\"Production - Demand, Energy ratios Sch.4.1 L.\"&'Schedule 4.1'!$A$39","v":"Production - Demand, Energy ratios Sch.4.1 L.21"}]
[null,null,{"$f":"+SPLTDetails!C65","v":"SPLT6"},{"$f":"MAX(D35:D36)+NoOne","v":21},"Term Stns - Gas Tur/Dsl",{"$f":"SUM(G37:Y37)","v":763575.66999999993},{"$f":"+SPLTDetails!$E65*'Schedule 4.1'!D$40","v":763575.66999999993},{"$f":"+SPLTDetails!$E65*'Schedule 4.1'!E$40","v":0},0,0,0,0,{"$f":"+SPLTDetails!$J65","v":0},0,0,0,0,0,0,0,0,0,0,0,0,null,null,null,null,null,"Term Stns - Gas Tur/Dsl",null,{"$f":"+\"Production - Demand, Energy ratios Sch.4.1 L.\"&'Schedule 4.1'!$A$40&\", \"&'Schedule 4.1'!$A$41","v":"Production - Demand, Energy ratios Sch.4.1 L.22, 23"}]
[null,null,{"$f":"+SPLTDetails!C$139","v":"SPLT16"},{"$f":"MAX(D35:D37)+NoOne","v":22},"Lines - Labrador",{"$f":"SUM(G38:V38)","v":44748091.329999998},0,{"$f":"+SPLTDetails!G139*'Schedule 4.1'!E32","v":0},{"$f":"+SPLTDetails!F139","v":24381254},{"$f":"+SPLTDetails!G139","v":18169808.190000001},{"$f":"+SPLTDetails!H139","v":0},0,{"$f":"+SPLTDetails!J139","v":2197029.14},{"$f":"+SPLTDetails!K139","v":0},0,0,0,0,0,0,0,0,0,0,{"$f":"+SPLTDetails!M139","v":0}]
[null,null,{"$f":"+SPLTDetails!C$153","v":"SPLT17"},{"$f":"MAX(D36:D38)+NoOne","v":23},"Terminal Stations - Labrador",{"$f":"SUM(G39:V39)","v":41789870.774999991},0,{"$f":"+SPLTDetails!G153*'Schedule 4.1'!E36","v":0},{"$f":"+SPLTDetails!F153","v":0},{"$f":"+SPLTDetails!G153","v":25396248.365000006},{"$f":"+SPLTDetails!H153","v":0},0,{"$f":"+SPLTDetails!J153","v":0},{"$f":"+SPLTDetails!K153","v":16393622.409999989},0,0,0,0,0,0,0,0,0,0,{"$f":"+SPLTDetails!M153","v":0}]
[null,null,"T18",{"$f":"MAX(D35:D37)+NoOne","v":22},"Term Stns - Distribution",14079693.219999975,0,0,0,0,0,0,0,{"$f":"F40","v":14079693.219999975},0,0,0,0,0,0,0,0,0,0,0,null,null,null,null,null,"Term Stns - Distribution",null,"Distribution - Substations Demand"]
[{"$f":"SUM(G41:Y41)-F41","v":0},null,null,{"$f":"MAX(D36:D40)+NoOne","v":24},"Subtotal Term Stns",{"$f":"SUM(F34:F40)","v":453333683.33285022},32770728.758048505,30458474.353901483,89117866.380000025,205915350.33675021,945443.49000000011,0,25989675.89600002,30473315.629999965,0,0,0,0,0,0,0,0,0,0,37662828.488149971,null,null,null,null,null,"Subtotal Term Stns"]
[null,null,"G06",{"$f":"MAX(D37:D41)+NoOne","v":25},"NLSO",{"$f":"SUM(G42:Y42)","v":17679694.379999995},0,0,0,0,0,17679694.379999995,0,0,0,0,0,0,0,0,0,0,0,0,0]
[{"$f":"SUM(G43:Y43)-F43","v":0},null," ",{"$f":"MAX(D39:D42)+NoOne","v":26},"Subtotal Transmission",{"$f":"SUM(F33:F33,F41:F42)","v":1141448056.9228506},{"$f":"SUM(G33:G33,G41:G42)","v":58140284.751975924},60970458.359974056,524588795.65000033,244296632.81675023,945443.49000000011,17679694.379999995,129763980.41600019,30473315.629999965,0,0,0,0,0,0,0,0,0,0,74589451.428149968,null,null,null,null,null,"Subtotal Transmission"]
[null,null,null,{"$f":"MAX(D40:D43)+NoOne","v":27},"Distribution",null,null,null,null,null,null,null,null,null,null,null,null,null,null,null,null,null,null,null,null,null,null,null,null,null,"Distribution"]
[null,null,{"$f":"+SPLTDetails!C71","v":"SPLT7"},{"$f":"MAX(D41:D44)+NoOne","v":28},"Substations",{"$f":"SUM(G45:Y45)","v":21675677.137249965},{"$f":"+SPLTDetails!E71+SPLTDetails!E159","v":0},0,{"$f":"+SPLTDetails!F71","v":0},{"$f":"+SPLTDetails!G71","v":0},{"$f":"+SPLTDetails!H71","v":0},{"$f":"+SPLTDetails!I71","v":0},{"$f":"+SPLTDetails!J71","v":0},{"$f":"+SPLTDetails!K71+SPLTDetails!K159","v":21675677.137249965},0,0,0,0,0,0,0,0,0,0,0,null,null,null,null,null,"Substations",null,"Production - Demand; Dist Substns - Demand"]
[null,null,"D11",{"$f":"MAX(D42:D45)+NoOne","v":29},"Land & Land Improvements",{"$f":"DistnDetails!C13+DistnDetails!C22+DistnDetails!G13+DistnDetails!G22","v":5705524.5721480325},{"$f":"$F46*'Schedule 4.1'!D$62","v":0},{"$f":"$F46*'Schedule 4.1'!E$62","v":0},0,{"$f":"$F46*'Schedule 4.1'!G$62","v":0},{"$f":"$F46*'Schedule 4.1'!H$62","v":0},{"$f":"$F46*'Schedule 4.1'!I$62","v":0},{"$f":"$F46*'Schedule 4.1'!I$62","v":0},{"$f":"$F46*'Schedule 4.1'!J$62","v":0},{"$f":"$F46*'Schedule 4.1'!K$62","v":4301680.2511710087},{"$f":"$F46*'Schedule 4.1'!L$62","v":548015.63515481853},{"$f":"$F46*'Schedule 4.1'!M$62","v":0},{"$f":"$F46*'Schedule 4.1'!N$62","v":0},{"$f":"$F46*'Schedule 4.1'!O$62","v":498948.12383434537},{"$f":"$F46*'Schedule 4.1'!P$62","v":356880.56198785937},{"$f":"$F46*'Schedule 4.1'!Q$62","v":0},{"$f":"$F46*'Schedule 4.1'!R$62","v":0},{"$f":"$F46*'Schedule 4.1'!S$62","v":0},{"$f":"$F46*'Schedule 4.1'!T$62","v":0},{"$f":"$F46*'Schedule 4.1'!U$62","v":0},null,null,null,null," ","Land & Land Improvements",null,{"$f":"+\"Primary, Secondary - Demand, Customer - zero intercept ratios Sch.4.1 L.\"&'Schedule 4.1'!$A$62","v":"Primary, Secondary - Demand, Customer - zero intercept ratios Sch.4.1 L.32"}]
[null,null,"D11",{"$f":"MAX(D43:D46)+NoOne","v":30},"Poles",{"$f":"DistnDetails!C16+DistnDetails!C14+DistnDetails!G14+DistnDetails!G16","v":166137683.35785306},{"$f":"$F47*'Schedule 4.1'!D$67","v":0},{"$f":"$F47*'Schedule 4.1'!E$67","v":0},0,{"$f":"$F47*'Schedule 4.1'!G$67","v":0},{"$f":"$F47*'Schedule 4.1'!H$67","v":0},{"$f":"$F47*'Schedule 4.1'!I$67","v":0},{"$f":"$F47*'Schedule 4.1'!I$67","v":0},{"$f":"$F47*'Schedule 4.1'!J$67","v":0},{"$f":"$F47*'Schedule 4.1'!K$67","v":96085396.894647598},{"$f":"$F47*'Schedule 4.1'!L$67","v":32837445.391046375},{"$f":"$F47*'Schedule 4.1'!M$67","v":0},{"$f":"$F47*'Schedule 4.1'!N$67","v":0},{"$f":"$F47*'Schedule 4.1'!O$67","v":17007182.369976699},{"$f":"$F47*'Schedule 4.1'!P$67","v":20207658.702182386},{"$f":"$F47*'Schedule 4.1'!Q$67","v":0},{"$f":"$F47*'Schedule 4.1'!R$67","v":0},{"$f":"$F47*'Schedule 4.1'!S$67","v":0},{"$f":"$F47*'Schedule 4.1'!T$67","v":0},{"$f":"$F47*'Schedule 4.1'!U$67","v":0},null,null,null,null,null,"Poles",null,{"$f":"+\"Primary, Secondary - Demand, Customer - zero intercept ratios Sch.4.1 L.\"&'Schedule 4.1'!$A$67","v":"Primary, Secondary - Demand, Customer - zero intercept ratios Sch.4.1 L.37"}]
[null,null,"D11",{"$f":"MAX(D43:D47)+NoOne","v":31},"Primary Conductor & Eqpt",{"$f":"DistnDetails!C17+DistnDetails!G17","v":32067226.229999997},{"$f":"$F48*'Schedule 4.1'!D$68","v":0},{"$f":"$F48*'Schedule 4.1'!E$68","v":0},0,{"$f":"$F48*'Schedule 4.1'!G$68","v":0},{"$f":"$F48*'Schedule 4.1'!H$68","v":0},{"$f":"$F48*'Schedule 4.1'!I$68","v":0},{"$f":"$F48*'Schedule 4.1'!I$68","v":0},{"$f":"$F48*'Schedule 4.1'!J$68","v":0},{"$f":"$F48*'Schedule 4.1'!K$68","v":28443629.666009996},{"$f":"$F48*'Schedule 4.1'!L$68","v":3623596.5639899997},{"$f":"$F48*'Schedule 4.1'!M$68","v":0},{"$f":"$F48*'Schedule 4.1'!N$68","v":0},{"$f":"$F48*'Schedule 4.1'!O$68","v":0},{"$f":"$F48*'Schedule 4.1'!P$68","v":0},{"$f":"$F48*'Schedule 4.1'!Q$68","v":0},{"$f":"$F48*'Schedule 4.1'!R$68","v":0},{"$f":"$F48*'Schedule 4.1'!S$68","v":0},{"$f":"$F48*'Schedule 4.1'!T$68","v":0},{"$f":"$F48*'Schedule 4.1'!U$68","v":0},null,null,null,null,null,"Primary Conductor & Eqpt",null,{"$f":"+\"Primary - Demand, Customer - zero intercept ratios Sch.4.1 L.\"&'Schedule 4.1'!$A$68","v":"Primary - Demand, Customer - zero intercept ratios Sch.4.1 L.38"}]
[null,null,"D05",32,"Submarine Conductor",10474792.340000002,{"$f":"$F49*'Schedule 4.1'!D$69","v":0},{"$f":"$F49*'Schedule 4.1'!E$69","v":0},0,{"$f":"$F49*'Schedule 4.1'!G$69","v":0},{"$f":"$F49*'Schedule 4.1'!H$69","v":0},{"$f":"$F49*'Schedule 4.1'!I$69","v":0},{"$f":"$F49*'Schedule 4.1'!I$69","v":0},{"$f":"$F49*'Schedule 4.1'!J$69","v":0},{"$f":"$F49*'Schedule 4.1'!K$69","v":10474792.340000002},{"$f":"$F49*'Schedule 4.1'!L$69","v":0},{"$f":"$F49*'Schedule 4.1'!M$69","v":0},{"$f":"$F49*'Schedule 4.1'!N$69","v":0},{"$f":"$F49*'Schedule 4.1'!O$69","v":0},{"$f":"$F49*'Schedule 4.1'!P$69","v":0},{"$f":"$F49*'Schedule 4.1'!Q$69","v":0},{"$f":"$F49*'Schedule 4.1'!R$69","v":0},{"$f":"$F49*'Schedule 4.1'!S$69","v":0},{"$f":"$F49*'Schedule 4.1'!T$69","v":0},{"$f":"$F49*'Schedule 4.1'!U$69","v":0},null,null,null,null,null,"Submarine Conductor",null,{"$f":"+\"Primary - Demand, Customer - zero intercept ratios Sch.4.1 L.\"&'Schedule 4.1'!$A$69","v":"Primary - Demand, Customer - zero intercept ratios Sch.4.1 L.39"}]
[null,null,"D11",33,"Transformers",{"$f":"DistnDetails!C18+DistnDetails!G18","v":35973133.529999927},{"$f":"$F50*'Schedule 4.1'!D$70","v":0},{"$f":"$F50*'Schedule 4.1'!E$70","v":0},0,{"$f":"$F50*'Schedule 4.1'!G$70","v":0},{"$f":"$F50*'Schedule 4.1'!H$70","v":0},{"$f":"$F50*'Schedule 4.1'!I$70","v":0},{"$f":"$F50*'Schedule 4.1'!I$70","v":0},{"$f":"$F50*'Schedule 4.1'!J$70","v":0},{"$f":"$F50*'Schedule 4.1'!K$70","v":0},{"$f":"$F50*'Schedule 4.1'!L$70","v":0},{"$f":"$F50*'Schedule 4.1'!M$70","v":12986301.204329973},{"$f":"$F50*'Schedule 4.1'!N$70","v":22986832.325669952},{"$f":"$F50*'Schedule 4.1'!O$70","v":0},{"$f":"$F50*'Schedule 4.1'!P$70","v":0},{"$f":"$F50*'Schedule 4.1'!Q$70","v":0},{"$f":"$F50*'Schedule 4.1'!R$70","v":0},{"$f":"$F50*'Schedule 4.1'!S$70","v":0},{"$f":"$F50*'Schedule 4.1'!T$70","v":0},{"$f":"$F50*'Schedule 4.1'!U$70","v":0},null,null,null,null,null,"Transformers",null,{"$f":"+\"Transformers - Demand, Customer - zero intercept ratios Sch.4.1 L.\"&'Schedule 4.1'!$A$70","v":"Transformers - Demand, Customer - zero intercept ratios Sch.4.1 L.40"}]
[null,null,"D11",34,"Secondary Conductor&Eqpt",{"$f":"DistnDetails!C19+DistnDetails!G19","v":4402352.4699999969},{"$f":"$F51*'Schedule 4.1'!D$71","v":0},{"$f":"$F51*'Schedule 4.1'!E$71","v":0},0,{"$f":"$F51*'Schedule 4.1'!G$71","v":0},{"$f":"$F51*'Schedule 4.1'!H$71","v":0},{"$f":"$F51*'Schedule 4.1'!I$71","v":0},{"$f":"$F51*'Schedule 4.1'!I$71","v":0},{"$f":"$F51*'Schedule 4.1'!J$71","v":0},{"$f":"$F51*'Schedule 4.1'!K$71","v":0},{"$f":"$F51*'Schedule 4.1'!L$71","v":0},{"$f":"$F51*'Schedule 4.1'!M$71","v":0},{"$f":"$F51*'Schedule 4.1'!N$71","v":0},{"$f":"$F51*'Schedule 4.1'!O$71","v":2566571.490009998},{"$f":"$F51*'Schedule 4.1'!P$71","v":1835780.9799899987},{"$f":"$F51*'Schedule 4.1'!Q$71","v":0},{"$f":"$F51*'Schedule 4.1'!R$71","v":0},{"$f":"$F51*'Schedule 4.1'!S$71","v":0},{"$f":"$F51*'Schedule 4.1'!T$71","v":0},{"$f":"$F51*'Schedule 4.1'!U$71","v":0},null,null,null,null,null,"Secondary Conductor&Eqpt",null,{"$f":"+\"Secondary - Demand, Customer - zero intercept ratios Sch. 4.1 L.\"&'Schedule 4.1'!$A$71","v":"Secondary - Demand, Customer - zero intercept ratios Sch. 4.1 L.41"}]
[null,null,"D11",35,"Services",{"$f":"DistnDetails!C20+DistnDetails!G20","v":10204180.770000005},{"$f":"$F52*'Schedule 4.1'!D$72","v":0},{"$f":"$F52*'Schedule 4.1'!E$72","v":0},0,{"$f":"$F52*'Schedule 4.1'!G$72","v":0},{"$f":"$F52*'Schedule 4.1'!H$72","v":0},{"$f":"$F52*'Schedule 4.1'!I$72","v":0},{"$f":"$F52*'Schedule 4.1'!I$72","v":0},{"$f":"$F52*'Schedule 4.1'!J$72","v":0},{"$f":"$F52*'Schedule 4.1'!K$72","v":0},{"$f":"$F52*'Schedule 4.1'!L$72","v":0},{"$f":"$F52*'Schedule 4.1'!M$72","v":0},{"$f":"$F52*'Schedule 4.1'!N$72","v":0},{"$f":"$F52*'Schedule 4.1'!O$72","v":0},{"$f":"$F52*'Schedule 4.1'!P$72","v":0},{"$f":"$F52*'Schedule 4.1'!Q$72","v":10204180.770000005},{"$f":"$F52*'Schedule 4.1'!R$72","v":0},{"$f":"$F52*'Schedule 4.1'!S$72","v":0},{"$f":"$F52*'Schedule 4.1'!T$72","v":0},{"$f":"$F52*'Schedule 4.1'!U$72","v":0},null,null,null,null,null,"Services",null,"Services Customer"]
[null,null,{"$f":"+SystemizedPlant!C21","v":"SMET01"},36,"Meters",{"$f":"SUM((IF(VLOOKUP($C53,AllocatedMeters,3,FALSE)=\"\",0,VLOOKUP($C53,AllocatedMeters,3,FALSE))))+SUM((IF(VLOOKUP($C53,AllocatedMeters,9,FALSE)=\"\",0,VLOOKUP($C53,AllocatedMeters,9,FALSE))))","v":11188757.401385529},{"$f":"$F53*'Schedule 4.1'!D$73","v":0},{"$f":"$F53*'Schedule 4.1'!E$73","v":0},0,{"$f":"$F53*'Schedule 4.1'!G$73","v":0},{"$f":"$F53*'Schedule 4.1'!H$73","v":0},{"$f":"$F53*'Schedule 4.1'!I$73","v":0},{"$f":"$F53*'Schedule 4.1'!I$73","v":0},{"$f":"$F53*'Schedule 4.1'!J$73","v":0},{"$f":"$F53*'Schedule 4.1'!K$73","v":0},{"$f":"$F53*'Schedule 4.1'!L$73","v":0},{"$f":"$F53*'Schedule 4.1'!M$73","v":0},{"$f":"$F53*'Schedule 4.1'!N$73","v":0},{"$f":"$F53*'Schedule 4.1'!O$73","v":0},{"$f":"$F53*'Schedule 4.1'!P$73","v":0},{"$f":"$F53*'Schedule 4.1'!Q$73","v":0},{"$f":"$F53*'Schedule 4.1'!R$73","v":11188757.401385529},{"$f":"$F53*'Schedule 4.1'!S$73","v":0},{"$f":"$F53*'Schedule 4.1'!T$73","v":0},{"$f":"$F53*'Schedule 4.1'!U$73","v":0},null,null,null,null,null,"Meters",null,"Meters - Customer"]
[null,null,"D11",37,"Street Lighting",{"$f":"DistnDetails!C21+DistnDetails!G21","v":3342077.3100000005},{"$f":"$F54*'Schedule 4.1'!D$74","v":0},{"$f":"$F54*'Schedule 4.1'!E$74","v":0},0,{"$f":"$F54*'Schedule 4.1'!G$74","v":0},{"$f":"$F54*'Schedule 4.1'!H$74","v":0},{"$f":"$F54*'Schedule 4.1'!I$74","v":0},{"$f":"$F54*'Schedule 4.1'!I$74","v":0},{"$f":"$F54*'Schedule 4.1'!J$74","v":0},{"$f":"$F54*'Schedule 4.1'!K$74","v":0},{"$f":"$F54*'Schedule 4.1'!L$74","v":0},{"$f":"$F54*'Schedule 4.1'!M$74","v":0},{"$f":"$F54*'Schedule 4.1'!N$74","v":0},{"$f":"$F54*'Schedule 4.1'!O$74","v":0},{"$f":"$F54*'Schedule 4.1'!P$74","v":0},{"$f":"$F54*'Schedule 4.1'!Q$74","v":0},{"$f":"$F54*'Schedule 4.1'!R$74","v":0},{"$f":"$F54*'Schedule 4.1'!S$74","v":3342077.3100000005},{"$f":"$F54*'Schedule 4.1'!T$74","v":0},{"$f":"$F54*'Schedule 4.1'!U$74","v":0},null,null,null,null,null,"Street Lighting",null,"Street Lighting - Customer"]
[{"$f":"SUM(G55:Y55)-F55","v":0},null," ",38,"Subtotal Distribution",{"$f":"SUM(F45:F54)","v":301171405.11863649},{"$f":"SUM(G45:G54)","v":0},{"$f":"SUM(H45:H54)","v":0},0,0,{"$f":"SUM(K45:K54)","v":0},{"$f":"SUM(L45:L54)","v":0},0,21675677.137249965,139305499.15182859,37009057.590191193,12986301.204329973,22986832.325669952,20072701.983821042,22400320.244160242,10204180.770000005,11188757.401385529,3342077.3100000005,0,0,null,null,null,null,null,"Subtotal Distribution"]
[{"$f":"SUM(G56:Y56)-F56","v":0},null," ",39,"Subttl Prod, Trans, & Dist",{"$f":"SUM(F55,F43,F31)","v":2960034047.9154978},762102681.46869874,863558547.17726159,524588795.65000033,244296632.81675023,11809543.83,17679694.379999995,129763980.41600019,52148992.767249927,139305499.15182859,37009057.590191193,12986301.204329973,22986832.325669952,20072701.983821042,22400320.244160242,10204180.770000005,11188757.401385529,3342077.3100000005,0,74589451.428149968,null,null,null,null,null,"Subttl Prod, Trans, & Dist"]
[null,{"$f":"IF(OverheadAlloc=\"Expenses\",\"E-GTDC\",\"L-GTDC\")","v":"E-GTDC"},{"$f":"+SystemizedPlant!C99","v":"SGPLT01"},{"$f":"MAX(D54:D56)+NoOne","v":40},"General",{"$f":"SystemizedPlant!E99+SystemizedPlant!K99","v":208825610.05509198},{"$f":"$F57*VLOOKUP($B57,RatiosNLSO,G$593,FALSE)","v":62879313.861340709},71148946.268506616,16640184.607936664,11918443.484579889,1150325.6754637859,111477.13160119882,3549662.3387311334,3392948.8102066969,12500282.637344979,3320929.05761714,1165298.1142610358,2062674.5014205039,1801181.214099003,2010045.0874079366,915650.45518080145,1162889.1525776056,299894.19818470418,10608390.413920939,2187073.0447106306,null,null,null,null,null,"General",null,{"$f":"+\"Prorated on Subtotal Production, Transmission, Distribution, Accounting Expenses - Sch.2.4 L.\"&$D$283&\", \"&$D$285","v":"Prorated on Subtotal Production, Transmission, Distribution, Accounting Expenses - Sch.2.4 L.29, 30"}]
[null,null,{"$f":"+SPLTDetails!C76","v":"SPLT8"},{"$f":"MAX(D56:D57)+NoOne","v":41},"Telecontrol - Custmr & Spec",{"$f":"SUM(G58:Y58)","v":0},0,0,0,0,0,0,0,0,0,0,0,0,0,0,0,0,0,{"$f":"+SPLTDetails!L76","v":0},{"$f":"+SPLTDetails!M76","v":0},null,null,null,null,null,"Telecontrol - Custmr & Spec",null,"Specifically Assigned - Customer"]
[null,null,{"$f":"+SPLTDetails!C83","v":"SPLT9"},{"$f":"MAX(D57:D58)+NoOne","v":42},"Feasibility Studies",{"$f":"SUM(G59:Y59)","v":7603.0086790000496},{"$f":"+SPLTDetails!E83+SPLTDetails!E166","v":9794.4654045000498},0,0,{"$f":"+SPLTDetails!G83+SPLTDetails!G166","v":0},{"$f":"+SPLTDetails!H83","v":0},{"$f":"+SPLTDetails!I83","v":0},0,{"$f":"+SPLTDetails!K83+SPLTDetails!K166","v":-2191.4567255000002},0,0,0,0,0,0,0,0,0,0,0,null,null,null,null,null,"Feasibility Studies",null,"Production, Transmission - Demand"]
[null,null,"G10",{"$f":"MAX(D42:D59)+NoOne","v":43},"Feasibility Studies - General",0,{"$f":"$F60*(G$56/SUM($G$56:$Y$56))","v":0},0,0,0,0,0,0,0,0,0,{"$f":"$F60*(Q$56/SUM($G$56:$Y$56))","v":0},0,0,0,0,0,0,0,0,null,null,null,null,null,"Feasibility Studies - General",null,{"$f":"+\"Prorated on subtotal Production, Transmission, & Distribution plant - L.\"&$D$56","v":"Prorated on subtotal Production, Transmission, & Distribution plant - L.39"}]
[null,null,{"$f":"+SystemizedPlant!C62","v":"SCS2_01"},{"$f":"MAX(D59:D60)+NoOne","v":44},"Software - General",{"$f":"SystemizedPlant!E62+SystemizedPlant!K62","v":1598730.7145392387},411615.86143062677,466412.7340519643,283333.30175692157,131945.95873574322,6378.3997548994912,9548.9004421680438,70086.241500506629,28165.958607131251,75239.668393370521,19988.796117820639,7013.9729028593028,12415.314916695552,10841.377046972244,12098.536506724817,5511.3343122515971,6043.1095810266643,1805.0743874464417,0,40286.174094109723,null,null,null,null,null,"Software - General",null,{"$f":"+\"Prorated on subtotal Production, Transmission, & Distribution plant - L.\"&$D$56","v":"Prorated on subtotal Production, Transmission, & Distribution plant - L.39"}]
[{"$f":"SUM(G62:Y62)-F62","v":0},null," ",{"$f":"MAX(D60:D61)+NoOne","v":45},"Total Plant",{"$f":"SUM(F56:F61)","v":3170465991.6938076},825403405.65687466,935173906.17982018,541512313.55969393,256347022.26006585,12966247.905218685,17800720.412043363,133383728.99623184,55567916.079338253,151881021.45756695,40349975.443926156,14158613.291493868,25061922.142007153,21884724.574967019,24422463.868074901,11125342.559493057,12357689.663544161,3643776.5825721514,10608390.413920939,76816810.646954715,null,null,null,null,null,"Total Plant"]
[]
[]
[null,null,null,null,null,null,null,null,null,null,null,null,null,null,null,null,null,null,null,null,null,null,null,null,"Schedule 2.3A"]
[null,null,null,null,null,null,null,null,null,null,null,null,null,null,null,null,null,null,null,null,null,null,null,null," Page 1 of 1"]
[null,null,null,{"$f":"D5","v":"NEWFOUNDLAND AND LABRADOR HYDRO"}]
[null,null,null,{"$f":"D6","v":"2019 Test Year Cost of Service Study"}]
[null,null,null,{"$f":"$B$1","v":"Newfoundland and Labrador Independent System Operator"}]
[null,null,null,"Functional Classification of Net Book Value"]
[null,null,null,null,{"$f":"MAX(D71)+NoOne","v":1},2,3,4,5,6,{"$f":"MAX(J71)+NoOne","v":7},{"$f":"MAX(K71)+NoOne","v":8},{"$f":"MAX(L71)+NoOne","v":9},10,11,12,13,14,15,16,17,18,19,20,21]
[null,null,null,null,null,null,"Production and",null,"Transmission","Transmission",null,"Scheduling, ","Rural Prod &","Distribution",null,null,null,null,null,null,null,null,null,null,"Specifically"]
[null,null,null,"Line",null,"Total","Transmission","Production","Point-to-Point","Network Service","Ancillary","System control","Transmission","Substations","Primary Lines",null,"Line Transformers",null,"Secondary Lines",null,"Services","Meters","Street Lighting","Accounting","Assigned"]
[null,null,null,"No.","Description ","Amount","Demand","Energy","Demand","Demand","Services","& Dispatch","Demand","Demand","Demand","Customer","Demand","Customer","Demand","Customer","Customer","Customer","Customer","Customer","Customer"]
[null,null,null,null,null,"($)","($)","($)","($)","($)","($)","($)","($)","($)","($)","($)","($)","($)","($)","($)","($)","($)","($)","($)","($)"]
[null,null,null,null,"Production Hydraulic"]
[null,null,"P01",{"$f":"MAX(D74:D76)+NoOne","v":1},"Bay D'Espoir",203146479.39946762,{"$f":"($F77-$K77)*'Schedule 4.1'!$D$13","v":91885102.822749183},{"$f":"($F77-$K77)*'Schedule 4.1'!$E$13","v":110510282.02445243},0,0,751094.55226600019,0,0,0,0,0,0,0,0,0,0,0,0,0,0]
[null,null,"P10",2,"Upper Salmon",140844704.5499748,{"$f":"($F78-$K78)*'Schedule 4.1'!$D$13","v":63791194.675235011},{"$f":"($F78-$K78)*'Schedule 4.1'!$E$13","v":76721717.641606793},0,0,331792.23313299997,0,0,0,0,0,0,0,0,0,0,0,0,0,0]
[null,null,"P05",3,"Hinds Lake",66118692.993905954,{"$f":"($F79-$K79)*'Schedule 4.1'!$D$13","v":29890864.2730169},{"$f":"($F79-$K79)*'Schedule 4.1'!$E$13","v":35949764.861643054},0,0,278063.85924599995,0,0,0,0,0,0,0,0,0,0,0,0,0,0]
[null,null,"P02",4,"Cat Arm",220285932.67962217,{"$f":"($F80-$K80)*'Schedule 4.1'!$D$13","v":99915052.665889904},{"$f":"($F80-$K80)*'Schedule 4.1'!$E$13","v":120167908.71851526},0,0,202971.29521700001,0,0,0,0,0,0,0,0,0,0,0,0,0,0]
[null,null,"P08",5,"Paradise River",17399980.115631498,{"$f":"($F81-$K81)*'Schedule 4.1'!$D$13","v":7886974.278100159},{"$f":"($F81-$K81)*'Schedule 4.1'!$E$13","v":9485669.8748413399},0,0,27335.96269,0,0,0,0,0,0,0,0,0,0,0,0,0,0]
[null,null,"P09",6,"Granite Canal",90979070.920652002,{"$f":"($F82-$K82)*'Schedule 4.1'!$D$13","v":41043622.052768067},{"$f":"($F82-$K82)*'Schedule 4.1'!$E$13","v":49363195.001327932},0,0,572253.86655599996,0,0,0,0,0,0,0,0,0,0,0,0,0,0]
[null,null,"P12",7,"Exploits",0,{"$f":"($F83-$K83)*'Schedule 4.1'!$D$13","v":0},{"$f":"($F83-$K83)*'Schedule 4.1'!$E$13","v":0},0,0,0,0,0,0,0,0,0,0,0,0,0,0,0,0,0]
[null,null,"P13",8,"Star Lake",0,{"$f":"($F84-$K84)*'Schedule 4.1'!$D$13","v":0},{"$f":"($F84-$K84)*'Schedule 4.1'!$E$13","v":0},0,0,0,0,0,0,0,0,0,0,0,0,0,0,0,0,0]
[null,null,"P07",9,"Other Small Hydraulic",3071304.7630079999,{"$f":"($F85-$K85)*'Schedule 4.1'!$D$13","v":1394335.9141417262},{"$f":"($F85-$K85)*'Schedule 4.1'!$E$13","v":1676968.8488662736},0,0,0,0,{"$f":"+SNBVDetails!J12","v":0},0,0,0,0,0,0,0,0,0,0,0,0]
[{"$f":"SUM(G86:Y86)-F86","v":0},null," ",10,"Subtotal Hydraulic",{"$f":"SUM(F77:F85)","v":741846165.42226207},{"$f":"SUM(G77:G85)","v":335807146.68190092},403875506.9712531,0,0,2163511.7691080002,0,0,0,0,0,0,0,0,0,0,0,0,0,0]
[null,null,{"$f":"+SNBVDetails!C12","v":"SNBV1"},{"$f":"MAX(D82:D86)+NoOne","v":11},"Holyrood",{"$f":"SUM(G87:Y87)","v":85174253.275568143},{"$f":"SNBVDetails!E12*'Schedule 4.1'!$D$15","v":58797772.716536716},{"$f":"SNBVDetails!E12*'Schedule 4.1'!$E$15","v":25730365.17382659},0,0,{"$f":"SNBVDetails!H12*'Schedule 4.1'!$H$15","v":646115.38520483358},0,0,0,0,0,0,0,0,0,0,0,0,0,0]
[null,null,"P04",{"$f":"MAX(D85:D87)+NoOne","v":12},"Gas Turbines",148144206.85881543,{"$f":"($F88-K88)*'Schedule 4.1'!D$16","v":147798257.83361292},{"$f":"$F88*'Schedule 4.1'!E$16","v":0},{"$f":"$F88*'Schedule 4.1'!F$16","v":0},{"$f":"$F88*'Schedule 4.1'!G$16","v":0},345949.02520249994,0,{"$f":"$F88*'Schedule 4.1'!I$16","v":0},{"$f":"$F88*'Schedule 4.1'!J$16","v":0},{"$f":"$F88*'Schedule 4.1'!K$16","v":0},{"$f":"$F88*'Schedule 4.1'!L$16","v":0},{"$f":"$F88*'Schedule 4.1'!M$16","v":0},{"$f":"$F88*'Schedule 4.1'!N$16","v":0},{"$f":"$F88*'Schedule 4.1'!O$16","v":0},{"$f":"$F88*'Schedule 4.1'!P$16","v":0},{"$f":"$F88*'Schedule 4.1'!Q$16","v":0},{"$f":"$F88*'Schedule 4.1'!R$16","v":0},{"$f":"$F88*'Schedule 4.1'!S$16","v":0},{"$f":"$F88*'Schedule 4.1'!T$16","v":0},{"$f":"$F88*'Schedule 4.1'!U$16","v":0}]
[null,null,"P04",{"$f":"MAX(D86:D88)+NoOne","v":13},"Gas Turbines - Labrador",5670380.9998925002,{"$f":"$F89*'Schedule 4.1'!$D$21","v":5670380.9998925002},{"$f":"$F89*'Schedule 4.1'!$E$21","v":0},0,0,0,0,0,0,0,0,0,0,0,0,0,0,0,0,0]
[null,null,"P03",{"$f":"MAX(D87:D89)+NoOne","v":14},"Diesel - Labrador",507192.00839849911,{"$f":"$F90*'Schedule 4.1'!$D$21","v":507192.00839849911},{"$f":"$F90*'Schedule 4.1'!$E$21","v":0},0,0,0,0,0,0,0,0,0,0,0,0,0,0,0,0,0]
[null,null,"P11",{"$f":"MAX(D86:D88)+NoOne","v":13},"Roddickton",0,{"$f":"($F91-K91)*'Schedule 4.1'!D$15","v":0},{"$f":"($F91-K91)*'Schedule 4.1'!E$15","v":0},{"$f":"$F91*'Schedule 4.1'!F$16","v":0},{"$f":"$F91*'Schedule 4.1'!G$16","v":0},0,0,{"$f":"$F91*'Schedule 4.1'!I$16","v":0},{"$f":"$F91*'Schedule 4.1'!J$16","v":0},{"$f":"$F91*'Schedule 4.1'!K$16","v":0},{"$f":"$F91*'Schedule 4.1'!L$16","v":0},{"$f":"$F91*'Schedule 4.1'!M$16","v":0},{"$f":"$F91*'Schedule 4.1'!N$16","v":0},{"$f":"$F91*'Schedule 4.1'!O$16","v":0},{"$f":"$F91*'Schedule 4.1'!P$16","v":0},{"$f":"$F91*'Schedule 4.1'!Q$16","v":0},{"$f":"$F91*'Schedule 4.1'!R$16","v":0},{"$f":"$F91*'Schedule 4.1'!S$16","v":0},{"$f":"$F91*'Schedule 4.1'!T$16","v":0},{"$f":"$F91*'Schedule 4.1'!U$16","v":0}]
[null,null,{"$f":"+SNBVDetails!C17","v":"SNBV2"},{"$f":"MAX(D87:D91)+NoOne","v":15},"Diesel",{"$f":"SUM(G92:Y92)","v":2474283.9408306614},{"$f":"+SNBVDetails!$E17*'Schedule 4.1'!D$16","v":2474283.9408306614},{"$f":"+SNBVDetails!$E17*'Schedule 4.1'!E$16","v":0},0,0,{"$f":"+SNBVDetails!$H17*'Schedule 4.1'!H$16","v":0},0,{"$f":"+SNBVDetails!J17","v":0},0,0,0,0,0,0,0,0,0,0,0,0]
[null,null,null,{"$f":"MAX(D88:D92)+NoOne","v":16},"Subtotal Thermal",{"$f":"SUM(F87:F92)","v":241970317.08350521},{"$f":"SUM(G87:G92)","v":215247887.49927127},25730365.17382659,0,0,992064.41040733352,{"$f":"SUM(L87:L92)","v":0},0,0,0,0,0,0,0,0,0,0,0,0,0]
[{"$f":"SUM(G94:Y94)-F94","v":0},null,null,17,null,{"$f":"SUM(F93,F86)","v":983816482.50576735},{"$f":"SUM(G93,G86)","v":551055034.18117213},429605872.14507967,0,0,3155576.1795153338,{"$f":"SUM(L93,L86)","v":0},0,0,0,0,0,0,0,0,0,0,0,0,0]
[null,null,null,null,"Transmission"]
[null,null,{"$f":"+SNBVDetails!C34","v":"SNBV3"},{"$f":"MAX(D92:D95)+NoOne","v":18},"Lines",{"$f":"SUM(G96:Y96)","v":489034203.76816273},{"$f":"SNBVDetails!E34*'Schedule 4.1'!D38-G98","v":17812163.330271136},{"$f":"SNBVDetails!E34*'Schedule 4.1'!E38-H98","v":21422702.185914349},{"$f":"+SNBVDetails!F34","v":360623212.4646281},{"$f":"+SNBVDetails!G34","v":18289459.661755502},{"$f":"+SNBVDetails!H23","v":0},0,{"$f":"+SNBVDetails!J34-M98","v":55647741.189842157},0,{"$f":"+SNBVDetails!K34","v":0},0,0,0,0,0,0,0,0,0,{"$f":"+SNBVDetails!M34-Y98","v":15238924.9357515}]
[null,null,{"$f":"+SNBVDetails!C$134","v":"SNBV16"},19,"Lines - Labrador",{"$f":"SUM(G97:V97)","v":32590981.025389727},0,{"$f":"+SNBVDetails!G134*'Schedule 4.1'!E32","v":0},0,{"$f":"+SNBVDetails!G134*'Schedule 4.1'!G32","v":32590981.025389727},0,0,0,0,{"$f":"+SNBVDetails!K134","v":0},0,0,0,0,0,0,0,0,0,{"$f":"+SNBVDetails!M134","v":0}]
[null,null,{"$f":"+SNBVDetails!C34","v":"SNBV3"},20,"Lines - Ancillary",{"$f":"SUM(G98:Y98)","v":0},{"$f":"SNBVDetails!E23*'Schedule 4.1'!D38","v":0},{"$f":"SNBVDetails!E23*'Schedule 4.1'!E38","v":0},null,null,null,0,{"$f":"+SNBVDetails!J23","v":0},0,{"$f":"+SNBVDetails!K35","v":0},0,0,0,0,0,0,0,0,0,{"$f":"+SNBVDetails!M23","v":0}]
[null,null,{"$f":"+SNBVDetails!C51","v":"SNBV4"},21,"Terminal Stations ",{"$f":"SUM(G99:Y99)","v":204914183.0481666},{"$f":"+SNBVDetails!E51*G94/F94-G100","v":0},{"$f":"+SNBVDetails!E51*H94/F94-H100","v":0},{"$f":"+SNBVDetails!F51","v":62494211.480484113},{"$f":"+SNBVDetails!G51","v":106377346.90037735},{"$f":"+SNBVDetails!H51","v":455768.41261300002},0,{"$f":"+SNBVDetails!J51-M100","v":13842730.88722604},0,0,0,0,0,0,0,0,0,0,0,{"$f":"+SNBVDetails!M51-Y100","v":21744125.367466103}]
[null,null,{"$f":"+SNBVDetails!C51","v":"SNBV4"},22,"Term Stns - Ancillary",{"$f":"SUM(G100:Y100)","v":0},{"$f":"+SNBVDetails!E39*G94/F94","v":0},{"$f":"+SNBVDetails!E39*H94/F94","v":0},null,null,null,0,{"$f":"+SNBVDetails!J39","v":0},0,0,0,0,0,0,0,0,0,0,0,{"$f":"+SNBVDetails!M39","v":0}]
[null,null,{"$f":"+SNBVDetails!C56","v":"SNBV5"},23,{"$f":"+$E$35","v":"Term Stns - Hydraulic"},{"$f":"SUM(G101:Y101)","v":30603676.655456185},{"$f":"SNBVDetails!E56*'Schedule 4.1'!D38","v":13893706.016882233},{"$f":"SNBVDetails!E56*'Schedule 4.1'!E38","v":16709970.638573952},0,0,0,0,0,0,0,0,0,0,0,0,0,0,0,0,0]
[null,null,"T24",24,{"$f":"+E36","v":"Term Stns - Holyrood"},8479821.4230787531,{"$f":"$F102*'Schedule 4.1'!D39","v":5898563.7818935802},{"$f":"$F102*'Schedule 4.1'!E39","v":2581257.6411851724},0,0,0,0,0,0,0,0,0,0,0,0,0,0,0,0,0]
[null,null,{"$f":"+SNBVDetails!C61","v":"SNBV6"},{"$f":"MAX(D100:D102)+NoOne","v":25},{"$f":"+E37","v":"Term Stns - Gas Tur/Dsl"},{"$f":"SUM(G103:Y103)","v":736251.99477849994},{"$f":"+SNBVDetails!$E61*'Schedule 4.1'!D$40","v":736251.99477849994},{"$f":"+SNBVDetails!$E61*'Schedule 4.1'!E$40","v":0},0,0,0,0,{"$f":"+SNBVDetails!J61","v":0},0,0,0,0,0,0,0,0,0,0,0,0]
[null,null,{"$f":"+SNBVDetails!C$146","v":"SNBV17"},{"$f":"MAX(D102:D103)+NoOne","v":26},"Terminal Stations - Labrador",{"$f":"SUM(G104:V104)","v":34367828.382238172},0,{"$f":"+SNBVDetails!G146*'Schedule 4.1'!E36","v":0},0,{"$f":"+SNBVDetails!G146*'Schedule 4.1'!G36","v":21512989.691606194},0,0,0,{"$f":"+SNBVDetails!K146","v":12854838.690631978},0,0,0,0,0,0,0,0,0,0,{"$f":"+SNBVDetails!M146","v":0}]
[null,null,"T18",{"$f":"MAX(D101:D103)+NoOne","v":26},"Term Stns - Distribution",8471325.9336876068,0,0,0,0,0,0,0,{"$f":"F105","v":8471325.9336876068},0,0,0,0,0,0,0,0,0,0,0]
[{"$f":"SUM(G106:Y106)-F106","v":0},null,null,{"$f":"MAX(D102:D105)+NoOne","v":27},"Subtotal Term Stns",{"$f":"SUM(F99:F105)","v":287573087.43740582},20528521.793554313,19291228.279759124,62494211.480484113,127890336.59198354,455768.41261300002,{"$f":"SUM(L99:L105)","v":0},13842730.88722604,21326164.624319583,0,0,0,0,0,0,0,0,0,0,21744125.367466103]
[null,null,"G06",28,"NLSO",{"$f":"SUM(G107:Y107)","v":1422468.8956818336},0,0,0,0,0,1422468.8956818336,0,0,0,0,0,0,0,0,0,0,0,0,0]
[{"$f":"SUM(G108:Y108)-F108","v":0},null," ",29,"Subtotal Trans & Term Stns",{"$f":"SUM(F96:F98,F106:F107)","v":810620741.12664008},{"$f":"SUM(G96:G98,G106:G107)","v":38340685.123825446},40713930.465673476,423117423.94511223,178770777.27912879,455768.41261300002,1422468.8956818336,69490472.077068195,21326164.624319583,0,0,0,0,0,0,0,0,0,0,36983050.303217605]
[null,null,null,30,"Distribution"]
[null,null,{"$f":"+SNBVDetails!C67","v":"SNBV7"},31,"Substations",{"$f":"SUM(G110:Y110)","v":5512206.5902733272},{"$f":"+SNBVDetails!E67","v":0},0,0,0,{"$f":"+SNBVDetails!I67","v":0},0,{"$f":"+SNBVDetails!J67","v":0},{"$f":"+SNBVDetails!K67","v":5512206.5902733272},0,0,0,0,0,0,0,0,0,0,0]
[null,null,{"$f":"+SNBVDetails!C$152","v":"SNBV18"},32,"Substations - Labrador",{"$f":"SUM(G111:V111)","v":4332146.1730303233},{"$f":"+SNBVDetails!E152","v":0},0,0,0,0,0,0,{"$f":"+SNBVDetails!K152","v":4332146.1730303233},0,0,0,0,0,0,0,0,0,0,0]
[null,null,"D11",33,"Land & Land Improvements",{"$f":"DistnDetails!C29+DistnDetails!C38+DistnDetails!G29+DistnDetails!G38","v":3167417.5024152217},{"$f":"$F112*'Schedule 4.1'!D$62","v":0},{"$f":"$F112*'Schedule 4.1'!E$62","v":0},0,{"$f":"$F112*'Schedule 4.1'!G$62","v":0},{"$f":"+SNBVDetails!I68","v":0},0,{"$f":"+SNBVDetails!J68","v":0},{"$f":"$F112*'Schedule 4.1'!J$62","v":0},{"$f":"$F112*'Schedule 4.1'!K$62","v":2388074.4259459563},{"$f":"$F112*'Schedule 4.1'!L$62","v":304230.45110698201},{"$f":"$F112*'Schedule 4.1'!M$62","v":0},{"$f":"$F112*'Schedule 4.1'!N$62","v":0},{"$f":"$F112*'Schedule 4.1'!O$62","v":276990.66058621107},{"$f":"$F112*'Schedule 4.1'!P$62","v":198121.9647760721},{"$f":"$F112*'Schedule 4.1'!Q$62","v":0},{"$f":"$F112*'Schedule 4.1'!R$62","v":0},{"$f":"$F112*'Schedule 4.1'!S$62","v":0},{"$f":"$F112*'Schedule 4.1'!T$62","v":0},{"$f":"$F112*'Schedule 4.1'!U$62","v":0}]
[null,null,"D11",34,"Poles",{"$f":"SUM(DistnDetails!C30,DistnDetails!C32)+DistnDetails!G30+DistnDetails!G32","v":97034676.516050339},{"$f":"$F113*'Schedule 4.1'!D$67","v":0},{"$f":"$F113*'Schedule 4.1'!E$67","v":0},0,{"$f":"$F113*'Schedule 4.1'!G$67","v":0},{"$f":"+SNBVDetails!I69","v":0},0,{"$f":"+SNBVDetails!J69","v":0},{"$f":"$F113*'Schedule 4.1'!J$67","v":0},{"$f":"$F113*'Schedule 4.1'!K$67","v":56119811.093704678},{"$f":"$F113*'Schedule 4.1'!L$67","v":19179097.882750385},{"$f":"$F113*'Schedule 4.1'!M$67","v":0},{"$f":"$F113*'Schedule 4.1'!N$67","v":0},{"$f":"$F113*'Schedule 4.1'!O$67","v":9933245.7655950394},{"$f":"$F113*'Schedule 4.1'!P$67","v":11802521.774000237},{"$f":"$F113*'Schedule 4.1'!Q$67","v":0},{"$f":"$F113*'Schedule 4.1'!R$67","v":0},{"$f":"$F113*'Schedule 4.1'!S$67","v":0},{"$f":"$F113*'Schedule 4.1'!T$67","v":0},{"$f":"$F113*'Schedule 4.1'!U$67","v":0}]
[null,null,"D11",35,"Primary Conductor & Eqpt",{"$f":"DistnDetails!C33+DistnDetails!G33","v":19857209.407354809},{"$f":"$F114*'Schedule 4.1'!D$68","v":0},{"$f":"$F114*'Schedule 4.1'!E$68","v":0},0,{"$f":"$F114*'Schedule 4.1'!G$68","v":0},{"$f":"+SNBVDetails!I70","v":0},0,{"$f":"+SNBVDetails!J70","v":0},{"$f":"$F114*'Schedule 4.1'!J$68","v":0},{"$f":"$F114*'Schedule 4.1'!K$68","v":17613344.744323716},{"$f":"$F114*'Schedule 4.1'!L$68","v":2243864.6630310933},{"$f":"$F114*'Schedule 4.1'!M$68","v":0},{"$f":"$F114*'Schedule 4.1'!N$68","v":0},{"$f":"$F114*'Schedule 4.1'!O$68","v":0},{"$f":"$F114*'Schedule 4.1'!P$68","v":0},{"$f":"$F114*'Schedule 4.1'!Q$68","v":0},{"$f":"$F114*'Schedule 4.1'!R$68","v":0},{"$f":"$F114*'Schedule 4.1'!S$68","v":0},{"$f":"$F114*'Schedule 4.1'!T$68","v":0},{"$f":"$F114*'Schedule 4.1'!U$68","v":0}]
[null,null,"D05",36,"Submarine Conductor",3374997.6858380004,{"$f":"$F115*'Schedule 4.1'!D$69","v":0},{"$f":"$F115*'Schedule 4.1'!E$69","v":0},0,{"$f":"$F115*'Schedule 4.1'!G$69","v":0},{"$f":"+SNBVDetails!I71","v":0},0,{"$f":"+SNBVDetails!J71","v":0},{"$f":"$F115*'Schedule 4.1'!J$69","v":0},{"$f":"$F115*'Schedule 4.1'!K$69","v":3374997.6858380004},{"$f":"$F115*'Schedule 4.1'!L$69","v":0},{"$f":"$F115*'Schedule 4.1'!M$69","v":0},{"$f":"$F115*'Schedule 4.1'!N$69","v":0},{"$f":"$F115*'Schedule 4.1'!O$69","v":0},{"$f":"$F115*'Schedule 4.1'!P$69","v":0},{"$f":"$F115*'Schedule 4.1'!Q$69","v":0},{"$f":"$F115*'Schedule 4.1'!R$69","v":0},{"$f":"$F115*'Schedule 4.1'!S$69","v":0},{"$f":"$F115*'Schedule 4.1'!T$69","v":0},{"$f":"$F115*'Schedule 4.1'!U$69","v":0}]
[null,null,"D11",37,"Transformers",{"$f":"DistnDetails!C34+DistnDetails!G34","v":21726822.331084136},{"$f":"$F116*'Schedule 4.1'!D$70","v":0},{"$f":"$F116*'Schedule 4.1'!E$70","v":0},0,{"$f":"$F116*'Schedule 4.1'!G$70","v":0},{"$f":"+SNBVDetails!I72","v":0},0,{"$f":"+SNBVDetails!J72","v":0},{"$f":"$F116*'Schedule 4.1'!J$70","v":0},{"$f":"$F116*'Schedule 4.1'!K$70","v":0},{"$f":"$F116*'Schedule 4.1'!L$70","v":0},{"$f":"$F116*'Schedule 4.1'!M$70","v":7843382.8615213726},{"$f":"$F116*'Schedule 4.1'!N$70","v":13883439.469562763},{"$f":"$F116*'Schedule 4.1'!O$70","v":0},{"$f":"$F116*'Schedule 4.1'!P$70","v":0},{"$f":"$F116*'Schedule 4.1'!Q$70","v":0},{"$f":"$F116*'Schedule 4.1'!R$70","v":0},{"$f":"$F116*'Schedule 4.1'!S$70","v":0},{"$f":"$F116*'Schedule 4.1'!T$70","v":0},{"$f":"$F116*'Schedule 4.1'!U$70","v":0}]
[null,null,"D11",38,"Secondary Conductor & Equip",{"$f":"DistnDetails!C35+DistnDetails!G35","v":1835665.7330213245},{"$f":"$F117*'Schedule 4.1'!D$71","v":0},{"$f":"$F117*'Schedule 4.1'!E$71","v":0},0,{"$f":"$F117*'Schedule 4.1'!G$71","v":0},{"$f":"+SNBVDetails!I73","v":0},0,{"$f":"+SNBVDetails!J73","v":0},{"$f":"$F117*'Schedule 4.1'!J$71","v":0},{"$f":"$F117*'Schedule 4.1'!K$71","v":0},{"$f":"$F117*'Schedule 4.1'!L$71","v":0},{"$f":"$F117*'Schedule 4.1'!M$71","v":0},{"$f":"$F117*'Schedule 4.1'!N$71","v":0},{"$f":"$F117*'Schedule 4.1'!O$71","v":1070193.1223514322},{"$f":"$F117*'Schedule 4.1'!P$71","v":765472.61066989228},{"$f":"$F117*'Schedule 4.1'!Q$71","v":0},{"$f":"$F117*'Schedule 4.1'!R$71","v":0},{"$f":"$F117*'Schedule 4.1'!S$71","v":0},{"$f":"$F117*'Schedule 4.1'!T$71","v":0},{"$f":"$F117*'Schedule 4.1'!U$71","v":0}]
[null,null,"D11",39,"Services",{"$f":"DistnDetails!C36+DistnDetails!G36","v":5244020.4830339942},{"$f":"$F118*'Schedule 4.1'!D$72","v":0},{"$f":"$F118*'Schedule 4.1'!E$72","v":0},0,{"$f":"$F118*'Schedule 4.1'!G$72","v":0},{"$f":"+SNBVDetails!I74","v":0},0,{"$f":"+SNBVDetails!J74","v":0},{"$f":"$F118*'Schedule 4.1'!J$72","v":0},{"$f":"$F118*'Schedule 4.1'!K$72","v":0},{"$f":"$F118*'Schedule 4.1'!L$72","v":0},{"$f":"$F118*'Schedule 4.1'!M$72","v":0},{"$f":"$F118*'Schedule 4.1'!N$72","v":0},{"$f":"$F118*'Schedule 4.1'!O$72","v":0},{"$f":"$F118*'Schedule 4.1'!P$72","v":0},{"$f":"$F118*'Schedule 4.1'!Q$72","v":5244020.4830339942},{"$f":"$F118*'Schedule 4.1'!R$72","v":0},{"$f":"$F118*'Schedule 4.1'!S$72","v":0},{"$f":"$F118*'Schedule 4.1'!T$72","v":0},{"$f":"$F118*'Schedule 4.1'!U$72","v":0}]
[null,null,{"$f":"+SystemizedPlant!C31","v":"SMET02"},40,"Meters",{"$f":"SUM((IF(VLOOKUP($C119,AllocatedMeters,3,FALSE)=\"\",0,VLOOKUP($C119,AllocatedMeters,3,FALSE))))+SUM((IF(VLOOKUP($C119,AllocatedMeters,9,FALSE)=\"\",0,VLOOKUP($C119,AllocatedMeters,9,FALSE))))","v":7069764.5518719889},{"$f":"$F119*'Schedule 4.1'!D$73","v":0},{"$f":"$F119*'Schedule 4.1'!E$73","v":0},0,{"$f":"$F119*'Schedule 4.1'!G$73","v":0},{"$f":"+SNBVDetails!I75","v":0},0,{"$f":"+SNBVDetails!J75","v":0},{"$f":"$F119*'Schedule 4.1'!J$73","v":0},{"$f":"$F119*'Schedule 4.1'!K$73","v":0},{"$f":"$F119*'Schedule 4.1'!L$73","v":0},{"$f":"$F119*'Schedule 4.1'!M$73","v":0},{"$f":"$F119*'Schedule 4.1'!N$73","v":0},{"$f":"$F119*'Schedule 4.1'!O$73","v":0},{"$f":"$F119*'Schedule 4.1'!P$73","v":0},{"$f":"$F119*'Schedule 4.1'!Q$73","v":0},{"$f":"$F119*'Schedule 4.1'!R$73","v":7069764.5518719889},{"$f":"$F119*'Schedule 4.1'!S$73","v":0},{"$f":"$F119*'Schedule 4.1'!T$73","v":0},{"$f":"$F119*'Schedule 4.1'!U$73","v":0}]
[null,null,"D11",41,"Street Lighting",{"$f":"DistnDetails!C37+DistnDetails!G37","v":1292889.4558694996},{"$f":"$F120*'Schedule 4.1'!D$74","v":0},{"$f":"$F120*'Schedule 4.1'!E$74","v":0},0,{"$f":"$F120*'Schedule 4.1'!G$74","v":0},{"$f":"+SNBVDetails!I76","v":0},0,{"$f":"+SNBVDetails!J76","v":0},{"$f":"$F120*'Schedule 4.1'!J$74","v":0},{"$f":"$F120*'Schedule 4.1'!K$74","v":0},{"$f":"$F120*'Schedule 4.1'!L$74","v":0},{"$f":"$F120*'Schedule 4.1'!M$74","v":0},{"$f":"$F120*'Schedule 4.1'!N$74","v":0},{"$f":"$F120*'Schedule 4.1'!O$74","v":0},{"$f":"$F120*'Schedule 4.1'!P$74","v":0},{"$f":"$F120*'Schedule 4.1'!Q$74","v":0},{"$f":"$F120*'Schedule 4.1'!R$74","v":0},{"$f":"$F120*'Schedule 4.1'!S$74","v":1292889.4558694996},{"$f":"$F120*'Schedule 4.1'!T$74","v":0},{"$f":"$F120*'Schedule 4.1'!U$74","v":0}]
[{"$f":"SUM(G121:Y121)-F121","v":0},null," ",42,"Subtotal Distribution",{"$f":"SUM(F110:F120)","v":170447816.42984295},{"$f":"SUM(G110:G120)","v":0},0,0,0,0,{"$f":"SUM(L110:L120)","v":0},0,9844352.7633036505,79496227.949812353,21727192.996888459,7843382.8615213726,13883439.469562763,11280429.548532683,12766116.349446202,5244020.4830339942,7069764.5518719889,1292889.4558694996,0,0]
[{"$f":"SUM(G122:Y122)-F122","v":0},null," ",43,"Subttl Prod, Trans, & Dist",{"$f":"SUM(F121,F108,F94)","v":1964885040.0622504},589395719.30499756,470319802.61075318,423117423.94511223,178770777.27912879,3611344.5921283336,{"$f":"SUM(L121,L108,L94)","v":1422468.8956818336},69490472.077068195,31170517.387623236,79496227.949812353,21727192.996888459,7843382.8615213726,13883439.469562763,11280429.548532683,12766116.349446202,5244020.4830339942,7069764.5518719889,1292889.4558694996,0,36983050.303217605]
[null,{"$f":"IF(OverheadAlloc=\"Expenses\",\"E-GTDC\",\"L-GTDC\")","v":"E-GTDC"},{"$f":"+SystemizedPlant!C109","v":"SGPLT02"},44,"General",{"$f":"SystemizedPlant!E109+SystemizedPlant!K109","v":91409448.127406746},{"$f":"$F123*VLOOKUP($B123,RatiosNLSO,G$593,FALSE)","v":27524226.445112683},31144101.106827438,7283925.0480263066,5217072.4710236238,503533.23585737607,48796.99896867801,1553797.3303966457,1485198.9570805656,5471761.5191683574,1453673.6770311168,510087.13682391419,902896.62169108354,788432.89726200723,879859.09440269973,400808.61137484288,509032.65955944295,131272.99446386326,4643621.5989061818,957349.72342991666]
[null,null,{"$f":"+SNBVDetails!C72","v":"SNBV8"},45,"Telecontrol - Custmr & Spec",{"$f":"SUM(G124:Y124)","v":0},0,0,0,0,0,0,0,0,0,0,0,0,0,0,0,0,0,{"$f":"+SNBVDetails!L72","v":0},{"$f":"+SNBVDetails!M72","v":0}]
[null,null,{"$f":"+SNBVDetails!C79","v":"SNBV9"},46,"Feasibility Studies",{"$f":"SUM(G125:Y125)","v":9794.4748540000492},{"$f":"+SNBVDetails!E79+SNBVDetails!E159","v":9794.4654045000498},0,0,{"$f":"+SNBVDetails!G79","v":0},0,0,0,{"$f":"+SNBVDetails!K79","v":9.4495000000000013E-3},0,0,0,0,0,0,0,0,0,0,0]
[null,null,"G10",47,"Feasibility Studies - General",0,{"$f":"$F126*(G$122/SUM($G$122:$Y$122))","v":0},0,0,0,0,0,0,0,0,0,{"$f":"$F126*(Q$122/SUM($G$122:$Y$122))","v":0},0,0,0,0,0,0,0,0]
[null,null,{"$f":"+SystemizedPlant!C68","v":"SCS2_02"},48,"Software - General",{"$f":"+SystemizedPlant!E68+SystemizedPlant!K68","v":1598567.8893876199},479513.5856872513,382637.21228843718,344234.86034462153,145442.21076171834,2938.0749432074099,1157.275389616487,56535.234894591544,25359.340203371063,64675.599201458921,17676.552237505501,6381.1264938960621,11295.124181716299,9177.3982126772862,10386.105676576612,4266.3680492999811,5751.7352759708383,1051.8536843332759,0,30088.231861370241]
[{"$f":"SUM(G128:Y128)-F128","v":0},null," ",49,"Total Net Book Value",{"$f":"SUM(F122:F127)","v":2057902850.5538988},617409253.80120206,501846540.92986906,430745583.8534832,184133291.96091413,4117815.9029289167,1472423.1700401281,71100804.642359436,32681075.694356672,85032665.06818217,23198543.226157084,8359851.1248391829,14797631.215435563,12078039.844007367,13656361.549525477,5649095.4624581374,7584548.9467074024,1425214.3040176963,4643621.5989061818,37970488.258508891]
[]
[null,null,null,null,"Prod, Trans, & Dist Ratio",{"$f":"SUM(G130:Y130)","v":0.99999999999999978},{"$f":"(G$122/SUM($G$122:$Y$122))","v":0.29996448000149906},{"$f":"(H$122/SUM($G$122:$Y$122))","v":0.23936250366884201},0.21533953148307713,9.0982817637750998E-2,1.837941924589095E-3,7.2394509942259411E-4,3.5366176982479666E-2,1.5863786813011569E-2,4.045846262196276E-2,1.1057742592513254E-2,3.99177697504017E-3,7.0657769724395258E-3,5.7410124859901745E-3,6.4971314296544047E-3,2.6688688529420816E-3,3.5980550554998419E-3,6.5799750596530525E-4,0,1.8821991897320329E-2]
[]
[]
[null,null,null,null,null,null,null,null,null,null,null,null,null,null,null,null,null,null,null,null,null,null,null,null,"Schedule 2.5A"]
[null,null,null,null,null,null,null,null,null,null,null,null,null,null,null,null,null,null,null,null,null,null,null,null,"Page 1 of 1"]
[null,null,null,{"$f":"D5","v":"NEWFOUNDLAND AND LABRADOR HYDRO"}]
[null,null,null,{"$f":"D6","v":"2019 Test Year Cost of Service Study"}]
[null,null,null,{"$f":"$B$1","v":"Newfoundland and Labrador Independent System Operator"}]
[null,null,null,"Functional Classification of Depreciation Expense"]
[null,null,null,null,{"$f":"MAX(D139)+NoOne","v":1},2,3,4,5,6,{"$f":"MAX(J139)+NoOne","v":7},{"$f":"MAX(K139)+NoOne","v":8},{"$f":"MAX(L139)+NoOne","v":9},10,11,12,13,14,15,16,17,18,19,20,21]
[null,null,null,null,null,null,"Production and",null,"Transmission","Transmission",null,"Scheduling, ","Rural Prod &","Distribution",null,null,null,null,null,null,null,null,null,null,"Specifically"]
[null,null,null,"Line",null,"Total","Transmission","Production","Point-to-Point","Network Service","Ancillary","System control","Transmission","Substations","Primary Lines",null,"Line Transformers",null,"Secondary Lines",null,"Services","Meters","Street Lighting","Accounting","Assigned"]
[null,null,null,"No.","Description ","Amount","Demand","Energy","Demand","Demand","Services","& Dispatch","Demand","Demand","Demand","Customer","Demand","Customer","Demand","Customer","Customer","Customer","Customer","Customer","Customer"]
[null,null,null,null,"Production","($)","($)","($)","($)","($)","($)","($)","($)","($)","($)","($)","($)","($)","($)","($)","($)","($)","($)","($)","($)"]
[null,null,null,null,"Hydraulic"]
[null,null,"P01",{"$f":"MAX(D142:D144)+NoOne","v":1},"Bay D'Espoir",5472416.6420384161,{"$f":"($F145-$K145)*'Schedule 4.1'!$D$13","v":2384353.243758298},{"$f":"($F145-$K145)*'Schedule 4.1'!$E$13","v":2867663.433124118},0,0,220399.96515599999,0,0,0,0,0,0,0,0,0,0,0,0,0,0]
[null,null,"P10",2,"Upper Salmon",3298636.2274525813,{"$f":"($F146-$K146)*'Schedule 4.1'!$D$13","v":1457701.2986153204},{"$f":"($F146-$K146)*'Schedule 4.1'!$E$13","v":1753178.444259261},0,0,87756.484578000003,0,0,0,0,0,0,0,0,0,0,0,0,0,0]
[null,null,"P05",3,"Hinds Lake",1545026.5391161679,{"$f":"($F147-$K147)*'Schedule 4.1'!$D$13","v":664431.6190807044},{"$f":"($F147-$K147)*'Schedule 4.1'!$E$13","v":799112.40619946341},0,0,81482.513835999998,0,0,0,0,0,0,0,0,0,0,0,0,0,0]
[null,null,"P02",4,"Cat Arm",5820196.7010496622,{"$f":"($F148-$K148)*'Schedule 4.1'!$D$13","v":2613239.8720397362},{"$f":"($F148-$K148)*'Schedule 4.1'!$E$13","v":3142945.5524879256},0,0,64011.276522000007,0,0,0,0,0,0,0,0,0,0,0,0,0,0]
[null,null,"P08",5,"Paradise River",442192.23957899999,{"$f":"($F149-$K149)*'Schedule 4.1'!$D$13","v":196944.22320207351},{"$f":"($F149-$K149)*'Schedule 4.1'!$E$13","v":236864.96483692646},0,0,8383.0515399999986,0,0,0,0,0,0,0,0,0,0,0,0,0,0]
[null,null,"P09",6,"Granite Canal",2575860.8412320009,{"$f":"($F150-$K150)*'Schedule 4.1'!$D$13","v":1132939.2336228411},{"$f":"($F150-$K150)*'Schedule 4.1'!$E$13","v":1362586.8653131598},0,0,80334.742295999997,0,0,0,0,0,0,0,0,0,0,0,0,0,0]
[null,null,"P12",7,"Exploits",0,{"$f":"($F151-$K151)*'Schedule 4.1'!$D$13","v":0},{"$f":"($F151-$K151)*'Schedule 4.1'!$E$13","v":0},0,0,0,0,0,0,0,0,0,0,0,0,0,0,0,0,0]
[null,null,"P13",8,"Star Lake",0,{"$f":"($F152-$K152)*'Schedule 4.1'!$D$13","v":0},{"$f":"($F152-$K152)*'Schedule 4.1'!$E$13","v":0},0,0,0,0,0,0,0,0,0,0,0,0,0,0,0,0,0]
[null,null,"P07",9,"Other Small Hydraulic",102956.61132800001,{"$f":"($F153-$K153)*'Schedule 4.1'!$D$13","v":46741.079720256792},{"$f":"($F153-$K153)*'Schedule 4.1'!$E$13","v":56215.531607743222},0,0,0,0,{"$f":"+SDEPDetails!J14","v":0},0,0,0,0,0,0,0,0,0,0,0,0]
[{"$f":"SUM(G154:Y154)-F154","v":0},null," ",10,"Subtotal Hydraulic",{"$f":"SUM(F145:F153)","v":19257285.801795829},{"$f":"SUM(G145:G153)","v":8496350.5700392313},10218567.197828598,0,0,542368.03392800002,0,0,0,0,0,0,0,0,0,0,0,0,0,0]
[null,null,{"$f":"SDEPDetails!C14","v":"SDEP1"},{"$f":"MAX(D150:D154)+NoOne","v":11},"Holyrood",{"$f":"SUM(G155:Y155)","v":19019373.447862916},{"$f":"SDEPDetails!E14*'Schedule 4.1'!$D$15","v":13089692.72400932},{"$f":"SDEPDetails!E14*'Schedule 4.1'!$E$15","v":5728151.9051012611},0,0,{"$f":"SDEPDetails!H14","v":201528.81875233335},0,0,0,0,0,0,0,0,0,0,0,0,0,0]
[null,null,"P04",{"$f":"MAX(D153:D155)+NoOne","v":12},"Gas Turbines",5682461.723278638,{"$f":"($F156-$K156)*'Schedule 4.1'!D$16","v":5665718.173413638},{"$f":"$F156*'Schedule 4.1'!E$16","v":0},{"$f":"$F156*'Schedule 4.1'!F$16","v":0},{"$f":"$F156*'Schedule 4.1'!G$16","v":0},16743.549865000005,0,{"$f":"$F156*'Schedule 4.1'!I$16","v":0},{"$f":"$F156*'Schedule 4.1'!J$16","v":0},{"$f":"$F156*'Schedule 4.1'!K$16","v":0},{"$f":"$F156*'Schedule 4.1'!L$16","v":0},{"$f":"$F156*'Schedule 4.1'!M$16","v":0},{"$f":"$F156*'Schedule 4.1'!N$16","v":0},{"$f":"$F156*'Schedule 4.1'!O$16","v":0},{"$f":"$F156*'Schedule 4.1'!P$16","v":0},{"$f":"$F156*'Schedule 4.1'!Q$16","v":0},{"$f":"$F156*'Schedule 4.1'!R$16","v":0},{"$f":"$F156*'Schedule 4.1'!S$16","v":0},{"$f":"$F156*'Schedule 4.1'!T$16","v":0},{"$f":"$F156*'Schedule 4.1'!U$16","v":0}]
[null,null,"P04",{"$f":"MAX(D154:D156)+NoOne","v":13},"Gas Turbines - Labrador",210455.87340500002,{"$f":"$F157*'Schedule 4.1'!$D$21","v":210455.87340500002},{"$f":"$F157*'Schedule 4.1'!$E$21","v":0},0,0,0,0,0,0,0,0,0,0,0,0,0,0,0,0,0]
[null,null,"P11",{"$f":"MAX(D154:D156)+NoOne","v":13},"Roddickton",0,{"$f":"$F158*'Schedule 4.1'!D$15","v":0},{"$f":"$F158*'Schedule 4.1'!E$15","v":0},{"$f":"$F158*'Schedule 4.1'!F$16","v":0},{"$f":"$F158*'Schedule 4.1'!G$16","v":0},0,0,{"$f":"$F158*'Schedule 4.1'!I$16","v":0},{"$f":"$F158*'Schedule 4.1'!J$16","v":0},{"$f":"$F158*'Schedule 4.1'!K$16","v":0},{"$f":"$F158*'Schedule 4.1'!L$16","v":0},{"$f":"$F158*'Schedule 4.1'!M$16","v":0},{"$f":"$F158*'Schedule 4.1'!N$16","v":0},{"$f":"$F158*'Schedule 4.1'!O$16","v":0},{"$f":"$F158*'Schedule 4.1'!P$16","v":0},{"$f":"$F158*'Schedule 4.1'!Q$16","v":0},{"$f":"$F158*'Schedule 4.1'!R$16","v":0},{"$f":"$F158*'Schedule 4.1'!S$16","v":0},{"$f":"$F158*'Schedule 4.1'!T$16","v":0},{"$f":"$F158*'Schedule 4.1'!U$16","v":0}]
[null,null,{"$f":"+SDEPDetails!C18","v":"SDEP2"},{"$f":"MAX(D155:D158)+NoOne","v":14},"Diesel",{"$f":"SUM(G159:Y159)","v":100419.76356500012},{"$f":"+SDEPDetails!$E18*'Schedule 4.1'!D$16","v":100419.76356500012},{"$f":"+SDEPDetails!$E18*'Schedule 4.1'!E$16","v":0},0,0,{"$f":"+SDEPDetails!H18","v":0},0,{"$f":"+SDEPDetails!J18","v":0},0,0,0,0,0,0,0,0,0,0,0,0]
[null,null,"P03",{"$f":"MAX(D157:D159)+NoOne","v":15},"Diesel - Labrador",21816.634400999974,{"$f":"$F160*'Schedule 4.1'!$D$21","v":21816.634400999974},{"$f":"$F160*'Schedule 4.1'!$E$21","v":0},0,0,0,0,0,0,0,0,0,0,0,0,0,0,0,0,0]
[{"$f":"SUM(G161:Y161)-F161","v":0},null,null,{"$f":"MAX(D156:D159)+NoOne","v":15},"Subtotal Production",{"$f":"SUM(F154:F160)","v":44291813.24430839},{"$f":"SUM(G154:G160)","v":27584453.738833189},15946719.10292986,0,0,760640.40254533337,0,0,0,0,0,0,0,0,0,0,0,0,0,0]
[null,null,null,null,"Transmission"]
[null,null,{"$f":"+SDEPDetails!C35","v":"SDEP3"},{"$f":"MAX(D159:D162)+NoOne","v":16},"Lines",{"$f":"SUM(G163:Y163)","v":15046407.998311},{"$f":"SDEPDetails!E35*'Schedule 4.1'!D38","v":731314.74757755233},{"$f":"SDEPDetails!E35*'Schedule 4.1'!E38","v":879552.79496544728},{"$f":"+SDEPDetails!F35","v":9824191.676482005},{"$f":"+SDEPDetails!G35","v":741491.17526300019},{"$f":"+SDEPDetails!H35","v":0},0,{"$f":"+SDEPDetails!J35","v":2184096.1897239946},0,{"$f":"+SDEPDetails!K35","v":0},0,0,0,0,0,0,0,0,0,{"$f":"+SDEPDetails!M35","v":685761.41429899994}]
[null,null,{"$f":"+SDEPDetails!C$135","v":"SDEP16"},{"$f":"MAX(D161:D163)+NoOne","v":17},"Lines - Labrador",{"$f":"SUM(G164:V164)","v":1170807.0821270002},0,0,{"$f":"+SDEPDetails!F135*'Schedule 4.1'!G32","v":0},{"$f":"+SDEPDetails!G135*'Schedule 4.1'!G32","v":1170807.0821270002},{"$f":"+SDEPDetails!H135*'Schedule 4.1'!G32","v":0},0,0,0,{"$f":"+SDEPDetails!K135","v":0},0,0,0,0,0,0,0,0,0,{"$f":"+SDEPDetails!M135","v":0}]
[null,null,{"$f":"+SDEPDetails!C52","v":"SDEP4"},{"$f":"MAX(D161:D164)+NoOne","v":18},"Terminal Stations",{"$f":"SUM(G165:Y165)","v":5936930.8411033321},{"$f":"+SDEPDetails!E52*G161/F161","v":0},{"$f":"+SDEPDetails!E52*H161/F161","v":0},{"$f":"+SDEPDetails!F52","v":1461895.1293823337},{"$f":"+SDEPDetails!G52","v":3217498.2686924152},{"$f":"+SDEPDetails!H52","v":48604.978257999996},0,{"$f":"+SDEPDetails!J52","v":549702.95890991739},0,0,0,0,0,0,0,0,0,0,0,{"$f":"+SDEPDetails!M52","v":659229.50586066628}]
[null,null,{"$f":"+SDEPDetails!C$147","v":"SDEP17"},{"$f":"MAX(D164:D165)+NoOne","v":19},"Terminal Stations - Labrador",{"$f":"SUM(G166:V166)","v":1002593.9482109996},0,{"$f":"+SDEPDetails!G147*'Schedule 4.1'!E36","v":0},{"$f":"+SDEPDetails!F147*'Schedule 4.1'!G36","v":0},{"$f":"+SDEPDetails!G147*'Schedule 4.1'!G36","v":536949.77529899997},{"$f":"+SDEPDetails!H147*'Schedule 4.1'!G36","v":0},0,0,{"$f":"+SDEPDetails!K147","v":465644.17291199963}]
[null,null,{"$f":"+SDEPDetails!C58","v":"SDEP5"},{"$f":"MAX(D163:D166)+NoOne","v":20},{"$f":"+E35","v":"Term Stns - Hydraulic"},{"$f":"SUM(G167:Y167)","v":1054104.6033237476},{"$f":"SDEPDetails!E58*'Schedule 4.1'!D38","v":478550.98047545698},{"$f":"SDEPDetails!E58*'Schedule 4.1'!E38","v":575553.6228482906},0,0,0,0,0,0,0,0,0,0,0,0,0,0,0,0,0]
[null,null,"T24",{"$f":"MAX(D165:D167)+NoOne","v":21},{"$f":"+E36","v":"Term Stns - Holyrood"},261405.80813050023,{"$f":"$F168*'Schedule 4.1'!D39","v":181833.88013557595},{"$f":"$F168*'Schedule 4.1'!E39","v":79571.927994924277},0,0,0,0,0,0,0,0,0,0,0,0,0,0,0,0,0]
[null,null,{"$f":"+SDEPDetails!C64","v":"SDEP6"},{"$f":"MAX(D167:D168)+NoOne","v":22},{"$f":"+E37","v":"Term Stns - Gas Tur/Dsl"},{"$f":"SUM(G169:Y169)","v":8214.0834809999997},{"$f":"+SDEPDetails!$E64*'Schedule 4.1'!D$40","v":8214.0834809999997},{"$f":"+SDEPDetails!$E64*'Schedule 4.1'!E$40","v":0},0,0,0,0,{"$f":"+SDEPDetails!J64","v":0},0,0,0,0,0,0,0,0,0,0,0,0]
[null,null,"T18",{"$f":"MAX(D167:D169)+NoOne","v":23},"Term Stns - Distribution",308476.69714675052,0,0,0,0,0,0,0,{"$f":"F170","v":308476.69714675052},0,0,0,0,0,0,0,0,0,0,0]
[{"$f":"SUM(G171:Y171)-F171","v":0},null,null,{"$f":"MAX(D168:D170)+NoOne","v":24},"Subtotal Termal Stations",{"$f":"SUM(F165:F170)","v":8571725.9813963287},668598.94409203297,655125.55084321485,1461895.1293823337,3754448.0439914153,48604.978257999996,{"$f":"SUM(L165:L170)","v":0},549702.95890991739,774120.87005875015,0,0,0,0,0,0,0,0,0,0,659229.50586066628]
[null,null,"G06",{"$f":"MAX(D169:D171)+NoOne","v":25},"NLSO",{"$f":"SUM(G172:Y172)","v":118423.31843433352},0,0,0,0,0,118423.31843433352,0,0,0,0,0,0,0,0,0,0,0,0,0]
[{"$f":"SUM(G173:Y173)-F173","v":0},null," ",{"$f":"MAX(D170:D172)+NoOne","v":26},"Subtotal Transmission",{"$f":"SUM(F171:F172,F163:F164)","v":24907364.380268663},{"$f":"SUM(G171:G172,G163:G164)","v":1399913.6916695852},1534678.345808662,11286086.805864338,5666746.3013814157,48604.978257999996,118423.31843433352,2733799.1486339122,774120.87005875015,0,0,0,0,0,0,0,0,0,0,1344990.9201596663]
[null,null,null,null,"Distribution"]
[null,null,{"$f":"+SDEPDetails!C70","v":"SDEP7"},{"$f":"MAX(D171:D174)+NoOne","v":27},"Substations",{"$f":"SUM(G175:Y175)","v":371682.15724200022},{"$f":"+SDEPDetails!E70+SDEPDetails!E153","v":0},0,0,0,0,0,{"$f":"+SDEPDetails!J70","v":0},{"$f":"+SDEPDetails!K70+SDEPDetails!K153","v":371682.15724200022},0,0,0,0,0,0,0,0,0,0,0]
[null,null,"D11",{"$f":"MAX(D173:D175)+NoOne","v":28},"Land & Land Improvements",{"$f":"DistnDetails!C45+DistnDetails!C54+DistnDetails!G45+DistnDetails!G54","v":107831.98769966337},{"$f":"$F176*'Schedule 4.1'!D$62","v":0},{"$f":"$F176*'Schedule 4.1'!E$62","v":0},0,{"$f":"$F176*'Schedule 4.1'!G$62","v":0},0,0,{"$f":"$F176*'Schedule 4.1'!I$62","v":0},{"$f":"$F176*'Schedule 4.1'!J$62","v":0},{"$f":"$F176*'Schedule 4.1'!K$62","v":81299.927126161201},{"$f":"$F176*'Schedule 4.1'!L$62","v":10357.262418552666},{"$f":"$F176*'Schedule 4.1'!M$62","v":0},{"$f":"$F176*'Schedule 4.1'!N$62","v":0},{"$f":"$F176*'Schedule 4.1'!O$62","v":9429.9073243355597},{"$f":"$F176*'Schedule 4.1'!P$62","v":6744.8908306139429},{"$f":"$F176*'Schedule 4.1'!Q$62","v":0},{"$f":"$F176*'Schedule 4.1'!R$62","v":0},{"$f":"$F176*'Schedule 4.1'!S$62","v":0},{"$f":"$F176*'Schedule 4.1'!T$62","v":0},{"$f":"$F176*'Schedule 4.1'!U$62","v":0}]
[null,null,"D11",29,"Poles",{"$f":"SUM(DistnDetails!C46,DistnDetails!C48)+DistnDetails!G46+DistnDetails!G48","v":5513608.1608913327},{"$f":"$F177*'Schedule 4.1'!D$67","v":0},{"$f":"$F177*'Schedule 4.1'!E$67","v":0},0,{"$f":"$F177*'Schedule 4.1'!G$67","v":0},0,0,{"$f":"$F177*'Schedule 4.1'!I$67","v":0},{"$f":"$F177*'Schedule 4.1'!J$67","v":0},{"$f":"$F177*'Schedule 4.1'!K$67","v":3188784.2526351805},{"$f":"$F177*'Schedule 4.1'!L$67","v":1089775.6802164938},{"$f":"$F177*'Schedule 4.1'!M$67","v":0},{"$f":"$F177*'Schedule 4.1'!N$67","v":0},{"$f":"$F177*'Schedule 4.1'!O$67","v":564417.0402141239},{"$f":"$F177*'Schedule 4.1'!P$67","v":670631.18782553473},{"$f":"$F177*'Schedule 4.1'!Q$67","v":0},{"$f":"$F177*'Schedule 4.1'!R$67","v":0},{"$f":"$F177*'Schedule 4.1'!S$67","v":0},{"$f":"$F177*'Schedule 4.1'!T$67","v":0},{"$f":"$F177*'Schedule 4.1'!U$67","v":0}]
[null,null,"D11",30,"Primary Conductor & Equip",{"$f":"DistnDetails!C49+DistnDetails!G49","v":859461.02519466483},{"$f":"$F178*'Schedule 4.1'!D$68","v":0},{"$f":"$F178*'Schedule 4.1'!E$68","v":0},0,{"$f":"$F178*'Schedule 4.1'!G$68","v":0},0,0,{"$f":"$F178*'Schedule 4.1'!I$68","v":0},{"$f":"$F178*'Schedule 4.1'!J$68","v":0},{"$f":"$F178*'Schedule 4.1'!K$68","v":762341.92934766773},{"$f":"$F178*'Schedule 4.1'!L$68","v":97119.095846997123},{"$f":"$F178*'Schedule 4.1'!M$68","v":0},{"$f":"$F178*'Schedule 4.1'!N$68","v":0},{"$f":"$F178*'Schedule 4.1'!O$68","v":0},{"$f":"$F178*'Schedule 4.1'!P$68","v":0},{"$f":"$F178*'Schedule 4.1'!Q$68","v":0},{"$f":"$F178*'Schedule 4.1'!R$68","v":0},{"$f":"$F178*'Schedule 4.1'!S$68","v":0},{"$f":"$F178*'Schedule 4.1'!T$68","v":0},{"$f":"$F178*'Schedule 4.1'!U$68","v":0}]
[null,null,"D05",31,"Submarine Conductor",222462.656108,{"$f":"$F179*'Schedule 4.1'!D$69","v":0},{"$f":"$F179*'Schedule 4.1'!E$69","v":0},0,{"$f":"$F179*'Schedule 4.1'!G$69","v":0},0,0,{"$f":"$F179*'Schedule 4.1'!I$69","v":0},{"$f":"$F179*'Schedule 4.1'!J$69","v":0},{"$f":"$F179*'Schedule 4.1'!K$69","v":222462.656108},{"$f":"$F179*'Schedule 4.1'!L$69","v":0},{"$f":"$F179*'Schedule 4.1'!M$69","v":0},{"$f":"$F179*'Schedule 4.1'!N$69","v":0},{"$f":"$F179*'Schedule 4.1'!O$69","v":0},{"$f":"$F179*'Schedule 4.1'!P$69","v":0},{"$f":"$F179*'Schedule 4.1'!Q$69","v":0},{"$f":"$F179*'Schedule 4.1'!R$69","v":0},{"$f":"$F179*'Schedule 4.1'!S$69","v":0},{"$f":"$F179*'Schedule 4.1'!T$69","v":0},{"$f":"$F179*'Schedule 4.1'!U$69","v":0}]
[null,null,"D11",32,"Transformers",{"$f":"DistnDetails!C50+DistnDetails!G50","v":1263848.1045549996},{"$f":"$F180*'Schedule 4.1'!D$70","v":0},{"$f":"$F180*'Schedule 4.1'!E$70","v":0},0,{"$f":"$F180*'Schedule 4.1'!G$70","v":0},0,0,{"$f":"$F180*'Schedule 4.1'!I$70","v":0},{"$f":"$F180*'Schedule 4.1'!J$70","v":0},{"$f":"$F180*'Schedule 4.1'!K$70","v":0},{"$f":"$F180*'Schedule 4.1'!L$70","v":0},{"$f":"$F180*'Schedule 4.1'!M$70","v":456249.16574435483},{"$f":"$F180*'Schedule 4.1'!N$70","v":807598.93881064479},{"$f":"$F180*'Schedule 4.1'!O$70","v":0},{"$f":"$F180*'Schedule 4.1'!P$70","v":0},{"$f":"$F180*'Schedule 4.1'!Q$70","v":0},{"$f":"$F180*'Schedule 4.1'!R$70","v":0},{"$f":"$F180*'Schedule 4.1'!S$70","v":0},{"$f":"$F180*'Schedule 4.1'!T$70","v":0},{"$f":"$F180*'Schedule 4.1'!U$70","v":0}]
[null,null,"D11",33,"Secondary Conductor & Equip",{"$f":"DistnDetails!C51+DistnDetails!G51","v":68182.93354133307},{"$f":"$F181*'Schedule 4.1'!D$71","v":0},{"$f":"$F181*'Schedule 4.1'!E$71","v":0},0,{"$f":"$F181*'Schedule 4.1'!G$71","v":0},0,0,{"$f":"$F181*'Schedule 4.1'!I$71","v":0},{"$f":"$F181*'Schedule 4.1'!J$71","v":0},{"$f":"$F181*'Schedule 4.1'!K$71","v":0},{"$f":"$F181*'Schedule 4.1'!L$71","v":0},{"$f":"$F181*'Schedule 4.1'!M$71","v":0},{"$f":"$F181*'Schedule 4.1'!N$71","v":0},{"$f":"$F181*'Schedule 4.1'!O$71","v":39750.650254597174},{"$f":"$F181*'Schedule 4.1'!P$71","v":28432.283286735888},{"$f":"$F181*'Schedule 4.1'!Q$71","v":0},{"$f":"$F181*'Schedule 4.1'!R$71","v":0},{"$f":"$F181*'Schedule 4.1'!S$71","v":0},{"$f":"$F181*'Schedule 4.1'!T$71","v":0},{"$f":"$F181*'Schedule 4.1'!U$71","v":0}]
[null,null,"D11",34,"Services",{"$f":"DistnDetails!C52+DistnDetails!G52","v":226586.19714400091},{"$f":"$F182*'Schedule 4.1'!D$72","v":0},{"$f":"$F182*'Schedule 4.1'!E$72","v":0},0,{"$f":"$F182*'Schedule 4.1'!G$72","v":0},0,0,{"$f":"$F182*'Schedule 4.1'!I$72","v":0},{"$f":"$F182*'Schedule 4.1'!J$72","v":0},{"$f":"$F182*'Schedule 4.1'!K$72","v":0},{"$f":"$F182*'Schedule 4.1'!L$72","v":0},{"$f":"$F182*'Schedule 4.1'!M$72","v":0},{"$f":"$F182*'Schedule 4.1'!N$72","v":0},{"$f":"$F182*'Schedule 4.1'!O$72","v":0},{"$f":"$F182*'Schedule 4.1'!P$72","v":0},{"$f":"$F182*'Schedule 4.1'!Q$72","v":226586.19714400091},{"$f":"$F182*'Schedule 4.1'!R$72","v":0},{"$f":"$F182*'Schedule 4.1'!S$72","v":0},{"$f":"$F182*'Schedule 4.1'!T$72","v":0},{"$f":"$F182*'Schedule 4.1'!U$72","v":0}]
[null,null,{"$f":"+SystemizedPlant!C40","v":"SMET03"},35,"Meters",{"$f":"SUM((IF(VLOOKUP($C183,AllocatedMeters,3,FALSE)=\"\",0,VLOOKUP($C183,AllocatedMeters,3,FALSE))))+SUM((IF(VLOOKUP($C183,AllocatedMeters,9,FALSE)=\"\",0,VLOOKUP($C183,AllocatedMeters,9,FALSE))))","v":493662.0551847429},{"$f":"$F183*'Schedule 4.1'!D$73","v":0},{"$f":"$F183*'Schedule 4.1'!E$73","v":0},0,{"$f":"$F183*'Schedule 4.1'!G$73","v":0},0,0,{"$f":"$F183*'Schedule 4.1'!I$73","v":0},{"$f":"$F183*'Schedule 4.1'!J$73","v":0},{"$f":"$F183*'Schedule 4.1'!K$73","v":0},{"$f":"$F183*'Schedule 4.1'!L$73","v":0},{"$f":"$F183*'Schedule 4.1'!M$73","v":0},{"$f":"$F183*'Schedule 4.1'!N$73","v":0},{"$f":"$F183*'Schedule 4.1'!O$73","v":0},{"$f":"$F183*'Schedule 4.1'!P$73","v":0},{"$f":"$F183*'Schedule 4.1'!Q$73","v":0},{"$f":"$F183*'Schedule 4.1'!R$73","v":493662.0551847429},{"$f":"$F183*'Schedule 4.1'!S$73","v":0},{"$f":"$F183*'Schedule 4.1'!T$73","v":0},{"$f":"$F183*'Schedule 4.1'!U$73","v":0}]
[null,null,"D11",36,"Street Lighting",{"$f":"DistnDetails!C53+DistnDetails!G53","v":172645.83608699974},{"$f":"$F184*'Schedule 4.1'!D$74","v":0},{"$f":"$F184*'Schedule 4.1'!E$74","v":0},0,{"$f":"$F184*'Schedule 4.1'!G$74","v":0},0,0,{"$f":"$F184*'Schedule 4.1'!I$74","v":0},{"$f":"$F184*'Schedule 4.1'!J$74","v":0},{"$f":"$F184*'Schedule 4.1'!K$74","v":0},{"$f":"$F184*'Schedule 4.1'!L$74","v":0},{"$f":"$F184*'Schedule 4.1'!M$74","v":0},{"$f":"$F184*'Schedule 4.1'!N$74","v":0},{"$f":"$F184*'Schedule 4.1'!O$74","v":0},{"$f":"$F184*'Schedule 4.1'!P$74","v":0},{"$f":"$F184*'Schedule 4.1'!Q$74","v":0},{"$f":"$F184*'Schedule 4.1'!R$74","v":0},{"$f":"$F184*'Schedule 4.1'!S$74","v":172645.83608699974},{"$f":"$F184*'Schedule 4.1'!T$74","v":0},{"$f":"$F184*'Schedule 4.1'!U$74","v":0}]
[{"$f":"SUM(G185:Y185)-F185","v":0},null," ",37,"Subtotal Distribution",{"$f":"SUM(F175:F184)","v":9299971.1136477366},{"$f":"SUM(G175:G184)","v":0},0,0,0,0,0,0,371682.15724200022,4254888.7652170099,1197252.0384820437,456249.16574435483,807598.93881064479,613597.59779305663,705808.36194288451,226586.19714400091,493662.0551847429,172645.83608699974,0,0]
[{"$f":"SUM(G186:Y186)-F186","v":0},null," ",38,"Subtotal Prod, Trans, & Dist",{"$f":"SUM(F185,F173,F161)","v":78499148.73822479},28984367.430502772,17481397.448738523,11286086.805864338,5666746.3013814157,809245.38080333336,118423.31843433352,2733799.1486339122,1145803.0273007504,4254888.7652170099,1197252.0384820437,456249.16574435483,807598.93881064479,613597.59779305663,705808.36194288451,226586.19714400091,493662.0551847429,172645.83608699974,0,1344990.9201596663]
[null,{"$f":"IF(OverheadAlloc=\"Expenses\",\"E-GTDC\",\"L-GTDC\")","v":"E-GTDC"},{"$f":"+SystemizedPlant!C119","v":"SGPLT03"},39,"General",{"$f":"+SystemizedPlant!E119+SystemizedPlant!K119","v":6143909.805800016},{"$f":"$F187*VLOOKUP($B187,RatiosNLSO,G$593,FALSE)","v":1849987.8099853203},2093290.7057524826,489574.97768617992,350655.46690114011,33844.015566294518,3279.7961983033301,104435.4916260303,99824.784230760197,367773.90019640839,97705.873317345235,34284.523382931067,60686.455517154987,52992.996981577853,59138.032540011453,26939.577999012763,34213.64872677793,8823.2612103632619,312112.07222451729,64346.41575740432,null," "]
[null,null,{"$f":"+SDEPDetails!C75","v":"SDEP8"},{"$f":"MAX(D186:D187)+NoOne","v":40},"Telecontrol - Custmr & Spec",{"$f":"SUM(G188:Y188)","v":0},0,0,0,0,0,0,0,0,0,0,0,0,0,0,0,0,0,{"$f":"+SDEPDetails!L75","v":0},{"$f":"+SDEPDetails!M75","v":0}]
[null,null,{"$f":"+SDEPDetails!C82","v":"SDEP9"},{"$f":"MAX(D187:D188)+NoOne","v":41},"Feasibility Studies",{"$f":"SUM(G189:Y189)","v":119552.65421400001},{"$f":"+SDEPDetails!E82+SDEPDetails!E160","v":118091.676397},0,{"$f":"+SDEPDetails!F82","v":0},{"$f":"+SDEPDetails!G82+SDEPDetails!G160","v":0},0,0,0,{"$f":"+SDEPDetails!K82+SDEPDetails!K160","v":1460.9778170000002},0,0,0,0,0,0,0,0,0,0,0]
[null,null,"G10",{"$f":"MAX(D172:D189)+NoOne","v":42},"Feasibility Studies - General",0,{"$f":"$F190*(G$186/SUM($G$186:$Y$186))","v":0},0,0,0,0,0,{"$f":"$F190*(M$186/SUM($G$186:$Y$186))","v":0},0,0,0,0,0,0,0,0,0,0,0,0]
[null,null,{"$f":"+SystemizedPlant!C74","v":"SCS2_03"},{"$f":"MAX(D189:D190)+NoOne","v":43},"Software - General",{"$f":"+SystemizedPlant!E74+SystemizedPlant!K74","v":845954.18868347898},312353.03093465522,188390.08617936602,121625.68079693288,61068.277133123862,{"$f":"$F191*(K$186/SUM($G$186:$Y$186))","v":8720.9164757474846},{"$f":"$F191*(L$186/SUM($G$186:$Y$186))","v":1276.2011292810287},29461.069043160773,12347.864733968587,45853.248489621838,12902.310319838292,4916.8162846183277,8703.1734234656833,6612.497923386979,7606.2167525475625,2441.8295695286911,5320.0001540178764,1860.5356942608501,0,14494.433645957104]
[{"$f":"SUM(G192:Y192)-F192","v":0},null,null,{"$f":"MAX(D189:D191)+NoOne","v":44},"Total Depreciation Expense",{"$f":"SUM(F186:F191)","v":85608565.386922285},31264799.947819747,19763078.240670372,11897287.46434745,6078470.0454156799,851810.31284537539,122979.31576191788,2867695.7093031034,1259436.6540824792,4668515.9139030408,1307860.2221192273,495450.50541190425,876988.56775126548,673203.09269802144,772552.6112354435,255967.60471254238,533195.70406553859,183329.63299162386,312112.07222451729,1423831.7695630279]
[]
[]
[]
[]
[null,null,null,null,null,null,null,null,null,null,null,null,null,null,null,null,null,null,null,null,null,null,null,null,"Schedule 2.6A",null,null,null,null,null,null,null,null,null,null,null,"Schedule 2.6A"]
[null,null,null,null,null,null,null,null,null,null,null,null,null,null,null,null,null,null,null,null,null,null,null,null,"Page 1 of 2",null,null,null,null,null,null,null,null,null,null,null,"Page 2 of 2"]
[]
[null,null,null,{"$f":"D5","v":"NEWFOUNDLAND AND LABRADOR HYDRO"},null,null,null,null,null,null,null,null,null,null,null,null,null,null,null,null,null,null,null,null,null,null,null,null,"NEWFOUNDLAND & LABRADOR HYDRO"]
[null,null,null,{"$f":"D6","v":"2019 Test Year Cost of Service Study"},null,null,null,null,null,null,null,null,null,null,null,null,null,null,null,null,null,null,null,null,null,null,null,null,{"$f":"RunName","v":"2019 Test Year Cost of Service Study"}]
[null,null,null,{"$f":"$B$1","v":"Newfoundland and Labrador Independent System Operator"},null,null,null,null,null,null,null,null,null,null,null,null,null,null,null,null,null,null,null,null,null,null,null,null,{"$f":"$B$1","v":"Newfoundland and Labrador Independent System Operator"}]
[null,null,null,"Functional Classification of Rate Base",null,null,null,null,null,null,null,null,null,null,null,null,null,null,null,null,null,null,null,null,null,null,null,null,{"$f":"+D203&\" (CONT'D.)\"","v":"Functional Classification of Rate Base (CONT'D.)"}]
[]
[null,null,null,null,{"$f":"MAX(D205)+NoOne","v":1},2,3,4,5,6,{"$f":"MAX(J205)+NoOne","v":7},{"$f":"MAX(K205)+NoOne","v":8},{"$f":"MAX(L205)+NoOne","v":9},10,11,12,13,14,15,16,17,18,19,20,21,null,null,null,null,null,{"$f":"MAX(AD205)+NoOne","v":1},null,{"$f":"MAX(Y205)+NoOne","v":22}]
[null,null,null,null,null,null,"Production and",null,"Transmission","Transmission",null,"Scheduling, ","Rural Prod &","Distribution",null,null,null,null,null,null,null,null,null,null,"Specifically"]
[null,null,null,"Line",null,"Total","Transmission","Production","Point-to-Point","Network Service","Ancillary","System control","Transmission","Substations","Primary Lines",null,"Line Transformers",null,"Secondary Lines",null,"Services","Meters","Street Lighting","Accounting","Assigned",null,null,null,null,null,"Description ",null,"Basis of Functional Classification"]
[null,null,null,"No.","Description ","Amount","Demand","Energy","Demand","Demand","Services","& Dispatch","Demand","Demand","Demand","Customer","Demand","Customer","Demand","Customer","Customer","Customer","Customer","Customer","Customer"]
[null,null,null,null,null,"($)","($)","($)","($)","($)","($)","($)","($)","($)","($)","($)","($)","($)","($)","($)","($)","($)","($)","($)","($)",null,null,null,null,null,{"$f":"IF(ISBLANK(E209),\"\",E209)","v":""}]
[null,null,null,null," ",null,null,null,null,null,null,null,null,null,null,null,null,null,null,null,null,null,null,null,null,null,null,null,null,null," "]
[null,null,null,{"$f":"MAX(D208:D210)+NoOne","v":1},"Average Net Book Value",{"$f":"SUM(G211:Y211)","v":2057902850.5538988},{"$f":"G128","v":617409253.80120206},501846540.92986906,430745583.8534832,184133291.96091413,4117815.9029289167,1472423.1700401281,71100804.642359436,32681075.694356672,85032665.06818217,23198543.226157084,8359851.1248391829,14797631.215435563,12078039.844007367,13656361.549525477,5649095.4624581374,7584548.9467074024,1425214.3040176963,4643621.5989061818,37970488.258508891,null,null,null,null,null,"Average Net Book Value",null,{"$f":"+\"Sch. 2.3 , L. \"&D128","v":"Sch. 2.3 , L. 49"}]
[null,null,null,null,null," ",null,null,null,null,null,null,null,null,null,null,null,null,null,null,null,null,null,null,null,null,null,null,null,null,""]
[{"$f":"F213-SUM(G213:Y213)","v":0},null,null,{"$f":"MAX(D210:D212)+NoOne","v":2},"Cash Working Capital",{"$f":"'Rate Base'!E15+'Rate Base'!I15","v":2129684.921218704},{"$f":"IF(SUM($G$211:$Y$211)<>0,$F213*(G$211/SUM($G$211:$Y$211)),0)","v":638945.21439017437},519351.53824022308,445770.49619587156,190556.07764864666,4261.4501624612085,1523.7830211681191,73580.884293247043,33821.030033922674,87998.704388793485,24007.735685719661,8651.4525597800694,15313.789988087159,12499.336072515682,14132.711494571871,5846.1425531744244,7849.1069302422839,1474.9274544008417,4805.5965792428788,39294.94352646084,null,null,null,null,null,"Cash Working Capital",null,"Prorated on Average Net Book Value, L. 1"]
[]
[null,null,null,{"$f":"MAX(D212:D214)+NoOne","v":3},"Fuel Inventory - No. 6 Fuel",{"$f":"'Rate Base'!E16","v":66169663.358461581},{"$f":"$F215*(G321/$F321)","v":0},66169663.358461581,0,0,0,{"$f":"$F215*(L321/$F321)","v":0},0,0,0,0,0,0,0,0,0,0,0,0,0,null,null,null,null,null,{"$f":"IF(ISBLANK(E215),\"\",E215)","v":"Fuel Inventory - No. 6 Fuel"},null,{"$f":"+\"Production - Demand, Energy ratios Sch.4.1 L.\"&'Schedule 4.1'!$A$24","v":"Production - Demand, Energy ratios Sch.4.1 L.10"}]
[{"$f":"F216-SUM(G216:Y216)","v":0},null,null,{"$f":"MAX(D213:D215)+NoOne","v":4},"Fuel Inventory - Diesel",{"$f":"'Rate Base'!E17+'Rate Base'!I17","v":401798.83812238445},{"$f":"$F216*(G322/$F322)","v":401798.83812238445},0,0,0,0,{"$f":"$F216*(L322/$F322)","v":0},0,0,0,0,0,0,0,0,0,0,0,0,0,null,null,null,null,null,"Fuel Inventory - Diesel",null,{"$f":"+\"Production - Demand, Energy ratios Sch.4.1 L.\"&'Schedule 4.1'!$A$26","v":"Production - Demand, Energy ratios Sch.4.1 L.12"}]
[null,null,null,{"$f":"MAX(D214:D216)+NoOne","v":5},"Fuel Inventory - Gas Turbine",{"$f":"'Rate Base'!E18+'Rate Base'!I18","v":5174271.1184615381},{"$f":"$F217*(G324/$F324)","v":5174271.1184615381},0,0,0,0,{"$f":"$F217*(L324/$F324)","v":0},0,0,0,0,0,0,0,0,0,0,0,0,0,null,null,null,null,null,"Fuel Inventory - Gas Turbine",null,{"$f":"+\"Production - Demand, Energy ratios Sch.4.1 L.\"&'Schedule 4.1'!$A$25","v":"Production - Demand, Energy ratios Sch.4.1 L.11"}]
[null,null,null,null,null,null,null,null,null,null,null,null,null,null,null,null,null,null,null,null,null,null,null,null,null,null,null,null,null,null,""]
[{"$f":"F219-SUM(G219:Y219)","v":0},null,null,{"$f":"MAX(D216:D218)+NoOne","v":6},"Asset Inventory/Supplies",{"$f":"'Rate Base'!E19+'Rate Base'!I19","v":31032842.828115948},{"$f":"IF(SUM($G$62:$Y$62)<>0,$F219*(G$62/SUM($G$62:$Y$62)),0)","v":8079132.2867516149},9153577.0840832181,5300377.4713917058,2509150.664947567,126914.95015786926,174235.25759980036,1305573.4736194676,543904.40095992689,1486626.8491176341,394949.65388375911,138585.94354587753,245308.63691361703,214209.90474297051,239049.55444370027,108895.98184059006,120958.32033906123,35665.654917597865,103836.00178553633,751890.73707443592,null,null,null,null,null,"Asset Inventory/Supplies",null,{"$f":"\"Prorated on Total Plant in Service, Sch. 2.2, L. \"&$D$62","v":"Prorated on Total Plant in Service, Sch. 2.2, L. 45"}]
[]
[{"$f":"F221-SUM(G221:Y221)","v":0},null,null,{"$f":"MAX(D218:D220)+NoOne","v":7},"Deferred Charges: Holyrood",{"$f":"+'Rate Base'!E20","v":0},{"$f":"IF(SUM('Schedule 4.1'!$D$15:'Schedule 4.1'!$E$15)<>0,$F221*('Schedule 4.1'!D$15/SUM('Schedule 4.1'!$D$15:'Schedule 4.1'!$E$15)),0)","v":0},{"$f":"IF(SUM('Schedule 4.1'!$D$15:'Schedule 4.1'!$E$15)<>0,$F221*('Schedule 4.1'!E$15/SUM('Schedule 4.1'!$D$15:'Schedule 4.1'!$E$15)),0)","v":0},null,null,null,null,null,null,null,null,null,null,null,null,null,null,null,null,null,null,null,null,null,null,"Deferred Charges: Holyrood",null,{"$f":"+\"Production - Demand, Energy ratios Sch.4.1 L.\"&'Schedule 4.1'!$A$15","v":"Production - Demand, Energy ratios Sch.4.1 L.3"}]
[{"$f":"F222-SUM(G222:Y222)","v":0},null,null,{"$f":"MAX(D219:D221)+NoOne","v":8},"Deferred Charges: \nForeign Exchange Loss and Regulatory Costs",{"$f":"+'Rate Base'!E21+'Rate Base'!I21","v":71736854.654514536},{"$f":"IF(SUM($G$211:$Y$211)<>0,$F222*(G$211/SUM($G$211:$Y$211)),0)","v":21522394.942194615},17493970.79452366,15015448.048800888,6418739.931723237,143543.78334378198,51327.499211480252,2478517.4319939949,1139236.2746415511,2964170.9924452212,808682.74377644947,291417.75323094206,515833.64076058724,421030.85117345722,476049.88900429709,196922.96942528727,264391.33667731407,49681.835734536187,161872.95120449245,1323620.9846487413,null,null,null,null,null,"Deferred Charges: \nForeign Exchange Loss and Regulatory Costs",null,"Prorated on Average Net Book Value, L. 1"]
[null,null,null,null,null," ",null,null,null,null,null,null,null,null,null,null,null,null,null,null,null,null,null,null,null,null,null,null,null,null,""]
[null,null," ",null,null,null,null,null,null,null,null,null,null,null,null,null,null,null,null,null,null,null,null,null,null,null,null,null,null,null,""]
[{"$f":"SUM(F211:F222)-F225","v":0},null," ",{"$f":"MAX(D222:D224)+NoOne","v":9},"Total Rate Base",{"$f":"SUM(G225:Y225)","v":2234547966.2727933},{"$f":"SUM(G211:G222)","v":653225796.20112228},595183103.70517778,451507179.86987162,193251738.63523358,4392536.0865930291,{"$f":"SUM(L211:L222)","v":1699509.7098725766},74958476.432266131,34398037.399992079,89571461.61413382,24426183.359503012,8798506.2741757836,15574087.283097854,12725779.935996311,14385593.704468047,5960760.5562771894,7977747.7106540194,1512036.722124231,4914136.1484754533,40085294.923758529,null,null,null,null,null,"Total Rate Base",null," "]
[null,null,null,null,null," ",null,null,null,null,null,null,null,null,null,null,null,null,null,null,null,null,null,null,null,null,null,null,null,null,""]
[null,null,null,{"$f":"MAX(D224:D226)+NoOne","v":10},"Less: Rural Asset Portion",{"$f":"SUM(G227:Y227)","v":0},0,0,0,0,0,0,{"$f":"IF(RuralMarginSwitch=1,-M225,0)","v":0},{"$f":"IF(RuralMarginSwitch=1,-N225,0)","v":0},0,0,0,0,0,0,0,0,0,0,0,null,null,null,null,null,"Less: Rural Asset Portion",null,{"$f":"IF(RuralMarginSwitch=1,\"Rural Transmission and Distribution Rate Base\",\"N/A\")","v":"N/A"}]
[null,null,null,null,null,null,null,null,null,null,null,null,null,null,null,null,null,null,null,null,null,null,null,null,null,null,null,null,null,null,""]
[{"$f":"F225+F227-F229","v":0},null,null,{"$f":"MAX(D226:D228)+NoOne","v":11},"Rate Base Available for Equity Return",{"$f":"SUM(G229:Y229)","v":2234547966.2727933},{"$f":"SUM(G225,G227)","v":653225796.20112228},{"$f":"SUM(H225,H227)","v":595183103.70517778},451507179.86987162,193251738.63523358,4392536.0865930291,{"$f":"SUM(L225,L227)","v":1699509.7098725766},74958476.432266131,34398037.399992079,89571461.61413382,24426183.359503012,8798506.2741757836,15574087.283097854,12725779.935996311,14385593.704468047,5960760.5562771894,7977747.7106540194,1512036.722124231,4914136.1484754533,40085294.923758529,null,null,null,null,null,"Rate Base Available for Equity Return"," "," "]
[null,null,null,null,null,null,null,null,null,null,null,null,null,null,null,null,null,null,null,null,null,null,null,null,null,null,null,null,null,null,""]
[{"$f":"(F$225*'Rate Base'!E41)-F231","v":0},null,null,{"$f":"MAX(D228:D230)+NoOne","v":12},"Return on Debt",{"$f":"SUM(G231:Y231)","v":90341683.986853004},{"$f":"'Rate Base'!$E$41*G225","v":26409600.215875551},{"$f":"'Rate Base'!$E$41*H225","v":24062962.478686538},{"$f":"'Rate Base'!$E$41*I225","v":18254214.980954908},{"$f":"'Rate Base'!$E$41*J225","v":7813073.5008634096},{"$f":"'Rate Base'!$E$41*K225","v":177588.09075722951},{"$f":"'Rate Base'!$E$41*L225","v":68710.348338592274},{"$f":"'Rate Base'!$E$41*M225","v":3030534.6281177332},{"$f":"'Rate Base'!$E$41*N225","v":1390695.8684540777},{"$f":"'Rate Base'!$E$41*O225","v":3621330.488994631},{"$f":"'Rate Base'!$E$41*P225","v":987538.67510390014},{"$f":"'Rate Base'!$E$41*Q225","v":355719.31566265348},{"$f":"'Rate Base'!$E$41*R225","v":629652.74988486303},{"$f":"'Rate Base'!$E$41*S225","v":514497.07359902869},{"$f":"'Rate Base'!$E$41*T225","v":581602.53439538705},{"$f":"'Rate Base'!$E$41*U225","v":240990.64089222212},{"$f":"'Rate Base'!$E$41*V225","v":322536.44740726042},{"$f":"'Rate Base'!$E$41*W225","v":61130.906916494561},{"$f":"'Rate Base'!$E$41*X225","v":198676.12675795337},{"$f":"'Rate Base'!$E$41*Y225","v":1620628.9151905812},null,null,null,null,null,"Return on Debt",null,{"$f":"+\"L.\"&D225&\" x Sch.1.1,p2,L.\"&'Rate Base'!$B$32","v":"L.9 x Sch.1.1,p2,L.12"}]
[" ",null,null," ",null," ",null,null,null,null,null,null,null,null,null,null,null,null,null,null,null,null,null,null,null,null,null,null,null,null,""]
[{"$f":"(F$229*'Rate Base'!E42)-F233","v":0},null,null,{"$f":"MAX(D230:D232)+NoOne","v":13},"Return on Equity",{"$f":"SUM(G233:Y233)","v":36692170.343211427},{"$f":"'Rate Base'!$E$42*G229","v":10726228.547588693},{"$f":"'Rate Base'!$E$42*H229","v":9773144.3478379138},{"$f":"'Rate Base'!$E$42*I229","v":7413928.277673794},{"$f":"'Rate Base'!$E$42*J229","v":3173270.7554956628},{"$f":"'Rate Base'!$E$42*K229","v":72127.197429020816},{"$f":"'Rate Base'!$E$42*L229","v":27906.62841693221},{"$f":"'Rate Base'!$E$42*M229","v":1230848.1301065707},{"$f":"'Rate Base'!$E$42*N229","v":564829.51666412572},{"$f":"'Rate Base'!$E$42*O229","v":1470799.1849099549},{"$f":"'Rate Base'!$E$42*P229","v":401087.68940697104},{"$f":"'Rate Base'!$E$42*Q229","v":144474.9881634273},{"$f":"'Rate Base'!$E$42*R229","v":255732.73528096962},{"$f":"'Rate Base'!$E$42*S229","v":208962.39069803673},{"$f":"'Rate Base'!$E$42*T229","v":236217.19589801502},{"$f":"'Rate Base'!$E$42*U229","v":97878.06975154359},{"$f":"'Rate Base'!$E$42*V229","v":130997.80464446156},{"$f":"'Rate Base'!$E$42*W229","v":24828.247059701},{"$f":"'Rate Base'!$E$42*X229","v":80692.078832548097},{"$f":"'Rate Base'!$E$42*Y229","v":658216.55735308537},null,null,null,null,null,"Return on Equity",null,{"$f":"+\"L.\"&D229&\" x Sch.1.1,p2,L.\"&'Rate Base'!$B$36","v":"L.11 x Sch.1.1,p2,L.15"}]
[null,null,null," ",null," ",null,null,null,null,null,null,null,null,null,null,null,null,null,null,null,null,null,null,null,null,null,null,null,null,""]
[{"$f":"SUM(F231:F233)-F235","v":0},null,null,{"$f":"MAX(D232:D234)+NoOne","v":14},"Return on Rate Base",{"$f":"SUM(G235:Y235)","v":127033854.33006448},{"$f":"SUM(G231:G233)","v":37135828.763464242},{"$f":"SUM(H231:H233)","v":33836106.826524451},25668143.258628704,10986344.256359072,249715.28818625031,{"$f":"SUM(L231:L233)","v":96616.976755524491},4261382.7582243038,1955525.3851182035,5092129.6739045857,1388626.3645108712,500194.30382608075,885385.48516583268,723459.46429706539,817819.7302934021,338868.71064376569,453534.25205172197,85959.153976195565,279368.20559050149,2278845.4725436666,null,null,null,null,null,"Return on Rate Base"]
[]
[null,null,null,null,null,null,null,null,null,null,null,null,null,null,null,null,null,null,null,null,null,null,null,null,"Schedule 2.4A",null,null,null,null,null,"",null,null,null,null,null,"Schedule 2.4A"]
[null,null,null,null,null,null,null,null,null,null,null,null,null,null,null,null,null,null,null,null,null,null,null,null,"Page 1 of 2",null,null,null,null,null,"",null,null,null,null,null,"Page 2 of 2"]
[null,null,null,{"$f":"D5","v":"NEWFOUNDLAND AND LABRADOR HYDRO"},null,null,null,null,null,null,null,null,null,null,null,null,null,null,null,null,null,null,null,null,null,null,null,null,null,"NEWFOUNDLAND & LABRADOR HYDRO"]
[null,null,null,{"$f":"D6","v":"2019 Test Year Cost of Service Study"},null,null,null,null,null,null,null,null,null,null,null,null,null,null,null,null,null,null,null,null,null,null,null,null,null,{"$f":"RunName","v":"2019 Test Year Cost of Service Study"}]
[null,null,null,{"$f":"$B$1","v":"Newfoundland and Labrador Independent System Operator"},null,null,null,null,null,null,null,null,null,null,null,null,null,null,null,null,null,null,null,null,null,null,null,null,null,{"$f":"$B$1","v":"Newfoundland and Labrador Independent System Operator"}]
[null,null,null,"Functional Classification of Operating & Maintenance Expense",null,null,null,null,null,null,null,null,null,null,null,null,null,null,null,null,null,null,null,null,null,null,null,null,null,{"$f":"+D242&\" (CONT'D.)\"","v":"Functional Classification of Operating & Maintenance Expense (CONT'D.)"}]
[null,null,null,null,{"$f":"MAX(D243)+NoOne","v":1},2,3,4,5,6,{"$f":"MAX(J243)+NoOne","v":7},{"$f":"MAX(K243)+NoOne","v":8},{"$f":"MAX(L243)+NoOne","v":9},10,11,12,13,14,15,16,17,18,19,20,21,null,null,null,null,null,{"$f":"MAX(AD243)+NoOne","v":1},null,{"$f":"MAX(Y243)+NoOne","v":22},{"$f":"MAX(AG243)+NoOne","v":23},null,{"$f":"MAX(AH243)+NoOne","v":24}]
[null,null,null,null,null,null,"Production and",null,"Transmission","Transmission",null,"Scheduling, ","Rural Prod &","Distribution",null,null,null,null,null,null,null,null,null,null,"Specifically",null,null,null,null,null,null,null,"Revenue Related"]
[null,null,null,"Line",null,"Total","Transmission","Production","Point-to-Point","Network Service","Ancillary","System control","Transmission","Substations","Primary Lines",null,"Line Transformers",null,"Secondary Lines",null,"Services","Meters","Street Lighting","Accounting","Assigned",null,null,null,null,null,null,null,"Municipal","PUB "]
[null,null,null,"No.","Description ","Amount","Demand","Energy","Demand","Demand","Services","& Dispatch","Demand","Demand","Demand","Customer","Demand","Customer","Demand","Customer","Customer","Customer","Customer","Customer","Customer",null,null,null,null,null,"Description ",null,"Tax","Assessment",null,"Basis of Functional Classification"]
[null,null,null,null,"Production","($)","($)","($)","($)","($)","($)","($)","($)","($)","($)","($)","($)","($)","($)","($)","($)","($)","($)","($)","($)",null,null,null,null,null,{"$f":"IF(ISBLANK(E247),\"\",E247)","v":"Production"}]
[]
[null,null,null,{"$f":"MAX(D245:D247)+NoOne","v":1},"Bay D'Espoir",{"$f":"IFERROR(F77/F$86*F$258,0)","v":3214765.3266165783},{"$f":"IFERROR(G77/G$86*G$258,0)","v":1448869.1086751032},1742555.9627992373,0,0,26418.732576562223,0,0,0,0,0,0,0,0,0,0,0,0,0,0]
[null,null,null,{"$f":"MAX(D243:D249)+NoOne","v":2},"Upper Salmon",2228848.237800186,{"$f":"IFERROR(G78/G$86*G$258,0)","v":1005876.7801426988},1209768.7572908336,0,0,11670.341971827804,0,0,0,0,0,0,0,0,0,0,0,0,0,0]
[null,null,null,3,"Hinds Lake",1046319.297810939,471327.21786596481,566865.59814430086,0,0,9780.5192628068653,0,0,0,0,0,0,0,0,0,0,0,0,0,0]
[null,null,null,4,"Cat Arm",3485994.8368945206,1575487.5257473495,1894840.0279010218,0,0,7139.2401301259169,0,0,0,0,0,0,0,0,0,0,0,0,0,0]
[null,null,null,5,"Paradise River",275352.31191260635,124363.93976179199,149572.60355097509,0,0,961.50542678178283,0,0,0,0,0,0,0,0,0,0,0,0,0,0]
[null,null,null,6,"Granite Canal",1439731.3874604572,647186.91358604992,778372.18597770296,0,0,20128.253920676249,0,0,0,0,0,0,0,0,0,0,0,0,0,0]
[null,null,null,7,"Exploits",0,0,0,0,0,0,0,0,0,0,0,0,0,0,0,0,0,0,0,0]
[null,null,null,8,"Star Lake",0,0,0,0,0,0,0,0,0,0,0,0,0,0,0,0,0,0,0,0]
[null,null,null,9,"Other Small Hydraulic",48602.97893804573,21986.265140425341,26442.897561096666,0,0,0,0,0,0,0,0,0,0,0,0,0,0,0,0,0]
[null,null," ",{"$f":"MAX(D246:D257)+NoOne","v":10},"Hydraulic",{"$f":"+'O&M Summary'!F11","v":11739614.377433334},{"$f":"+G24/$F$24*$F$258","v":5295097.750919383},6368418.0332251685,0,0,76098.593288780845,0,0,0,0,0,0,0,0,0,0,0,0,0,0,null,null,null,null,null,"Hydraulic",null,0,0,null,{"$f":"+\"Prorated on Hydraulic Plant in Service - Sch.2.2 L.\"&$D$24","v":"Prorated on Hydraulic Plant in Service - Sch.2.2 L.10"}]
[null,null," ",{"$f":"MAX(D247:D258)+NoOne","v":11},"Holyrood / Thermal",{"$f":"+'O&M Summary'!F15","v":19508579.346944444},{"$f":"+G25/$F$25*$F$259","v":8746683.6211234722},10519642.945969481,0,0,242252.77985148781,0,0,0,0,0,0,0,0,0,0,0,0,0,0,null,null,null,null,null,"Holyrood / Thermal",null,0,0,null,{"$f":"+\"Prorated on Holyrood Plant in Service - Sch.2.2 L.\"&$D$25","v":"Prorated on Holyrood Plant in Service - Sch.2.2 L.11"}]
[null,null," ",{"$f":"MAX(D248:D259)+NoOne","v":12},"Roddickton",0,0,0,0,0,0,0,0,0,0,0,0,0,0,0,0,0,0,0,0,null,null,null,null,null,"Roddickton",null,0,0,null,{"$f":"+\"Prorated on Roddickton Plant in Service - Sch.2.2 L.\"&$D$29","v":"Prorated on Roddickton Plant in Service - Sch.2.2 L.13"}]
[null,null,null,{"$f":"MAX(D249:D260)+NoOne","v":13},"Gas Turbine",{"$f":"+'O&M Summary'!F20","v":7604640.9364999998},{"$f":"(G26/$F$26)*$F261","v":3441739.9639725345},4139383.2339410088,0,0,23517.738586455464,0,0,0,0,0,0,0,0,0,0,0,0,0,0,null,null,null,null,null,"Gas Turbine",null,0,0,null,{"$f":"+\"Prorated on Gas Turbines Plant in Service - Sch.2.2 L.\"&$D$26","v":"Prorated on Gas Turbines Plant in Service - Sch.2.2 L.12"}]
[null,null," ",{"$f":"MAX(D259:D261)+NoOne","v":14},"Diesel",{"$f":"+'O&M Summary'!F19","v":313536.86839999998},{"$f":"(G30/$F$30)*$F$262","v":313536.86839999998},0,0,0,0,0,0,0,0,0,0,0,0,0,0,0,0,0,0,null,null,null,null,null,"Diesel",null,0,0,null,{"$f":"+\"Prorated on Diesel Plant in Service - Sch.2.2 L.\"&$D$30","v":"Prorated on Diesel Plant in Service - Sch.2.2 L.15"}]
[null,null,null,{"$f":"MAX(D260:D262)+NoOne","v":15},"Gas Turbine / Diesel - Labrador",{"$f":"SUM('O&M Summary'!J19,'O&M Summary'!J20)","v":656127.87555},{"$f":"$F263*'Schedule 4.1'!D$21","v":656127.87555},{"$f":"$F263*'Schedule 4.1'!E$21","v":0},{"$f":"$F263*'Schedule 4.1'!F$16","v":0},{"$f":"$F263*'Schedule 4.1'!G$16","v":0},{"$f":"$F263*'Schedule 4.1'!H$16","v":0},{"$f":"$F263*'Schedule 4.1'!I$16","v":0},{"$f":"$F263*'Schedule 4.1'!J$16","v":0},{"$f":"$F263*'Schedule 4.1'!K$16","v":0},{"$f":"$F263*'Schedule 4.1'!L$16","v":0},{"$f":"$F263*'Schedule 4.1'!M$16","v":0},{"$f":"$F263*'Schedule 4.1'!N$16","v":0},{"$f":"$F263*'Schedule 4.1'!O$16","v":0},{"$f":"$F263*'Schedule 4.1'!P$16","v":0},{"$f":"$F263*'Schedule 4.1'!Q$16","v":0},{"$f":"$F263*'Schedule 4.1'!R$16","v":0},{"$f":"$F263*'Schedule 4.1'!S$16","v":0},{"$f":"$F263*'Schedule 4.1'!T$16","v":0},{"$f":"$F263*'Schedule 4.1'!U$16","v":0},{"$f":"$F263*'Schedule 4.1'!V$16","v":0}]
[null,null,null,{"$f":"MAX(D261:D263)+NoOne","v":16},"Other",{"$f":"'O&M Summary'!F21","v":2806837.8347749999},{"$f":"(G31/$F31)*$F$264","v":1302154.538224166},1484587.4254823879,0,0,20095.871068446293,0,0,0,0,0,0,0,0,0,0,0,0,0,0,null,null,null,null,null,"Other",null,0,0,null,{"$f":"+\"Prorated on Production Plant in Service - Sch.2.2 L.\"&$D$31","v":"Prorated on Production Plant in Service - Sch.2.2 L.16"}]
[null,null,null,{"$f":"MAX(D262:D264)+NoOne","v":17},"Other - Labrador",{"$f":"'O&M Summary'!J21","v":80919.780400000003},{"$f":"$F265*'Schedule 4.1'!D$21","v":80919.780400000003},{"$f":"$F265*'Schedule 4.1'!E$21","v":0},{"$f":"$F265*'Schedule 4.1'!F$16","v":0},{"$f":"$F265*'Schedule 4.1'!G$16","v":0},{"$f":"$F265*'Schedule 4.1'!H$16","v":0},{"$f":"$F265*'Schedule 4.1'!I$16","v":0},{"$f":"$F265*'Schedule 4.1'!J$16","v":0},{"$f":"$F265*'Schedule 4.1'!K$16","v":0},{"$f":"$F265*'Schedule 4.1'!L$16","v":0},{"$f":"$F265*'Schedule 4.1'!M$16","v":0},{"$f":"$F265*'Schedule 4.1'!N$16","v":0},{"$f":"$F265*'Schedule 4.1'!O$16","v":0},{"$f":"$F265*'Schedule 4.1'!P$16","v":0},{"$f":"$F265*'Schedule 4.1'!Q$16","v":0},{"$f":"$F265*'Schedule 4.1'!R$16","v":0},{"$f":"$F265*'Schedule 4.1'!S$16","v":0},{"$f":"$F265*'Schedule 4.1'!T$16","v":0},{"$f":"$F265*'Schedule 4.1'!U$16","v":0},{"$f":"$F265*'Schedule 4.1'!V$16","v":0}]
[{"$f":"SUM(G266:AH266)-F266","v":0},null," ",{"$f":"MAX(D261:D264)+NoOne","v":17},"Subtotal Production",{"$f":"SUM(F258:F265)","v":42710257.020002782},{"$f":"SUM(G258:G265)","v":19836260.398589555},22512031.638618045,0,0,361964.98279517045,{"$f":"SUM(L258:L265)","v":0},0,0,0,0,0,0,0,0,0,0,0,0,0,null,null,null,null,null,"Subtotal Production",null,{"$f":"SUM(AG258:AG264)","v":0},{"$f":"SUM(AH258:AH264)","v":0}]
[null,null,null,null,null,null,null,null,null,null,null,null,null,null,null,null,null,null,null,null,null,null,null,null,null,null,null,null,null,null,""]
[null,null,null,null,"Transmission",null,null,null,null,null,null,null,null,null,null,null,null,null,null,null,null,null,null,null,null,null,null,null,null,null,"Transmission"]
[null,null," ",{"$f":"MAX(D266:D268)+NoOne","v":18},"Transmission Lines",{"$f":"+'O&M Summary'!F26","v":3298719.299194444},{"$f":"$F269*G33/$F$33","v":124825.05240894489},150127.18407726788,2142634.328393884,188846.25329017596,0,0,510597.54469141952,0,0,0,0,0,0,0,0,0,0,0,181688.93633275127,null,null,null,null,null,"Transmission Lines",null,0,0,null,{"$f":"+\"Prorated on Transmission Lines Plant in Service - Sch.2.2 L.\"&$D$33","v":"Prorated on Transmission Lines Plant in Service - Sch.2.2 L.17"}]
[null,null,null,19,"Transmission Lines - Labrador",{"$f":"+'O&M Summary'!J26","v":2280520.41665},{"$f":"$F270*G38/$F$38","v":0},0,1242554.6180391572,925997.45178694266,0,0,111968.34682389998,0,0,0,0,0,0,0,0,0,0,0,0]
[null,null,null,20,"Terminal Stations",{"$f":"+'O&M Summary'!F30","v":4519337.2301666671},{"$f":"$F271*(G41/SUM($G$41:$Y$41))","v":326695.27983695286},303644.14157285454,888426.57453370711,2052794.5380057155,9425.2382306181189,0,259094.15998660435,303792.09601365839,0,0,0,0,0,0,0,0,0,0,375465.20198655577,null,null,null,null,null,"Terminal Stations",null,0,0,null,{"$f":"+\"Prorated on Transmission Terminal Stations Plant in Service - Sch.2.2 L.\"&$D$41","v":"Prorated on Transmission Terminal Stations Plant in Service - Sch.2.2 L.24"}]
[null,null,null,21,"Terminal Stations - Labrador",{"$f":"+'O&M Summary'!J30","v":173173.39},{"$f":"$F272*G39/$F$39","v":0},0,0,105239.72295410885,0,0,0,67933.667045891198,0,0,0,0,0,0,0,0,0,0,0]
[null,null,null,22,"Other",{"$f":"'O&M Summary'!F31","v":2335787.6037999997},{"$f":"$F273*(G43/$F43)","v":118974.62664325717},124766.11613773774,1073485.5594523656,499913.28394018492,1934.6961700462816,36178.616031905578,265540.85841851449,62358.678928523186,0,0,0,0,0,0,0,0,0,0,152635.16807746477,null,null,null,null,null,"Other",null,0,0,null,{"$f":"+\"Prorated on Transmission Plant in Service - Sch.2.2 L.\"&$D$43","v":"Prorated on Transmission Plant in Service - Sch.2.2 L.26"}]
[null,null,null,23,"Other - Labrador",{"$f":"'O&M Summary'!J31","v":189105.60516799998},{"$f":"$F274*SUM(G38,G39)/SUM($F$38,$F$39)","v":0},0,53278.719307376974,95201.981757097325,0,0,4801.0204421884064,35823.883661337284,0,0,0,0,0,0,0,0,0,0,0]
[null,null,null,24,"NLSO",{"$f":"'O&M Summary'!F33","v":0},{"$f":"$F275*(G42/SUM($G$42:$Y$42))","v":0},{"$f":"$F275*(H42/SUM($G$42:$Y$42))","v":0},0,0,0,0,0,0,0,0,0,0,0,0,0,0,0,0,0]
[{"$f":"SUM(G276:AH276)-F276","v":0},null," ",25,"Subtotal Transmission",{"$f":"SUM(F269:F275)","v":12796643.54497911},{"$f":"SUM(G269:G275)","v":570494.95888915495},578537.44178786012,5400379.7997264909,3867993.2317342255,11359.934400664401,36178.616031905578,1152001.9303626267,469908.32564941014,0,0,0,0,0,0,0,0,0,0,709789.3063967718,null,null,null,null,null,"Subtotal Transmission",null,{"$f":"SUM(AG269:AG273)","v":0},{"$f":"SUM(AH269:AH273)","v":0}]
[null,null,null,null,null,null,null,null,null,null,null,null,null,null,null,null,null,null,null,null,null,null,null,null,null,null,null,null,null,null,""]
[null,null,null,null,"Distribution",null,null,null,null,null,null,null,null,null,null,null,null,null,null,null,null,null,null,null,null,null,null,null,null,null,"Distribution"]
[null,"P-DisxMet",null,{"$f":"MAX(D276:D278)+NoOne","v":26},"Other",{"$f":"+'O&M Summary'!F39+'O&M Summary'!J39","v":8444807.3572766669},{"$f":"$F279*VLOOKUP($B279,RatiosNLSO,G$593,FALSE)","v":0},0,0,0,0,0,0,631234.0383245378,4056822.4112965656,1077769.1847557053,378184.04934721399,669417.19538191066,584552.56798219029,652336.92668288737,297163.78383267921,0,97327.199672976945,0,0,null,null,null,null,null,"Other",null,0,0,null,{"$f":"+\"Prorated on Distribution Plant, excluding Meters - Sch. 2.2 L. \"&D55&\", less L. \"&D53","v":"Prorated on Distribution Plant, excluding Meters - Sch. 2.2 L. 38, less L. 36"}]
[null,null," ",{"$f":"MAX(D277:D279)+NoOne","v":27},"Meters",{"$f":"+'O&M Summary'!F43+'O&M Summary'!J43","v":377402.24864487641},{"$f":"$F280*'Schedule 4.1'!D$73","v":0},{"$f":"$F280*'Schedule 4.1'!E$73","v":0},{"$f":"$F280*'Schedule 4.1'!F$73","v":0},{"$f":"$F280*'Schedule 4.1'!G$73","v":0},{"$f":"$F280*'Schedule 4.1'!H$73","v":0},{"$f":"$F280*'Schedule 4.1'!I$73","v":0},{"$f":"$F280*'Schedule 4.1'!I$73","v":0},{"$f":"$F280*'Schedule 4.1'!J$73","v":0},{"$f":"$F280*'Schedule 4.1'!K$73","v":0},{"$f":"$F280*'Schedule 4.1'!L$73","v":0},{"$f":"$F280*'Schedule 4.1'!M$73","v":0},{"$f":"$F280*'Schedule 4.1'!N$73","v":0},{"$f":"$F280*'Schedule 4.1'!O$73","v":0},{"$f":"$F280*'Schedule 4.1'!P$73","v":0},{"$f":"$F280*'Schedule 4.1'!Q$73","v":0},{"$f":"$F280*'Schedule 4.1'!R$73","v":377402.24864487641},{"$f":"$F280*'Schedule 4.1'!S$73","v":0},{"$f":"$F280*'Schedule 4.1'!T$73","v":0},{"$f":"$F280*'Schedule 4.1'!U$73","v":0},null,null,null,null,null,"Meters",null,0,0,null,"Meters - Customer"]
[{"$f":"SUM(G281:AH281)-F281","v":0},null," ",{"$f":"MAX(D278:D280)+NoOne","v":28},"Subtotal Distribution",{"$f":"SUM(F279:F280)","v":8822209.6059215441},{"$f":"SUM(G279:G280)","v":0},{"$f":"SUM(H279:H280)","v":0},0,0,0,{"$f":"SUM(L279:L280)","v":0},0,631234.0383245378,4056822.4112965656,1077769.1847557053,378184.04934721399,669417.19538191066,584552.56798219029,652336.92668288737,297163.78383267921,377402.24864487641,97327.199672976945,0,0,null,null,null,null,null,"Subtotal Distribution",null,{"$f":"SUM(AG279:AG280)","v":0},{"$f":"SUM(AH279:AH280)","v":0}]
[null,null,null,null,null,null,null,null,null,null,null,null,null,null,null,null,null,null,null,null,null,null,null,null,null,null,null,null,null,null,""]
[{"$f":"SUM(G283:AH283)-F283","v":0},null," ",{"$f":"MAX(D280:D282)+NoOne","v":29},"Subttl Prod, Trans, & Dist",{"$f":"SUM(F281,F276,F266)","v":64329110.170903437},20406755.357478712,23090569.080405906,5400379.7997264909,3867993.2317342255,373324.91719583486,{"$f":"SUM(L281,L276,L266)","v":36178.616031905578},1152001.9303626267,1101142.3639739479,4056822.4112965656,1077769.1847557053,378184.04934721399,669417.19538191066,584552.56798219029,652336.92668288737,297163.78383267921,377402.24864487641,97327.199672976945,0,709789.3063967718,null,null,null,null,null,"Subttl Prod, Trans, & Dist",null,{"$f":"SUM(AG281,AG276,AG266)","v":0},{"$f":"SUM(AH281,AH276,AH266)","v":0}]
[null,null,null,null,null,null,null,null,null,null,null,null,null,null,null,null,null,null,null,null,null,null,null,null,null,null,null,null,null,null,""]
[null,null," ",{"$f":"MAX(D282:D284)+NoOne","v":30},"Customer Accounting",{"$f":"+'O&M Summary'!F53+'O&M Summary'!J53","v":3442830.6325175143},{"$f":"$F285*'Schedule 4.1'!D$75","v":0},{"$f":"$F285*'Schedule 4.1'!E$75","v":0},{"$f":"$F285*'Schedule 4.1'!F$75","v":0},{"$f":"$F285*'Schedule 4.1'!G$75","v":0},{"$f":"$F285*'Schedule 4.1'!H$75","v":0},null,{"$f":"$F285*'Schedule 4.1'!I$75","v":0},{"$f":"$F285*'Schedule 4.1'!J$75","v":0},{"$f":"$F285*'Schedule 4.1'!K$75","v":0},{"$f":"$F285*'Schedule 4.1'!L$75","v":0},{"$f":"$F285*'Schedule 4.1'!M$75","v":0},{"$f":"$F285*'Schedule 4.1'!N$75","v":0},{"$f":"$F285*'Schedule 4.1'!O$75","v":0},{"$f":"$F285*'Schedule 4.1'!P$75","v":0},{"$f":"$F285*'Schedule 4.1'!Q$75","v":0},{"$f":"$F285*'Schedule 4.1'!R$75","v":0},{"$f":"$F285*'Schedule 4.1'!S$75","v":0},{"$f":"$F285*'Schedule 4.1'!T$75","v":3442830.6325175143},{"$f":"$F285*'Schedule 4.1'!U$75","v":0},null,null,null,null,null,"Customer Accounting",null,0,0,null,"Accounting - Customer"]
[null,null,null,null,null,null,null,null,null,null,null,null,null,null,null,null,null,null,null,null,null,null,null,null,null,null,null,null,null,null,""]
[null,null,null,null,"Administrative & General:",null,null,null,null,null,null,null,null,null,null,null,null,null,null,null,null,null,null,null,null,null,null,null,null,null,"Administrative & General:"]
[null,null," ",null,"Plant-Related:",null,null,null,null,null,null,null,null,null,null,null,null,null,null,null,null,null,null,null,null,null,null,null,null,null,"Plant-Related:"]
[null,null,null,{"$f":"MAX(D285:D288)+NoOne","v":31},"Production",{"$f":"+'O&M Summary'!F75+'O&M Summary'!J79","v":6733191.1252199998},{"$f":"IF($F$31<>0,$F289*(G31/$F$31),0)","v":3123677.2113479539},3561306.8749561431,0,0,48207.03891590322,0,0,0,0,0,0,0,0,0,0,0,0,0,0,null,null,null,null,null,"Production",null,0,0,null,{"$f":"+\"Prorated on Production Plant in Service - Sch.2.2 L.\"&$D$31","v":"Prorated on Production Plant in Service - Sch.2.2 L.16"}]
[null,null,null,{"$f":"MAX(D287:D289)+NoOne","v":32},"Prod - Gas Turb & Diesel",{"$f":"+'O&M Summary'!F79","v":1141471.55699},{"$f":"($F$290*((G26+G30)/($F$26+$F$30)))","v":545499.34396667418},592605.34967414441,0,0,3366.863349181303,0,0,0,0,0,0,0,0,0,0,0,0,0,0,null,null,null,null,null,"Prod - Gas Turb & Diesel",null,null,0,null,{"$f":"+\"Prorated on Gas Turbine & Diesel Production Plant in Service - Sch.2.2 L.\"&$D$26&\", \" &$D$30","v":"Prorated on Gas Turbine & Diesel Production Plant in Service - Sch.2.2 L.12, 15"}]
[null,null,null,33,"Transmission  ",{"$f":"+'O&M Summary'!F86+'O&M Summary'!J86","v":3774644.4265359994},{"$f":"IF($F$43<>0,$F291*(G43/$F$43),0)","v":192263.59050265123},201622.66643323604,1734758.0222455463,807862.36210272321,3126.4786675916607,58464.824088650879,429115.35261870234,100771.93640413391,0,0,0,0,0,0,0,0,0,0,246659.19347276396,null,null,null,null,null,"Transmission  ",null,0,0,null,{"$f":"+\"Prorated on Transmission Plant in Service - Sch.2.2 L.\"&$D$43","v":"Prorated on Transmission Plant in Service - Sch.2.2 L.26"}]
[null,null,null,34,"Distribution  ",{"$f":"+'O&M Summary'!F87+'O&M Summary'!J87","v":2032300.5061540003},{"$f":"IF($F$55<>0,$F292*(G55/$F$55),0)","v":0},0,0,0,0,0,0,146267.17167890217,940031.59537929844,249736.61242241852,87631.382203206929,155114.82888600894,135450.31735509072,151157.0534137722,68857.671715509961,75501.581304217398,22552.291795574936,0,0,null,null,null,null,null,"Distribution  ",null,0,0,null,{"$f":"+\"Prorated on Distribution Plant in Service - Sch.2.2 L.\"&$D$55","v":"Prorated on Distribution Plant in Service - Sch.2.2 L.38"}]
[null,null,null,35,"Prod, Trans, Distn ",{"$f":"+'O&M Summary'!F88+'O&M Summary'!J94","v":0},{"$f":"IF($F$56<>0,$F293*(G56/$F$56),0)","v":0},0,0,0,0,0,0,0,0,0,0,0,0,0,0,0,0,0,0,null,null,null,null,null,"Prod, Trans, Distn ",null,0,0,null,{"$f":"+\"Prorated on Prod, Trans & Distribution Plant in Service - Sch.2.2 L.\"&$D$56","v":"Prorated on Prod, Trans & Distribution Plant in Service - Sch.2.2 L.39"}]
[null,null,null,36,"Prod, Trans, Distn and General Plant",{"$f":"+'O&M Summary'!F92+'O&M Summary'!J92","v":837026.58559904317},{"$f":"IF($F$62<>0,$F294*(G62/$F$62),0)","v":217912.63372287227},246892.8617060566,142963.27545105026,67677.519119576536,3423.1858157663833,4699.5224887227896,35214.295800264292,14670.342841272341,40097.718487118815,10652.693409523416,3737.9791397367817,6616.533712719679,5777.7299411982503,6447.7119757684432,2937.1731223703136,3262.5219169888883,961.98409936789835,2800.6939138060357,20280.208934863218,null,null,null,null,null,"Prod, Trans, Distn and General Plant",null,0,0,null,{"$f":"\"Prorated on Total Plant in Service, Sch. 2.2, L. \"&$D$62","v":"Prorated on Total Plant in Service, Sch. 2.2, L. 45"}]
[null,null,null,37,"Prod, Trans, Distn, Excl Hydraulic & Holyrood",{"$f":"+'O&M Summary'!F93","v":1159337.5360000001},{"$f":"IF($F$56<>0,$F295*((G56-G24-G25)/($F$56-$F$24-$F$25)),0)","v":125748.19531790892},114430.14941040803,364157.56075157161,169585.1429616214,1065.9717493141845,12272.840048512126,90079.191499227192,36200.639737725731,96702.695884980232,25690.842521825893,9014.7936993095336,15956.933999608844,13934.011272704351,15549.790708091799,7083.5092352039519,7766.9798457687375,2319.9937382283915,0,51778.293617988951,null,null,null,null,null,"Prod, Trans, Distn, Excl Hydraulic & Holyrood",null,0,0,null,{"$f":"\"Prorated on Total Plant in Service, Sch. 2.2, L. \"&$D$56&\" Less L. \"&$D$24&\" and L. \"&D25","v":"Prorated on Total Plant in Service, Sch. 2.2, L. 39 Less L. 10 and L. 11"}]
[null,null,null,38,"Property Insurance",{"$f":"+'O&M Summary'!F98+'O&M Summary'!J98","v":2137517.464579761},{"$f":"IF(SUM($F$31,$F$41,$F$45,$F$57:$F$58)<>0,$F296*((SUM(G$31,G$41,G$45,G$57:G$58)/SUM($F$31,$F$41,$F$45,$F$57:$F$58))),0)","v":776461.50978539896},878016.61888055247,102696.07112444774,211526.91993288827,12584.64644595694,108.24956898054015,28684.094988372035,53933.853066931304,12138.365853082032,3224.7792344357458,1131.5596014244486,2002.9545299452154,1749.0321762097285,1951.8488789410274,889.13991315050339,1129.2203856572646,291.21145500401269,10301.248995106778,38696.139763276224,null,null,null,null,null,"Property Insurance",null,0,0,null,{"$f":"+\"Prorated on Prod., Trans. Terminal, Dist. Sub & General Plant in Service - Sch.2.2  L.\"&D31&\", \"&D41&\", \"&D45&\", \"&D57&\" - \"&D58","v":"Prorated on Prod., Trans. Terminal, Dist. Sub & General Plant in Service - Sch.2.2  L.16, 24, 28, 40 - 41"}]
[null,null,null,null,"Revenue-Related:",null,null,null,null,null,null,null,null,null,null,null,null,null,null,null,null,null,null,null,null,null,null,null,null,null,"Revenue-Related:"]
[null,null,null,{"$f":"MAX(D295:D297)+NoOne","v":39},"Municipal Tax",{"$f":"+'O&M Summary'!F102+'O&M Summary'!J102","v":1820327.4502948131},0,0,0,0,0,0,0,0,0,0,0,0,0,0,0,0,0,0,0,null,null,null,null,null,"Municipal Tax",null,{"$f":"+F298","v":1820327.4502948131},0,null,"Revenue-related"]
[null,null,null,40,"PUB Assessment",{"$f":"+'O&M Summary'!F106+'O&M Summary'!J106","v":1075507.178458326},0,0,0,0,0,0,0,0,0,0,0,0,0,0,0,0,0,0,0,null,null,null,null,null,"PUB Assessment",null,0,{"$f":"+F299","v":1075507.178458326},null,"Revenue-related"]
[null,{"$f":"IF(OverheadAlloc=\"Expenses\",\"E-GTDC\",\"L-GTDC\")","v":"E-GTDC"},null,41,"All Expense-Related ",{"$f":"+'O&M Summary'!F66+'O&M Summary'!J66","v":30561196.623874102},{"$f":"$F300*VLOOKUP($B300,RatiosNLSO,G$593,FALSE)","v":9202257.682780169},10412501.301538823,2435256.6408236646,1744239.5819491853,168347.78617462167,16314.447911972728,519485.75011323305,496551.04896430363,1829390.5399491694,486011.10695665644,170538.97166140637,{"$f":"$F300*VLOOKUP($B300,RatiosNLSO,R$593,FALSE)","v":301868.15205440071},263599.14966744604,294165.94603947271,134003.55249596911,170186.42509565101,43888.896360287828,1552516.0214646461,320073.62187302165,null,null,null,null,null,"All Expense-Related ",null,0,0,null,{"$f":"+\"Prorated on Subtotal Production, Transmission, Distribution, Accounting Expenses - L \"&$D$283&\", \"&$D$285","v":"Prorated on Subtotal Production, Transmission, Distribution, Accounting Expenses - L 29, 30"}]
[null,{"$f":"IF(OverheadAlloc=\"Expenses\",\"E-GTD\",\"L-GTD\")","v":"E-GTD"},null,42,"Prod, Trans, and Distn Expense-Related ",{"$f":"+'O&M Summary'!F70+'O&M Summary'!J70","v":1573463.874818821},499140.93746910669,564785.92973699281,132091.09379246985,94609.54149697411,9131.3756589635759,884.91423580878995,28177.498745614677,26933.494434208369,99228.226440130791,26361.795975425626,9250.2280553802757,16373.672375035998,14297.918099737211,15955.895948489566,7268.5053084517631,9231.10552812678,2380.5837250951777,0,17361.157792808674,null,null,null,null,null,"Prod, Trans, and Distn Expense-Related ",null,0,0,null,{"$f":"+\"Prorated on Subtotal Production, Transmission, Distribution  Expenses - L \"&D283","v":"Prorated on Subtotal Production, Transmission, Distribution  Expenses - L 29"}]
[{"$f":"SUM(G302:AH302)-F302","v":0},null,null,43,"Subtotal Admin & General",{"$f":"SUM(F289:F301)","v":52845984.328524865},{"$f":"SUM(G289:G301)","v":14682961.104892734},{"$f":"SUM(H289:H301)","v":16572161.752336355},{"$f":"SUM(I289:I301)","v":4911922.6641887501},3095501.0675629689,249253.34677729892,{"$f":"SUM(L289:L301)","v":92744.798342647846},1130756.1837654137,875328.48712747754,3017589.1419937797,801677.83052028564,281304.91436046432,497933.07555771939,434808.15851238632,485228.24696453573,221039.55179065559,267077.83407641004,72394.961173558244,1565617.964373559,694848.61545472266,null,null,null,null,null,"Subtotal Admin & General",null,{"$f":"SUM(AG289:AG301)","v":1820327.4502948131},{"$f":"SUM(AH289:AH301)","v":1075507.178458326}]
[{"$f":"SUM(G303:AH303)-F303","v":0},null," ",44,"Total Operating & Maintenance Expenses",{"$f":"SUM(F302,F285,F283)","v":120617925.13194582},35089716.462371446,{"$f":"SUM(H302,H285,H283)","v":39662730.832742259},10312302.46391524,6963494.2992971949,622578.26397313375,{"$f":"SUM(L302,L285,L283)","v":128923.41437455342},2282758.1141280401,1976470.8511014255,7074411.5532903448,1879447.0152759911,659488.96370767825,1167350.27093963,1019360.7264945765,1137565.173647423,518203.3356233348,644480.08272128645,169722.16084653517,5008448.5968910735,1404637.9218514943,null,null,null,null,null,"Total Operating & Maintenance Expenses",null,{"$f":"SUM(AG302,AG285,AG283)","v":1820327.4502948131},{"$f":"SUM(AH302,AH285,AH283)","v":1075507.178458326}]
[]
[]
[null,null,null,null,null,null,null,null,null,null,null,null,null,null,null,null,null,null,null,null,null,null,null,null,"Schedule 2.1A",null,null,null,null,null,null,null,null,null,null,null,"Schedule 2.1A"]
[null,null,null,null,null,null,null,null,null,null,null,null,null,null,null,null,null,null,null,null,null,null,null,null,"Page 1 of 2",null,null,null,null,null,null,null,null,null,null,null,"Page 2 of 2"]
[]
[null,null,null,{"$f":"D5","v":"NEWFOUNDLAND AND LABRADOR HYDRO"},null,null,null,null,null,null,null,null,null,null,null,null,null,null,null,null,null,null,null,null,null,null,null,null,"NEWFOUNDLAND & LABRADOR HYDRO"]
[null,null,null,{"$f":"D6","v":"2019 Test Year Cost of Service Study"},null,null,null,null,null,null,null,null,null,null,null,null,null,null,null,null,null,null,null,null,null,null,null,null,{"$f":"RunName","v":"2019 Test Year Cost of Service Study"}]
[null,null,null,{"$f":"$B$1","v":"Newfoundland and Labrador Independent System Operator"},null,null,null,null,null,null,null,null,null,null,null,null,null,null,null,null,null,null,null,null,null,null,null,null,{"$f":"$B$1","v":"Newfoundland and Labrador Independent System Operator"}]
[null,null,null,"Functional Classification of Revenue Requirement",null,null,null,null,null,null,null,null,null,null,null,null,null,null,null,null,null,null,null,null,null,null,null,null,{"$f":"+D312&\" (CONT'D.)\"","v":"Functional Classification of Revenue Requirement (CONT'D.)"}]
[]
[null,null,null,null,{"$f":"MAX(D314)+NoOne","v":1},2,3,4,5,6,{"$f":"MAX(J314)+NoOne","v":7},{"$f":"MAX(K314)+NoOne","v":8},{"$f":"MAX(L314)+NoOne","v":9},10,11,12,13,14,15,16,17,18,19,20,21,null,null,null,null,null,{"$f":"MAX(AD314)+NoOne","v":1},null,{"$f":"MAX(Y314)+NoOne","v":22},{"$f":"MAX(AG314)+NoOne","v":23},null,{"$f":"MAX(AH314)+NoOne","v":24}]
[null,null,null,null,null,null,"Production and",null,"Transmission","Transmission",null,"Scheduling, ","Rural Prod &","Distribution",null,null,null,null,null,null,null,null,null,null,"Specifically",null,null,null,null,null,null,null,"Revenue Related"]
[null,null,null,"Line",null,"Total","Transmission","Production","Point-to-Point","Network Service","Ancillary","System control","Transmission","Substations","Primary Lines",null,"Line Transformers",null,"Secondary Lines",null,"Services","Meters","Street Lighting","Accounting","Assigned",null,null,null,null,null,null,null,"Municipal","PUB "]
[null,null,null,"No.","Description ","Amount","Demand","Energy","Demand","Demand","Services","& Dispatch","Demand","Demand","Demand","Customer","Demand","Customer","Demand","Customer","Customer","Customer","Customer","Customer","Customer",null,null,null,null,null,"Description ",null,"Tax","Assessment",null,"Basis of Functional Classification"]
[null,null,null,null,null,"($)","($)","($)","($)","($)","($)","($)","($)","($)","($)","($)","($)","($)","($)","($)","($)","($)","($)","($)","($)"]
[null,null,null,null,"Expenses",null,null,null,null,null,null,null,null,null,null,null,null,null,null,null,null,null,null,null,null,null,null,null,null,null,{"$f":"IF(ISBLANK(E319),\"\",E319)","v":"Expenses"}]
[null,null,null,{"$f":"MAX(D317:D319)+NoOne","v":1},"Operating & Maintenance",{"$f":"SUM(G320:AH320)","v":120617925.13194583},{"$f":"G$303","v":35089716.462371446},{"$f":"H$303","v":39662730.832742259},{"$f":"I$303","v":10312302.46391524},6963494.2992971949,622578.26397313375,128923.41437455342,2282758.1141280401,1976470.8511014255,7074411.5532903448,1879447.0152759911,659488.96370767825,1167350.27093963,1019360.7264945765,1137565.173647423,518203.3356233348,644480.08272128645,169722.16084653517,5008448.5968910735,1404637.9218514943,null,null,null,null,null,"Operating & Maintenance",null,{"$f":"AG$303","v":1820327.4502948131},{"$f":"AH$303","v":1075507.178458326},null,{"$f":"\"Carryforward from Sch.2.4 L.\"&D303","v":"Carryforward from Sch.2.4 L.44"}]
[null,null,"FUEL1",2,"Fuels-No. 6 Fuel",221114563,{"$f":"$F321*'Schedule 4.1'!D24","v":0},{"$f":"$F321*'Schedule 4.1'!E24","v":221114563},0,0,0,0,0,0,0,0,0,0,0,0,0,0,0,0,0,null,null,null,null,null,"Fuels-No. 6 Fuel",null,0,0,null,{"$f":"+\"Production - Demand, Energy ratios Sch.4.1 L.\"&'Schedule 4.1'!$A$24","v":"Production - Demand, Energy ratios Sch.4.1 L.10"}]
[null,null,"FUEL2",3,"Fuels-Diesel",138012,{"$f":"$F322*'Schedule 4.1'!D$25","v":138012},{"$f":"$F322*'Schedule 4.1'!E$25","v":0},0,0,0,0,0,0,0,0,0,0,0,0,0,0,0,0,0,null,null,null,null,null,"Fuels-Diesel",null,0,0,null,{"$f":"+\"Production - Demand, Energy ratios Sch.4.1 L.\"&'Schedule 4.1'!$A$26","v":"Production - Demand, Energy ratios Sch.4.1 L.12"}]
[null,null,"FUEL2",4,"Fuels-Diesel - Labrador",42408,{"$f":"$F323*'Schedule 4.1'!D$29","v":42408},{"$f":"$F323*'Schedule 4.1'!E$29","v":0},0,0,0,0,0,0,0,0,0,0,0,0,0,0,0,0,0]
[null,null,"FUEL3",{"$f":"MAX(D320:D322)+NoOne","v":4},"Fuels-Gas Turbine",12632138,{"$f":"$F324*'Schedule 4.1'!D$25","v":12632138},{"$f":"$F324*'Schedule 4.1'!E$25","v":0},0,0,0,0,0,0,0,0,0,0,0,0,0,0,0,0,0,null,null,null,null,null,"Fuels-Gas Turbine",null,0,0,null,{"$f":"+\"Production - Demand, Energy ratios Sch.4.1 L.\"&'Schedule 4.1'!$A$25","v":"Production - Demand, Energy ratios Sch.4.1 L.11"}]
[null,null,"FUEL3",{"$f":"MAX(D321:D323)+NoOne","v":5},"Fuels-Gas Turbine - Labrador",260210.5,{"$f":"$F325*'Schedule 4.1'!D$29","v":260210.5},{"$f":"$F325*'Schedule 4.1'!E$29","v":0},0,0,0,0,0,0,0,0,0,0,0,0,0,0,0,0,0]
[null,null,null,{"$f":"MAX(D321:D324)+NoOne","v":5},"Fuel Supply Deferral",0,{"$f":"F326","v":0},0,0,0,0,0,0,0,0,0,0,0,0,0,0,0,0,0,0,null,null,null,null,null,"Fuel Supply Deferral"]
[null,null,null,{"$f":"MAX(D322:D326)+NoOne","v":6},"Power Purchases -CF(L)Co",{"$f":"SUM(G327:AH327)","v":1428356},{"$f":"'Schedules 4.2,4.3,4.4'!W30","v":408329.07957648812},{"$f":"'Schedules 4.2,4.3,4.4'!X30","v":1020026.9204235119},0,{"$f":"'Schedules 4.2,4.3,4.4'!Z30","v":0},0,0,0,0,0,0,0,0,0,0,0,0,0,0,0,null,null,null,null,null,"Power Purchases -CF(L)Co",null,0,0]
[null,null,null,{"$f":"MAX(D324:D327)+NoOne","v":7},"Power Purchases-Other",62054740,{"$f":"'Schedules 4.2,4.3,4.4'!W26-'Schedules 4.2,4.3,4.4'!W23-'Schedules 4.2,4.3,4.4'!W24-'Schedules 4.2,4.3,4.4'!W25+'Schedules 4.2,4.3,4.4'!W$31","v":23102570.078845982},{"$f":"'Schedules 4.2,4.3,4.4'!X26-'Schedules 4.2,4.3,4.4'!X23-'Schedules 4.2,4.3,4.4'!X24-'Schedules 4.2,4.3,4.4'!X25+'Schedules 4.2,4.3,4.4'!X$31","v":38183108.921154022},0,{"$f":"'Schedules 4.2,4.3,4.4'!Z$26+'Schedules 4.2,4.3,4.4'!Z$31","v":0},0,0,{"$f":"'Schedules 4.2,4.3,4.4'!AA26-'Schedules 4.2,4.3,4.4'!AA23-'Schedules 4.2,4.3,4.4'!AA24","v":769061},{"$f":"'Schedules 4.2,4.3,4.4'!AB$31","v":0},0,0,0,0,0,0,0,0,0,0,0,null,null,null,null,null,"Power Purchases-Other",null,0,0,null,{"$f":"+\"Carryforward from Sch.4.4 L.\"&'Schedules 4.2,4.3,4.4'!T16 & \" - L.\"&'Schedules 4.2,4.3,4.4'!T22","v":"Carryforward from Sch.4.4 L.1 - L.7"}]
[null,null,null,8,"Power Purchases-MF",0,{"$f":"'Schedules 4.2,4.3,4.4'!W23","v":0},{"$f":"'Schedules 4.2,4.3,4.4'!X23","v":0},{"$f":"'Schedules 4.2,4.3,4.4'!Y23","v":0},{"$f":"'Schedules 4.2,4.3,4.4'!Z23","v":0},0,0,0,0,0,0,0,0,0,0,0,0,0,0,0,null,null,null,null,null,"Power Purchases-MF",null,null,null,null,{"$f":"+\"Carryforward from Sch.4.4 L.\"&'Schedules 4.2,4.3,4.4'!T23","v":"Carryforward from Sch.4.4 L.8"}]
[null,null,null,9,"Power Purchases-LTA",0,{"$f":"'Schedules 4.2,4.3,4.4'!W24","v":0},{"$f":"'Schedules 4.2,4.3,4.4'!X24","v":0},{"$f":"'Schedules 4.2,4.3,4.4'!Y24","v":0},{"$f":"'Schedules 4.2,4.3,4.4'!Z24","v":0},0,0,0,0,0,0,0,0,0,0,0,0,0,0,0,null,null,null,null,null,"Power Purchases-LTA",null,null,null,null,{"$f":"+\"Carryforward from Sch.4.4 L.\"&'Schedules 4.2,4.3,4.4'!T24","v":"Carryforward from Sch.4.4 L.9"}]
[null,null,null,10,"Power Purchases-LIL",0,{"$f":"'Schedules 4.2,4.3,4.4'!W25","v":0},{"$f":"'Schedules 4.2,4.3,4.4'!X25","v":0},{"$f":"'Schedules 4.2,4.3,4.4'!Y25","v":0},{"$f":"'Schedules 4.2,4.3,4.4'!Z25","v":0},0,0,0,0,0,0,0,0,0,0,0,0,0,0,0,null,null,null,null,null,"Power Purchases-LIL",null,null,null,null,{"$f":"+\"Carryforward from Sch.4.4 L.\"&'Schedules 4.2,4.3,4.4'!T25","v":"Carryforward from Sch.4.4 L.10"}]
[null,null,null,11,"Prior Period True-up",0,0,0,0,0,0,0,0,0,0,0,0,0,0,0,0,0,0,0,0]
[null,null,null,12,"Depreciation",85608565.386922285,{"$f":"G$192","v":31264799.947819747},{"$f":"H$192","v":19763078.240670372},11897287.46434745,6078470.0454156799,851810.31284537539,122979.31576191788,2867695.7093031034,1259436.6540824792,4668515.9139030408,1307860.2221192273,495450.50541190425,876988.56775126548,673203.09269802144,772552.6112354435,255967.60471254238,533195.70406553859,183329.63299162386,312112.07222451729,1423831.7695630279,null,null,null,null,null,"Depreciation",null,{"$f":"AG$192","v":0},{"$f":"AH$192","v":0},null,{"$f":"+\"Carryforward from Sch.2.5 L.\"&D192","v":"Carryforward from Sch.2.5 L.44"}]
[null,null,null,null,null,null,null,null,null,null,null,null,null,null,null,null,null,null,null,null,null,null,null,null,null,null,null,null,null,null,""]
[null,null,null,null,"Expense Credits",null,null,null,null,null,null,null,null,null,null,null,null,null,null,null,null,null,null,null,null,null,null,null,null,null,"Expense Credits"]
[null,null,null,{"$f":"MAX(D333:D335)+NoOne","v":13},"Sundry ",{"$f":"-AllocMisc!F26-AllocMisc!J26","v":-378451.197074725},{"$f":"IF(SUM($G$303:$AH$303)<>0,$F336*(G$303/SUM($G$303:$AH$303)),0)","v":-110097.60933683977},-124445.91420789069,-32355.913996996136,-21848.682527984161,-1953.4036007964251,-404.51052733362036,-7162.3893378927805,-6201.3814179309475,-22196.696867511473,-5896.9591127656904,-2069.2147332141258,-3662.6820346920404,-3198.3495551828214,-3569.2282158430426,-1625.9164836423247,-2022.1228190575982,-532.52080793311904,-15714.524726794856,-4407.1965456190765,null,null,null,null,null,"Sundry ",null,{"$f":"IF(SUM($G$303:$AH$303)<>0,$F336*(AG$303/SUM($G$303:$AH$303)),0)","v":-5711.4653719872058},{"$f":"IF(SUM($G$303:$AH$303)<>0,$F336*(AH$303/SUM($G$303:$AH$303)),0)","v":-3374.5148468170064},null,{"$f":"+\"Prorated on Total Operating & Maintenance Expenses - Sch 2.4 L.\"&$D$303","v":"Prorated on Total Operating & Maintenance Expenses - Sch 2.4 L.44"}]
[null,null,"EXPCR2",14,"Building Rental Income",-15600,{"$f":"$F337*G56/SUM($G$56:$AH$56)","v":-4016.4409052267433},-4551.134587607914,-2764.6929324691432,-1287.4944714318706,-62.238771840390449,-93.175695908709201,-683.88338165068058,-274.83612485538657,-734.16918575612453,-195.04549240356053,-68.440529908840759,-121.14542551731093,-105.78734767193718,-118.05438388622065,-53.778171951806037,-58.967097214483509,-17.613448086083768,0,-393.10204661279545,null,null,null,null,null,"Building Rental Income",null,0,0,null,{"$f":"+\"Prorated on Production, Transmission & Distribution Plant - Sch.2.2 L.\"&D56","v":"Prorated on Production, Transmission & Distribution Plant - Sch.2.2 L.39"}]
[null,null,"EXPCR9",15,"Building Rental Income - Labrador",0,{"$f":"$F338*G57/SUM($G$56:$AH$56)","v":0},0,0,0,0,0,0,0,0,0,0,0,0,0,0,0,0,0,0]
[null,null,null,{"$f":"MAX(D335:D337)+NoOne","v":15},"Tax Refunds",{"$f":"-AllocMisc!F29-AllocMisc!J29","v":0},{"$f":"IF(SUM($G$303:$AH$303)<>0,$F339*(G$303/SUM($G$303:$AH$303)),0)","v":0},0,0,0,0,0,0,0,0,0,{"$f":"IF(SUM($G$303:$AH$303)<>0,$F339*(Q$303/SUM($G$303:$AH$303)),0)","v":0},0,0,0,0,0,0,0,0,null,null,null,null,null,"Tax Refunds",null,{"$f":"IF(SUM($G$303:$AH$303)<>0,$F339*(AG$303/SUM($G$303:$AH$303)),0)","v":0},{"$f":"IF(SUM($G$303:$AH$303)<>0,$F339*(AH$303/SUM($G$303:$AH$303)),0)","v":0},null,{"$f":"+\"Prorated on Total Operating & Maintenance Expenses - Sch 2.4 L.\"&$D$303","v":"Prorated on Total Operating & Maintenance Expenses - Sch 2.4 L.44"}]
[null,null,null,{"$f":"MAX(D336:D339)+NoOne","v":16},"Suppliers' Discounts",{"$f":"-AllocMisc!F32-AllocMisc!J32","v":-32865.498693331385},-9561.1081792518762,-10807.145181211561,-2809.8556892128227,-1897.3855879565194,-169.63768112179483,-35.12854579476177,-621.9969688170047,-538.54101787295076,-1927.6078858628389,-512.10434400333634,-179.69496367385833,-318.07501880220354,-277.75140873956087,-309.95929242847478,-141.1980104215703,-175.60540270763354,-46.24522805734982,-1364.6824104848165,-382.73022633007776,null,null,null,null,null,"Suppliers' Discounts",null,{"$f":"IF(SUM($G$303:$AH$303)<>0,$F340*(AG$303/SUM($G$303:$AH$303)),0)","v":-495.99567704099428},{"$f":"IF(SUM($G$303:$AH$303)<>0,$F340*(AH$303/SUM($G$303:$AH$303)),0)","v":-293.04997353937165},null,{"$f":"+\"Prorated on Total Operating & Maintenance Expenses - Sch 2.4 L.\"&$D$303","v":"Prorated on Total Operating & Maintenance Expenses - Sch 2.4 L.44"}]
[null,null,"EXPCR5",{"$f":"MAX(D337:D340)+NoOne","v":17},"Pole Attachments",-1402790,{"$f":"$F341*'Schedule 4.1'!D67","v":0},{"$f":"$F341*'Schedule 4.1'!E67","v":0},{"$f":"$F341*'Schedule 4.1'!F67","v":0},{"$f":"$F341*'Schedule 4.1'!G67","v":0},{"$f":"$F341*'Schedule 4.1'!H67","v":0},{"$f":"$F341*'Schedule 4.1'!I67","v":0},{"$f":"$F341*'Schedule 4.1'!I67","v":0},{"$f":"$F341*'Schedule 4.1'!J67","v":0},{"$f":"$F341*'Schedule 4.1'!K67","v":-811300.79091999994},{"$f":"$F341*'Schedule 4.1'!L67","v":-277264.24908000004},{"$f":"$F341*'Schedule 4.1'!M67","v":0},{"$f":"$F341*'Schedule 4.1'!N67","v":0},{"$f":"$F341*'Schedule 4.1'!O67","v":-143600.80671999999},{"$f":"$F341*'Schedule 4.1'!P67","v":-170624.15328000003},{"$f":"$F341*'Schedule 4.1'!Q67","v":0},{"$f":"$F341*'Schedule 4.1'!R67","v":0},{"$f":"$F341*'Schedule 4.1'!S67","v":0},{"$f":"$F341*'Schedule 4.1'!T67","v":0},{"$f":"$F341*'Schedule 4.1'!U67","v":0},null,null,null,null,null,"Pole Attachments",null,0,0,null,{"$f":"+\"Prorated on Distribution Poles - Sch.4.1 L.\"&'Schedule 4.1'!$A$67","v":"Prorated on Distribution Poles - Sch.4.1 L.37"}]
[null,null,"EXPCR6",18,"Secondary Energy ",0,0,{"$f":"F342","v":0},0,0,0,0,0,0,0,0,0,0,0,0,0,0,0,0,0,null,null,null,null,null,"Secondary Energy ",null,0,0,null,"Production - Energy"]
[null,null,"EXPCR7",19,"Wheeling Revenues",0,{"$f":"$F343*'Schedule 4.1'!D$36","v":0},{"$f":"$F343*'Schedule 4.1'!E$36","v":0},{"$f":"$F343*'Schedule 4.1'!F$36","v":0},{"$f":"$F343*'Schedule 4.1'!G$36","v":0},{"$f":"$F343*'Schedule 4.1'!H$36","v":0},{"$f":"$F343*'Schedule 4.1'!I$36","v":0},{"$f":"$F343*'Schedule 4.1'!I$36","v":0},{"$f":"$F343*'Schedule 4.1'!J$36","v":0},{"$f":"$F343*'Schedule 4.1'!K$36","v":0},{"$f":"$F343*'Schedule 4.1'!L$36","v":0},{"$f":"$F343*'Schedule 4.1'!M$36","v":0},{"$f":"$F343*'Schedule 4.1'!N$36","v":0},{"$f":"$F343*'Schedule 4.1'!O$36","v":0},{"$f":"$F343*'Schedule 4.1'!P$36","v":0},{"$f":"$F343*'Schedule 4.1'!Q$36","v":0},{"$f":"$F343*'Schedule 4.1'!R$36","v":0},{"$f":"$F343*'Schedule 4.1'!S$36","v":0},{"$f":"$F343*'Schedule 4.1'!T$36","v":0},{"$f":"$F343*'Schedule 4.1'!U$36","v":0},null,null,null,null,null,"Wheeling Revenues",null,0,0,null,"Transmission - Demand"]
[null,null,"EXPCR8",20,"Application Fees",-22320,0,0,0,0,0,0,0,0,0,0,0,0,0,0,0,0,0,{"$f":"+F344","v":-22320},0,null,null,null,null,null,"Application Fees",null,0,0,null,"Accounting - Customer"]
[null,null,null,21,"Meter Test Revenues",{"$f":"-AllocMisc!F38","v":0},0,0,0,0,0,0,0,0,0,0,0,0,0,0,0,{"$f":"+F345","v":0},0,0,0,null,null,null,null,null,"Meter Test Revenues",null,0,0,null,"Meters - Customer"]
[{"$f":"SUM(G346:AH346)-F346","v":0},null,null,22,"    Total Expense Credits",{"$f":"SUM(F336:F345)","v":-1852026.6957680564},-123675.1584213184,-139804.19397671017,{"$f":"SUM(I336:I345)","v":-37930.462618678102},-25033.562587372551,{"$f":"SUM(K336:K345)","v":-2185.2800537586104},{"$f":"SUM(L336:L345)","v":-532.81476903709131},-8468.2696883604658,-7014.7585606592847,-836159.26485913037,-283868.35802917264,-2317.3502267968247,-4101.9024790115545,-147182.69503159431,-174621.39517215776,-1820.8926660157013,-2256.695318979715,-596.37948407655256,-39399.207137279671,-5183.0288185619502,null,null,null,null,null,"    Total Expense Credits",null,{"$f":"SUM(AG336:AG345)","v":-6207.4610490282003},{"$f":"SUM(AH336:AH345)","v":-3667.5648203563778}]
[null,null,null,null,null,null,null,null,null,null,null,null,null,null,null,null,null,null,null,null,null,null,null,null,null,null,null,null,null,null,""]
[{"$f":"SUM(G348:AH348)-F348","v":0},null,null,{"$f":"MAX(D345:D347)+NoOne","v":23},"Subtotal Expenses",{"$f":"SUM(F346,F320:F333)","v":502044891.32310009},102814508.91019234,319603703.72101349,22171659.465644009,13016930.782125503,1472203.2967647505,{"$f":"SUM(L346,L320:L333)","v":251369.91536743421},5911046.5537427831,3228892.7466232451,10906768.202334255,2903438.8793660458,1152622.1188927856,2040236.936211884,1545381.1241610036,1735496.3897107088,772350.04766986147,1175419.0914678453,352455.41435408249,5281161.4619783117,2823286.6625959603,null,null,null,null,null,"Subtotal Expenses",null,{"$f":"SUM(AG346,AG320:AG333)","v":1814119.9892457849},{"$f":"SUM(AH346,AH320:AH333)","v":1071839.6136379696}]
[null,null,null,null,null,null,null,null,null,null,null,null,null,null,null,null,null,null,null,null,null,null,null,null,null,null,null,null,null,null,""]
[null,null,"DISGL",{"$f":"MAX(D347:D349)+NoOne","v":24},"Disposal Gain / Loss",0,{"$f":"IF(SUM($G$128:$Y$128)<>0,$F350*(G$128/SUM($G$128:$Y$128)),0)","v":0},0,0,0,0,0,0,0,0,0,0,0,0,0,0,0,0,0,0,null,null,null,null,null,"Disposal Gain / Loss",null,{"$f":"IF(SUM($G$128:$Y$128)<>0,$F350*(AG$128/SUM($G$128:$Y$128)),0)","v":0},{"$f":"IF(SUM($G$128:$Y$128)<>0,$F350*(AH$128/SUM($G$128:$Y$128)),0)","v":0},null,{"$f":"+\"Prorated on Total Net Book Value - Sch.2.3 L.\"&$D$128","v":"Prorated on Total Net Book Value - Sch.2.3 L.49"}]
[{"$f":"SUM(G351:AH351)-F351","v":0},null,null,{"$f":"MAX(D348:D350)+NoOne","v":25},"Subtotal Revenue Requirement  Ex. Return",{"$f":"SUM(F348,F350)","v":502044891.32310009},{"$f":"SUM(G348,G350)","v":102814508.91019234},319603703.72101349,22171659.465644009,13016930.782125503,1472203.2967647505,{"$f":"SUM(L348,L350)","v":251369.91536743421},5911046.5537427831,3228892.7466232451,10906768.202334255,2903438.8793660458,1152622.1188927856,2040236.936211884,1545381.1241610036,1735496.3897107088,772350.04766986147,1175419.0914678453,352455.41435408249,5281161.4619783117,2823286.6625959603,null,null,null,null,null,"Subtotal Revenue Requirement  Ex. Return",null,{"$f":"SUM(AG348,AG350)","v":1814119.9892457849},{"$f":"SUM(AH348,AH350)","v":1071839.6136379696}]
[null,null,null,null,null,null,null,null,null,null,null,null,null,null,null,null,null,null,null,null,null,null,null,null,null,null,null,null,null,null,""]
[null,null,null,{"$f":"MAX(D350:D352)+NoOne","v":26},"Return on Debt",{"$f":"SUM(G353:AH353)","v":90341683.986853004},{"$f":"+G231","v":26409600.215875551},24062962.478686538,18254214.980954908,7813073.5008634096,177588.09075722951,{"$f":"+L231","v":68710.348338592274},3030534.6281177332,1390695.8684540777,3621330.488994631,987538.67510390014,355719.31566265348,629652.74988486303,514497.07359902869,581602.53439538705,240990.64089222212,322536.44740726042,61130.906916494561,198676.12675795337,1620628.9151905812,null,null,null,null,null,"Return on Debt",null,0,0,null,{"$f":"+\"Prorated on Rate Base - Sch.2.6 L.\"&$D$225","v":"Prorated on Rate Base - Sch.2.6 L.9"}]
[null,null,null,{"$f":"MAX(D351:D353)+NoOne","v":27},"Return on Equity",{"$f":"SUM(G354:AH354)","v":36692170.343211427},{"$f":"+G233","v":10726228.547588693},9773144.3478379138,7413928.277673794,3173270.7554956628,72127.197429020816,{"$f":"+L233","v":27906.62841693221},1230848.1301065707,564829.51666412572,1470799.1849099549,401087.68940697104,144474.9881634273,255732.73528096962,208962.39069803673,236217.19589801502,97878.06975154359,130997.80464446156,24828.247059701,80692.078832548097,658216.55735308537,null,null,null,null,null,"Return on Equity",null,0,0,null,{"$f":"+\"Prorated on Rate Base - Sch.2.6 L.\"&$D$229","v":"Prorated on Rate Base - Sch.2.6 L.11"}]
[null,null,null,null,null,null,null,null,null,null,null,null,null,null,null,null,null,null,null,null,null,null,null,null,null,null,null,null,null,null,""]
[{"$f":"SUM(G356:AH356)-F356","v":0},null,null,{"$f":"MAX(D353:D355)+NoOne","v":28},"Total Revenue Requirement",{"$f":"SUM(F348,F353,F350,F354)","v":629078745.65316451},{"$f":"SUM(G348,G353,G350,G354)","v":139950337.67365658},353439810.54753792,47839802.724272713,24003275.038484577,{"$f":"SUM(K348,K353,K350,K354)","v":1721918.584951001},{"$f":"SUM(L348,L353,L350,L354)","v":347986.89212295867},10172429.311967086,5184418.1317414483,15998897.876238842,4292065.2438769173,1652816.4227188663,2925622.4213777166,2268840.5884580691,2553316.120004111,1111218.7583136272,1628953.3435195673,438414.56833027804,5560529.6675688131,5102132.1351396274,null,null,null,null,null,"Total Revenue Requirement",null,{"$f":"SUM(AG348,AG353,AG350,AG354)","v":1814119.9892457849},{"$f":"SUM(AH348,AH353,AH350,AH354)","v":1071839.6136379696}]
[null,null,null,null,null," "]
[null,null,null,null,"NBV for Margin Allocation"]
[null,null,null,null,{"$f":"+\"Rural Allocation=\"&IF(RuralMarginSwitch=0,\"Full\",\"Partial\")","v":"Rural Allocation=Full"},{"$f":"SUM(G359:Y359)","v":2057902850.5538988},{"$f":"G128","v":617409253.80120206},501846540.92986906,430745583.8534832,184133291.96091413,4117815.9029289167,1472423.1700401281,{"$f":"IF(RuralMarginSwitch=1,0,M128)","v":71100804.642359436},32681075.694356672,85032665.06818217,23198543.226157084,8359851.1248391829,14797631.215435563,12078039.844007367,13656361.549525477,5649095.4624581374,7584548.9467074024,1425214.3040176963,4643621.5989061818,{"$f":"Y128","v":37970488.258508891}]
[]
[null,null,"RSPLINWO",null,"Include RSP w/ Fuel on an fallout yr basis",0]
[]
[]
[]
[]
[]
[null,null,null,null,null,null,null,null,null,null,null,null,null,null,null,null,null,null,null,null,null,null,null,null,"Schedule 3.1A",null,null,null,null,null,null,null,null,null,null,null,{"$f":"+Y367","v":"Schedule 3.1A"}]
[null,null,null,null,null,null,null,null,null,null,null,null,null,null,null,null,null,null,null,null,null,null,null,null,"Page 1 of 2",null,null,null,null,null,null,null,null,null,null,null,"Page 2 of 2"]
[]
[null,null,null,{"$f":"D5","v":"NEWFOUNDLAND AND LABRADOR HYDRO"},null,null,null,null,null,null,null,null,null,null,null,null,null,null,null,null,null,null,null,null,null,null,null,null,"NEWFOUNDLAND & LABRADOR HYDRO"]
[null,null,null,{"$f":"D6","v":"2019 Test Year Cost of Service Study"},null,null,null,null,null,null,null,null,null,null,null,null,null,null,null,null,null,null,null,null,null,null,null,null,{"$f":"RunName","v":"2019 Test Year Cost of Service Study"}]
[null,null,null,{"$f":"$B$1","v":"Newfoundland and Labrador Independent System Operator"},null,null,null,null,null,null,null,null,null,null,null,null,null,null,null,null,null,null,null,null,null,null,null,null,{"$f":"$B$1","v":"Newfoundland and Labrador Independent System Operator"}]
[null,null,null,"Basis of Allocation to Classes of Service",null,null,null,null,null,null,null,null,null,null,null,null,null,null,null,null,null,null,null,null,null,null,null,null,{"$f":"+D373&\" (CONT'D.)\"","v":"Basis of Allocation to Classes of Service (CONT'D.)"}]
[]
[null,null,null,null,{"$f":"MAX(D375)+NoOne","v":1},2,3,4,5,6,7,8,9,10,11,12,13,14,15,16,17,18,19,20,21,null,null,null,null,null,{"$f":"MAX(AD375)+NoOne","v":1},null,{"$f":"MAX(Y431)+NoOne","v":22},{"$f":"MAX(AG375)+NoOne","v":23}]
[null,null,null,null,null,null,"Production and",null,"Transmission","Transmission",null,"Scheduling, ","Rural Prod &","Distribution",null,null,null,null,null,null,null,null,null,null,"Specifically",null,null,null,null,null,null,null,"Revenue Related"]
[null,null,null,"Line",null,"Total","Transmission","Production","Point-to-Point","Network Service","Ancillary","System control","Transmission","Substations","Primary Lines",null,"Line Transformers",null,"Secondary Lines",null,"Services","Meters","Street Lighting","Accounting","Assigned",null,null,null,null,null,null,null,"Municipal","PUB "]
[null,null,null,"No.","Description ","Amount","Demand","Energy","Demand","Demand","Services","& Dispatch","Demand","Demand","Demand","Customer","Demand","Customer","Demand","Customer","Customer","Customer","Customer","Customer","Customer",null,null,null,null,null,"Description ",null,"Tax","Assessment"]
[null,null,null,null,null,null,null,null,null,null,null,null,null,null,null,null,null,null,null,null,null,null,null,null,null,null,null,null,null,null,null,null,"(Prior Year","(Prior Year"]
[null,null,null,null,"Production Hydraulic"]
[null,null,"P01",{"$f":"MAX(D378:D380)+NoOne","v":1},"Bay D'Espoir",{"$f":"F77+IFERROR((F77/F$122*SUM(F$123:F$127)),0)","v":212763449.521153},{"$f":"IFERROR(G77/$F77*$F381,0)","v":96234950.730951145},{"$f":"IFERROR(H77/$F77*$F381,0)","v":115741847.36346254},0,0,786651.42673931539,0,0,0,0,0,0,0,0,0,0,0,0,0,0]
[null,null,"P10",2,"Upper Salmon",147512303.80869108,{"$f":"IFERROR(G78/$F78*$F382,0)","v":66811074.78850051},80353729.716956839,0,0,347499.30323374667,0,0,0,0,0,0,0,0,0,0,0,0,0,0]
[null,null,"P05",3,"Hinds Lake",69248757.058451831,{"$f":"IFERROR(G79/$F79*$F383,0)","v":31305900.110579684},37651629.523920543,0,0,291227.42395159794,0,0,0,0,0,0,0,0,0,0,0,0,0,0]
[null,null,"P02",4,"Cat Arm",230714285.85153088,{"$f":"IFERROR(G80/$F80*$F384,0)","v":104645039.02368943},125856666.85573557,0,0,212579.97210587346,0,0,0,0,0,0,0,0,0,0,0,0,0,0]
[null,null,"P08",5,"Paradise River",18223696.52649235,{"$f":"IFERROR(G81/$F81*$F385,0)","v":8260344.2533377856},9934722.2238664888,0,0,28630.049288076305,0,0,0,0,0,0,0,0,0,0,0,0,0,0]
[null,null,"P09",6,"Granite Canal",95286027.208199158,{"$f":"IFERROR(G82/$F82*$F386,0)","v":42986630.310327128},51700052.488802284,0,0,599344.40906974045,0,0,0,0,0,0,0,0,0,0,0,0,0,0]
[null,null,"P12",7,"Exploits",0,{"$f":"IFERROR(G83/$F83*$F387,0)","v":0},0,0,0,0,0,0,0,0,0,0,0,0,0,0,0,0,0,0]
[null,null,"P13",8,"Star Lake",0,{"$f":"IFERROR(G84/$F84*$F388,0)","v":0},0,0,0,0,0,0,0,0,0,0,0,0,0,0,0,0,0,0]
[null,null,"P07",9,"Other Small Hydraulic",3216700.5691659641,{"$f":"IFERROR(G85/$F85*$F389,0)","v":1460343.8846737964},1756356.6844921678,0,0,0,0,0,0,0,0,0,0,0,0,0,0,0,0,0]
[{"$f":"SUM(G390:AH390)-F390","v":0},null," ",10,"Subtotal Hydraulic",{"$f":"SUM(F381:F389)","v":776965220.54368424},{"$f":"SUM(G381:G389)","v":351704283.10205948},422995004.85723644,0,0,2265932.5843883501,0,0,0,0,0,0,0,0,0,0,0,0,0,0]
[null,null,"SNBV1",{"$f":"MAX(D386:D390)+NoOne","v":11},"Holyrood",{"$f":"F87+IFERROR((F87/F$122*SUM(F$123:F$127)),0)","v":89206409.044693172},{"$f":"IFERROR(G87/$F87*$F391,0)","v":61581263.846228734},26948442.660713095,0,0,676702.53775133449,0,0,0,0,0,0,0,0,0,0,0,0,0,0]
[null,null,"P04",{"$f":"MAX(D389:D391)+NoOne","v":12},"Gas Turbines",155157365.12409097,{"$f":"IFERROR(G88/$F88*$F392,0)","v":154795038.84515098},0,0,0,362326.27893996902,0,0,0,0,0,0,0,0,0,0,0,0,0,0]
[null,null,"P04",{"$f":"MAX(D390:D392)+NoOne","v":13},"Gas Turbines - Labrador",5938817.2770839306,{"$f":"IFERROR(G89/$F89*$F393,0)","v":5938817.2770839306},0,0,0,0,0,0,0,0,0,0,0,0,0,0,0,0,0,0]
[null,null,"P03",{"$f":"MAX(D391:D393)+NoOne","v":14},"Diesel - Labrador",531202.51749097789,{"$f":"IFERROR(G90/$F90*$F394,0)","v":531202.51749097789},0,0,0,0,0,0,0,0,0,0,0,0,0,0,0,0,0,0]
[null,null,"P11",{"$f":"MAX(D390:D392)+NoOne","v":13},"Roddickton",0,{"$f":"IFERROR(G91/$F91*$F395,0)","v":0},0,0,0,0,0,0,0,0,0,0,0,0,0,0,0,0,0,0]
[null,null,"SNBV2",{"$f":"MAX(D391:D395)+NoOne","v":15},"Diesel",2591416.734871082,{"$f":"IFERROR(G92/$F92*$F396,0)","v":2591416.734871082},0,0,0,0,0,0,0,0,0,0,0,0,0,0,0,0,0,0]
[{"$f":"SUM(G397:AH397)-F397","v":0},null,null,{"$f":"MAX(D392:D396)+NoOne","v":16},"Subtotal Thermal",253425210.69823012,{"$f":"SUM(G391:G396)","v":225437739.22082573},{"$f":"SUM(H391:H396)","v":26948442.660713095},0,0,1039028.8166913035,0,0,0,0,0,0,0,0,0,0,0,0,0,0]
[{"$f":"SUM(G398:AH398)-F398","v":0},null,null,17,null,{"$f":"F390+F397","v":1030390431.2419144},{"$f":"G390+G397","v":577142022.32288527},449943447.51794952,0,0,3304961.4010796538,0,0,0,0,0,0,0,0,0,0,0,0,0,0]
[null,null,null,null,"Transmission",{"$f":"F95+IFERROR((F95/F$122*SUM(F$123:F$127)),0)","v":0},{"$f":"G95+IFERROR((G95/G$122*SUM(G$123:G$127)),0)","v":0},0,0,0,0,0,0,0,0,0,0,0,0,0,0,0,0,0,0]
[null,null,"SNBV3",{"$f":"MAX(D396:D399)+NoOne","v":18},"Lines",512185120.97836244,{"$f":"IFERROR(G96/$F96*$F400,0)","v":18655392.526544601},22436854.572196078,377695143.36744648,19155284.103453077,0,0,58282109.58226528,0,0,0,0,0,0,0,0,0,0,0,15960336.826456962]
[null,null,"SNBV16",19,"Lines - Labrador",34133840.599841252,{"$f":"IFERROR(G97/$F97*$F401,0)","v":0},0,0,34133840.599841252,0,0,0,0,0,0,0,0,0,0,0,0,0,0,0]
[null,null,"SNBV3",20,"Lines - Ancillary",0,{"$f":"IFERROR(G98/$F98*$F402,0)","v":0},0,0,0,0,0,0,0,0,0,0,0,0,0,0,0,0,0,0]
[null,null,"SNBV4",21,"Terminal Stations ",214614836.39795312,{"$f":"IFERROR(G99/$F99*$F403,0)","v":0},0,65452692.308518969,111413258.76943517,477344.52468476392,0,14498046.843173308,0,0,0,0,0,0,0,0,0,0,0,22773493.952140924]
[null,null,"SNBV4",22,"Term Stns - Ancillary",0,{"$f":"IFERROR(G100/$F100*$F404,0)","v":0},0,0,0,0,0,0,0,0,0,0,0,0,0,0,0,0,0,0]
[null,null,"SNBV5",23,{"$f":"+$E$35","v":"Term Stns - Hydraulic"},32052457.086597703,{"$f":"IFERROR(G101/$F101*$F405,0)","v":14551435.139428804},17501021.947168902,0,0,0,0,0,0,0,0,0,0,0,0,0,0,0,0,0]
[null,null,"T24",24,{"$f":"+E340","v":"Suppliers' Discounts"},8881256.8282309901,{"$f":"IFERROR(G102/$F102*$F406,0)","v":6177802.2497174768},2703454.5785135133,0,0,0,0,0,0,0,0,0,0,0,0,0,0,0,0,0]
[null,null,"SNBV6",{"$f":"MAX(D404:D406)+NoOne","v":25},{"$f":"+E341","v":"Pole Attachments"},771106.22142691235,{"$f":"IFERROR(G103/$F103*$F407,0)","v":771106.22142691235},0,0,0,0,0,0,0,0,0,0,0,0,0,0,0,0,0,0]
[null,null,"SNBV17",{"$f":"MAX(D406:D407)+NoOne","v":26},"Terminal Stations - Labrador",35994804.048645221,{"$f":"IFERROR(G104/$F104*$F408,0)","v":0},0,0,22531416.295423791,0,0,0,13463387.753221426,0,0,0,0,0,0,0,0,0,0,0]
[null,null,"T18",{"$f":"MAX(D405:D407)+NoOne","v":26},"Term Stns - Distribution",8872359.161711866,{"$f":"IFERROR(G105/$F105*$F409,0)","v":0},0,0,0,0,0,0,8872359.161711866,0,0,0,0,0,0,0,0,0,0,0]
[{"$f":"SUM(G410:AH410)-F410","v":0},null,null,{"$f":"MAX(D406:D409)+NoOne","v":27},"Subtotal Term Stns",{"$f":"SUM(F403:F409)","v":301186819.74456578},{"$f":"SUM(G403:G409)","v":21500343.610573191},20204476.525682416,65452692.308518969,133944675.06485896,477344.52468476392,0,14498046.843173308,22335746.914933294,0,0,0,0,0,0,0,0,0,0,22773493.952140924]
[{"$f":"SUM(G411:AH411)-F411","v":0},null,"G06",{"$f":"MAX(D407:D410)+NoOne","v":28},"NLSO",{"$f":"F107+IFERROR((F107/F$122*SUM(F$123:F$127)),0)","v":1489808.683746282},{"$f":"IFERROR(G107/$F107*$F411,0)","v":0},0,0,0,0,1489808.683746282,0,0,0,0,0,0,0,0,0,0,0,0,0]
[{"$f":"SUM(G412:AH412)-F412","v":0},null," ",{"$f":"MAX(D408:D411)+NoOne","v":29},"Subtotal Trans & Term Stns",{"$f":"SUM(F400:F402,F410:F411)","v":848995590.00651574},{"$f":"SUM(G400:G402,G410:G411)","v":40155736.137117788},42641331.097878493,443147835.67596543,187233799.76815328,477344.52468476392,1489808.683746282,72780156.425438583,22335746.914933294,0,0,0,0,0,0,0,0,0,0,38733830.778597884]
[{"$f":"SUM(G413:AH413)-F413","v":0},null,null,{"$f":"MAX(D409:D412)+NoOne","v":30},"Distribution",{"$f":"F121+IFERROR((F121/F$122*SUM(F$123:F$127)),0)","v":178516829.30546853},{"$f":"IFERROR(G121/$F121*$F413,0)","v":0},{"$f":"IFERROR(H121/$F121*$F413,0)","v":0},0,0,0,0,0,10310385.188142562,83259585.558765516,22755760.001824286,8214689.2157105841,14540682.572961394,11814445.959984703,13370465.289509125,5492272.8202240234,7404447.7551629907,1354094.9431833576,0,0]
[]
[{"$f":"SUM(G415:AH415)-F415","v":0},null,null,{"$f":"MAX(D410:D413)+NoOne","v":31},"Total Net Book Value",{"$f":"F398+F412+F413","v":2057902850.5538988},{"$f":"G398+G412+G413","v":617297758.46000302},492584778.61582804,443147835.67596543,187233799.76815328,3782305.9257644177,1489808.683746282,72780156.425438583,32646132.103075854,83259585.558765516,22755760.001824286,8214689.2157105841,14540682.572961394,11814445.959984703,13370465.289509125,5492272.8202240234,7404447.7551629907,1354094.9431833576,0,38733830.778597884]
[]
[]
[]
[]
[]
[]
[]
[null,null,null,null,null,null,null,null,null,null,null,null,null,null,null,null,null,null,null,null,null,null,null,null,null,null,null,null,null,null,null,null,null,null,null,null,{"$f":"+Y479","v":0}]
[null,null,null,null,null,null,null,null,null,null,null,null,null,null,null,null,null,null,null,null,null,null,null,null,null,null,null,null,null,null,null,null,null,null,null,null,"Page 2 of 4"]
[null,null,null,{"$f":"D5","v":"NEWFOUNDLAND AND LABRADOR HYDRO"},null,null,null,null,null,null,null,null,null,null,null,null,null,null,null,null,null,null,null,null,null,null,null,null,"NEWFOUNDLAND & LABRADOR HYDRO"]
[null,null,null,{"$f":"D6","v":"2019 Test Year Cost of Service Study"},null,null,null,null,null,null,null,null,null,null,null,null,null,null,null,null,null,null,null,null,null,null,null,null,{"$f":"RunName","v":"2019 Test Year Cost of Service Study"}]
[null,null,null,{"$f":"$B$1","v":"Newfoundland and Labrador Independent System Operator"},null,null,null,null,null,null,null,null,null,null,null,null,null,null,null,null,null,null,null,null,null,null,null,null,{"$f":"$B$1","v":"Newfoundland and Labrador Independent System Operator"}]
[null,null,null,"Allocation of Functionalized Amounts to Classes of Service",null,null,null,null,null,null,null,null,null,null,null,null,null,null,null,null,null,null,null,null,null,null,null,null,{"$f":"+D484&\" (CONT'D.)\"","v":" (CONT'D.)"}]
[]
[]
[null,null,null,null,{"$f":"MAX(D431)+NoOne","v":1},2,3,4,5,6,{"$f":"MAX(J431)+NoOne","v":7},{"$f":"MAX(K431)+NoOne","v":8},{"$f":"MAX(L431)+NoOne","v":9},10,11,12,13,14,15,16,17,18,19,20,21]
[null,null,null,null,null,null,"Production and",null,"Transmission","Transmission",null,"Scheduling, ","Rural Prod &","Distribution",null,null,null,null,null,null,null,null,null,null,"Specifically"]
[null,null,null,"Line",null,"Total","Transmission","Production","Point-to-Point","Network Service","Ancillary","System control","Transmission","Substations","Primary Lines",null,"Line Transformers",null,"Secondary Lines",null,"Services","Meters","Street Lighting","Accounting","Assigned"]
[null,null,null,"No.","Description ","Amount","Demand","Energy","Demand","Demand","Services","& Dispatch","Demand","Demand","Demand","Customer","Demand","Customer","Demand","Customer","Customer","Customer","Customer","Customer","Customer"]
[]
[null,null,null,null,"Production Hydraulic"]
[null,null,"P01",{"$f":"MAX(D434:D436)+NoOne","v":1},"Bay D'Espoir",{"$f":"IFERROR(F381/F$415*F$356,0)","v":65039495.868127115},{"$f":"IFERROR(G381/$F381*$F437,0)","v":29417988.355245363},{"$f":"IFERROR(H381/$F381*$F437,0)","v":35381036.640961707},0,0,240470.87192004433,0,0,0,0,0,0,0,0,0,0,0,0,0,0]
[null,null,"P10",2,"Upper Salmon",45092923.129681751,{"$f":"IFERROR(G382/$F382*$F438,0)","v":20423426.262506586},24563270.071418118,0,0,106226.7957570471,0,0,0,0,0,0,0,0,0,0,0,0,0,0]
[null,null,"P05",3,"Hinds Lake",21168599.487894356,{"$f":"IFERROR(G383/$F383*$F439,0)","v":9569876.618716957},11509697.781083487,0,0,89025.088093912054,0,0,0,0,0,0,0,0,0,0,0,0,0,0]
[null,null,"P02",4,"Cat Arm",70526873.272313088,{"$f":"IFERROR(G384/$F384*$F440,0)","v":31988861.801775731},38473028.061739735,0,0,64983.40879762781,0,0,0,0,0,0,0,0,0,0,0,0,0,0]
[null,null,"P08",5,"Paradise River",5570787.8284750348,{"$f":"IFERROR(G385/$F385*$F441,0)","v":2525098.3058575438},3036937.6247865106,0,0,8751.8978309805298,0,0,0,0,0,0,0,0,0,0,0,0,0,0]
[null,null,"P09",6,"Granite Canal",29127912.650625519,{"$f":"IFERROR(G386/$F386*$F442,0)","v":13140550.083886784},15804149.433538422,0,0,183213.13320031014,0,0,0,0,0,0,0,0,0,0,0,0,0,0]
[null,null,"P12",7,"Exploits",0,{"$f":"IFERROR(G387/$F387*$F443,0)","v":0},0,0,0,0,0,0,0,0,0,0,0,0,0,0,0,0,0,0]
[null,null,"P13",8,"Star Lake",0,{"$f":"IFERROR(G388/$F388*$F444,0)","v":0},0,0,0,0,0,0,0,0,0,0,0,0,0,0,0,0,0,0]
[null,null,"P07",9,"Other Small Hydraulic",983310.73240317951,{"$f":"IFERROR(G389/$F389*$F445,0)","v":446411.4032135164},536899.32918966305,0,0,0,0,0,0,0,0,0,0,0,0,0,0,0,0,0]
[{"$f":"SUM(G446:AH446)-F446","v":0},null," ",10,"Subtotal Hydraulic",{"$f":"SUM(F437:F445)","v":237509902.96952006},{"$f":"SUM(G437:G445)","v":107512212.83120248},129305018.94271764,0,0,692671.19559992198,0,0,0,0,0,0,0,0,0,0,0,0,0,0]
[null,null,"P06",{"$f":"MAX(D442:D446)+NoOne","v":11},"Holyrood",{"$f":"IFERROR(F391/F$415*F$356,0)","v":27269438.832330778},{"$f":"IFERROR(G391/$F391*$F447,0)","v":18824729.36256206},8237848.7894823058,0,0,206860.68028641044,0,0,0,0,0,0,0,0,0,0,0,0,0,0]
[null,null,"P04",{"$f":"MAX(D445:D447)+NoOne","v":12},"Gas Turbines",47429936.065661125,{"$f":"IFERROR(G392/$F392*$F448,0)","v":47319176.823060632},0,0,0,110759.24260048762,0,0,0,0,0,0,0,0,0,0,0,0,0,0]
[null,null,"P04",{"$f":"MAX(D446:D448)+NoOne","v":13},"Gas Turbines - Labrador",1815432.5032038004,{"$f":"IFERROR(G393/$F393*$F449,0)","v":1815432.5032038004},0,0,0,0,0,0,0,0,0,0,0,0,0,0,0,0,0,0]
[null,null,"P03",{"$f":"MAX(D447:D449)+NoOne","v":14},"Diesel - Labrador",162382.89057283918,{"$f":"IFERROR(G394/$F394*$F450,0)","v":162382.89057283918},0,0,0,0,0,0,0,0,0,0,0,0,0,0,0,0,0,0]
[null,null,"P11",{"$f":"MAX(D446:D448)+NoOne","v":13},"Roddickton",0,{"$f":"IFERROR(G395/$F395*$F451,0)","v":0},0,0,0,0,0,0,0,0,0,0,0,0,0,0,0,0,0,0]
[null,null,{"$f":"+SNBVDetails!C369","v":0},{"$f":"MAX(D447:D451)+NoOne","v":15},"Diesel",792168.19618017366,{"$f":"IFERROR(G396/$F396*$F452,0)","v":792168.19618017366},0,0,0,0,0,0,0,0,0,0,0,0,0,0,0,0,0,0]
[{"$f":"SUM(G453:AH453)-F453","v":0},null,null,{"$f":"MAX(D448:D452)+NoOne","v":16},"Subtotal Thermal",{"$f":"SUM(F447:F452)","v":77469358.487948716},{"$f":"SUM(G447:G452)","v":68913889.775579512},8237848.7894823058,0,0,317619.92288689804,0,0,0,0,0,0,0,0,0,0,0,0,0,0]
[{"$f":"SUM(G454:AH454)-F454","v":0},null,null,17,null,{"$f":"F446+F453","v":314979261.45746875},{"$f":"G446+G453","v":176426102.60678199},137542867.73219994,0,0,1010291.11848682,0,0,0,0,0,0,0,0,0,0,0,0,0,0]
[null,null,null,null,"Transmission",{"$f":"IFERROR(F399/F$415*F$356,0)","v":0},0,0,0,0,0,0,0,0,0,0,0,0,0,0,0,0,0,0,0]
[null,null,{"$f":"+SNBVDetails!C386","v":0},{"$f":"MAX(D452:D455)+NoOne","v":18},"Lines",{"$f":"IFERROR(F400/F$415*F$356,0)","v":156569477.20372656},{"$f":"IFERROR(G400/$F400*$F456,0)","v":5702752.6479723519},6858704.8834110657,115457338.99194206,5855564.1211084733,0,0,17816213.423370954,0,0,0,0,0,0,0,0,0,0,0,4878903.1359216673]
[null,null,{"$f":"+SNBVDetails!C$134","v":"SNBV16"},19,"Lines - Labrador",10434347.580155993,{"$f":"IFERROR(G401/$F401*$F457,0)","v":0},0,0,10434347.580155993,0,0,0,0,0,0,0,0,0,0,0,0,0,0,0]
[null,null,{"$f":"+SNBVDetails!C386","v":0},20,"Lines - Ancillary",0,{"$f":"IFERROR(G402/$F402*$F458,0)","v":0},0,0,0,0,0,0,0,0,0,0,0,0,0,0,0,0,0,0]
[null,null,{"$f":"+SNBVDetails!C403","v":0},21,"Terminal Stations ",65605444.903992765,{"$f":"IFERROR(G403/$F403*$F459,0)","v":0},0,20008183.36297223,34057833.710149683,145919.08201705097,0,4431896.8313151728,0,0,0,0,0,0,0,0,0,0,0,6961611.9175386298]
[null,null,{"$f":"+SNBVDetails!C403","v":0},22,"Term Stns - Ancillary",0,{"$f":"IFERROR(G404/$F404*$F460,0)","v":0},0,0,0,0,0,0,0,0,0,0,0,0,0,0,0,0,0,0]
[null,null,{"$f":"+SNBVDetails!C408","v":0},23,{"$f":"+$E$35","v":"Term Stns - Hydraulic"},9798091.0487157423,{"$f":"IFERROR(G405/$F405*$F461,0)","v":4448217.0586922457},5349873.9900234966,0,0,0,0,0,0,0,0,0,0,0,0,0,0,0,0,0]
[null,null,"T24",24,{"$f":"+E396","v":"Diesel"},2714904.5951432409,{"$f":"IFERROR(G406/$F406*$F462,0)","v":1888487.6363816382},826416.95876160252,0,0,0,0,0,0,0,0,0,0,0,0,0,0,0,0,0]
[null,null,{"$f":"+SNBVDetails!C413","v":0},{"$f":"MAX(D460:D462)+NoOne","v":25},{"$f":"+E397","v":"Subtotal Thermal"},235718.8700185866,{"$f":"IFERROR(G407/$F407*$F463,0)","v":235718.8700185866},0,0,0,0,0,0,0,0,0,0,0,0,0,0,0,0,0,0]
[null,null,{"$f":"+SNBVDetails!C$146","v":"SNBV17"},{"$f":"MAX(D462:D463)+NoOne","v":26},"Terminal Stations - Labrador",11003224.070980079,{"$f":"IFERROR(G408/$F408*$F464,0)","v":0},0,0,6887611.3841328463,0,0,0,4115612.6868472327,0,0,0,0,0,0,0,0,0,0,0]
[null,null,"T18",{"$f":"MAX(D461:D463)+NoOne","v":26},"Term Stns - Distribution",2712184.6742822612,{"$f":"IFERROR(G409/$F409*$F465,0)","v":0},0,0,0,0,0,0,2712184.6742822612,0,0,0,0,0,0,0,0,0,0,0]
[{"$f":"SUM(G466:AH466)-F466","v":0},null,null,{"$f":"MAX(D462:D465)+NoOne","v":27},"Subtotal Term Stns",{"$f":"SUM(F459:F465)","v":92069568.163132682},{"$f":"SUM(G459:G465)","v":6572423.5650924705},6176290.9487850992,20008183.36297223,40945445.09428253,145919.08201705097,0,4431896.8313151728,6827797.3611294944,0,0,0,0,0,0,0,0,0,0,6961611.9175386298]
[{"$f":"SUM(G467:AH467)-F467","v":0},null,"G06",{"$f":"MAX(D463:D466)+NoOne","v":28},"NLSO",{"$f":"IFERROR(F411/F$415*F$356,0)","v":455418.47506652097},0,0,0,0,0,455418.47506652097,0,0,0,0,0,0,0,0,0,0,0,0,0]
[{"$f":"SUM(G468:AH468)-F468","v":0},null," ",{"$f":"MAX(D464:D467)+NoOne","v":29},"Subtotal Trans & Term Stns",{"$f":"SUM(F456:F458,F466:F467)","v":259528811.42208174},{"$f":"SUM(G456:G458,G466:G467)","v":12275176.213064823},13034995.832196165,135465522.35491431,57235356.795546994,145919.08201705097,455418.47506652097,22248110.254686125,6827797.3611294944,0,0,0,0,0,0,0,0,0,0,11840515.053460296]
[{"$f":"SUM(G469:AH469)-F469","v":0},null,null,{"$f":"MAX(D465:D468)+NoOne","v":30},"Distribution",{"$f":"IFERROR(F413/F$415*F$356,0)","v":54570672.773613967},0,0,0,0,0,0,0,3151773.748509035,25451558.917279769,6956190.8398538092,2511142.0523854531,4444930.1148872701,3611548.9334658543,4087207.2901107436,1678928.6703216045,2263459.9611048675,413932.24569556478,0,0]
[]
[{"$f":"SUM(G471:AH471)-F471","v":0},null,null,{"$f":"MAX(D466:D469)+NoOne","v":31},"Total Revenue Requirement",{"$f":"F454+F468+F469","v":629078745.65316439},188701278.81984681,150577863.56439611,135465522.35491431,57235356.795546994,1156210.2005038711,455418.47506652097,22248110.254686125,9979571.1096385289,25451558.917279769,6956190.8398538092,2511142.0523854531,4444930.1148872701,3611548.9334658543,4087207.2901107436,1678928.6703216045,2263459.9611048675,413932.24569556478,0,11840515.053460296]
[]
[]
[]
[]
[]
[]
[]
[]
[]
[]
[]
[]
[]
[null,null,null,null,{"$f":"MAX(D485)+NoOne","v":1},2,3,4,5,6,{"$f":"MAX(J485)+NoOne","v":7},{"$f":"MAX(K485)+NoOne","v":8},{"$f":"MAX(L485)+NoOne","v":9},10,11,12,13,14,15,16,17,18,19,20,21,null,null,null,null,null,{"$f":"MAX(AD485)+NoOne","v":1},null,{"$f":"MAX(Y485)+NoOne","v":22},{"$f":"MAX(AG485)+NoOne","v":23}]
[null,null,null,null,null,null,"Production and",null,"Transmission","Transmission",null,"Scheduling, ","Rural Prod &","Distribution",null,null,null,null,null,null,null,null,null,null,"Specifically",null,null,null,null,null,null,null,"Revenue Related"]
[null,null,null,"Line",null,"Total","Transmission","Production","Export","Network","Ancillary","System control","Transmission","Substations","Primary Lines",null,"Line Transformers",null,"Secondary Lines",null,"Services","Meters","Street Lighting","Accounting","Assigned",null,null,null,null,null,null,null,"Municipal","PUB "]
[null,null,null,"No.","Description ","Amount","Demand","Energy","Demand","Demand","Services","& Dispatch","Demand","Demand","Demand","Customer","Demand","Customer","Demand","Customer","Customer","Customer","Customer","Customer","Customer",null,null,null,null,null,"Description ",null,"Tax","Assessment",null,"Basis of Proration"]
[]
[]
[]
[]
[]
[]
[]
[]
[]
[]
[]
[]
[]
[{"$f":"(SUM(G502:AH502)-F502)*1000","v":0}]
[{"$f":"(SUM(G503:AH503)-F503)*1000","v":0}]
[]
[]
[]
[]
[]
[]
[]
[]
[]
[]
[]
[]
[]
[]
[{"$f":"(SUM(G518:AH518)-F518)*1000","v":0}]
[]
[]
[]
[]
[]
[]
[]
[]
[]
[]
[]
[]
[]
[]
[{"$f":"(SUM(G533:AH533)-F533)*1000","v":0}]
[]
[null,null,null,null,null,null,null,null,null,null,null,null,null,null,null,null,null,null,null,null,null,null,null,null,"Schedule 3.3A"]
[null,null,null,null,null,null,null,null,null,null,null,null,null,null,null,null,null,null,null,null,null,null,null,null,"Page 1 of 1"]
[null,null,null,{"$f":"D5","v":"NEWFOUNDLAND AND LABRADOR HYDRO"}]
[null,null,null,{"$f":"D6","v":"2019 Test Year Cost of Service Study"}]
[null,null,null,{"$f":"$B$1","v":"Newfoundland and Labrador Independent System Operator"}]
[null,null,null,"Allocation of Specifically Assigned Amounts to Classes of Service"]
[]
[null,null," ",null,{"$f":"MAX(D542)+NoOne","v":1},2,3,4,5,6,null,null,{"$f":"MAX(J542)+NoOne","v":7},8,9,10,11,12,13,14,15,16,17,18,19]
[null,null,null,null,null,null,"OM&A",null,null,null,null,null,"Depreciation",null,null,null,"Expense Credits",null,null,"Subtotal",null,null,"Subtotal"]
[null,null," ","Line",null,null,"Transmission",null,"Administrative & ",null,null,null,"Transmission",null,"Telecontrol &",null,"Rental",null," ","Excluding","Return on","Return on","Excl Rev","Revenue"]
[null,null," ","No.","Description ","Total","Lines","Terminals","General","Other",null,null,"Lines","Terminals","Feasibility Study","General","Income","Other","Gains/Losses","Return","Debt","Equity","Related","Related"]
[null,null," ",null,null,"Amount","($)","($)","($)","($)",null,null,"($)","($)","($)","($)","($)","($)","($)","($)","($)","($)","($)","($)"]
[null,null," ",null,null,"($)","(Plant)","(Plant)","(C3 & C4)","(C3 & C4)",null,null,"(Direct)","(Direct)","(Direct)","(Exp C3,4,6)","(Plant)","( C6 )","(NBV)",null,"(NBV)","(NBV)"," "]
[null,null,null,null,null,null,null,null,null,null,null,null,null,null,null,null,null,null,null,null,null,null," "]
[]
[]
[]
[]
[]
[]
[]
[]
[]
[]
[]
[]
[]
[]
[]
[]
[]
[]
[]
[]
[]
[]
[]
[]
[]
[]
[]
[]
[]
[]
[]
[]
[]
[]
[]
[]
[]
[]
[]
[]
[]
[]
[]
[null,null,"RatiosNLSO:"]
["LookupCol",null,{"$f":"MAX(B593)+NoOne","v":1},2,3,4,5,6,7,8,{"$f":"MAX(J593)+NoOne","v":9},{"$f":"MAX(K593)+NoOne","v":10},{"$f":"MAX(L593)+NoOne","v":11},12,13,14,15,16,17,18,19,20,21,22,23]
[null,null,null,null,"Expense Ratios:"]
[{"$f":"(SUM(G595:AH595)-F595)*1000","v":0},null,"E-GTDC",null,"GTDC",{"$f":"SUM(G595:Y595)","v":1.0000000000000002},{"$f":"IF(SUM($F$283,$F$285)<>0,(SUM(G283,G285)/SUM($F$283,$F$285)),0)","v":0.30110920707834643},0.34070986910913958,7.9684597131293819E-2,5.7073667743317444E-2,5.5085469409633676E-3,{"$f":"IF(SUM($F$283,$F$285)<>0,(SUM(L283,L285)/SUM($F$283,$F$285)),0)","v":5.3382883244918638E-4},1.6998213666392106E-2,1.6247761992945097E-2,5.9859911981328236E-2,1.5902882106945689E-2,5.5802452292781956E-3,9.8774977881129281E-3,8.6252888887709649E-3,9.6254721194285048E-3,4.3847613084393063E-3,5.5687094713661525E-3,1.4360987529526989E-3,5.0800236671748517E-2,1.0473203186781741E-2]
[{"$f":"(SUM(G596:AH596)-1)*1000","v":-2.2204460492503131E-13},null,"E-GTD",null,"GTD",{"$f":"SUM(G596:Y596)","v":0.99999999999999978},{"$f":"IF($F$283<>0,G283/$F$283,0)","v":0.31722427534383724},0.35894432581239016,8.3949238305632973E-2,6.0128194241426791E-2,5.8033589490670843E-3,{"$f":"IF($F$283<>0,L283/$F$283,0)","v":5.6239882590929189E-4},1.7907941323952684E-2,1.7117326215900362E-2,6.3063555527486506E-2,1.6753988697999881E-2,5.8788944591723832E-3,1.0406131743521198E-2,9.0869058569162057E-3,1.0140617909214365E-2,4.6194294160637828E-3,5.8667413188559607E-3,1.5129573441076262E-3,0,1.1033718708545344E-2]
[]
[]
[null,null,null,null,"Labour Ratios:"]
[null,null,null,null,"GTDC:"]
[null,null,null,null,"Hydraulic",{"$f":"+LabourRatios!E45","v":0.19371480693718957},{"$f":"+G$24/$F$24*$F$601","v":8.7374150935028858E-2},{"$f":"+H$24/$F$24*$F$601","v":0.10508495680854281},{"$f":"+NLSOCos!I$24/NLSOCos!$F$24*NLSOCos!$F$601","v":0},{"$f":"+NLSOCos!J$24/NLSOCos!$F$24*NLSOCos!$F$601","v":0},{"$f":"+NLSOCos!K$24/NLSOCos!$F$24*NLSOCos!$F$601","v":1.2556991936178788E-3},{"$f":"+NLSOCos!L$24/NLSOCos!$F$24*NLSOCos!$F$601","v":0},{"$f":"+NLSOCos!M$24/NLSOCos!$F$24*NLSOCos!$F$601","v":0}]
[null,null,null,null,"Holyrood",{"$f":"+LabourRatios!E46","v":0.26324955919796605},{"$f":"+NLSOCos!G$25/NLSOCos!$F$25*NLSOCos!$F$602","v":0.11802810275190362},{"$f":"+NLSOCos!H$25/NLSOCos!$F$25*NLSOCos!$F$602","v":0.14195248763104848},{"$f":"+NLSOCos!I$25/NLSOCos!$F$25*NLSOCos!$F$602","v":0},{"$f":"+NLSOCos!J$25/NLSOCos!$F$25*NLSOCos!$F$602","v":0},{"$f":"+NLSOCos!K$25/NLSOCos!$F$25*NLSOCos!$F$602","v":3.2689688150139237E-3},{"$f":"+NLSOCos!L$25/NLSOCos!$F$25*NLSOCos!$F$602","v":0},{"$f":"+NLSOCos!M$25/NLSOCos!$F$25*NLSOCos!$F$602","v":0}]
[null,null,null,null,"Diesel",{"$f":"+LabourRatios!E47","v":1.1093745712244578E-2},{"$f":"NLSOCos!G30/NLSOCos!$F30*$F603","v":1.1093745712244578E-2},{"$f":"NLSOCos!H30/NLSOCos!$F30*$F603","v":0},{"$f":"NLSOCos!I30/NLSOCos!$F30*$F603","v":0},{"$f":"NLSOCos!J30/NLSOCos!$F30*$F603","v":0},{"$f":"NLSOCos!K30/NLSOCos!$F30*$F603","v":0},{"$f":"NLSOCos!L30/NLSOCos!$F30*$F603","v":0},{"$f":"NLSOCos!M30/NLSOCos!$F30*$F603","v":0}]
[null,null,null,null,"Gas Turbines",{"$f":"+LabourRatios!E48","v":1.2079154469256372E-2},{"$f":"+NLSOCos!G26/NLSOCos!$F26*$F604","v":5.4668338735491991E-3},{"$f":"+NLSOCos!H26/NLSOCos!$F26*$F604","v":6.5749651966126631E-3},{"$f":"+NLSOCos!I26/NLSOCos!$F26*$F604","v":0},{"$f":"+NLSOCos!J26/NLSOCos!$F26*$F604","v":0},{"$f":"+NLSOCos!K26/NLSOCos!$F26*$F604","v":3.7355399094507466E-5},{"$f":"+NLSOCos!L26/NLSOCos!$F26*$F604","v":0},{"$f":"+NLSOCos!M26/NLSOCos!$F26*$F604","v":0}]
[null,null,null,null,"Production - General",{"$f":"+LabourRatios!E49","v":9.3371287459909039E-2},{"$f":"+NLSOCos!G31/NLSOCos!$F31*$F605","v":4.3317018247155004E-2},{"$f":"+NLSOCos!H31/NLSOCos!$F31*$F605","v":4.93857669818656E-2},{"$f":"+NLSOCos!I31/NLSOCos!$F31*$F605","v":0},{"$f":"+NLSOCos!J31/NLSOCos!$F31*$F605","v":0},{"$f":"+NLSOCos!K31/NLSOCos!$F31*$F605","v":6.6850223088844082E-4},{"$f":"+NLSOCos!L31/NLSOCos!$F31*$F605","v":0},{"$f":"+NLSOCos!M31/NLSOCos!$F31*$F605","v":0}]
[null,null,null,null,"Transmission Lines",{"$f":"+LabourRatios!E50","v":7.803186772550065E-2},{"$f":"NLSOCos!G33/NLSOCos!$F33*$F606","v":2.9527616917214166E-3},{"$f":"NLSOCos!H33/NLSOCos!$F33*$F606","v":3.5512886994598231E-3},{"$f":"NLSOCos!I33/NLSOCos!$F33*$F606","v":5.0684445487125154E-2},{"$f":"NLSOCos!J33/NLSOCos!$F33*$F606","v":4.4671960602388873E-3},{"$f":"NLSOCos!K33/NLSOCos!$F33*$F606","v":0},{"$f":"NLSOCos!L33/NLSOCos!$F33*$F606","v":0},{"$f":"NLSOCos!M33/NLSOCos!$F33*$F606","v":1.2078287497228392E-2},{"$f":"NLSOCos!N33/NLSOCos!$F33*$F606","v":0},{"$f":"NLSOCos!O33/NLSOCos!$F33*$F606","v":0},{"$f":"NLSOCos!P33/NLSOCos!$F33*$F606","v":0},{"$f":"NLSOCos!Q33/NLSOCos!$F33*$F606","v":0},{"$f":"NLSOCos!R33/NLSOCos!$F33*$F606","v":0},{"$f":"NLSOCos!S33/NLSOCos!$F33*$F606","v":0},{"$f":"NLSOCos!T33/NLSOCos!$F33*$F606","v":0},{"$f":"NLSOCos!U33/NLSOCos!$F33*$F606","v":0},{"$f":"NLSOCos!V33/NLSOCos!$F33*$F606","v":0},{"$f":"NLSOCos!W33/NLSOCos!$F33*$F606","v":0},{"$f":"NLSOCos!X33/NLSOCos!$F33*$F606","v":0},{"$f":"NLSOCos!Y33/NLSOCos!$F33*$F606","v":4.2978882897269687E-3}]
[null,null,null,null,"Terminal Stations",{"$f":"+LabourRatios!E51","v":9.3238327365590984E-2},{"$f":"NLSOCos!G41/NLSOCos!$F41*$F607","v":6.7400417138394923E-3},{"$f":"NLSOCos!H41/NLSOCos!$F41*$F607","v":6.2644742874320945E-3},{"$f":"NLSOCos!I41/NLSOCos!$F41*$F607","v":1.8329105259889966E-2},{"$f":"NLSOCos!J41/NLSOCos!$F41*$F607","v":4.2351150047241652E-2},{"$f":"NLSOCos!K41/NLSOCos!$F41*$F607","v":1.9445184169463871E-4},{"$f":"NLSOCos!L41/NLSOCos!$F41*$F607","v":0},{"$f":"NLSOCos!M41/NLSOCos!$F41*$F607","v":5.3453647906803632E-3},{"$f":"NLSOCos!N41/NLSOCos!$F41*$F607","v":6.267526731603505E-3},{"$f":"NLSOCos!O41/NLSOCos!$F41*$F607","v":0},{"$f":"NLSOCos!P41/NLSOCos!$F41*$F607","v":0},{"$f":"NLSOCos!Q41/NLSOCos!$F41*$F607","v":0},{"$f":"NLSOCos!R41/NLSOCos!$F41*$F607","v":0},{"$f":"NLSOCos!S41/NLSOCos!$F41*$F607","v":0},{"$f":"NLSOCos!T41/NLSOCos!$F41*$F607","v":0},{"$f":"NLSOCos!U41/NLSOCos!$F41*$F607","v":0},{"$f":"NLSOCos!V41/NLSOCos!$F41*$F607","v":0},{"$f":"NLSOCos!W41/NLSOCos!$F41*$F607","v":0},{"$f":"NLSOCos!X41/NLSOCos!$F41*$F607","v":0},{"$f":"NLSOCos!Y41/NLSOCos!$F41*$F607","v":7.7462126932092631E-3}]
[null,null,null,null,"Transmission - General",{"$f":"+LabourRatios!E52","v":4.7813464210805831E-2},{"$f":"NLSOCos!G43/NLSOCos!$F43*$F608","v":2.4354051043625814E-3},{"$f":"NLSOCos!H43/NLSOCos!$F43*$F608","v":2.553956626436382E-3},{"$f":"NLSOCos!I43/NLSOCos!$F43*$F608","v":2.1974199749236877E-2},{"$f":"NLSOCos!J43/NLSOCos!$F43*$F608","v":1.0233201799382051E-2},{"$f":"NLSOCos!K43/NLSOCos!$F43*$F608","v":3.9603141113857727E-5},{"$f":"NLSOCos!L43/NLSOCos!$F43*$F608","v":7.4057459677575991E-4},{"$f":"NLSOCos!M43/NLSOCos!$F43*$F608","v":5.4356090895614773E-3},{"$f":"NLSOCos!N43/NLSOCos!$F43*$F608","v":1.2764792733429419E-3},{"$f":"NLSOCos!O43/NLSOCos!$F43*$F608","v":0},{"$f":"NLSOCos!P43/NLSOCos!$F43*$F608","v":0},{"$f":"NLSOCos!Q43/NLSOCos!$F43*$F608","v":0},{"$f":"NLSOCos!R43/NLSOCos!$F43*$F608","v":0},{"$f":"NLSOCos!S43/NLSOCos!$F43*$F608","v":0},{"$f":"NLSOCos!T43/NLSOCos!$F43*$F608","v":0},{"$f":"NLSOCos!U43/NLSOCos!$F43*$F608","v":0},{"$f":"NLSOCos!V43/NLSOCos!$F43*$F608","v":0},{"$f":"NLSOCos!W43/NLSOCos!$F43*$F608","v":0},{"$f":"NLSOCos!X43/NLSOCos!$F43*$F608","v":0},{"$f":"NLSOCos!Y43/NLSOCos!$F43*$F608","v":3.1244348305939046E-3}]
[null,null,null,null,"Distribution",{"$f":"+LabourRatios!E53","v":0.17088813379335271},{"$f":"SUM(NLSOCos!G55,-NLSOCos!G53)/SUM(NLSOCos!$F55,-NLSOCos!$F53)*$F609","v":0},{"$f":"SUM(NLSOCos!H55,-NLSOCos!H53)/SUM(NLSOCos!$F55,-NLSOCos!$F53)*$F609","v":0},{"$f":"SUM(NLSOCos!I55,-NLSOCos!I53)/SUM(NLSOCos!$F55,-NLSOCos!$F53)*$F609","v":0},{"$f":"SUM(NLSOCos!J55,-NLSOCos!J53)/SUM(NLSOCos!$F55,-NLSOCos!$F53)*$F609","v":0},{"$f":"SUM(NLSOCos!K55,-NLSOCos!K53)/SUM(NLSOCos!$F55,-NLSOCos!$F53)*$F609","v":0},{"$f":"SUM(NLSOCos!L55,-NLSOCos!L53)/SUM(NLSOCos!$F55,-NLSOCos!$F53)*$F609","v":0},{"$f":"SUM(NLSOCos!M55,-NLSOCos!M53)/SUM(NLSOCos!$F55,-NLSOCos!$F53)*$F609","v":0},{"$f":"SUM(NLSOCos!N55,-NLSOCos!N53)/SUM(NLSOCos!$F55,-NLSOCos!$F53)*$F609","v":1.277357815666131E-2},{"$f":"SUM(NLSOCos!O55,-NLSOCos!O53)/SUM(NLSOCos!$F55,-NLSOCos!$F53)*$F609","v":8.2093383740737796E-2},{"$f":"SUM(NLSOCos!P55,-NLSOCos!P53)/SUM(NLSOCos!$F55,-NLSOCos!$F53)*$F609","v":2.1809611143371363E-2},{"$f":"SUM(NLSOCos!Q55,-NLSOCos!Q53)/SUM(NLSOCos!$F55,-NLSOCos!$F53)*$F609","v":7.6528881819513724E-3},{"$f":"SUM(NLSOCos!R55,-NLSOCos!R53)/SUM(NLSOCos!$F55,-NLSOCos!$F53)*$F609","v":1.3546248056141073E-2},{"$f":"SUM(NLSOCos!S55,-NLSOCos!S53)/SUM(NLSOCos!$F55,-NLSOCos!$F53)*$F609","v":1.1828937383694515E-2},{"$f":"SUM(NLSOCos!T55,-NLSOCos!T53)/SUM(NLSOCos!$F55,-NLSOCos!$F53)*$F609","v":1.3200613736827673E-2},{"$f":"SUM(NLSOCos!U55,-NLSOCos!U53)/SUM(NLSOCos!$F55,-NLSOCos!$F53)*$F609","v":6.0133715668931782E-3},{"$f":"SUM(NLSOCos!V55,-NLSOCos!V53)/SUM(NLSOCos!$F55,-NLSOCos!$F53)*$F609","v":0},{"$f":"SUM(NLSOCos!W55,-NLSOCos!W53)/SUM(NLSOCos!$F55,-NLSOCos!$F53)*$F609","v":1.9695018270744365E-3},{"$f":"SUM(NLSOCos!X55,-NLSOCos!X53)/SUM(NLSOCos!$F55,-NLSOCos!$F53)*$F609","v":0},{"$f":"SUM(NLSOCos!Y55,-NLSOCos!Y53)/SUM(NLSOCos!$F55,-NLSOCos!$F53)*$F609","v":0}]
[null,null,null,null,"Meters",{"$f":"+LabourRatios!E54","v":3.563428922558942E-3},null,null,null,null,null,null,null,null,null,null,null,null,null,null,null,{"$f":"+F610","v":3.563428922558942E-3}]
[null,null,null,null,"Customer-Related",{"$f":"+LabourRatios!E55","v":3.2956224205625155E-2},null,null,null,null,null,null,null,null,null,null,null,null,null,null,null,null,null,{"$f":"+F611","v":3.2956224205625155E-2}]
[{"$f":"(SUM(G612:AH612)-1)*1000","v":0},null,"L-GTDC",null,"Total",{"$f":"SUM(F601:F611)","v":0.99999999999999989},{"$f":"SUM(G601:G611)","v":0.27740806002980484},{"$f":"SUM(H601:H611)","v":0.31536789623139783},9.0987750496252004E-2,5.7051547906862593E-2,5.4645806214232472E-3,{"$f":"SUM(L601:L611)","v":7.4057459677575991E-4},2.2859261377470234E-2,2.0317584161607755E-2,8.2093383740737796E-2,2.1809611143371363E-2,7.6528881819513724E-3,1.3546248056141073E-2,1.1828937383694515E-2,1.3200613736827673E-2,6.0133715668931782E-3,3.563428922558942E-3,1.9695018270744365E-3,3.2956224205625155E-2,1.5168535813530136E-2]
[]
[null,null,null,null,"GTD:"]
[null,null,null,null,"Hydraulic",{"$f":"+LabourRatios!E62","v":0.20031648182427234},{"$f":"+NLSOCos!G$24/NLSOCos!$F$24*NLSOCos!$F$615","v":9.0351805287465572E-2},{"$f":"+NLSOCos!H$24/NLSOCos!$F$24*NLSOCos!$F$615","v":0.10866618392969971},{"$f":"+NLSOCos!I$24/NLSOCos!$F$24*NLSOCos!$F$615","v":0},{"$f":"+NLSOCos!J$24/NLSOCos!$F$24*NLSOCos!$F$615","v":0},{"$f":"+NLSOCos!K$24/NLSOCos!$F$24*NLSOCos!$F$615","v":1.2984926071070452E-3},{"$f":"+NLSOCos!L$24/NLSOCos!$F$24*NLSOCos!$F$615","v":0},{"$f":"+NLSOCos!M$24/NLSOCos!$F$24*NLSOCos!$F$615","v":0}]
[null,null,null,null,"Holyrood",{"$f":"+LabourRatios!E63","v":0.27222093330958114},{"$f":"+NLSOCos!G$25/NLSOCos!$F$25*NLSOCos!$F$616","v":0.12205042388587821},{"$f":"+NLSOCos!H$25/NLSOCos!$F$25*NLSOCos!$F$616","v":0.14679013627324378},{"$f":"+NLSOCos!I$25/NLSOCos!$F$25*NLSOCos!$F$616","v":0},{"$f":"+NLSOCos!J$25/NLSOCos!$F$25*NLSOCos!$F$616","v":0},{"$f":"+NLSOCos!K$25/NLSOCos!$F$25*NLSOCos!$F$616","v":3.3803731504591298E-3},{"$f":"+NLSOCos!L$25/NLSOCos!$F$25*NLSOCos!$F$616","v":0},{"$f":"+NLSOCos!M$25/NLSOCos!$F$25*NLSOCos!$F$616","v":0}]
[null,null,null,null,"Diesel",{"$f":"+LabourRatios!E64","v":1.1471813365565233E-2},{"$f":"NLSOCos!G30/NLSOCos!$F30*$F617","v":1.1471813365565233E-2},{"$f":"NLSOCos!H30/NLSOCos!$F30*$F617","v":0},{"$f":"NLSOCos!I30/NLSOCos!$F30*$F617","v":0},{"$f":"NLSOCos!J30/NLSOCos!$F30*$F617","v":0},{"$f":"NLSOCos!K30/NLSOCos!$F30*$F617","v":0},{"$f":"NLSOCos!L30/NLSOCos!$F30*$F617","v":0},{"$f":"NLSOCos!M30/NLSOCos!$F30*$F617","v":0}]
[null,null,null,null,"Gas Turbines",{"$f":"+LabourRatios!E65","v":1.2490804213422493E-2},{"$f":"+NLSOCos!G26/NLSOCos!$F26*$F618","v":5.653140023633871E-3},{"$f":"+NLSOCos!H26/NLSOCos!$F26*$F618","v":6.7990357429390221E-3},{"$f":"+NLSOCos!I26/NLSOCos!$F26*$F618","v":0},{"$f":"+NLSOCos!J26/NLSOCos!$F26*$F618","v":0},{"$f":"+NLSOCos!K26/NLSOCos!$F26*$F618","v":3.8628446849597895E-5},{"$f":"+NLSOCos!L26/NLSOCos!$F26*$F618","v":0},{"$f":"+NLSOCos!M26/NLSOCos!$F26*$F618","v":0}]
[null,null,null,null,"Production - General",{"$f":"+LabourRatios!E66","v":9.6553320332587345E-2},{"$f":"+NLSOCos!G31/NLSOCos!$F31*$F619","v":4.4793234113494389E-2},{"$f":"+NLSOCos!H31/NLSOCos!$F31*$F619","v":5.106880186607668E-2},{"$f":"+NLSOCos!I31/NLSOCos!$F31*$F619","v":0},{"$f":"+NLSOCos!J31/NLSOCos!$F31*$F619","v":0},{"$f":"+NLSOCos!K31/NLSOCos!$F31*$F619","v":6.9128435301628614E-4},{"$f":"+NLSOCos!L31/NLSOCos!$F31*$F619","v":0},{"$f":"+NLSOCos!M31/NLSOCos!$F31*$F619","v":0}]
[null,null,null,null,"Transmission Lines",{"$f":"+LabourRatios!E67","v":8.0691143129897752E-2},{"$f":"NLSOCos!G33/NLSOCos!$F33*$F620","v":3.0533898936435226E-3},{"$f":"NLSOCos!H33/NLSOCos!$F33*$F620","v":3.6723143133232301E-3},{"$f":"NLSOCos!I33/NLSOCos!$F33*$F620","v":5.2411738491869808E-2},{"$f":"NLSOCos!J33/NLSOCos!$F33*$F620","v":4.6194352024750114E-3},{"$f":"NLSOCos!K33/NLSOCos!$F33*$F620","v":0},{"$f":"NLSOCos!L33/NLSOCos!$F33*$F620","v":0},{"$f":"NLSOCos!M33/NLSOCos!$F33*$F620","v":1.2489907695550518E-2},{"$f":"NLSOCos!N33/NLSOCos!$F33*$F620","v":0},{"$f":"NLSOCos!O33/NLSOCos!$F33*$F620","v":0},{"$f":"NLSOCos!P33/NLSOCos!$F33*$F620","v":0},{"$f":"NLSOCos!Q33/NLSOCos!$F33*$F620","v":0},{"$f":"NLSOCos!R33/NLSOCos!$F33*$F620","v":0},{"$f":"NLSOCos!S33/NLSOCos!$F33*$F620","v":0},{"$f":"NLSOCos!T33/NLSOCos!$F33*$F620","v":0},{"$f":"NLSOCos!U33/NLSOCos!$F33*$F620","v":0},{"$f":"NLSOCos!V33/NLSOCos!$F33*$F620","v":0},{"$f":"NLSOCos!W33/NLSOCos!$F33*$F620","v":0},{"$f":"NLSOCos!X33/NLSOCos!$F33*$F620","v":0},{"$f":"NLSOCos!Y33/NLSOCos!$F33*$F620","v":4.4443575330356507E-3}]
[null,null,null,null,"Terminal Stations",{"$f":"+LabourRatios!E68","v":9.6415829044554563E-2},{"$f":"NLSOCos!G41/NLSOCos!$F41*$F621","v":6.969737960727692E-3},{"$f":"NLSOCos!H41/NLSOCos!$F41*$F621","v":6.4779635051020971E-3},{"$f":"NLSOCos!I41/NLSOCos!$F41*$F621","v":1.8953749270381876E-2},{"$f":"NLSOCos!J41/NLSOCos!$F41*$F621","v":4.379444975223841E-2},{"$f":"NLSOCos!K41/NLSOCos!$F41*$F621","v":2.0107863424787253E-4},{"$f":"NLSOCos!L41/NLSOCos!$F41*$F621","v":0},{"$f":"NLSOCos!M41/NLSOCos!$F41*$F621","v":5.5275313532620919E-3},{"$f":"NLSOCos!N41/NLSOCos!$F41*$F621","v":6.4811199745896378E-3},{"$f":"NLSOCos!O41/NLSOCos!$F41*$F621","v":0},{"$f":"NLSOCos!P41/NLSOCos!$F41*$F621","v":0},{"$f":"NLSOCos!Q41/NLSOCos!$F41*$F621","v":0},{"$f":"NLSOCos!R41/NLSOCos!$F41*$F621","v":0},{"$f":"NLSOCos!S41/NLSOCos!$F41*$F621","v":0},{"$f":"NLSOCos!T41/NLSOCos!$F41*$F621","v":0},{"$f":"NLSOCos!U41/NLSOCos!$F41*$F621","v":0},{"$f":"NLSOCos!V41/NLSOCos!$F41*$F621","v":0},{"$f":"NLSOCos!W41/NLSOCos!$F41*$F621","v":0},{"$f":"NLSOCos!X41/NLSOCos!$F41*$F621","v":0},{"$f":"NLSOCos!Y41/NLSOCos!$F41*$F621","v":8.0101985940048727E-3}]
[null,null,null,null,"Transmission - General",{"$f":"+LabourRatios!E69","v":4.9442916037104552E-2},{"$f":"NLSOCos!G43/NLSOCos!$F43*$F622","v":2.5184021295851125E-3},{"$f":"NLSOCos!H43/NLSOCos!$F43*$F622","v":2.6409938105836452E-3},{"$f":"NLSOCos!I43/NLSOCos!$F43*$F622","v":2.2723066214025572E-2},{"$f":"NLSOCos!J43/NLSOCos!$F43*$F622","v":1.0581942674700556E-2},{"$f":"NLSOCos!K43/NLSOCos!$F43*$F622","v":4.0952790458038851E-5},{"$f":"NLSOCos!L43/NLSOCos!$F43*$F622","v":7.6581289835345612E-4},{"$f":"NLSOCos!M43/NLSOCos!$F43*$F622","v":5.6208511192747355E-3},{"$f":"NLSOCos!N43/NLSOCos!$F43*$F622","v":1.319980858461534E-3},{"$f":"NLSOCos!O43/NLSOCos!$F43*$F622","v":0},{"$f":"NLSOCos!P43/NLSOCos!$F43*$F622","v":0},{"$f":"NLSOCos!Q43/NLSOCos!$F43*$F622","v":0},{"$f":"NLSOCos!R43/NLSOCos!$F43*$F622","v":0},{"$f":"NLSOCos!S43/NLSOCos!$F43*$F622","v":0},{"$f":"NLSOCos!T43/NLSOCos!$F43*$F622","v":0},{"$f":"NLSOCos!U43/NLSOCos!$F43*$F622","v":0},{"$f":"NLSOCos!V43/NLSOCos!$F43*$F622","v":0},{"$f":"NLSOCos!W43/NLSOCos!$F43*$F622","v":0},{"$f":"NLSOCos!X43/NLSOCos!$F43*$F622","v":0},{"$f":"NLSOCos!Y43/NLSOCos!$F43*$F622","v":3.2309135416619048E-3}]
[null,null,null,null,"Distribution",{"$f":"+LabourRatios!E70","v":0.17671189047566874},{"$f":"SUM(NLSOCos!G55,-NLSOCos!G53)/SUM(NLSOCos!$F55,-NLSOCos!$F53)*$F623","v":0},{"$f":"SUM(NLSOCos!H55,-NLSOCos!H53)/SUM(NLSOCos!$F55,-NLSOCos!$F53)*$F623","v":0},{"$f":"SUM(NLSOCos!I55,-NLSOCos!I53)/SUM(NLSOCos!$F55,-NLSOCos!$F53)*$F623","v":0},{"$f":"SUM(NLSOCos!J55,-NLSOCos!J53)/SUM(NLSOCos!$F55,-NLSOCos!$F53)*$F623","v":0},{"$f":"SUM(NLSOCos!K55,-NLSOCos!K53)/SUM(NLSOCos!$F55,-NLSOCos!$F53)*$F623","v":0},{"$f":"SUM(NLSOCos!L55,-NLSOCos!L53)/SUM(NLSOCos!$F55,-NLSOCos!$F53)*$F623","v":0},{"$f":"SUM(NLSOCos!M55,-NLSOCos!M53)/SUM(NLSOCos!$F55,-NLSOCos!$F53)*$F623","v":0},{"$f":"SUM(NLSOCos!N55,-NLSOCos!N53)/SUM(NLSOCos!$F55,-NLSOCos!$F53)*$F623","v":1.3208893409368669E-2},{"$f":"SUM(NLSOCos!O55,-NLSOCos!O53)/SUM(NLSOCos!$F55,-NLSOCos!$F53)*$F623","v":8.4891072974749751E-2},{"$f":"SUM(NLSOCos!P55,-NLSOCos!P53)/SUM(NLSOCos!$F55,-NLSOCos!$F53)*$F623","v":2.2552868535300721E-2},{"$f":"SUM(NLSOCos!Q55,-NLSOCos!Q53)/SUM(NLSOCos!$F55,-NLSOCos!$F53)*$F623","v":7.9136936439769077E-3},{"$f":"SUM(NLSOCos!R55,-NLSOCos!R53)/SUM(NLSOCos!$F55,-NLSOCos!$F53)*$F623","v":1.4007895397510369E-2},{"$f":"SUM(NLSOCos!S55,-NLSOCos!S53)/SUM(NLSOCos!$F55,-NLSOCos!$F53)*$F623","v":1.2232059891991626E-2},{"$f":"SUM(NLSOCos!T55,-NLSOCos!T53)/SUM(NLSOCos!$F55,-NLSOCos!$F53)*$F623","v":1.3650482084933616E-2},{"$f":"SUM(NLSOCos!U55,-NLSOCos!U53)/SUM(NLSOCos!$F55,-NLSOCos!$F53)*$F623","v":6.2183033668289879E-3},{"$f":"SUM(NLSOCos!V55,-NLSOCos!V53)/SUM(NLSOCos!$F55,-NLSOCos!$F53)*$F623","v":0},{"$f":"SUM(NLSOCos!W55,-NLSOCos!W53)/SUM(NLSOCos!$F55,-NLSOCos!$F53)*$F623","v":2.0366211710081024E-3},{"$f":"SUM(NLSOCos!X55,-NLSOCos!X53)/SUM(NLSOCos!$F55,-NLSOCos!$F53)*$F623","v":0},{"$f":"SUM(NLSOCos!Y55,-NLSOCos!Y53)/SUM(NLSOCos!$F55,-NLSOCos!$F53)*$F623","v":0}]
[null,null,null,null,"Meters",{"$f":"+LabourRatios!E71","v":3.6848682673457835E-3},null,null,null,null,null,null,null,null,null,null,null,null,null,null,null,{"$f":"+F624","v":3.6848682673457835E-3}]
[null,null,null,null,"Customer-Related",{"$f":"+LabourRatios!E72","v":0},null,null,null,null,null,null,null,null,null,null,null,null,null,null,null,null,null,null,{"$f":"+F625","v":0}]
[{"$f":"(SUM(G626:AH626)-1)*1000","v":-2.2204460492503131E-13},null,"L-GTD",null,"Total",{"$f":"SUM(F615:F625)","v":1},{"$f":"SUM(G615:G625)","v":0.28686194665999359},0.32611542944096816,9.4088553976277259E-2,5.899582762941398E-2,5.6508099821379705E-3,{"$f":"SUM(L615:L625)","v":7.6581289835345612E-4},2.3638290168087345E-2,2.1009994242419838E-2,8.4891072974749751E-2,2.2552868535300721E-2,7.9136936439769077E-3,1.4007895397510369E-2,1.2232059891991626E-2,1.3650482084933616E-2,6.2183033668289879E-3,3.6848682673457835E-3,2.0366211710081024E-3,0,1.5685469668702427E-2]
[]
[{"$f":"(SUM(G628:AH628)-1)*1000","v":0},null,"P-DisxMet",null,"Plant - Distribution excl. Meters",{"$f":"SUM(G628:Y628)","v":1},{"$f":"SUM(NLSOCos!G55,-NLSOCos!G53)/SUM(NLSOCos!$F55,-NLSOCos!$F53)","v":0},{"$f":"SUM(NLSOCos!H55,-NLSOCos!H53)/SUM(NLSOCos!$F55,-NLSOCos!$F53)","v":0},{"$f":"SUM(NLSOCos!I55,-NLSOCos!I53)/SUM(NLSOCos!$F55,-NLSOCos!$F53)","v":0},{"$f":"SUM(NLSOCos!J55,-NLSOCos!J53)/SUM(NLSOCos!$F55,-NLSOCos!$F53)","v":0},{"$f":"SUM(NLSOCos!K55,-NLSOCos!K53)/SUM(NLSOCos!$F55,-NLSOCos!$F53)","v":0},{"$f":"SUM(NLSOCos!L55,-NLSOCos!L53)/SUM(NLSOCos!$F55,-NLSOCos!$F53)","v":0},{"$f":"SUM(NLSOCos!M55,-NLSOCos!M53)/SUM(NLSOCos!$F55,-NLSOCos!$F53)","v":0},{"$f":"SUM(NLSOCos!N55,-NLSOCos!N53)/SUM(NLSOCos!$F55,-NLSOCos!$F53)","v":7.4748186858356241E-2},{"$f":"SUM(NLSOCos!O55,-NLSOCos!O53)/SUM(NLSOCos!$F55,-NLSOCos!$F53)","v":0.48039253468593446},{"$f":"SUM(NLSOCos!P55,-NLSOCos!P53)/SUM(NLSOCos!$F55,-NLSOCos!$F53)","v":0.12762507647104823},{"$f":"SUM(NLSOCos!Q55,-NLSOCos!Q53)/SUM(NLSOCos!$F55,-NLSOCos!$F53)","v":4.4783028593463746E-2},{"$f":"SUM(NLSOCos!R55,-NLSOCos!R53)/SUM(NLSOCos!$F55,-NLSOCos!$F53)","v":7.9269682191754384E-2},{"$f":"SUM(NLSOCos!S55,-NLSOCos!S53)/SUM(NLSOCos!$F55,-NLSOCos!$F53)","v":6.9220355568975392E-2},{"$f":"SUM(NLSOCos!T55,-NLSOCos!T53)/SUM(NLSOCos!$F55,-NLSOCos!$F53)","v":7.7247105716483383E-2},{"$f":"SUM(NLSOCos!U55,-NLSOCos!U53)/SUM(NLSOCos!$F55,-NLSOCos!$F53)","v":3.5188935787460095E-2},{"$f":"SUM(NLSOCos!V55,-NLSOCos!V53)/SUM(NLSOCos!$F55,-NLSOCos!$F53)","v":0},{"$f":"SUM(NLSOCos!W55,-NLSOCos!W53)/SUM(NLSOCos!$F55,-NLSOCos!$F53)","v":1.1525094126524115E-2},{"$f":"SUM(NLSOCos!X55,-NLSOCos!X53)/SUM(NLSOCos!$F55,-NLSOCos!$F53)","v":0},{"$f":"SUM(NLSOCos!Y55,-NLSOCos!Y53)/SUM(NLSOCos!$F55,-NLSOCos!$F53)","v":0}]
[]
[null,null,"Insert rows before this line to extend the ratio range"]

{"sheet":"AC","index":14,"n_rows":48,"n_cols":58,"rows_kept":48,"cut":false,"hidden":false,"merged":[[16,49,17,49],[9,5,9,6],[6,5,6,6],[7,23,7,24],[17,23,18,24],[10,23,13,23],[29,21,29,26],[25,46,25,49],[27,46,27,48],[10,28,10,33],[14,23,15,23],[15,40,17,40],[14,40,14,42],[11,39,11,48],[11,32,12,32],[12,39,12,48],[15,41,17,41],[15,46,15,49],[16,39,17,39],[16,46,17,46],[16,47,17,47],[16,48,17,48]]}
[]
[null,null,null,null,null,null,null,null,null,null,null,null,null,null,null,null,null,"Transmisison Access Charges, Page 2 of 2"]
[null,null,null,null,null,null,null,null,null,null,null,null,null,null,null,null,null,null,null,null,null,null,null,null,null,null,null,null,null,null,null,null,null,null,null,null,null,null,null,null,{"$f":"0.5*94000000","v":47000000},null,null,null,null,null,null,null,null,null,null,"Initial summary"]
[null,"TRANSMISSION Revenue Requirment",null,null,null,"POINT-TO-POINT AND NETWORK INTEGRATED TRANSMISSION SERVICE (NITS)",null,null,null,null,null,null,null,null,null,null,null,null,null,null,null,null,null,null,null,null,null,null,null,null,null,null,null,null,null,null,null,null,null,null,{"$f":"AO3/150000000","v":0.31333333333333335},null,null,null,null,null,null,null,null,null,null,null,null,null,"NL",null,null,"NB"]
[null,"Total Financial Costs (RR), in $000s",null,null,null,"NEWFOUNDLAND AND LABRADOR HYDRO",null,null,null,null,null,null,null,null,null,null,null,null,null,null,null,null,null,null,null,null,null,null,null,null,null,null,null,null,null,null,null,null,null,null,null,null,null,null,null,null,null,null,null,null,null,null,null,"Annual",null,null,"Annual"]
[null,null,null,null,null,null,null,null,null,null,null,null,null,null,null,null,null,null,null,null,null,null,null,null,null,null,null,null,null,null,null,null,null,null,null,null,null,null,null,null,null,null,null,null,null,null,null,null,null,null,null,null,null,"$ / MW","$ / MWh",null,"$ / MW","$ / MWh"]
[null,"Facilities",null,null,null,"Billing Determinants",null,null,"Transmission Access Charges and Expected Revenues (CAD)",null,null,null,null,null,null,null,null,null,null,null,null,null,null,null,null,null,null,null,null,null,null,null,null,null,null,null,null,null,null,null,null,null,null,null,null,null,null,null,null,null,null,"Firm Point-to-Point",null,{"$f":"N12*1000","v":18649.979670064298},{"$f":"BB7/8760","v":2.1289931130210387},null,25069.439999999999,2.87]
[null,null,null,null,null,null,null,null,null,null,null,null,null,null,null,null,null,null,null,null,null,null,null,"Scenario ",null,null,null,null,null,null,null,null,null,null,null,null,null,null,null,null,null,null,null,null,null,null,null,null,null,null,null,"Scheduling, dispatch and Control",null,null,{"$f":"'AS1'!G20","v":1.2905252783987054E-3},null,null,0.33379999999999999]
[null,"NLSO",null,null,null,null,null,null,"Transmission Revenue Requirements",null,null,"Line","Transmission Access",null,null,"Revenue Flows Booked by NLSO",null,null,null,null,null,null,null,"Pre MF=1,",null,null,null,null,null,null,null,null,null,null,null,null,null,null,null,null,null,null,null,null,null,null,null,null,null,null,null,"Reactive Supply",null,null,{"$f":"'AS2'!F225","v":9.6778590410699361E-3},null,null,0.2137]
[null,"Scheduling, System Control & Dispatch",{"$f":"NLSOCos!L356","v":347986.89212295867},"See NLSOCos Schedule 2.1A Page 1 of 2 (Column 8 Line 28)",null,"Monthly Peak Load (MW)",null,"Row #","for PTP (HV, LIL, LTA)",null,null,"No.","Charges $/kW-year)",null,null,null,null,null,null,"(Paid by NLH for LT PTP Reservations)",null,null,null,"Post MF=0",1,null,null,null,null,null,null,null,null,null,null,null,null,null,null,null,null,null,null,null,null,null,null,null,null,"Transmission Access Charges, Page 1 of 2"]
[null,"Total",{"$f":"SUM(C10:C10)","v":347986.89212295867},null,null,null,"(1)",null,null,"(2)",null,null,null,"(3)",null,null,"(4)",null,null,"(Paid by NLH to serve native loads)",null,null,null,"Share of LIL, LTA Assigned to Generation (Y=1, N=0)",null,null,null,null,"Transmission PTP and NITS Access Charges ($/kW)",null,null,null,null,null,null,null,null,null,null,null,null,null,null,null,null,null,null,null,null,null,null,null,null,null,{"$f":"SUM(BC7:BC9)","v":2.139961497340507},null,null,3.4175]
[null,null,null,null,null,"Native Loads",{"$f":"'AS3'!J38","v":1165.1396714958335},1,"NLH",{"$f":"C14*(G$13/G$14)","v":26109971.538090017},null,1,"Point-to-Point",{"$f":"J18/(G13*1000)","v":18.649979670064297},null,"Point-to-Point",{"$f":"N12*(G13*1000)","v":26109971.538090017},null,null,"(This $ amount is included in NLH G&T tariff)",null,null,null,null,null,null,null,null,null,null,null,"Firm PTP","Non-Firm PTP","NITS",null,null,null,null,null,"POINT-TO-POINT AND NETWORK INTEGRATED TRANSMISSION SERVICE (NITS)"]
[null,"High Voltage",null,null,null,"PTP Reservations",{"$f":"'AS3'!K38","v":1400},{"$f":"H12+1","v":2},"Nalcor (Exploits)",{"$f":"C15*(G$13/G$14)","v":0},null,2,"NITS",{"$f":"J27/(G12*1000)","v":39.25117935942739},null,"NITS  Tariff",{"$f":"N13*(G12*1000)","v":45733106.224667266},null,null,null,null,null,null,null,null,null,null,null,"Annual",null,null,{"$f":"P22","v":18.649979670064297},null,{"$f":"R22","v":39.25117935942739},null,null,null,null,null,"NEWFOUNDLAND AND LABRADOR HYDRO"]
[null,"NLH",{"$f":"NLSOCos!I356","v":47839802.724272713},"See NLSOCos Schedule 2.1A Page 1 of 2 (Column 6 Line 28)",null,"Total",{"$f":"G12+G13","v":2565.1396714958337},3,"Labrador Island Link",{"$f":"C16*(G$13/G$14)","v":0},null,null,null,null,null,null,null,null,null,null,null,null,null,null,0,null,null,null,"Monthly",null,null,{"$f":"P23","v":1.5541649725053581},{"$f":"Q23","v":1.5541649725053581},{"$f":"R23","v":3.2709316132856157}]
[null,"Nalcor (Exploits)",null,null,null,null,null,4,"Labrador Transmission Assets",{"$f":"C17*(G$13/G$14)","v":0},null,3,"NLSO",{"$f":"J31/(G14*1000)","v":0.13566001726527188},null,"Total",{"$f":"Q12+Q13","v":71843077.762757286},null,null,null,{"$f":"J12/G13","v":18649.979670064298},{"$f":"U15/8760","v":2.1289931130210387},null,"Share of LIL, LTA Costs in Test Year",null,null,null,null,"Weekly",null,null,{"$f":"P24","v":0.35865345519354419},0.35865345519354419,null,null,null,null,null,null,null,"Transmission Rate Base (CAD)"]
[null,"Labrador Island Link",0,null,null,null,null,5,"Churchill Falls",{"$f":"C18*(G$13/G$14)","v":0},null,null,null,null,null,null,null,null,null,null,null,{"$f":"'AS1'!G20","v":1.2905252783987054E-3},null,null,0.25,null,null,null,"Daily On-Peak",null,null,{"$f":"P25","v":7.1730691038708841E-2},7.1730691038708841E-2,null,null,null,null,null,null,null,"Net Book Value","Allocated General Plant, Working Capital",null,null,null,null,"Costs of Providing Access Services (CAD)"]
[null,"Labrador Transmission Assets",null,null,null,null,null,6,"Prior Period True Up",{"$f":"TrueUp!O11+TrueUp!O12","v":0},null,null,null,null,null,null,null,null,null,null,null,{"$f":"'AS2'!F225","v":9.6778590410699361E-3},null,null,null,null,null,null,"Daily Off-Peak",null,null,{"$f":"P26","v":5.1095834712504923E-2},5.1095834712504923E-2,null,null,null,null,null,null,"Transmission Facilities",null,null,null,null,null,null,"Return On Capital","Fixed O&M Expenses","Depreciation Expense","Total Costs (CAD)"]
[null,"Churchill Falls",null,null,null,null,null,7,"Total",{"$f":"SUM(J12:J17)","v":26109971.538090017},null,null,null,null,null,null,null,null,null,null,null,{"$f":"SUM(V15:V17)","v":2.139961497340507},null,"Allocation Shares for LIL, LTA",null,null,null,null,"Hourly On-Peak ($/MWh)",null,null,null,4.4831681899193025,null,null,null,null,"Row #",null,null,null,null,"Total Capital",null,"Row #"]
[null,"Total",{"$f":"SUM(C14:C18)","v":47839802.724272713},null,null,null,null,null,"for NITS",null,null,null,null,null,null,null,null,null,null,null,null,null,null,null,null,null,null,null,"Hourly Off-Peak ($/MWh)",null,null,null,2.1289931130210387,null,null,null,null,null,null,null,"(1)","(2)","(3=1-2)",null,null,null,"(4)","(5)","(6)","(7=4+5+6)"]
[null,null,null,null,null,null,null,{"$f":"H18+1","v":8},"NLH High Voltage",{"$f":"C14*(G$12/G$14)","v":21729831.186182689},null,null,"Transmission PTP and NITS Access Charges ($/kW)",null,null,null,null,null,null,null,null,null,null,"Transmission",{"$f":"IF(Y14=1,G13/G14,1)","v":1},null,null,null,null,null,null,null,null,null,null,null,null,null,null,"Transmission Conductors; Substations and Related Equipment",null,null,null,null,null,null,"Total Transmission and Terminals"]
[null,"Low Voltage (66-138 kV)",null,null,null,null,null,{"$f":"H20+1","v":9},"NLH Low Voltage",{"$f":"C23","v":24003275.038484577},null,null,null,null,null,"Firm PTP","Non-Firm PTP","NITS",null,null,null,null,null,"Generation",{"$f":"IF(Y14=1,G12/G14,0)","v":0},null,null,null,null,null,null,null,null,null,null,null,null,1,null,"High Voltage (PTP, NITS)",{"$f":"NLSOCos!I211","v":430745583.8534832},{"$f":"NLSOCos!I213+NLSOCos!I219+NLSOCos!I222","v":20761596.016388465},{"$f":"AO21+AP21","v":451507179.86987168},null,1,null,{"$f":"SUM(NLSOCos!I353:I354)","v":25668143.258628704},{"$f":"NLSOCos!I320","v":10312302.46391524},{"$f":"NLSOCos!I333","v":11897287.46434745},{"$f":"SUM(AU21:AW21)","v":47877733.186891392}]
[null,null,null,"See NLSOCos Schedule 2.1A Page 1 of 2 (Column 7 Line 28)",null,null,null,10,"Nalcor (Exploits)",{"$f":"C15*(G$12/G$14)","v":0},null,null,"Annual",null,null,{"$f":"N12","v":18.649979670064297},null,{"$f":"N13","v":39.25117935942739},null,null,null,null,null,"Total",{"$f":"SUM(Y20:Y21)","v":1},null,null,null,null,null,null,null,null,null,null,null,null,2,null,"Low Voltage (NITS)",{"$f":"NLSOCos!J211","v":184133291.96091413},{"$f":"NLSOCos!J213+NLSOCos!J219+NLSOCos!J222","v":9118446.6743194498},{"$f":"AO22+AP22","v":193251738.63523358},null,2,null,{"$f":"SUM(NLSOCos!J353:J354)","v":10986344.256359072},{"$f":"NLSOCos!J320","v":6963494.2992971949},{"$f":"NLSOCos!J333","v":6078470.0454156799},{"$f":"SUM(AU22:AW22)","v":24028308.60107195}]
[null,"NLH",{"$f":"NLSOCos!J356","v":24003275.038484577},null,null,null,null,11,"Labrador Island Link",{"$f":"C16*(G$12/G$14)","v":0},null,null,"Monthly",null,null,{"$f":"P22/12","v":1.5541649725053581},{"$f":"P23","v":1.5541649725053581},{"$f":"R22/12","v":3.2709316132856157},null,null,"Transmission Funding Credit"]
[null,"Nalcor (Exploits)",null,null,null,null,null,12,"Labrador Transmission Assets",{"$f":"C17*(G$12/G$14)","v":0},null,null,"Weekly",null,null,{"$f":"P22/52","v":0.35865345519354419},{"$f":"P24","v":0.35865345519354419},null,null,null,{"$f":"SUM(J13:J16,J22:J25)","v":0},"(Transmission portion of LiL and LTA directly funded by NLH)",null,null,null,null,null,null,null,null,null,null,null,null,null,null,null,3,null,"Total",{"$f":"SUM(AO21:AO23)","v":614878875.81439734},{"$f":"SUM(AP21:AP23)","v":29880042.690707915},{"$f":"SUM(AQ21:AQ23)","v":644758918.50510526},null,3,null,{"$f":"SUM(AU20:AU23)","v":36654487.514987774},{"$f":"SUM(AV21:AV23)","v":17275796.763212435},{"$f":"SUM(AW19:AW23)","v":17975757.509763129},{"$f":"SUM(AX19:AX23)","v":71906041.787963346}]
[null,"Churchill Falls",null,null,null,null,null,13,"Churchill Falls",{"$f":"C18*(G$12/G$14)","v":0},null,null,"Daily On-Peak",null,null,{"$f":"P24/5","v":7.1730691038708841E-2},{"$f":"P25","v":7.1730691038708841E-2},null,null,null,{"$f":"Q15-U24-C10","v":71495090.870634332},"(funding credit to cover RR of 230kV and 66-138kV facilities; note"]
[null,"Total",{"$f":"SUM(C23:C25)","v":24003275.038484577},null,null,null,null,14,"Prior Period True Up",{"$f":"TrueUp!O19+TrueUp!O14","v":0},null,null,"Daily Off-Peak",null,null,{"$f":"P22/365","v":5.1095834712504923E-2},{"$f":"P26","v":5.1095834712504923E-2},null,null,null,{"$f":"U24+U25","v":71495090.870634332},"  that NLSO costs, paid through TSA and NITS, remain with NLSO)",null,null,null,null,null,null,null,null,null,null,null,null,null,null,null,null,null,null,null,null,null,null,null,null,"2018 Transmission Revenue Requirements (CAD)"]
[null,null,null,null,null,null,null,15,"Total",{"$f":"SUM(J20:J26)","v":45733106.224667266},null,null,"Hourly On-Peak ($/MWh)",null,null,null,{"$f":"(P25/16)*1000","v":4.4831681899193025},null,null,null,null,null,null,null,null,null,null,null,null,null,null,null,null,null,null,null,null,null,null,null,null,null,null,null,4,null,null,null,"High Voltage (Point-to-Point and NITS)",{"$f":"AX21","v":47877733.186891392}]
[null,null,null,null,null,null,null,16,null,null,null,null,"Hourly Off-Peak ($/MWh)",null,null,null,{"$f":"(P22/8760)*1000","v":2.1289931130210387},null,null,null,null,null,null,null,null,null,null,null,null,null,null,null,null,null,null,null,null,null,null,null,null,null,null,null,5,null,"Low Voltage (for NITS)",null,null,{"$f":"AX22","v":24028308.60107195}]
[null,"Total",{"$f":"C11+C19+C23","v":72191064.654880255},null,null,null,null,17,"System control, dispatchand scheduling"]
[null,null,null,null,null,null,null,18,null,null,null,null,"System control, dispatch & scheduling 1",null,null,null,{"$f":"N15","v":0.13566001726527188},null,null,null,null,null,null,null,null,null,null,null,null,null,null,null,null,null,null,null,null,null,null,null,null,null,null,null,6,null,null,null,"Total",{"$f":"SUM(AX27,AX28)","v":71906041.787963346}]
[null,null,{"$f":"5800000/(630*4314)","v":2.1340633301690324},null,null,null,null,19,"NLSO",{"$f":"C11","v":347986.89212295867},null,null,"1 Applies to all transactions."]
[null,null,null,null,null,null,null,null,"Total Transmission"]
[null,null,{"$f":"60/5800000","v":1.0344827586206897E-5},null,null,null,null,null,null,{"$f":"J18+J27+J31","v":72191064.654880241}]
[null,null,{"$f":"(C33*9000)*1000","v":93.103448275862078}]
[null,null,{"$f":"C34*676*8760","v":551336275.86206901},null,null,"G&T Sales (MWh)",9866047,null,"GENERATION PRICES AND REVENUES for LIL, LTA"]
[null,null,{"$f":"C35-C15*1000","v":551336275.86206901},null,null,null,null,null,"COS-Based Allocation of Generation, in $000s",null,null,null,"COS-Based Generation Price to Cover LIL Lease and LTA ($/MWh)",null,null,"Revenue Flows to Cover LIL Lease and LTA, Booked by NLH as Generation via G&T Tariff, in $000s"]
[null,null,161]
[null,null,{"$f":"C15*1000/(676*8760)","v":0},null,null,null,null,null,"for LIL Lease",{"$f":"C15*Y21","v":0}]
[null,null,null,null,null,null,null,null,"for LTA",{"$f":"C18*Y21","v":0},null,null,{"$f":"(J40*1000)/G35","v":0}]
[null,null,null,null,null,null,null,null,"Total",{"$f":"SUM(J38:J39)","v":0},null,null,null,null,null,"Energy Charges",{"$f":"M39*G35/1000","v":0}]
[]
[null,null,null,null,null,null,null,null,"RECONCILIATION AND BALANCE of REVENUES TO COSTS for TRANSMISSION (HV 230, LIL, LTA, LV (66-138)"]
[]
[null,null,null,null,null,null,null,null,"Total COS Result"]
[null,null,null,null,null,null,null,null,"TSA",{"$f":"J18","v":26109971.538090017}]
[null,null,null,null,null,null,null,null,"NITS",{"$f":"J27","v":45733106.224667266}]
[null,null,null,null,null,null,null,null,"Generation",{"$f":"J40","v":0},null,null,null,null,null,"Total Revenue"]
[null,null,null,null,null,null,null,null,"Total",{"$f":"SUM(J45:J47)","v":71843077.762757286},null,null,null,null,null,null,{"$f":"Q15+Q40","v":71843077.762757286}]

{"sheet":"AS1","index":15,"n_rows":25,"n_cols":7,"rows_kept":25,"cut":false,"hidden":false,"merged":[[5,6,6,6]]}
[]
[null,null,null,null,null,null,"Ancillary Services Schedule 1, Page 1 of 1"]
[]
[null,"ANCILLARY SERVICE #1 - SCHEDULING, SYSTEM CONTROL & DISPATCH"]
[null,null,"NEWFOUNDLAND AND LABRADOR HYDRO"]
[null,null,null,null,null,null,"Annual Total Cost"]
[null,null,"Line No.",null,"Scheduling and Control Activity"]
[]
[null,null,null,null,"Scheduling, System Control, Dispatch Cost"]
[null,null,1,null,"Load Dispatching"]
[null,null,null,null,"System Control & Load Dispatch",null,{"$f":"NLSOCos!L356","v":347986.89212295867}]
[]
[null,null,3,null,"True Up Amount for Previous Billng Year",null,{"$f":"TrueUp!O18","v":0}]
[]
[null,null,4,null,"Revenue Requirements, AS #1",null,{"$f":"SUM(G10:G13)","v":347986.89212295867}]
[]
[null,null,5,null,"Average Total Billing kW",null,{"$f":"SUM('AS3'!J29:K29)*1000","v":30781676.057950001}]
[]
[null,null,null,null,"Rates for AS #1"]
[null,null,null,null,"$/MW",{"$f":"G15/(G17/1000)","v":11.30500143877266},{"$f":"F20/8760","v":1.2905252783987054E-3}]
[]
[null,null,null,null,"$/kW-Month",null,{"$f":"+G15/G17","v":1.1305001438772659E-2}]
[null,null,null,null,"Weekly Rate/kW",null,{"$f":"+G22*0.230769230769231","v":2.6088464858706165E-3}]
[null,null,null,null,"Daily Rate/kW",null,{"$f":"ROUND(+G23/5,3)","v":1E-3}]
[null,null,null,null,"Hourly Rate/kWh",null,{"$f":"+G24/16","v":6.2500000000000001E-5}]

{"sheet":"AS2","index":16,"n_rows":230,"n_cols":30,"rows_kept":230,"cut":false,"hidden":false,"merged":[[223,3,223,5],[207,11,207,12],[201,3,201,4],[17,14,17,15],[124,3,124,9],[77,3,77,4],[123,3,123,9],[126,4,126,11],[127,11,128,11],[127,6,128,6],[127,7,128,7],[127,8,128,8],[127,9,128,9],[127,10,128,10]]}
[]
[null,null,null,null,null,null,null,null,null,null,"Schedule 2, Page 1 of 6"]
[]
[null,null,null,null,"ANCILLARY SERVICE #2 - REACTIVE SUPPLY AND VOLTAGE CONTROL"]
[null,null,null,null,"NEWFOUNDLAND AND LABRADOR HYDRO"]
[]
[null,null,null,null,null,"NAMEPLATE RATING"]
[null,null,"Line No","Generation Stations/Units","Include / Exclude (1 / 0)","Generator Unit Capacity (MW)","Rated Unit Capacity (Apparent Power in MVA)","Exciter Nameplate Capacity (MW)","Gen MVAR   (MVA² - MW²)⁰·⁵","Reactive Power Allocation % (MVAR²/MVA²)","Generator Power Factor",null,null,null,null,null,null,"NBV lookup code - Capital","NBV lookup code - Ancillary"]
[null,null,null,null,null,"(1)","(2)","(3)","(4=(2²−1²)⁰·⁵)","(5=4²/2²)","(6=1/2)"]
[]
["P01",null,{"$f":"IF(LEN(D11)<>0,MAX(C$10:C10)+1,0)","v":1},"Bay D'Espoir",1,613.4,682,3.2149999999999999,{"$f":"((G11^2-F11^2)^0.5)","v":298.10139214703446},{"$f":"IFERROR(I11^2/G11^2,0)","v":0.19105537448078366},{"$f":"IFERROR(F11/G11,0)","v":0.89941348973607038},null,null,null,null,null,null,"P01","P01.1"]
["P02",null,{"$f":"IF(LEN(D12)<>0,MAX(C$10:C11)+1,0)","v":2},"Cat Arm",1,137,151,1.2969999999999999,63.498031465550177,0.17683434937064166,0.9072847682119205,null,null,null,null,null,null,"P02","P02.1"]
[null,null,{"$f":"IF(LEN(D13)<>0,MAX(C$10:C12)+1,0)","v":3},"Churchill Falls",0,5428,5713.5,38.764000000000003,1783.5072890235128,9.7441803559969897E-2,0.9500306292115166]
["P09",null,{"$f":"IF(LEN(D14)<>0,MAX(C$10:C13)+1,0)","v":4},"Granite Canal",1,40,45,0.56010000000000004,20.615528128088304,0.20987654320987656,0.88888888888888884,null,null,null,null,null,null,"P09","P09.1"]
["P05",null,{"$f":"IF(LEN(D15)<>0,MAX(C$10:C14)+1,0)","v":5},"Hinds Lake",1,75,83.3,0.9002,36.247620611565658,0.1893516109925362,0.9003601440576231,null,null,null,null,null,null,"P05","P05.1"]
["P08",null,{"$f":"IF(LEN(D16)<>0,MAX(C$10:C15)+1,0)","v":6},"Paradise River ",1,8,8.9,4.4999999999999997E-3,3.9000000000000008,0.19202120944325218,0.898876404494382,null,null,null,null,null,null,"P08","P08.1"]
["P10",null,{"$f":"IF(LEN(D17)<>0,MAX(C$10:C16)+1,0)","v":7},"Upper Salmon",1,84,88.4,1.2498,27.541967976163239,9.7070084560103354E-2,0.95022624434389136,null,null,null,null,null,null,"P10","P10.1"]
["P04",null,{"$f":"IF(LEN(D18)<>0,MAX(C$10:C17)+1,0)","v":8},"Gas Turbines",1,{"$f":"123.5+50+50","v":223.5},{"$f":"158+63.5+63.5","v":285},{"$f":"((123.5*0.0055)+(50*0.1212)*(50*0.0049))/F18","v":9.6821029082774044E-3},176.84103030688325,0.38501385041551245,0.78421052631578947,null,null,null,"Summary of Capacities"]
[null,null,{"$f":"IF(LEN(D19)<>0,MAX(C$10:C18)+1,0)","v":0},null,0,null,null,null,0,0,0,null,null,null,"Oil-Steam",{"$f":"SUM(F23:F25)","v":490},null,"P04","P04.1"]
[null,null,{"$f":"IF(LEN(D20)<>0,MAX(C$10:C19)+1,0)","v":0},null,0,null,null,null,0,0,0,null,null,null,"Gas CT",{"$f":"SUM(F18:F20)","v":223.5}]
[null,null,{"$f":"IF(LEN(D21)<>0,MAX(C$10:C20)+1,0)","v":9},"Muskrat Falls",0,824,915.6,5.1454000000000004,399.1833663869275,0.1900786350507995,0.89995631280034949,null,null,null,"Diesel",{"$f":"F26","v":10.95}]
["P12",null,{"$f":"IF(LEN(D22)<>0,MAX(C$10:C21)+1,0)","v":10},"Grand / Bishop's Falls",0,95.6,110,0.95599999999999996,54.411763434022255,0.24468099173553728,0.86909090909090903,null,null,null,null,null,null,"P11","P11.1"]
["SNBV1",null,{"$f":"IF(LEN(D23)<>0,MAX(C$10:C22)+1,0)","v":11},"Holyrood Units",1,{"$f":"170+170+150","v":490},{"$f":"194.4+194.4+185","v":573.79999999999995},{"$f":"((170*1.077)+(170*1.077)+(150*0.449))/F23","v":0.88475510204081642},298.57401092526447,0.27075900957349747,0.85395608225862674,null,null,null,null,null,null,null,null,null,{"$f":"IF(LEN(D27)<>0,C22+1,0)","v":11},null,null,null,null,0,{"$f":"((G27^2-F27^2)^0.5)","v":1.4662878298615181},null,{"$f":"IFERROR(AA23^2/G27^2,0)","v":0.37326388888888895},{"$f":"F27/G27","v":0.79166666666666663}]
[null,null,{"$f":"IF(LEN(D24)<>0,MAX(C$10:C23)+1,0)","v":0},null,0,null,null,null,0,0,0,null,null,null,null,null,null,null,null,null,{"$f":"IF(LEN(D28)<>0,U23+1,0)","v":12},null,null,null,null,2E-3,1.28062484748657,null,9.2970521541950152E-2,0.95238095238095233]
[null,null,{"$f":"IF(LEN(D25)<>0,MAX(C$10:C24)+1,0)","v":0},null,0,null,null,null,0,0,0,null,null,null,null,null,null,null,null,null,{"$f":"IF(LEN(D29)<>0,U24+1,0)","v":13},null,null,null,null,2.0000000000000001E-4,0.24677925358506123,null,0.27569035762788574,0.85106382978723416]
["SNBV2",null,{"$f":"IF(LEN(D26)<>0,MAX(C$10:C25)+1,0)","v":12},"Holyrood Diesels",1,10.95,13.69,0.1212,8.2166659905341177,0.36023372591789077,0.79985390796201605,null,null,null,null,null,null,null,null,null,{"$f":"IF(LEN(D30)<>0,U25+1,0)","v":14},null,null,null,null,5.0000000000000001E-4,0.48176757881783638,null,0.18837756675594527,0.9009009009009008]
[null,null,{"$f":"IF(LEN(D27)<>0,MAX(C$10:C26)+1,0)","v":13},"Buchans (Note 2)",0,1.9,2.4,1E-3,1.4662878298615181,0.37326388888888895,0.79166666666666663,null,null,null,null,null,null,null,null,null,{"$f":"IF(LEN(D31)<>0,U26+1,0)","v":15},null,null,null,null,8.9999999999999993E-3,3.8157568056677755,null,4.3005671077504574E-2,0.97826086956521752]
[null,null,{"$f":"IF(LEN(D28)<>0,MAX(C$10:C27)+1,0)","v":14},"Rattle Brook (NUG) - (Note 2)",0,4,4.2,2E-3,1.28062484748657,9.2970521541950152E-2,0.95238095238095233,null,null,null,null,null,null,"P06","P06.1",null,{"$f":"IF(LEN(D32)<>0,C26+1,0)","v":13},null,null,null,null,4.8999999999999998E-3,7.2833302822266708,null,0.36052750873506256,0.79967023907666934]
["P11",null,{"$f":"IF(LEN(D29)<>0,MAX(C$10:C28)+1,0)","v":15},"Roddickton (Note 2)",1,0.4,0.47,2.0000000000000001E-4,0.24677925358506123,0.27569035762788574,0.85106382978723416,null,null,null,null,null,null,null,null,null,{"$f":"IF(LEN(D33)<>0,U28+1,0)","v":14},null,null,null,null,2.5000000000000001E-3,3.75,null,0.36,0.8]
[null,null,{"$f":"IF(LEN(D30)<>0,MAX(C$10:C29)+1,0)","v":16},"Snoks Arm/Venams Bite (Note 2)",0,1,1.1100000000000001,5.0000000000000001E-4,0.48176757881783638,0.18837756675594527,0.9009009009009008,null,null,null,null,null,null,null,null,null,{"$f":"IF(LEN(D34)<>0,U29+1,0)","v":15},null,null,null,null,0.153,9.4820883775674627,null,0.27749999999999986,0.85000000000000009]
[null,null,{"$f":"IF(LEN(D31)<>0,MAX(C$10:C30)+1,0)","v":17},"Star Lake (Note 2)",1,18,18.399999999999999,8.9999999999999993E-3,3.8157568056677755,4.3005671077504574E-2,0.97826086956521752]
[null,null,{"$f":"IF(LEN(D32)<>0,MAX(C$10:C31)+1,0)","v":18},"St. Anthony Dsl Plant (Note 2)",0,9.6999999999999993,12.13,2.5000000000000001E-3,7.2833302822266708,0.36052750873506256,0.79967023907666934]
[null,null,{"$f":"IF(LEN(D33)<>0,MAX(C$10:C32)+1,0)","v":19},"Hawke's Bay Dsl Plant (Note 2)",0,5,6.25,0.153,3.75,0.36,0.8]
[null,null,{"$f":"IF(LEN(D34)<>0,MAX(C$10:C33)+1,0)","v":20},"CBPP CoGen (NUG) (Note 3)",0,15.3,18,56.192900000000002,9.4820883775674627,0.27749999999999986,0.85000000000000009]
[]
[null,null,"(1). Brushless excitation system"]
[null,null,"(2). Brushless excitation system - assumed power consumption of 0.05%"]
[null,null,"(3). Assumed Static Excitation System with 1% power consumption"]
[null,null,"(4). Static Excitation System - assumed power consumption of 1%"]
[]
[]
[]
[null,null,null,null,null,null,null,null,null,"Schedule 2, Page 2 of 6"]
[]
[null,null,null,{"$f":"E4","v":"ANCILLARY SERVICE #2 - REACTIVE SUPPLY AND VOLTAGE CONTROL"},null,null,null,null,null,null,null,null,null,null,"Step 2.  Calculate Allocators for allocating the \"remaining plant\""]
[null,null,null,{"$f":"E5","v":"NEWFOUNDLAND AND LABRADOR HYDRO"}]
[]
[null,null,"Row #",{"$f":"D8","v":"Generation Stations/Units"},"Generator Nameplate (MW)","Exciter Nameplate Capacity (MW)","Exciter to Generator Capacity Ratio","Rated Unit Capacity (MVA)","MVAR Load at System Peak"]
[null,null,null,null,"(1)","(2)","(3=2/1)","(4)","(5)"]
[null,null,{"$f":"IF(LEN(D50)<>0,MAX(C$49:C49)+1,0)","v":1},{"$f":"IF(E11=1,D11,\"\")","v":"Bay D'Espoir"},{"$f":"F11*E11","v":613.4},{"$f":"H11*E11","v":3.2149999999999999},{"$f":"IFERROR(F50/E50,0)","v":5.2412781219432674E-3},{"$f":"G11*E11","v":682},{"$f":"F$78*I11*E11","v":298.10139214703446}]
[null,null,{"$f":"IF(LEN(D51)<>0,MAX(C$49:C50)+1,0)","v":2},{"$f":"IF(E12=1,D12,\"\")","v":"Cat Arm"},{"$f":"F12*E12","v":137},{"$f":"H12*E12","v":1.2969999999999999},{"$f":"IFERROR(F51/E51,0)","v":9.4671532846715319E-3},{"$f":"G12*E12","v":151},63.498031465550177]
[null,null,{"$f":"IF(LEN(D52)<>0,MAX(C$49:C51)+1,0)","v":0},"",0,0,0,0,0]
[null,null,{"$f":"IF(LEN(D53)<>0,MAX(C$49:C52)+1,0)","v":3},"Granite Canal",40,0.56010000000000004,1.4002500000000001E-2,45,20.615528128088304]
[null,null,{"$f":"IF(LEN(D54)<>0,MAX(C$49:C53)+1,0)","v":4},"Hinds Lake",75,0.9002,1.2002666666666667E-2,83.3,36.247620611565658]
[null,null,{"$f":"IF(LEN(D55)<>0,MAX(C$49:C54)+1,0)","v":5},"Paradise River ",8,4.4999999999999997E-3,5.6249999999999996E-4,8.9,3.9000000000000008]
[null,null,{"$f":"IF(LEN(D56)<>0,MAX(C$49:C55)+1,0)","v":6},"Upper Salmon",84,1.2498,1.4878571428571429E-2,88.4,27.541967976163239]
[null,null,{"$f":"IF(LEN(D57)<>0,MAX(C$49:C56)+1,0)","v":7},"Gas Turbines",223.5,9.6821029082774044E-3,4.3320370954261319E-5,285,176.84103030688325]
[null,null,{"$f":"IF(LEN(D58)<>0,MAX(C$49:C57)+1,0)","v":0},"",0,0,0,0,0]
[null,null,{"$f":"IF(LEN(D59)<>0,MAX(C$49:C58)+1,0)","v":0},"",0,0,0,0,0]
[null,null,{"$f":"IF(LEN(D60)<>0,MAX(C$49:C59)+1,0)","v":0},"",0,0,0,0,0]
[null,null,{"$f":"IF(LEN(D61)<>0,MAX(C$49:C60)+1,0)","v":0},"",0,0,0,0,0]
[null,null,{"$f":"IF(LEN(D62)<>0,MAX(C$49:C61)+1,0)","v":8},"Holyrood Units",490,0.88475510204081642,1.8056226572261559E-3,573.79999999999995,298.57401092526447]
[null,null,{"$f":"IF(LEN(D63)<>0,MAX(C$49:C62)+1,0)","v":0},"",0,0,0,0,0]
[null,null,{"$f":"IF(LEN(D64)<>0,MAX(C$49:C63)+1,0)","v":0},"",0,0,0,0,0]
[null,null,{"$f":"IF(LEN(D65)<>0,MAX(C$49:C64)+1,0)","v":9},"Holyrood Diesels",10.95,0.1212,1.1068493150684932E-2,13.69,8.2166659905341177]
[null,null,{"$f":"IF(LEN(D66)<>0,MAX(C$49:C65)+1,0)","v":0},"",0,0,0,0,0]
[null,null,{"$f":"IF(LEN(D67)<>0,MAX(C$49:C66)+1,0)","v":0},"",0,0,0,0,0]
[null,null,{"$f":"IF(LEN(D68)<>0,MAX(C$49:C67)+1,0)","v":10},"Roddickton (Note 2)",0.4,2.0000000000000001E-4,5.0000000000000001E-4,0.47,0.24677925358506123]
[null,null,{"$f":"IF(LEN(D69)<>0,MAX(C$49:C68)+1,0)","v":0},"",0,0,0,0,0]
[null,null,{"$f":"IF(LEN(D70)<>0,MAX(C$49:C69)+1,0)","v":11},"Star Lake (Note 2)",18,8.9999999999999993E-3,5.0000000000000001E-4,18.399999999999999,3.8157568056677755]
[null,null,{"$f":"IF(LEN(D71)<>0,MAX(C$49:C70)+1,0)","v":0},"",0,0,0,0,0]
[null,null,{"$f":"IF(LEN(D72)<>0,MAX(C$49:C71)+1,0)","v":0},"",0,0,0,0,0]
[null,null,{"$f":"IF(LEN(D73)<>0,MAX(C$49:C72)+1,0)","v":0},"",0,0,0,0,0]
[null,null,{"$f":"IF(LEN(D74)<>0,MAX(C$49:C73)+1,0)","v":0},{"$f":"IF(E32=1,D32,\"\")","v":""},"","","","",""]
[null,null,{"$f":"IF(LEN(D75)<>0,MAX(C$49:C72)+1,0)","v":12},"Total",{"$f":"SUM(E50:E73)","v":1700.2500000000002},{"$f":"SUM(F50:F73)","v":8.2514372049490934},null,{"$f":"SUM(H50:H73)","v":1949.96},{"$f":"SUM(I50:I73)","v":937.59878361033645}]
[null,null,null,{"$f":"IF(E34=1,D34,\"\")","v":""}]
[null,null,null,null,null,null,"System-wide Allocator: "]
[null,null,null,"Share of Total MVAR Capability at Peak Load:",null,1,"MVAR % of MVA Nameplate Capability",null,null,{"$f":"I75/H75","v":0.48082975220534596}]
[]
[null,null,null,{"$f":"IF(Q37=1,D37,\"\")","v":""}]
[]
[null,null,null,null,null,null,null,null,null,null,null,"Schedule 2, Page 3 of 6"]
[]
[null,null,"ANCILLARY SERVICE #2 - REACTIVE SUPPLY AND VOLTAGE CONTROL"]
[null,null,"NEWFOUNDLAND AND LABRADOR HYDRO"]
[]
[null,null,null,"Plant-In-Service Net Book Value (CAD)"]
[null,null,null,null,null,null,null,"Accessory Equipment",null,"NBV, Generation Stations"]
[null,null,"Row #","Generation Stations/Units","Plant Structures, Improvements","Turbo Generator Equipment","Exciter, Classified with Main Generator","Exciter-Related Equipment","Other Accessory Equipment","Generator Unit w/o Exciter, Total","Reactive/Voltage: Exciter (for AS 2)","Total "]
[null,null,null,"(1)","(2)","(3)","(4)","(5)","(6)","(7)","(8)","(9)"]
[null,null,{"$f":"IF(LEN(D91)<>0,MAX(C$90:C90)+1,0)","v":1},"Bay D'Espoir",{"$f":"(L91-SUM(F91:G91))*E11","v":0},{"$f":"(NLSOCos!F77-G91)*E11","v":202395384.84720162},{"$f":"NLSOCos!K77*E11","v":751094.55226600019},{"$f":"IFERROR((G91/SUM(F91:G91)*E91)*E11,0)","v":0},{"$f":"(E91-H91)*E11","v":0},{"$f":"(NLSOCos!G77+NLSOCos!H77)*E11","v":202395384.84720162},{"$f":"G91","v":751094.55226600019},{"$f":"SUM(J91:K91)","v":203146479.39946762}]
[null,null,{"$f":"IF(LEN(D92)<>0,MAX(C$90:C91)+1,0)","v":2},"Cat Arm",{"$f":"(L92-SUM(F92:G92))*E12","v":0},{"$f":"(NLSOCos!F80-G92)*E12","v":220082961.38440517},{"$f":"NLSOCos!K80*E12","v":202971.29521700001},0,{"$f":"(E92-H92)*E12","v":0},{"$f":"(NLSOCos!G80+NLSOCos!H80)*E12","v":220082961.38440517},{"$f":"G92","v":202971.29521700001},{"$f":"SUM(J92:K92)","v":220285932.67962217}]
[null,null,{"$f":"IF(LEN(D93)<>0,MAX(C$90:C92)+1,0)","v":3},"Churchill Falls",0,0,0,0,0,0,0,0]
[null,null,{"$f":"IF(LEN(D94)<>0,MAX(C$90:C93)+1,0)","v":4},"Granite Canal",{"$f":"(L94-SUM(F94:G94))*E14","v":0},{"$f":"(NLSOCos!F82-G94)*E14","v":90406817.054095998},{"$f":"NLSOCos!K82*E14","v":572253.86655599996},0,{"$f":"(E94-H94)*E14","v":0},{"$f":"(NLSOCos!G82+NLSOCos!H82)*E14","v":90406817.054095998},572253.86655599996,{"$f":"SUM(J94:K94)","v":90979070.920652002}]
[null,null,{"$f":"IF(LEN(D95)<>0,MAX(C$90:C94)+1,0)","v":5},"Hinds Lake",0,{"$f":"(NLSOCos!F79-G95)*E15","v":65840629.134659953},{"$f":"NLSOCos!K79*E15","v":278063.85924599995},0,0,{"$f":"(NLSOCos!G79+NLSOCos!H79)*E15","v":65840629.134659953},278063.85924599995,66118692.993905954]
[null,null,{"$f":"IF(LEN(D96)<>0,MAX(C$90:C95)+1,0)","v":6},"Paradise River ",0,{"$f":"(NLSOCos!F81-G96)*E16","v":17372644.152941499},{"$f":"NLSOCos!K81*E16","v":27335.96269},0,0,{"$f":"(NLSOCos!G81+NLSOCos!H81)*E16","v":17372644.152941499},27335.96269,17399980.115631498]
[null,null,{"$f":"IF(LEN(D97)<>0,MAX(C$90:C96)+1,0)","v":7},"Upper Salmon",0,{"$f":"(NLSOCos!F78-G97)*E17","v":140512912.31684181},{"$f":"NLSOCos!K78*E17","v":331792.23313299997},0,0,{"$f":"(NLSOCos!G78+NLSOCos!H78)*E17","v":140512912.31684181},331792.23313299997,140844704.5499748]
[null,null,{"$f":"IF(LEN(D98)<>0,MAX(C$90:C97)+1,0)","v":8},"Gas Turbines",0,{"$f":"(SUM(NLSOCos!F88:F89)-G98)*E18","v":153468638.83350542},{"$f":"SUM(NLSOCos!K88:K89)*E18","v":345949.02520249994},0,0,{"$f":"(SUM(NLSOCos!G88:G89)+SUM(NLSOCos!H88:H89))*E18","v":153468638.83350542},345949.02520249994,153814587.85870793]
[null,null,{"$f":"IF(LEN(D99)<>0,MAX(C$90:C98)+1,0)","v":0},null,0,0,0,{"$f":"IFERROR((G99/SUM(F99:G99)*E99)*E19,0)","v":0},0,0,{"$f":"G99","v":0},0]
[null,null,{"$f":"IF(LEN(D100)<>0,MAX(C$90:C99)+1,0)","v":0},null,0,0,0,{"$f":"IFERROR((G100/SUM(F100:G100)*E100)*E20,0)","v":0},0,0,{"$f":"G100","v":0},0]
[null,null,{"$f":"IF(LEN(D101)<>0,MAX(C$90:C100)+1,0)","v":9},"Muskrat Falls",{"$f":"(L101-SUM(F101:G101))*E21","v":0},0,0,{"$f":"IFERROR((G101/SUM(F101:G101)*E101)*E21,0)","v":0},{"$f":"(E101-H101)*E21","v":0},0,0,{"$f":"SUM(J101:K101)","v":0}]
[null,null,{"$f":"IF(LEN(D102)<>0,MAX(C$90:C101)+1,0)","v":10},"Grand / Bishop's Falls",0,{"$f":"(SUM(NLSOCos!F83:F83)-G102)*E22","v":0},{"$f":"SUM(NLSOCos!K83:K83)*E22","v":0},0,0,{"$f":"(SUM(NLSOCos!G387:G387)+SUM(NLSOCos!H387:H387))*E22","v":0},0,0]
[null,null,{"$f":"IF(LEN(D103)<>0,MAX(C$90:C102)+1,0)","v":11},"Holyrood Units",{"$f":"(L103-SUM(F103:G103))*E23","v":0},{"$f":"(SUM(NLSOCos!F87:F87)-G103)*E23","v":84528137.890363306},{"$f":"SUM(NLSOCos!K87:K87)*E23","v":646115.38520483358},{"$f":"IFERROR((G103/SUM(F103:G103)*E103)*E23,0)","v":0},{"$f":"(E103-H103)*E23","v":0},{"$f":"(SUM(NLSOCos!G87:G87)+SUM(NLSOCos!H87:H87))*E23","v":84528137.890363306},646115.38520483358,{"$f":"SUM(J103:K103)","v":85174253.275568143}]
[null,null,{"$f":"IF(LEN(D104)<>0,MAX(C$90:C103)+1,0)","v":0},null,{"$f":"(L104-SUM(F104:G104))*E24","v":0},{"$f":"(SUM(NLSOCos!F88:F88)-G104)*E24","v":0},{"$f":"SUM(NLSOCos!K88:K88)*E24","v":0},{"$f":"IFERROR((G104/SUM(F104:G104)*E104)*E24,0)","v":0},{"$f":"(E104-H104)*E24","v":0},{"$f":"(SUM(NLSOCos!G392:G392)+SUM(NLSOCos!H392:H392))*E24","v":0},0,{"$f":"SUM(J104:K104)","v":0}]
[null,null,{"$f":"IF(LEN(D105)<>0,MAX(C$90:C104)+1,0)","v":0},null,{"$f":"(L105-SUM(F105:G105))*E25","v":0},{"$f":"(SUM(NLSOCos!F89:F89)-G105)*E25","v":0},{"$f":"SUM(NLSOCos!K89:K89)*E25","v":0},{"$f":"IFERROR((G105/SUM(F105:G105)*E105)*E25,0)","v":0},{"$f":"(E105-H105)*E25","v":0},{"$f":"(SUM(NLSOCos!G89:G89)+SUM(NLSOCos!H89:H89))*E25","v":0},0,{"$f":"SUM(J105:K105)","v":0}]
[null,null,{"$f":"IF(LEN(D106)<>0,MAX(C$90:C105)+1,0)","v":12},"Holyrood Diesels",{"$f":"(L106-SUM(F106:G106))*E26","v":0},{"$f":"(SUM(NLSOCos!F90,NLSOCos!F92)-G106)*E26","v":2981475.9492291603},{"$f":"SUM(NLSOCos!K90,NLSOCos!K92)*E26","v":0},{"$f":"IFERROR((G106/SUM(F106:G106)*E106)*E26,0)","v":0},{"$f":"(E106-H106)*E26","v":0},{"$f":"(SUM(NLSOCos!G90,NLSOCos!G92)+SUM(NLSOCos!H90,NLSOCos!H92))*E26","v":2981475.9492291603},0,{"$f":"SUM(J106:K106)","v":2981475.9492291603}]
[null,null,{"$f":"IF(LEN(D107)<>0,MAX(C$90:C106)+1,0)","v":13},"Buchans (Note 2)",0,0,0,0,0,0,0,0]
[null,null,{"$f":"IF(LEN(D108)<>0,MAX(C$90:C107)+1,0)","v":14},"Rattle Brook (NUG) - (Note 2)",{"$f":"(L108-SUM(F108:G108))*E28","v":0},0,0,{"$f":"IFERROR((G108/SUM(F108:G108)*E108)*E28,0)","v":0},{"$f":"(E108-H108)*E28","v":0},0,0,{"$f":"SUM(J108:K108)","v":0}]
[null,null,{"$f":"IF(LEN(D109)<>0,MAX(C$90:C108)+1,0)","v":15},"Roddickton (Note 2)",0,{"$f":"(NLSOCos!F91-G109)*E29","v":0},{"$f":"NLSOCos!K91*E29","v":0},0,0,{"$f":"(NLSOCos!G91+NLSOCos!H91)*E29","v":0},0,0]
[null,null,{"$f":"IF(LEN(D110)<>0,MAX(C$90:C109)+1,0)","v":16},"Snoks Arm/Venams Bite (Note 2)",0,0,0,0,0,0,0,0]
[null,null,{"$f":"IF(LEN(D111)<>0,MAX(C$90:C110)+1,0)","v":17},"Star Lake (Note 2)",0,{"$f":"(NLSOCos!F84-G111)*E31","v":0},{"$f":"NLSOCos!K84*E31","v":0},0,0,{"$f":"SUM(NLSOCos!G84:'NLSOCos'!H84)*E31","v":0},0,0]
[null,null,{"$f":"IF(LEN(D112)<>0,MAX(C$90:C111)+1,0)","v":18},"St. Anthony Dsl Plant (Note 2)",0,0,0,0,0,0,0,0]
[null,null,{"$f":"IF(LEN(D113)<>0,MAX(C$90:C112)+1,0)","v":19},"Hawke's Bay Dsl Plant (Note 2)",0,0,0,0,0,0,0,0]
[null,null,{"$f":"IF(LEN(D114)<>0,MAX(C$90:C113)+1,0)","v":20},"CBPP CoGen (NUG) (Note 3)",0,0,0,0,0,0,0,0]
[null,null,{"$f":"IF(LEN(D115)<>0,MAX(C$90:C114)+1,0)","v":0}]
[null,null,{"$f":"IF(LEN(D116)<>0,MAX(C$90:C115)+1,0)","v":21},"Total",{"$f":"SUM(E91:E114)","v":0},{"$f":"SUM(F91:F114)","v":977589601.56324387},3155576.1795153334,0,0,977589601.56324387,3155576.1795153334,980745177.74275911]
[]
[]
[]
[]
[]
[null,null,null,null,null,null,null,null,null,null,null,"Schedule 2, Page 4 of 6"]
[]
[null,null,null,{"$f":"E4","v":"ANCILLARY SERVICE #2 - REACTIVE SUPPLY AND VOLTAGE CONTROL"}]
[null,null,null,{"$f":"E5","v":"NEWFOUNDLAND AND LABRADOR HYDRO"}]
[]
[null,null,null,null,"Investment Costs Associated with AS 2, including General Plant and Working Capital (CAD)"]
[null,null,null,null,"Total Plant In Service, Less Exciter",null,"Turbo Generator Less Accessories and Structures and Improvements","Exciter Equipment with Generator","Plant Structures and Improvements","Exciter-Related Accessories","Non-Exciter Related Accessories","Total Plant less Generator, Exciter & Accessories"]
[null,null,"Row #",{"$f":"D8","v":"Generation Stations/Units"},"Direct Facility Investment","Direct Investment, with General Plant"]
[null,null,null,"(1)","(2)","(3)","(4)","(5)","(6)","(7)","(8)","(9)"]
[{"$f":"A11","v":"P01"},null,{"$f":"IF(LEN(D131)<>0,MAX(C$130:C130)+1,0)","v":1},"Bay D'Espoir",{"$f":"J91","v":202395384.84720162},{"$f":"NLSOCos!F381","v":212763449.521153},{"$f":"F131-SUM(I131:K131)","v":202359827.97272831},{"$f":"NLSOCos!K381","v":786651.42673931539},{"$f":"F131-E131","v":10368064.673951387},{"$f":"H131-G91","v":35556.874473315198},0,{"$f":"I131","v":10368064.673951387}]
[null,null,{"$f":"IF(LEN(D132)<>0,MAX(C$130:C131)+1,0)","v":2},"Cat Arm",{"$f":"J92","v":220082961.38440517},{"$f":"NLSOCos!F384","v":230714285.85153088},{"$f":"F132-SUM(I132:K132)","v":220073352.70751628},{"$f":"NLSOCos!K384","v":212579.97210587346},{"$f":"F132-E132","v":10631324.467125714},{"$f":"H132-G92","v":9608.6768888734514},0,10631324.467125714]
[null,null,{"$f":"IF(LEN(D133)<>0,MAX(C$130:C132)+1,0)","v":3},"Churchill Falls",0,0,0,0,0,0,0,0]
[null,null,{"$f":"IF(LEN(D134)<>0,MAX(C$130:C133)+1,0)","v":4},"Granite Canal",90406817.054095998,{"$f":"NLSOCos!F386","v":95286027.208199158},90379726.511582255,{"$f":"NLSOCos!K386","v":599344.40906974045},4879210.1541031599,27090.542513740482,0,4879210.1541031599]
[null,null,{"$f":"IF(LEN(D135)<>0,MAX(C$130:C134)+1,0)","v":5},"Hinds Lake",65840629.134659953,{"$f":"NLSOCos!F383","v":69248757.058451831},65827465.569954358,{"$f":"NLSOCos!K383","v":291227.42395159794},3408127.9237918779,13163.564705597993,0,3408127.9237918779]
[null,null,{"$f":"IF(LEN(D136)<>0,MAX(C$130:C135)+1,0)","v":6},"Paradise River ",17372644.152941499,{"$f":"NLSOCos!F385","v":18223696.52649235},17371350.066343423,{"$f":"NLSOCos!K385","v":28630.049288076305},851052.3735508509,1294.0865980763047,0,851052.3735508509]
[null,null,{"$f":"IF(LEN(D137)<>0,MAX(C$130:C136)+1,0)","v":7},"Upper Salmon",140512912.31684181,{"$f":"NLSOCos!F382","v":147512303.80869108},140497205.24674106,{"$f":"NLSOCos!K382","v":347499.30323374667},6999391.4918492734,15707.0701007467,0,6999391.4918492734]
[null,null,{"$f":"IF(LEN(D138)<>0,MAX(C$130:C137)+1,0)","v":8},"Gas Turbines",153468638.83350542,{"$f":"NLSOCos!F392+NLSOCos!F393","v":161096182.4011749},153452261.57976794,{"$f":"NLSOCos!K392+NLSOCos!K393","v":362326.27893996902},7627543.567669481,16377.253737469087,0,7627543.567669481]
[null,null,{"$f":"IF(LEN(D139)<>0,MAX(C$130:C138)+1,0)","v":0},null,0,0,0,0,0,0,0,0]
[null,null,{"$f":"IF(LEN(D140)<>0,MAX(C$130:C139)+1,0)","v":0},null,0,0,0,0,0,0,0,0]
[null,null,{"$f":"IF(LEN(D141)<>0,MAX(C$130:C140)+1,0)","v":9},"Muskrat Falls",0,0,0,0,0,0,0,0]
[null,null,{"$f":"IF(LEN(D142)<>0,MAX(C$130:C141)+1,0)","v":10},"Grand / Bishop's Falls",0,{"$f":"NLSOCos!F387","v":0},0,{"$f":"NLSOCos!K387","v":0},0,0,0,0]
[null,null,{"$f":"IF(LEN(D143)<>0,MAX(C$130:C142)+1,0)","v":11},"Holyrood Units",84528137.890363306,{"$f":"NLSOCos!F391","v":89206409.044693172},84497550.737816811,{"$f":"NLSOCos!K391","v":676702.53775133449},4678271.1543298662,30587.152546500904,0,4678271.1543298662]
[null,null,{"$f":"IF(LEN(D144)<>0,MAX(C$130:C143)+1,0)","v":0},null,0,0,0,0,0,0,0,0]
[null,null,{"$f":"IF(LEN(D145)<>0,MAX(C$130:C144)+1,0)","v":0},null,0,0,0,0,0,0,0,0]
[null,null,{"$f":"IF(LEN(D146)<>0,MAX(C$130:C145)+1,0)","v":12},"Holyrood Diesels",2981475.9492291603,{"$f":"NLSOCos!F394+NLSOCos!F396","v":3122619.2523620599},2981475.9492291603,{"$f":"NLSOCos!K394+NLSOCos!K396","v":0},141143.30313289957,0,0,141143.30313289957]
[null,null,{"$f":"IF(LEN(D147)<>0,MAX(C$130:C146)+1,0)","v":13},"Buchans (Note 2)",0,0,0,0,0,0,0,0]
[null,null,{"$f":"IF(LEN(D148)<>0,MAX(C$130:C147)+1,0)","v":14},"Rattle Brook (NUG) - (Note 2)",0,0,0,0,0,0,0,0]
[null,null,{"$f":"IF(LEN(D149)<>0,MAX(C$130:C148)+1,0)","v":15},"Roddickton (Note 2)",0,{"$f":"NLSOCos!F395","v":0},0,{"$f":"NLSOCos!K395","v":0},0,0,0,0]
[null,null,{"$f":"IF(LEN(D150)<>0,MAX(C$130:C149)+1,0)","v":16},"Snoks Arm/Venams Bite (Note 2)",0,0,0,0,0,0,0,0]
[null,null,{"$f":"IF(LEN(D151)<>0,MAX(C$130:C150)+1,0)","v":17},"Star Lake (Note 2)",0,{"$f":"NLSOCos!F388","v":0},0,{"$f":"NLSOCos!K388","v":0},0,0,0,0]
[null,null,{"$f":"IF(LEN(D152)<>0,MAX(C$130:C151)+1,0)","v":18},"St. Anthony Dsl Plant (Note 2)",0,0,0,0,0,0,0,0]
[null,null,{"$f":"IF(LEN(D153)<>0,MAX(C$130:C152)+1,0)","v":19},"Hawke's Bay Dsl Plant (Note 2)",0,0,0,0,0,0,0,0]
[null,null,{"$f":"IF(LEN(D154)<>0,MAX(C$130:C153)+1,0)","v":20},"CBPP CoGen (NUG) (Note 3)",0,0,0,0,0,0,0,0]
[null,null,{"$f":"IF(LEN(D155)<>0,MAX(C$130:C154)+1,0)","v":0}]
[null,null,{"$f":"IF(LEN(D156)<>0,MAX(C$130:C155)+1,0)","v":21},"Total, NLH",{"$f":"SUM(E131:E155)","v":977589601.56324387},{"$f":"SUM(F131:F155)","v":1027173730.6727483},977440216.34167957,3304961.4010796538,49584129.109504513,149385.22156432012,0,49584129.109504513]
[]
[]
[]
[]
[null,null,null,null,null,null,null,null,null,null,null,"Schedule 2, Page 5 of 6"]
[]
[null,null,null,{"$f":"E4","v":"ANCILLARY SERVICE #2 - REACTIVE SUPPLY AND VOLTAGE CONTROL"}]
[null,null,null,{"$f":"E5","v":"NEWFOUNDLAND AND LABRADOR HYDRO"},null,null,null,null,null,null,null,null,null,null,"Step 4.  Calculate Plant Associated with VAR production"]
[null,null,null,null,null,null,null,null,null,null,null,null,null,null,"Generator & Accessories are allocated based on Generator Allocator from Step 1."]
[null,null,null,null,"Costs of Generation for Production of VARs (CAD)",null,null,null,null,null,null,null,null,null,"Exciter is assigned 100% to VAR support.  Remaining Plant is allocated based on allocations in Step 2."]
[]
[null,null,"Line No.",{"$f":"D8","v":"Generation Stations/Units"},"Generator less Exciter-Related Equipment and Structures and Improvements","Total Accessories less Exciter-Related Equipment","Percentage VARS within MVA","% of Non-Assignable Accessory Costs Related to VARS","Assignable Exciter- and Var Accessory-Related Costs","Allocated Share of Remaining Plant to VARs","Total Plant in Service associated with VARS","Revenue Requirement"]
[null,null,null,"(1)","(2)","(3)","(4)","(5)","(6)","(7)","(8)","(9)"]
[null,null,{"$f":"IF(LEN(D170)<>0,MAX(C$169:C169)+1,0)","v":1},"Bay D'Espoir",{"$f":"G131","v":202359827.97272831},{"$f":"K131","v":0},{"$f":"J11","v":0.19105537448078366},{"$f":"F170*G170","v":0},{"$f":"H131+J131","v":822208.30121263058},{"$f":"L131*J11*J$78","v":952463.38485032762},{"$f":"SUM(H170:J170)","v":1774671.6860629581},{"$f":"NLSOCos!F437","v":65039495.868127115}]
[null,null,{"$f":"IF(LEN(D171)<>0,MAX(C$169:C170)+1,0)","v":2},"Cat Arm",{"$f":"G132","v":220073352.70751628},{"$f":"K132","v":0},{"$f":"J12","v":0.17683434937064166},{"$f":"F171*G171","v":0},{"$f":"H132+J132","v":222188.64899474691},{"$f":"L132*J12*J$78","v":903951.92597093654},1126140.5749656835,{"$f":"NLSOCos!F440","v":70526873.272313088}]
[null,null,{"$f":"IF(LEN(D172)<>0,MAX(C$169:C171)+1,0)","v":3},"Churchill Falls",0,0,9.7441803559969897E-2,0,0,0,0,0]
[null,null,{"$f":"IF(LEN(D173)<>0,MAX(C$169:C172)+1,0)","v":4},"Granite Canal",90379726.511582255,0,0.20987654320987656,0,626434.95158348093,492384.93776591256,1118819.8893493935,{"$f":"NLSOCos!F442","v":29127912.650625519}]
[null,null,{"$f":"IF(LEN(D174)<>0,MAX(C$169:C173)+1,0)","v":5},"Hinds Lake",65827465.569954358,0,0.1893516109925362,0,304390.98865719594,310296.03389776079,614687.02255495673,{"$f":"NLSOCos!F439","v":21168599.487894356}]
[null,null,{"$f":"IF(LEN(D175)<>0,MAX(C$169:C174)+1,0)","v":6},"Paradise River ",17371350.066343423,0,0.19202120944325218,0,29924.13588615261,78577.249106425166,108501.38499257778,{"$f":"NLSOCos!F441","v":5570787.8284750348}]
[null,null,{"$f":"IF(LEN(D176)<>0,MAX(C$169:C175)+1,0)","v":7},"Upper Salmon",140497205.24674106,0,9.7070084560103354E-2,0,363206.37333449337,326690.89131728344,689897.26465177676,{"$f":"NLSOCos!F438","v":45092923.129681751}]
[null,null,{"$f":"IF(LEN(D177)<>0,MAX(C$169:C176)+1,0)","v":8},"Gas Turbines",153452261.57976794,0,0.38501385041551245,0,378703.53267743811,1412057.502267329,1790761.0349447671,{"$f":"NLSOCos!F448+NLSOCos!F449","v":49245368.568864927}]
[null,null,{"$f":"IF(LEN(D178)<>0,MAX(C$169:C177)+1,0)","v":0},null,0,0,0,0,0,0,0]
[null,null,{"$f":"IF(LEN(D179)<>0,MAX(C$169:C178)+1,0)","v":0},null,0,0,0,0,0,0,0]
[null,null,{"$f":"IF(LEN(D180)<>0,MAX(C$169:C179)+1,0)","v":9},"Muskrat Falls",0,0,0.1900786350507995,0,0,0,0]
[null,null,{"$f":"IF(LEN(D181)<>0,MAX(C$169:C180)+1,0)","v":10},"Grand / Bishop's Falls",0,0,0.24468099173553728,0,0,0,0,{"$f":"NLSOCos!F443","v":0}]
[null,null,{"$f":"IF(LEN(D182)<>0,MAX(C$169:C181)+1,0)","v":11},"Holyrood Units",84497550.737816811,0,0.27075900957349747,0,707289.69029783539,609059.38474185485,1316349.0750396904,{"$f":"NLSOCos!F447","v":27269438.832330778}]
[null,null,{"$f":"IF(LEN(D183)<>0,MAX(C$169:C182)+1,0)","v":0},null,0,0,0,0,0,0,0]
[null,null,{"$f":"IF(LEN(D184)<>0,MAX(C$169:C183)+1,0)","v":0},null,0,0,0,0,0,0,0]
[null,null,{"$f":"IF(LEN(D185)<>0,MAX(C$169:C184)+1,0)","v":12},"Holyrood Diesels",2981475.9492291603,0,0.36023372591789077,0,0,24447.585829148309,24447.585829148309,{"$f":"NLSOCos!F452+NLSOCos!F450","v":954551.08675301285}]
[null,null,{"$f":"IF(LEN(D186)<>0,MAX(C$169:C185)+1,0)","v":13},"Buchans (Note 2)",0,0,0.37326388888888895,0,0,0,0]
[null,null,{"$f":"IF(LEN(D187)<>0,MAX(C$169:C186)+1,0)","v":14},"Rattle Brook (NUG) - (Note 2)",0,0,9.2970521541950152E-2,0,0,0,0]
[null,null,{"$f":"IF(LEN(D188)<>0,MAX(C$169:C187)+1,0)","v":15},"Roddickton (Note 2)",0,0,0.27569035762788574,0,0,0,0,{"$f":"NLSOCos!F451","v":0}]
[null,null,{"$f":"IF(LEN(D189)<>0,MAX(C$169:C188)+1,0)","v":16},"Snoks Arm/Venams Bite (Note 2)",0,0,0.18837756675594527,0,0,0,0]
[null,null,{"$f":"IF(LEN(D190)<>0,MAX(C$169:C189)+1,0)","v":17},"Star Lake (Note 2)",0,0,4.3005671077504574E-2,0,0,0,0]
[null,null,{"$f":"IF(LEN(D191)<>0,MAX(C$169:C190)+1,0)","v":18},"St. Anthony Dsl Plant (Note 2)",0,0,0.36052750873506256,0,0,0,0,{"$f":"NLSOCos!F444","v":0}]
[null,null,{"$f":"IF(LEN(D192)<>0,MAX(C$169:C191)+1,0)","v":19},"Hawke's Bay Dsl Plant (Note 2)",0,0,0.36,0,0,0,0]
[null,null,{"$f":"IF(LEN(D193)<>0,MAX(C$169:C192)+1,0)","v":20},"CBPP CoGen (NUG) (Note 3)",0,0,0.27749999999999986,0,0,0,0]
[null,null,{"$f":"IF(LEN(D194)<>0,MAX(C$169:C193)+1,0)","v":0},null,0,0,0,0,0,0,0]
[null,null,{"$f":"IF(LEN(D195)<>0,MAX(C$169:C194)+1,0)","v":21},"Total",{"$f":"SUM(E170:E194)","v":977440216.34167957},{"$f":"SUM(F170:F194)","v":0},null,{"$f":"SUM(H170:H194)","v":0},{"$f":"SUM(I170:I194)","v":3454346.6226439737},{"$f":"SUM(J170:J194)","v":5109928.895746978},{"$f":"SUM(K170:K194)","v":8564275.5183909517},{"$f":"SUM(L170:L194)","v":313995950.72506559}]
[]
[null,null,null,null,null,null,null,null,"Schedule 2, Page 6 of 6"]
[]
[null,null,null,{"$f":"E4","v":"ANCILLARY SERVICE #2 - REACTIVE SUPPLY AND VOLTAGE CONTROL"}]
[null,null,null,{"$f":"E5","v":"NEWFOUNDLAND AND LABRADOR HYDRO"}]
[]
[null,null,"Row #","Net Investment Costs for VARS Production",null,"Amount"]
[null,null,1,"Non-assignable generator facilities related to Vars",null,{"$f":"H195","v":0}]
[null,null,2,"Assignable Exciter-related facilitties",null,{"$f":"I195","v":3454346.6226439737}]
[null,null,3,"Other generator facilities",null,{"$f":"J195","v":5109928.895746978}]
[null,null,4,"Net Investment Related to VAR Production*",null,{"$f":"SUM(F203:F205)","v":8564275.5183909517}]
[null,null,5,"Total Net Investment, Units Providing AS2*",null,{"$f":"F156+H156","v":1030478692.073828}]
[null,null,6,"% Production Plant Allocated to VAR Production",null,{"$f":"F206/F207","v":8.3109680814024735E-3}]
[null,null,null,null,null,null,"Revenue Requirements, AS #2"]
[null,null,null,"* Includes NBV, General Plant, Working Capital"]
[null,null,null,null,null,"Rate Base","Total"]
[null,null,null,null,null,"(1)","(2)"]
[null,null,7,null,null,{"$f":"F207","v":1030478692.073828},{"$f":"L195","v":313995950.72506559}]
[]
[null,null,8,"Annual Revenue Requirements of Generation",null,null,{"$f":"G213","v":313995950.72506559}]
[null,null,9,"X % of Plant related to VAR Production",null,null,{"$f":"+F208","v":8.3109680814024735E-3}]
[]
[null,null,10,"Annual Cost of Providing VAR Production",null,null,{"$f":"G215*G216","v":2609610.3241656441}]
[null,null,11,"True Up Amount for Previous Billng Year",null,null,{"$f":"TrueUp!O20","v":0}]
[null,null,12,"Revenue Requirments, AS #2",null,null,{"$f":"G218+G219","v":2609610.3241656441}]
[]
[null,null,13,"Total Billing kW",null,null,{"$f":"SUM('AS3'!J29:K29)*1000","v":30781676.057950001}]
[]
[null,null,null,"Rates for AS #2, Reactive Supply and Voltage Support"]
[null,null,null,"$/MW",{"$f":"G220/(G222/1000)","v":84.778045199772635},{"$f":"E225/8760","v":9.6778590410699361E-3}]
[]
[null,null,null,"$/kW-Month",{"$f":"G220/G222","v":8.4778045199772625E-2},"Short-Term"]
[null,null,null,"Weekly Rate/kW",{"$f":"ROUND((+E227*12)/52,3)","v":0.02},"Annual / 52 weeks"]
[null,null,null,"Daily Rate/kW",{"$f":"ROUND(+E228/5,3)","v":4.0000000000000001E-3},"Weekly / 5 days"]
[null,null,null,"Hourly Rate/kWh",{"$f":"+E229/16","v":2.5000000000000001E-4},"Daily / 16 hours"]

{"sheet":"AS3","index":17,"n_rows":94,"n_cols":19,"rows_kept":94,"cut":false,"hidden":false,"merged":[[35,8,37,8],[39,8,41,8],[52,4,52,6]]}
[]
[null,null,null,null,null,null,null,null,null,null,"Schedule 3, Page 1 of 2"]
[]
[null,null,"ANCILLARY SERVICE #3 - REGULATION AND FREQUENCY RESPONSE"]
[null,null,"NEWFOUNDLAND AND LABRADOR HYDRO"]
[]
[null,null,null,null,"Generator Unit Capabililty (MW)"]
[null,null,"Generation Stations/Units","Include","Station Capacity ","Regulation Reserves Provided at Peak Load","% of Generator Capability Used for Regulation and Frequency Response"]
[null,null,{"$f":"'AS2'!D11","v":"Bay D'Espoir"},1,{"$f":"IF(D9=1,'AS2'!F11,0)","v":613.4},{"$f":"F$34*(E9/E$34)","v":27.795171417821134},{"$f":"IFERROR(F9/E9,0)","v":4.5313288910696338E-2}]
[null,null,{"$f":"'AS2'!D12","v":"Cat Arm"},1,{"$f":"IF(D10=1,'AS2'!F12,0)","v":137},{"$f":"F$34*(E10/E$34)","v":6.207920580765399},{"$f":"IFERROR(F10/E10,0)","v":4.5313288910696345E-2}]
[null,null,{"$f":"'AS2'!D13","v":"Churchill Falls"},0,{"$f":"IF(D11=1,'AS2'!F13,0)","v":0},0,0]
[null,null,{"$f":"'AS2'!D14","v":"Granite Canal"},1,{"$f":"IF(D12=1,'AS2'!F14,0)","v":40},1.8125315564278537,4.5313288910696345E-2]
[null,null,{"$f":"'AS2'!D15","v":"Hinds Lake"},1,{"$f":"IF(D13=1,'AS2'!F15,0)","v":75},3.3984966683022253,4.5313288910696338E-2,null,"Forecast Native Peak ",null,"Reservations"]
[null,null,{"$f":"'AS2'!D16","v":"Paradise River "},1,{"$f":"IF(D14=1,'AS2'!F16,0)","v":8},0.36250631128557076,4.5313288910696345E-2,null,null,null,null,null,null,null,null,null,null,"Reservations"]
[null,null,{"$f":"'AS2'!D17","v":"Upper Salmon"},1,{"$f":"IF(D15=1,'AS2'!F17,0)","v":84},3.8063162684984926,4.5313288910696338E-2,null,"Month","MW","MW",null,null,null,null,"IGENK","LINTERNALK",0,{"$f":"IF(R15=1,0,1)","v":1}]
[null,null,{"$f":"'AS2'!D18","v":"Gas Turbines"},0,{"$f":"IF(D16=1,'AS2'!F18,0)","v":0},0,0,null,"January",{"$f":"SUM(P16:Q16)","v":1934.1760579499999},{"$f":"IF(R15=1,R16,S16)","v":1400},null,null,null,{"$f":"DATE(Year,1,1)","v":"2019-01-01"},1535.1999999999998,398.97605794999998,{"$f":"200","v":200},{"$f":"AVERAGE(900+500)","v":1400}]
[null,null,{"$f":"'AS2'!D19","v":0},0,{"$f":"IF(D17=1,'AS2'!F19,0)","v":0},0,0,null,"February",1492.5,{"$f":"IF(R16=1,R17,S17)","v":1400},null,null,null,{"$f":"DATE(YEAR(O16),MONTH(O16)+1,1)","v":"2019-02-01"},1492.5,0,{"$f":"200","v":200},{"$f":"S16","v":1400}]
[null,null,{"$f":"'AS2'!D20","v":0},0,{"$f":"IF(D18=1,'AS2'!F20,0)","v":0},0,0,null,"March",1402.4,1400,null,null,null,{"$f":"DATE(YEAR(O17),MONTH(O17)+1,1)","v":"2019-03-01"},1402.4,0,{"$f":"200","v":200},{"$f":"S17","v":1400}]
[null,null,{"$f":"'AS2'!D21","v":"Muskrat Falls"},0,{"$f":"IF(D19=1,'AS2'!F21,0)","v":0},0,0,null,"April",1209.2,1400,null,null,null,{"$f":"DATE(YEAR(O18),MONTH(O18)+1,1)","v":"2019-04-01"},1209.2,0,{"$f":"200","v":200},1400]
[null,null,{"$f":"'AS2'!D22","v":"Grand / Bishop's Falls"},0,{"$f":"IF(D20=1,'AS2'!F22,0)","v":0},0,0,null,"May",1043.5999999999999,1400,null,null,null,{"$f":"DATE(YEAR(O19),MONTH(O19)+1,1)","v":"2019-05-01"},1043.5999999999999,0,{"$f":"200","v":200},1400]
[null,null,{"$f":"'AS2'!D23","v":"Holyrood Units"},0,{"$f":"IF(D21=1,'AS2'!F23,0)","v":0},0,0,null,"June",890.6,1400,null,null,null,{"$f":"DATE(YEAR(O20),MONTH(O20)+1,1)","v":"2019-06-01"},890.6,0,{"$f":"200","v":200},1400]
[null,null,{"$f":"'AS2'!D24","v":0},0,{"$f":"IF(D22=1,'AS2'!F24,0)","v":0},0,0,null,"July",763.19999999999993,1400,null,null,null,{"$f":"DATE(YEAR(O21),MONTH(O21)+1,1)","v":"2019-07-01"},763.19999999999993,0,{"$f":"200","v":200},1400]
[null,null,{"$f":"'AS2'!D25","v":0},0,{"$f":"IF(D23=1,'AS2'!F25,0)","v":0},0,0,null,"August",721.90000000000009,1400,null,null,null,"2019-08-01",721.90000000000009,0,{"$f":"200","v":200},1400]
[null,null,{"$f":"'AS2'!D26","v":"Holyrood Diesels"},0,{"$f":"IF(D24=1,'AS2'!F26,0)","v":0},0,0,null,"September",803.9,1400,null,null,null,"2019-09-01",803.9,0,{"$f":"200","v":200},1400]
[null,null,{"$f":"'AS2'!D27","v":"Buchans (Note 2)"},0,{"$f":"IF(D25=1,'AS2'!F27,0)","v":0},0,0,null,"October",1023.7,1400,null,null,null,"2019-10-01",1023.7,0,{"$f":"200","v":200},1400]
[null,null,{"$f":"'AS2'!D28","v":"Rattle Brook (NUG) - (Note 2)"},0,{"$f":"IF(D26=1,'AS2'!F28,0)","v":0},0,0,null,"November",1224.4000000000001,1400,null,null,null,"2019-11-01",1224.4000000000001,0,{"$f":"200","v":200},1400]
[null,null,{"$f":"'AS2'!D29","v":"Roddickton (Note 2)"},0,{"$f":"IF(D27=1,'AS2'!F29,0)","v":0},0,0,null,"December",1472.1,1400,null,null,null,"2019-12-01",1472.1,0,{"$f":"200","v":200},1400]
[null,null,{"$f":"'AS2'!D30","v":"Snoks Arm/Venams Bite (Note 2)"},0,{"$f":"IF(D28=1,'AS2'!F30,0)","v":0},0,0]
[null,null,{"$f":"'AS2'!D31","v":"Star Lake (Note 2)"},0,{"$f":"IF(D29=1,'AS2'!F31,0)","v":0},0,0,null,null,{"$f":"SUM(J16:J27)","v":13981.676057950001},{"$f":"SUM(K16:K27)","v":16800}]
[null,null,{"$f":"'AS2'!D32","v":"St. Anthony Dsl Plant (Note 2)"},0,{"$f":"IF(D30=1,'AS2'!F32,0)","v":0},0,0]
[null,null,{"$f":"'AS2'!D33","v":"Hawke's Bay Dsl Plant (Note 2)"},0,{"$f":"IF(D31=1,'AS2'!F33,0)","v":0},0,0]
[null,null,{"$f":"'AS2'!D34","v":"CBPP CoGen (NUG) (Note 3)"},0,{"$f":"IF(D32=1,'AS2'!F34,0)","v":0},0,0]
[]
[null,null,"Total",null,{"$f":"SUM(E9:E14)","v":873.4},{"$f":"K42*G36","v":39.576626534602184},{"$f":"F34/E34","v":4.5313288910696345E-2}]
[null,null,null,null,null,null,null,null,"System (MW)"]
[null,null," % Regulation and Frequency Response Reserves:",null,null,null,1.4999999999999999E-2,null,"Average Pk Load Including Firm Reservations"]
[]
[null,null,null,null,null,null,null,null,null,{"$f":"SUM(J16:J27)/12","v":1165.1396714958335},{"$f":"SUM(K16:K27)/12","v":1400}]
[null,null,null,null,null,null,null,null,null,null,null,null,null,null,2.8576259722691923E-2]
[null,null,null,null,null,null,null,null,"Average Peak Load at Generator Bus Bar"]
[]
[null,null,null,null,null,null,null,null,null,null,{"$f":"SUM(J38:K38)*(1+O39)","v":2638.4417689734792}]
[]
[]
[]
[]
[]
[null,null,null,null,null,null,null,null,null,"Schedule 3, Page 2 of 2"]
[]
[null,null,"ANCILLARY SERVICE #3 - REGULATION AND FREQUENCY RESPONSE"]
[null,null,"NEWFOUNDLAND AND LABRADOR HYDRO"]
[]
[null,null,null,null,"Rate Base"]
[null,null,"Generation Stations/Units",null,"NBV, Generation Stations","Allocated General Plant, Working Capital","Total Capital",null,"Revenue Requirements, Ancillary Services #3"]
[null,null,null,null,"(1)","(2)","(3)",null,"(7)"]
[null,null,{"$f":"IF(D9=1,C9,\"\")","v":"Bay D'Espoir"},null,{"$f":"IF(D9=1,'AS2'!L91,0)","v":203146479.39946762},{"$f":"G56-E56","v":9616970.1216853857},{"$f":"IF(D9=1,'AS2'!F131,0)","v":212763449.521153},null,{"$f":"IF(D9=1,NLSOCos!F437,0)","v":65039495.868127115}]
[null,null,{"$f":"IF(D10=1,C10,\"\")","v":"Cat Arm"},null,{"$f":"IF(D10=1,'AS2'!L92,0)","v":220285932.67962217},{"$f":"G57-E57","v":10428353.171908706},{"$f":"'AS2'!F132","v":230714285.85153088},null,{"$f":"IF(D10=1,NLSOCos!F440,0)","v":70526873.272313088}]
[null,null,"",null,{"$f":"IF(D11=1,'AS2'!L94,0)","v":0},0,0,null,0]
[null,null,"Granite Canal",null,{"$f":"IF(D12=1,'AS2'!L94,0)","v":90979070.920652002},{"$f":"G59-E59","v":4306956.2875471562},{"$f":"'AS2'!F134","v":95286027.208199158},null,{"$f":"IF(D12=1,NLSOCos!F442,0)","v":29127912.650625519}]
[null,null,"Hinds Lake",null,{"$f":"IF(D13=1,'AS2'!L95,0)","v":66118692.993905954},{"$f":"G60-E60","v":-47894996.467413604},{"$f":"'AS2'!F136","v":18223696.52649235},null,{"$f":"IF(D13=1,NLSOCos!F439,0)","v":21168599.487894356}]
[null,null,"Paradise River ",null,{"$f":"IF(D14=1,'AS2'!L96,0)","v":17399980.115631498},{"$f":"G61-E61","v":130112323.69305959},{"$f":"'AS2'!F137","v":147512303.80869108},null,{"$f":"IF(D14=1,NLSOCos!F441,0)","v":5570787.8284750348}]
[null,null,"Upper Salmon",null,{"$f":"IF(D15=1,'AS2'!L97,0)","v":140844704.5499748},{"$f":"G62-E62","v":20251477.851200104},{"$f":"'AS2'!F138","v":161096182.4011749},null,{"$f":"IF(D15=1,NLSOCos!F438,0)","v":45092923.129681751}]
[null,null,""]
[null,null,""]
[null,null,""]
[null,null,""]
[null,null,""]
[null,null,""]
[null,null,""]
[null,null,""]
[null,null,""]
[null,null,""]
[null,null,""]
[null,null,""]
[null,null,""]
[null,null,""]
[null,null,""]
[null,null,""]
[null,null,""]
[]
[null,null,"Total",null,{"$f":"SUM(E56:E79)","v":738774860.65925395},{"$f":"SUM(F56:F79)","v":126821084.65798734},{"$f":"SUM(G56:G79)","v":865595945.31724131},null,{"$f":"SUM(I56:I79)","v":236526592.23711687}]
[]
[null,null,null,null,"Annual Total Cost of Regulation and Frequency Response",null,null,null,{"$f":"I81*G34","v":10717797.809102945}]
[]
[null,null,null,null,"True-Up Amount for Previous Billng Year",null,null,null,{"$f":"TrueUp!O22","v":0}]
[]
[null,null,null,null,"Revenue Requirement, AS #3",null,null,null,{"$f":"SUM(I83,I85)","v":10717797.809102945}]
[]
[]
[null,null,"Rates for AS #3, Regulation and Frequency Response"]
[null,null,"$/kW-Month",null,{"$f":"I87/(SUM(J38:K38)*12*1000)","v":0.34818759670283944},"Short-Term Timeframes"]
[null,null,"Weekly Rate/kW",null,{"$f":"+E91*0.230769230769231","v":8.0350983854501498E-2},"Annual / 52 weeks"]
[null,null,"Daily Rate/kW",null,{"$f":"ROUND(+E92/5,3)","v":1.6E-2},"Weekly / 5 days"]
[null,null,"Hourly Rate/MWh",null,{"$f":"+E93/16","v":1E-3},"Daily / 16 hours"]

{"sheet":"AS4","index":18,"n_rows":38,"n_cols":11,"rows_kept":38,"cut":false,"hidden":false,"merged":[[18,3,19,3],[18,5,18,8],[5,1,5,8],[14,6,14,8],[15,6,16,7]]}
[]
[null,null,null,null,null,null,null,null,"Schedule 4, Page 1 of 1"]
[]
[null,null,"ANCILLARY SERVICE #4 - ENERGY IMBALANCE"]
[null,null,"NEWFOUNDLAND AND LABRADOR HYDRO"]
[]
[null,null,"Fuel Expense","Fuel Expense","Net Generation by Fuel Source (MWh)","$/MWh","Generation URGE Rating, by Fuel Type (MW)","Capacity Weights","Fuel Cost Weighted by MW Capability"]
[null,null,"(1)","(2)","(3)","(4=2/3)","(5)","(6=5∕5 Total)","(7=4x6)"]
[null,null,"Fuels - Bunker C",{"$f":"'Revenue Requirement'!C13","v":221114563},{"$f":"9500000/3","v":3166666.6666666665},{"$f":"+D9/E9","v":69.825651473684218},{"$f":"'AS2'!E62","v":490},{"$f":"G9/G$13","v":0.67637518117192352},{"$f":"F9*H9","v":47.228337665960751}]
[null,null,"Fuels - Gas Turbines",{"$f":"'Revenue Requirement'!C15","v":12892348.5},{"$f":"22500/7","v":3214.2857142857142},{"$f":"+D10/E10","v":4010.9528666666665},{"$f":"'AS2'!E57","v":223.5},{"$f":"G10/G$13","v":0.30850990406515283},{"$f":"F10*H10","v":1237.418684105183}]
[null,null,"Diesel, Intr'ctd System",{"$f":"'Revenue Requirement'!C14","v":21156020},1800,{"$f":"+D11/E11","v":11753.344444444445},{"$f":"'AS2'!E65","v":10.95},{"$f":"G11/G$13","v":1.5114914762923596E-2},{"$f":"F11*H11","v":177.65079945705938}]
[]
[null,null,"Total",{"$f":"SUM(D9:D11)","v":255162931.5},{"$f":"SUM(E9:E11)","v":3171680.9523809524},null,{"$f":"SUM(G9:G11)","v":724.45},{"$f":"SUM(H9:H11)","v":0.99999999999999989},{"$f":"SUM(I9:I11)","v":1462.297821228203}]
[]
[null,null,null,null,null,null,"True-Up Amount"]
[null,null,null,null,null,null,"Previous Billing Year on Total Load"]
[null,null,null,null,null,null,null,null,{"$f":"TrueUp!O24","v":0}]
[]
[null,null,null,"% Average Line Losses",null,"Rates for AS #4, Imbalance ($/MWh)"]
[null,null,null,null,null,null,"Weighted Cost, Gen Bus",null,{"$f":"SUM(I9:I11)+I17/E13","v":1462.297821228203}]
[null,null,null,{"$f":"'AS3'!O39","v":2.8576259722691923E-2},null,null,"Line Loss-Related Costs",null,{"$f":"I20*D21","v":41.78700233134365}]
[null,null,null,null,null,null,"Total Weighted Cost",null,{"$f":"I20+I21","v":1504.0848235595467},null,{"$f":"SUM(K9:K11)","v":0}]
[]
[null,null,null,null,null,null,"Over-Schedule MWh",null,{"$f":"I22","v":1504.0848235595467}]
[null,null,null,null,null,null,"Under-Schedule MWh",null,{"$f":"I22*1.5","v":2256.1272353393201}]
[]
[]
[]
[]
[]
[]
[]
[]
[]
[]
[null,null,null,15031731.27,11618046.81694594,{"$f":"+D36/E36","v":1.2938260197122722}]
[null,null,"Revenue Stabilization"]
[null,null,"Power Purchases",31283128,{"$f":"D38/F9","v":448017.70323317265},{"$f":"+D38/E38","v":69.825651473684218}]

{"sheet":"AS5 6","index":19,"n_rows":64,"n_cols":23,"rows_kept":64,"cut":false,"hidden":false,"merged":[[20,21,20,22],[9,1,9,2],[12,4,14,4],[13,1,14,1],[13,3,14,3],[13,13,14,13],[17,21,17,22],[30,12,30,15],[38,12,38,15],[39,2,39,4],[21,9,21,10],[22,1,22,4],[22,9,24,9],[23,4,26,4],[24,2,26,2],[24,14,26,14],[25,1,26,1],[25,3,26,3],[26,9,28,9],[27,7,28,7],[41,8,42,8],[41,9,42,9],[46,1,47,1],[46,7,48,7],[50,7,52,8],[52,1,52,4],[40,1,42,1],[40,2,42,2],[40,3,42,3],[40,6,40,9],[41,6,42,6],[53,1,53,2],[54,3,54,4],[59,1,59,2],[60,3,60,4],[41,7,42,7]]}
[]
[null,null,null,null,null,null,null,null,null,null,"Schedules 5 and 6, Page 1 of 2"]
[]
[null,"ANCILLARY SERVICE #5 & 6 - SPINNING AND SUPPLEMENTAL RESERVES"]
[null,"NEWFOUNDLAND AND LABRADOR HYDRO"]
[]
[null,null,null,null,null,null,"System Level Ancillary Services #5 & #6 Reserves",null,null,"Forecast Native Peak Loads, 2018"]
[null,null,null,null,null,null,"Spinning",0.03,null,"Month","MW"]
[null,null,null,null,null,null,"Non-Spin",0.03,null,"January",{"$f":"'AS3'!J16","v":1934.1760579499999}]
[null,null,null,null,null,null,"Total (MW)",null,null,"February",{"$f":"'AS3'!J17","v":1492.5}]
[null,"Cost Share of Generation Units Providing Spinning Reserves (%)",null,null,null,null,"Spinning",{"$f":"H8*K$29","v":79.153253069204368},null,"March",{"$f":"'AS3'!J18","v":1402.4}]
[null,null,null,null,null,null,"Non-Spin",{"$f":"H9*K$29","v":79.153253069204368},null,"April",{"$f":"'AS3'!J19","v":1209.2}]
[null,null,null,null,"% of Cost Related to Spinning Reserves",null,null,null,null,"May",{"$f":"'AS3'!J20","v":1043.5999999999999}]
[null,"Generator Units Providing Spinning Reserves",null,"Spinning Reserve (MW)",null,null,null,null,null,"June",{"$f":"'AS3'!J21","v":890.6},null,null,"Cost of Spinning Reserves"]
[null,null,"Capacity",null,null,null,null,null,null,"July",{"$f":"'AS3'!J22","v":763.19999999999993},null,"Demand Cost"]
[null,"Holyrood",{"$f":"'AS2'!E62","v":490},{"$f":"H$11*(C16/C$20)","v":79.153253069204368},{"$f":"D16/C16","v":0.16153725116164155},null,null,null,null,"August",{"$f":"'AS3'!J23","v":721.90000000000009},null,{"$f":"P$49*1000","v":36341141.630995937},{"$f":"+M16*E16","v":5870448.1231469782}]
[null,null,null,null,null,null,null,null,null,"September",{"$f":"'AS3'!J24","v":803.9}]
[null,null,null,null,null,null,null,null,null,"October",{"$f":"'AS3'!J25","v":1023.7},null,null,null,null,null,null,null,null,null,null,"Capital Charge Rates"]
[null,null,null,null,null,null,null,null,null,"November",{"$f":"'AS3'!J26","v":1224.4000000000001},null,null,null,null,null,null,null,null,null,null,"Debt",4.41E-2]
[null,"Total",{"$f":"SUM(C16:C18)","v":490},{"$f":"SUM(D16:D18)","v":79.153253069204368},null,null,null,null,null,"December",{"$f":"'AS3'!J27","v":1472.1},null,null,null,null,null,null,null,null,null,null,"Equity",2.0899999999999998E-2]
[null,null,null,null,null,null,null,null,null,null,null,null,null,null,null,null,null,null,null,null,null,"RB Elements"]
[null,null,null,null,null,null,null,null,null,"System (MW)",null,null,null,null,null,null,null,null,null,null,null,"Cash WK",18355.451000000001]
[null,"Cost Share of Generation Units Providing Supplemental Reserves (%)",null,null,null,null,null,null,null,"Average Pk Load Including Firm Reservations",null,null,null,null,null,null,null,null,null,null,null,"RB ('15 GRA)",122619.37699999999]
[null,null,null,null,"% of Cost Related to Supplemental Reserves"]
[null,null,"Generator Urge Rating (MW)",null,null,null,null,null,null,null,{"$f":"SUM('AS3'!J38:K38)","v":2565.1396714958337},null,null,null,"Annual Sum of Peak Loads at Generator Bus"]
[null,"Generator Units Providing Supplemental Reserves",null,"Supplemental Reserve (MW)"]
[null,null,null,null,null,null,null,null,null,"Average Peak Load at Generator Bus Bar"]
[null,"Holyrood",{"$f":"C16","v":490},{"$f":"H$11*(C28/C$32)","v":79.153253069204368},{"$f":"D28/C28","v":0.16153725116164155}]
[null,null,null,null,null,null,null,null,null,null,{"$f":"K25*(1+'AS3'!O39)","v":2638.4417689734792}]
[]
[null,null,null,null,null,null,null,null,null,null,null,null,"RR Elements (% Factors)"]
[null,"Total",{"$f":"SUM(C28:C30)","v":490},{"$f":"SUM(D28:D30)","v":79.153253069204368},null,null,null,null,null,null,null,null,"Depreciation Expense (% of GBV)",null,null,2.4179937370221758E-2]
[null,null,null,null,null,null,null,null,null,null,null,null,"FOM (% of Net Capital)",null,null,1.8567701956061371E-2]
[null,null,null,null,null,null,null,null,null,"Schedules 5 and 6, Page 2 of 2",null,null,"Common/Gen Plant (% Net Capital)",null,null,6.7594687743911558E-2]
[null,null,null,null,null,null,null,null,null,null,null,null,"A&G (% of FOM)",null,null,0.64133869295109036]
[null,null,null,null,null,null,null,null,null,null,null,null,"Working Capital )% Net Capital)",null,null,{"$f":"W22/W23","v":0.14969453808267189}]
[null,"ANCILLARY SERVICE #5 & #6 - SPINNING AND SUPPLEMENTAL RESERVES",null,null,null,null,null,null,null,null,null,null,"Factor For FOM",null,null,2]
[null,"NEWFOUNDLAND AND LABRADOR HYDRO"]
[null,null,null,null,null,null,null,null,null,null,null,null,"Revenue Requirements ($ 000's)"]
[null,null,"Rate Base",null,null,null,null,null,null,null,null,null,"Rate Base",null,null,219067.7743784312]
[null,"Generator Units Providing Spinning and Supplemental Reserves","NBV, Generating Units","Allocated General Plant, Working Capital",null,null,"Total Costs of Providing Ancillary Services #5 & #6",null,null,null,null,null,"Common and General Plant",null,null,{"$f":"P40*P34","v":14807.817803863727}]
[null,null,null,null,null,null,"Return On Capital","Fixed O&M Expenses","Depreciation Expense","Total Costs (CAD)",null,null,"Cash Working Capital",null,null,{"$f":"P36*P40","v":32793.249294378242}]
["Line No.",null,null,null,"Total Capital","Line No."]
[null,"(1)","(2)","(3)","(4=2+3)",null,"(5)","(6)","(7)","(8=5+6+7)",null,null,"Return on Rate Base",null,null,{"$f":"(W19+W20)*SUM(P40:P42)","v":17333.474695983754}]
[1,"Holyrood Units 1-3",{"$f":"NLSOCos!F87","v":85174253.275568143},{"$f":"'AS2'!F143-'AS2'!L103","v":4032155.7691250294},{"$f":"(C45+D45)","v":89206409.044693172},1,5774087.3902673852,{"$f":"NLSOCos!F259","v":19508579.346944444},{"$f":"NLSOCos!F155","v":19019373.447862916},{"$f":"SUM(G45:I45)","v":44302040.185074747},null,null,"Depreciation Expense",null,null,{"$f":"P32*SUM(P40,P41)","v":5655.0971713914169}]
[]
[null,null,null,null,null,null,null,"True-Up Amount, Previous Year",null,null,null,null,"Direct Fixed O&M",null,null,{"$f":"P40*P37*P33","v":8135.1702856728161}]
[null,null,null,null,null,null,null,null,null,null,null,null,"A&G",null,null,{"$f":"P47*P35","v":5217.3994779479526}]
[null,null,null,null,null,2,null,null,{"$f":"TrueUp!O26","v":0},null,null,null,"Total",null,null,{"$f":"SUM(P44:P48)","v":36341.141630995939}]
[]
[null,null,null,null,null,null,null,"Revenue Requirements of Spinning and Supplemental Reserves (CAD)",null,null,null,null,null,null,null,{"$f":"P49*1000","v":36341141.630995937}]
[null,null,null,null,null,null,null,null,null,null,null,null,null,null,null,1500000]
[null,"Rates for AS Services #5 and #6, Spinning and Supplemental Reserves",null,null,null,null,null,null,null,null,null,null,null,null,null,{"$f":"P51/1500000","v":24.22742775399729}]
[null,"Spinning Reserves",null,null,null,3,null,"Spinning",{"$f":"E16*J45+I49*0.5","v":7156429.7923495565}]
[null,"$/kW-month",{"$f":"I54/(K25*12*1000)","v":0.23248993261045187},"Short-Term Timeframes",null,4,null,"Supplemental",{"$f":"E28*J45+I49*0.5","v":7156429.7923495565}]
[null,"Weekly Rate/kW",{"$f":"+C55*0.230769230769231","v":5.3651522910104332E-2},"Annual / 52 weeks"]
[null,"Daily Rate/kW",{"$f":"ROUND(+C56/5,3)","v":1.0999999999999999E-2},"Weekly / 5 days"]
[null,"Hourly Rate/MWh",{"$f":"+C57/16","v":6.8749999999999996E-4},"Daily / 16 hours"]
[]
[null,"Supplemental Reserves"]
[null,"$/kW-month",{"$f":"I55/(K25*12*1000)","v":0.23248993261045187},"Short-Term Timeframes"]
[null,"Weekly Rate/kW",{"$f":"+C61*0.230769230769231","v":5.3651522910104332E-2},"Annual / 52 weeks"]
[null,"Daily Rate/kW",{"$f":"ROUND(+C62/5,3)","v":1.0999999999999999E-2},"Weekly / 5 days"]
[null,"Hourly Rate/MWh",{"$f":"+C63/16","v":6.8749999999999996E-4},"Daily / 16 hours"]

{"sheet":"TrueUp","index":20,"n_rows":50,"n_cols":24,"rows_kept":50,"cut":false,"hidden":false,"merged":[[31,12,31,14],[40,7,40,11],[3,3,3,14],[6,8,6,10],[6,12,6,14],[8,3,8,6],[16,3,16,6]]}
[]
[null,null,null,null,null,null,null,null,null,null,null,null,null,null,"True Up Mechanism",null,"In Play:",{"$f":"RunOptions!B33","v":0}]
[]
[null,null,null,"REVENUE DIFFERENCES AND TRUEUP AMOUNTS, PREVIOUS RATE YEAR"]
[null,null,null,"NEWFOUNDLAND AND LABRADOR HYDRO"]
[]
[null,null,null,null,null,null,null,null,"Billing Determinants (MW)",null,null,null,"Revenue Requirements (CAD)"]
[null,null,null,null,null,null,null,null,"Projected","Actual","Difference",null,"Projected","Actual","Difference"]
[null,"Row #",null,"TRANSMISSION ACCESS CHARGES",null,null,null,null,"(1)","(2)","(3=2-1)",null,"(4)","(5)","(6=5-4)"]
[null,null,null,null,null,null,"Point-to-Point Services"]
[null,1,null,null,null,"Firm",null,null,2400,2150,{"$f":"J11-I11","v":-250},null,5400000,5346266,{"$f":"IF(RunOptions!$B$33=1,N11-M11,0)","v":0},null,null,null,null,null,null,null,2.2000000000000002]
[null,2,null,null,null,"Non-Firm",null,null,0,144,{"$f":"J12-I12","v":144},null,null,null,{"$f":"IF(RunOptions!$B$33=1,N36-M36,0)","v":0},null,null,null,null,null,null,null,2.2000000000000002]
[]
[null,3,null,null,null,null,"Network Integrated Transmission Service",null,13600,13125,{"$f":"J14-I14","v":-475},null,49271443,50626822,{"$f":"IF(RunOptions!$B$33=1,N14-M14,0)","v":0},null,null,null,null,null,null,null,3.45]
[]
[]
[null,null,null,"TRANSMISSION ANCILLARY SERVICES"]
[null,4,null,"AS 1",null,null,"Scheduling System Control & Dispatch",null,{"$f":"SUM(I11:I14)","v":16000},{"$f":"SUM(J11:J14)","v":15419},{"$f":"J18-I18","v":-581},null,4193992,4067414,{"$f":"IF(RunOptions!$B$33=1,N18-M18,0)","v":0},null,null,null,null,null,null,null,0.22]
[null,null,null,null,null,null,null,null,null,null,null,null,null,null,null,null,null,null,null,"Reflects non-firm transaction"]
[null,5,null,"AS 2",null,null,"Reactive Supply and Voltage Control",null,{"$f":"I18","v":16000},{"$f":"J18","v":15419},{"$f":"J20-I20","v":-581},null,3446333,3500901,{"$f":"IF(RunOptions!$B$33=1,N20-M20,0)","v":0},null,null,null,null,"48,000 kW x 3 months",null,null,0.21]
[]
[null,6,null,"AS 3",null,null,"Regualtion and Frequency Response",null,{"$f":"I18","v":16000},{"$f":"J18","v":15419},{"$f":"J22-I22","v":-581},null,1644101,1535552,{"$f":"IF(RunOptions!$B$33=1,N22-M22,0)","v":0},null,null,null,null,"48,000 kW x 2 weeks",null,null,0.02]
[]
[null,7,null,"AS 4",null,null," Energy Imbalance*",null,0,{"$f":"T29*0.1*144/1000","v":74011.200000000012},{"$f":"J24-I24","v":74011.200000000012},null,210563337,206423027,{"$f":"IF(RunOptions!$B$33=1,N24-M24,0)","v":0},null,null,null,null,"48MW over-scheduled by 10% for one week",null,null,104]
[]
[null,8,null,"AS 5,6",null,null,"Spinning and Supplemental Reserves",null,{"$f":"I18","v":16000},{"$f":"J18","v":15419},{"$f":"J26-I26","v":-581},null,8144382,7994381,{"$f":"IF(RunOptions!$B$33=1,N26-M26,0)","v":0},null,null,null,null,"48,000 kW x one week",null,null,2.2000000000000001E-3,"(0.001, 0.001)"]
[]
[null,null,null,"* Charges are $/MWh"]
[null,null,null,null,null,null,null,null,null,null,null,null,null,null,null,null,null,null,null,{"$f":"J20*1000/3","v":5139666.666666667}]
[null,null,null,null,null,null,null,null,null,null,null,null,null,null,null,null,null,{"$f":"O24/R33/1000","v":0}]
[null,null,null,null,null,null,null,null,null,null,null,null,null,null,null,null,null,null,null,"NOTES: Total of 144kW over 3 months"]
[null,null,null,null,null,null,null,null,null,null,null,null,"Revenues (CAD)"]
[null,null,null,null,null,null,null,null,null,null,null,null,"Forecast","Actual","Difference",null,null,7764793.8364582825]
[null,null,null,null,null,null,null,null,null,null,null,"Point-to-Point Services"]
[null,null,null,null,null,null,null,null,null,null,"Firm",null,{"$f":"I11*$W11*1000","v":5280000},{"$f":"J11*$W11*1000","v":4730000}]
[null,null,null,null,null,null,null,null,null,null,"Non-Firm",null,{"$f":"I12*$W12*1000","v":0},{"$f":"J12*$W12*1000","v":316800}]
[]
[null,null,null,null,null,null,null,null,null,null,null,"Network Integrated Transmission Service",{"$f":"I14*$W14*1000","v":46920000},{"$f":"J14*$W14*1000","v":45281250}]
[]
[]
[null,null,null,null,null,null,null,"TRANSMISSION ANCILLARY SERVICES"]
[null,null,null,null,null,null,null,"AS #1",null,null,"Scheduling System Control & Dispatch",null,{"$f":"I18*$W18*1000","v":3520000},{"$f":"J18*$W18*1000","v":3392180}]
[]
[null,null,null,null,null,null,null,"AS #2",null,null,"Reactive Supply and Voltage Control",null,{"$f":"I20*$W20*1000","v":3360000},{"$f":"J20*$W20*1000","v":3237990}]
[]
[null,null,null,null,null,null,null,"AS #3",null,null,"Regualtion and Frequency Response",null,{"$f":"I22*$W22*1000","v":320000},{"$f":"J22*$W22*1000","v":308380}]
[]
[null,null,null,null,null,null,null,"AS #4",null,null," Energy Imbalance",null,{"$f":"I24*$W24*1000","v":0},{"$f":"J24*$W24","v":7697164.8000000007}]
[]
[null,null,null,null,null,null,null,"AS #5 and #6",null,null,"Spinning and Supplemental Reserves",null,{"$f":"I26*$W26*1000","v":35200},{"$f":"J26*$W26*1000","v":33921.800000000003}]

{"sheet":"IslIsoCos","index":21,"n_rows":471,"n_cols":31,"rows_kept":471,"cut":false,"hidden":false,"merged":[]}
[2,"Island Isolated",null,null," "," "]
[9,"Plant Lookups"]
[null,null,null,null,null,null,null,null,null,null,null,null,null,null,null,null,null,null,null,null,"Schedule 2.2B",null,null,null,null,null,null,null,null,null,"Schedule 2.2B"]
[null,null,null,null,null,null,null,null,null,null,null,null,null,null,null,null,null,null,null,null,"Page 1 of 2",null,null,null,null,null,null,null,null,null,"Page 2 of 2"]
[null,null,null,"NEWFOUNDLAND AND LABRADOR HYDRO",null,null,null,null,null,null,null,null,null,null,null,null,null,null,null,null,null,null,null,null,"NEWFOUNDLAND & LABRADOR HYDRO"]
[null,null,null,{"$f":"RunName","v":"2019 Test Year Cost of Service Study"},null,null,null,null,null,null,null,null,null,null,null,null,null,null,null,null,null,null,null,null,{"$f":"+RunName","v":"2019 Test Year Cost of Service Study"}]
[null,null,null,{"$f":"$B$1","v":"Island Isolated"},null,null,null,null,null,null,null,null,null,null,null,null,null,null,null,null,null,null,null,null,{"$f":"$B$1","v":"Island Isolated"}]
[null,null,null,"Functional Classification of Plant in Service for the Allocation of O&M Expense",null,null,null,null,null,null,null,null,null,null,null,null,null,null,null,null,null,null,null,null,{"$f":"+D8&\" (CONT'D.)\"","v":"Functional Classification of Plant in Service for the Allocation of O&M Expense (CONT'D.)"}]
[]
[null,null,null,null,{"$f":"MAX(D10)+NoOne","v":1},2,3,4,5,6,7,8,9,10,11,12,13,14,15,16,17,null,null,null,null,null,{"$f":"MAX(Z10)+NoOne","v":1},null,{"$f":"MAX(U10)+NoOne","v":18}]
[null,null,null,null,null,null,null,null,"","Distribution",null,null,null,null,null,null,null,null,null,null,"Specifically"]
["Check","Alloc","Code","Line",null,"Total","Production","Production","Transmission","Substations","Primary Lines",null,"Line Transformers",null,"Secondary Lines",null,"Services","Meters","Street  Lighting","Accounting","Assigned",null,null,"Line"]
["Column","Factor","Reference","No.","Description ","Amount","Demand","Energy","Demand","Demand","Demand","Customer","Demand","Customer","Demand","Customer","Customer","Customer","Customer","Customer","Customer",null,null,"No.",null,null,"Description ","Basis of Functional Classification"]
[{"$f":"ROUND(SUM(A15:A473),2)","v":0},null,null,null,null,"($)","($)","($)","($)","($)","($)","($)","($)","($)","($)","($)","($)","($)","($)","($)","($)"]
[null,null,null,null," ",null,null,null,null,null,null,null,null,null,null,null,null,null,null,null,null,null,null,null,null,null,{"$f":"IF(ISBLANK(E15),\"\",E15)","v":" "}]
[null,null,null,null,"Production",null,null,null,null,null,null,null,null,null,null,null,null,null,null,null,null,null,null,null,null,null,{"$f":"IF(ISBLANK(E16),\"\",E16)","v":"Production"}]
[null,null,null,null,null," ",null,null,null,null,null,null,null,null,null,null,null,null,null,null,null,null,null,null,null,null,""]
[null,null,"P03",{"$f":"MAX(D15:D17)+NoOne","v":1},"Diesel",6516964.6165000005,{"$f":"$F18*'Schedule 4.1'!$D$18","v":3674982.629914335},{"$f":"$F18*'Schedule 4.1'!$E$18","v":2841981.9865856655},0,0,0,0,0,0,0,0,0,0,0,0,0,null,null,{"$f":"MAX(X15:X17)+NoOne","v":1},null,null,"Diesel",{"$f":"\"Production - Demand, Energy ratios Sch.4.1 L.\"&'Schedule 4.1'!$A$18","v":"Production - Demand, Energy ratios Sch.4.1 L.6"}]
[{"$f":"SUM(G19:U19)-F19","v":0},null," ",{"$f":"MAX(D16:D18)+NoOne","v":2},"Subtotal Production",{"$f":"SUM(F18:F18)","v":6516964.6165000005},{"$f":"SUM(G18:G18)","v":3674982.629914335},{"$f":"SUM(H18:H18)","v":2841981.9865856655},0,0,0,0,0,0,0,0,0,0,0,0,0,null,null,{"$f":"MAX(X16:X18)+NoOne","v":2},null,null,"Subtotal Production"]
[null,null,null,null,null,null,null,null,null,null,null,null,null,null,null,null,null,null,null,null,null,null,null,null,null,null,""]
[null,null,null,null,"Transmission",null,null,null,null,null,null,null,null,null,null,null,null,null,null,null,null,null,null,null,null,null,"Transmission"]
[null,null," ",{"$f":"MAX(D19:D21)+NoOne","v":3},"Lines",{"$f":"SUM(G22:U22)","v":0},0,0,0,0,0,0,0,0,0,0,0,0,0,0,0,null,null,{"$f":"MAX(X19:X21)+NoOne","v":3},null,null,"Lines","Production, Transmission - Demand; Distribution - Primary Demand; Spec Assigned - Custmr"]
[null,null," ",{"$f":"MAX(D20:D22)+NoOne","v":4},"Terminal Stations ",{"$f":"SUM(G23:U23)","v":0},0,0,0,0,0,0,0,0,0,0,0,0,0,0,0,null,null,{"$f":"MAX(X20:X22)+NoOne","v":4},null,null,"Terminal Stations ","Production, Transmission - Demand; Spec Assigned - Custmr"]
[{"$f":"SUM(G24:U24)-F24","v":0},null," ",{"$f":"MAX(D21:D23)+NoOne","v":5},"Subtotal Transmission",{"$f":"SUM(F22:F23)","v":0},{"$f":"SUM(G22:G23)","v":0},0,0,0,0,0,0,0,0,0,0,0,0,0,0,null,null,{"$f":"MAX(X21:X23)+NoOne","v":5},null,null,"Subtotal Transmission"]
[null,null,null,null,null,null,null,null,null,null,null,null,null,null,null,null,null,null,null,null,null,null,null,null,null,null,""]
[null,null,null,null,"Distribution",null,null,null,null,null,null,null,null,null,null,null,null,null,null,null,null,null,null,null,null,null,"Distribution"]
[null,null,{"$f":"+SPLTDetails!C90","v":"SPLT10"},{"$f":"MAX(D24:D26)+NoOne","v":6},"Substation Structures & Equipment",{"$f":"SUM(G27:U27)","v":281539.75000000012},{"$f":"SPLTDetails!E90","v":229567.16000000009},0,0,{"$f":"SPLTDetails!K90","v":51972.59},0,0,0,0,0,0,0,0,0,0,0,null,null,{"$f":"MAX(X24:X26)+NoOne","v":6},null,null,"Substation Structures & Equipment","Production - Demand; Dist Substns - Demand"]
[null,null,"D11",7,"Land & Land Improvements",{"$f":"DistnDetails!D13+DistnDetails!D22","v":93228.709609747384},{"$f":"$F28*'Schedule 4.1'!D$62","v":0},{"$f":"$F28*'Schedule 4.1'!E$62","v":0},{"$f":"$F28*'Schedule 4.1'!G$62","v":0},{"$f":"$F28*'Schedule 4.1'!J$62","v":0},{"$f":"$F28*'Schedule 4.1'!K$62","v":70289.785610269042},{"$f":"$F28*'Schedule 4.1'!L$62","v":8954.6175580162362},{"$f":"$F28*'Schedule 4.1'!M$62","v":0},{"$f":"$F28*'Schedule 4.1'!N$62","v":0},{"$f":"$F28*'Schedule 4.1'!O$62","v":8152.8506553724073},{"$f":"$F28*'Schedule 4.1'!P$62","v":5831.4557860896984},{"$f":"$F28*'Schedule 4.1'!Q$62","v":0},{"$f":"$F28*'Schedule 4.1'!R$62","v":0},{"$f":"$F28*'Schedule 4.1'!S$62","v":0},{"$f":"$F28*'Schedule 4.1'!T$62","v":0},{"$f":"$F28*'Schedule 4.1'!U$62","v":0},null,null,7,null,null,"Land & Land Improvements",{"$f":"\"Primary, Secondary - Demand, Customer - zero intercept ratios Sch.4.1 L.\"&'Schedule 4.1'!$A$62","v":"Primary, Secondary - Demand, Customer - zero intercept ratios Sch.4.1 L.32"}]
[null,null,"D11",8,"Poles",{"$f":"DistnDetails!D14+DistnDetails!D16","v":5476864.9703902528},{"$f":"$F29*'Schedule 4.1'!D$67","v":0},{"$f":"$F29*'Schedule 4.1'!E$67","v":0},{"$f":"$F29*'Schedule 4.1'!G$67","v":0},{"$f":"$F29*'Schedule 4.1'!J$67","v":0},{"$f":"$F29*'Schedule 4.1'!K$67","v":3167533.9018952618},{"$f":"$F29*'Schedule 4.1'!L$67","v":1082513.3151275744},{"$f":"$F29*'Schedule 4.1'!M$67","v":0},{"$f":"$F29*'Schedule 4.1'!N$67","v":0},{"$f":"$F29*'Schedule 4.1'!O$67","v":560655.71328890929},{"$f":"$F29*'Schedule 4.1'!P$67","v":666162.04007850727},{"$f":"$F29*'Schedule 4.1'!Q$67","v":0},{"$f":"$F29*'Schedule 4.1'!R$67","v":0},{"$f":"$F29*'Schedule 4.1'!S$67","v":0},{"$f":"$F29*'Schedule 4.1'!T$67","v":0},{"$f":"$F29*'Schedule 4.1'!U$67","v":0},null,null,8,null,null,"Poles",{"$f":"\"Primary, Secondary - Demand, Customer - zero intercept ratios Sch.4.1 L.\"&'Schedule 4.1'!$A$67","v":"Primary, Secondary - Demand, Customer - zero intercept ratios Sch.4.1 L.37"}]
[null,null,"D11",9,"Primary Conductor & Equipment",{"$f":"DistnDetails!D17","v":1701005.3199999991},{"$f":"$F30*'Schedule 4.1'!D$68","v":0},{"$f":"$F30*'Schedule 4.1'!E$68","v":0},{"$f":"$F30*'Schedule 4.1'!G$68","v":0},{"$f":"$F30*'Schedule 4.1'!J$68","v":0},{"$f":"$F30*'Schedule 4.1'!K$68","v":1508791.7188399993},{"$f":"$F30*'Schedule 4.1'!L$68","v":192213.6011599999},{"$f":"$F30*'Schedule 4.1'!M$68","v":0},{"$f":"$F30*'Schedule 4.1'!N$68","v":0},{"$f":"$F30*'Schedule 4.1'!O$68","v":0},{"$f":"$F30*'Schedule 4.1'!P$68","v":0},{"$f":"$F30*'Schedule 4.1'!Q$68","v":0},{"$f":"$F30*'Schedule 4.1'!R$68","v":0},{"$f":"$F30*'Schedule 4.1'!S$68","v":0},{"$f":"$F30*'Schedule 4.1'!T$68","v":0},{"$f":"$F30*'Schedule 4.1'!U$68","v":0},null,null,9,null,null,"Primary Conductor & Equipment",{"$f":"\"Primary - Demand, Customer - zero intercept ratios Sch.4.1 L.\"&'Schedule 4.1'!$A$68","v":"Primary - Demand, Customer - zero intercept ratios Sch.4.1 L.38"}]
[null,null,"D05",10,"Submarine Conductor",0,{"$f":"$F31*'Schedule 4.1'!D$69","v":0},{"$f":"$F31*'Schedule 4.1'!E$69","v":0},{"$f":"$F31*'Schedule 4.1'!G$69","v":0},{"$f":"$F31*'Schedule 4.1'!J$69","v":0},{"$f":"$F31*'Schedule 4.1'!K$69","v":0},{"$f":"$F31*'Schedule 4.1'!L$69","v":0},{"$f":"$F31*'Schedule 4.1'!M$69","v":0},{"$f":"$F31*'Schedule 4.1'!N$69","v":0},{"$f":"$F31*'Schedule 4.1'!O$69","v":0},{"$f":"$F31*'Schedule 4.1'!P$69","v":0},{"$f":"$F31*'Schedule 4.1'!Q$69","v":0},{"$f":"$F31*'Schedule 4.1'!R$69","v":0},{"$f":"$F31*'Schedule 4.1'!S$69","v":0},{"$f":"$F31*'Schedule 4.1'!T$69","v":0},{"$f":"$F31*'Schedule 4.1'!U$69","v":0},null,null,10,null,null,"Submarine Conductor",{"$f":"\"Primary - Demand, Customer - zero intercept ratios Sch.4.1 L.\"&'Schedule 4.1'!$A$69","v":"Primary - Demand, Customer - zero intercept ratios Sch.4.1 L.39"}]
[null,null,"D11",11,"Transformers",{"$f":"DistnDetails!D18","v":605353.77999999991},{"$f":"$F32*'Schedule 4.1'!D$70","v":0},{"$f":"$F32*'Schedule 4.1'!E$70","v":0},{"$f":"$F32*'Schedule 4.1'!G$70","v":0},{"$f":"$F32*'Schedule 4.1'!J$70","v":0},{"$f":"$F32*'Schedule 4.1'!K$70","v":0},{"$f":"$F32*'Schedule 4.1'!L$70","v":0},{"$f":"$F32*'Schedule 4.1'!M$70","v":218532.71457999997},{"$f":"$F32*'Schedule 4.1'!N$70","v":386821.06541999994},{"$f":"$F32*'Schedule 4.1'!O$70","v":0},{"$f":"$F32*'Schedule 4.1'!P$70","v":0},{"$f":"$F32*'Schedule 4.1'!Q$70","v":0},{"$f":"$F32*'Schedule 4.1'!R$70","v":0},{"$f":"$F32*'Schedule 4.1'!S$70","v":0},{"$f":"$F32*'Schedule 4.1'!T$70","v":0},{"$f":"$F32*'Schedule 4.1'!U$70","v":0},null,null,11,null,null,"Transformers",{"$f":"+\"Transformers - Demand, Customer - zero intercept ratios Sch.4.1 L.\"&'Schedule 4.1'!$A$70","v":"Transformers - Demand, Customer - zero intercept ratios Sch.4.1 L.40"}]
[null,null,"D11",12,"Secondary Conductors & Equipment",{"$f":"DistnDetails!D19","v":348841.72000000003},{"$f":"$F33*'Schedule 4.1'!D$71","v":0},{"$f":"$F33*'Schedule 4.1'!E$71","v":0},{"$f":"$F33*'Schedule 4.1'!G$71","v":0},{"$f":"$F33*'Schedule 4.1'!J$71","v":0},{"$f":"$F33*'Schedule 4.1'!K$71","v":0},{"$f":"$F33*'Schedule 4.1'!L$71","v":0},{"$f":"$F33*'Schedule 4.1'!M$71","v":0},{"$f":"$F33*'Schedule 4.1'!N$71","v":0},{"$f":"$F33*'Schedule 4.1'!O$71","v":203374.72276},{"$f":"$F33*'Schedule 4.1'!P$71","v":145466.99724},{"$f":"$F33*'Schedule 4.1'!Q$71","v":0},{"$f":"$F33*'Schedule 4.1'!R$71","v":0},{"$f":"$F33*'Schedule 4.1'!S$71","v":0},{"$f":"$F33*'Schedule 4.1'!T$71","v":0},{"$f":"$F33*'Schedule 4.1'!U$71","v":0},null,null,12,null,null,"Secondary Conductors & Equipment",{"$f":"\"Secondary - Demand, Customer - zero intercept ratios Sch. 4.1 L.\"&'Schedule 4.1'!$A$71","v":"Secondary - Demand, Customer - zero intercept ratios Sch. 4.1 L.41"}]
[null,null,"D11",13,"Services",{"$f":"DistnDetails!D20","v":527648.65},{"$f":"$F34*'Schedule 4.1'!D$72","v":0},{"$f":"$F34*'Schedule 4.1'!E$72","v":0},{"$f":"$F34*'Schedule 4.1'!G$72","v":0},{"$f":"$F34*'Schedule 4.1'!J$72","v":0},{"$f":"$F34*'Schedule 4.1'!K$72","v":0},{"$f":"$F34*'Schedule 4.1'!L$72","v":0},{"$f":"$F34*'Schedule 4.1'!M$72","v":0},{"$f":"$F34*'Schedule 4.1'!N$72","v":0},{"$f":"$F34*'Schedule 4.1'!O$72","v":0},{"$f":"$F34*'Schedule 4.1'!P$72","v":0},{"$f":"$F34*'Schedule 4.1'!Q$72","v":527648.65},{"$f":"$F34*'Schedule 4.1'!R$72","v":0},{"$f":"$F34*'Schedule 4.1'!S$72","v":0},{"$f":"$F34*'Schedule 4.1'!T$72","v":0},{"$f":"$F34*'Schedule 4.1'!U$72","v":0},null,null,13,null,null,"Services","Services Customer"]
[null,null,{"$f":"+SystemizedPlant!C21","v":"SMET01"},14,"Meters",{"$f":"SUM((IF(VLOOKUP($C35,AllocatedMeters,4,FALSE)=\"\",0,VLOOKUP($C35,AllocatedMeters,4,FALSE))))","v":204245.65034616529},{"$f":"$F35*'Schedule 4.1'!D$73","v":0},{"$f":"$F35*'Schedule 4.1'!E$73","v":0},{"$f":"$F35*'Schedule 4.1'!G$73","v":0},{"$f":"$F35*'Schedule 4.1'!J$73","v":0},{"$f":"$F35*'Schedule 4.1'!K$73","v":0},{"$f":"$F35*'Schedule 4.1'!L$73","v":0},{"$f":"$F35*'Schedule 4.1'!M$73","v":0},{"$f":"$F35*'Schedule 4.1'!N$73","v":0},{"$f":"$F35*'Schedule 4.1'!O$73","v":0},{"$f":"$F35*'Schedule 4.1'!P$73","v":0},{"$f":"$F35*'Schedule 4.1'!Q$73","v":0},{"$f":"$F35*'Schedule 4.1'!R$73","v":204245.65034616529},{"$f":"$F35*'Schedule 4.1'!S$73","v":0},{"$f":"$F35*'Schedule 4.1'!T$73","v":0},{"$f":"$F35*'Schedule 4.1'!U$73","v":0},null,null,14,null,null,"Meters","Meters - Customer"]
[null,null,"D11",15,"Street Lighting",{"$f":"DistnDetails!D21","v":101710.08},{"$f":"$F36*'Schedule 4.1'!D$74","v":0},{"$f":"$F36*'Schedule 4.1'!E$74","v":0},{"$f":"$F36*'Schedule 4.1'!G$74","v":0},{"$f":"$F36*'Schedule 4.1'!J$74","v":0},{"$f":"$F36*'Schedule 4.1'!K$74","v":0},{"$f":"$F36*'Schedule 4.1'!L$74","v":0},{"$f":"$F36*'Schedule 4.1'!M$74","v":0},{"$f":"$F36*'Schedule 4.1'!N$74","v":0},{"$f":"$F36*'Schedule 4.1'!O$74","v":0},{"$f":"$F36*'Schedule 4.1'!P$74","v":0},{"$f":"$F36*'Schedule 4.1'!Q$74","v":0},{"$f":"$F36*'Schedule 4.1'!R$74","v":0},{"$f":"$F36*'Schedule 4.1'!S$74","v":101710.08},{"$f":"$F36*'Schedule 4.1'!T$74","v":0},{"$f":"$F36*'Schedule 4.1'!U$74","v":0},null,null,15,null,null,"Street Lighting","Street Lighting - Customer"]
[{"$f":"SUM(G37:U37)-F37","v":0},null," ",16,"Subtotal Distribution",{"$f":"SUM(F27:F36)","v":9340438.630346166},{"$f":"SUM(G27:G36)","v":229567.16000000009},0,0,51972.59,4746615.4063455295,1283681.5338455904,218532.71457999997,386821.06541999994,772183.28670428169,817460.49310459686,527648.65,204245.65034616529,101710.08,0,0,null,null,16,null,null,"Subtotal Distribution"]
[null,null,null,null,null,null,null,null,null,null,null,null,null,null,null,null,null,null,null,null,null,null,null,null,null,null,""]
[{"$f":"SUM(G39:U39)-F39","v":0},null," ",{"$f":"MAX(D36:D38)+NoOne","v":17},"Subttl Prod, Trans, & Dist",{"$f":"SUM(F37,F24,F19)","v":15857403.246846166},{"$f":"SUM(G37,G24,G19)","v":3904549.7899143351},2841981.9865856655,0,51972.59,4746615.4063455295,1283681.5338455904,218532.71457999997,386821.06541999994,772183.28670428169,817460.49310459686,527648.65,204245.65034616529,101710.08,0,0,null,null,{"$f":"MAX(X36:X38)+NoOne","v":17},null,null,"Subttl Prod, Trans, & Dist"]
[null,null,null,null," ",null,null,null,null,null,null,null,null,null,null,null,null,null,null,null,null,null,null,null,null,null," "]
[null,{"$f":"IF(OverheadAlloc=\"Expenses\",\"E-GTDC\",\"L-GTDC\")","v":"E-GTDC"},{"$f":"+SystemizedPlant!C99","v":"SGPLT01"},{"$f":"MAX(D38:D40)+NoOne","v":18},"General",{"$f":"SystemizedPlant!F99","v":4680840.5118120629},{"$f":"$F41*VLOOKUP($B41,RatiosIslIso,G$434,FALSE)","v":2250388.367076721},1729361.4890184836,0,3201.5389383747379,292394.010937393,79075.459104102105,13461.730405134758,23828.381520446288,47566.897473186189,50355.997252732275,32503.434959771366,7929.4256485632131,6265.3945386444984,144508.38493851022,0,null,null,{"$f":"MAX(X38:X40)+NoOne","v":18},null,null,"General",{"$f":"+\"Prorated on Subtotal Production, Transmission, Distribution, Accounting Expenses - Sch.2.4 L.\"&$D$218&\", \"&$D$220","v":"Prorated on Subtotal Production, Transmission, Distribution, Accounting Expenses - Sch.2.4 L.11, 12"}]
[null,null,null,{"$f":"MAX(D39:D41)+NoOne","v":19},"Telecontrol - Specific",0,0,0,0,0,0,0,0,0,0,0,0,0,0,0,0,null,null,{"$f":"MAX(X39:X41)+NoOne","v":19},null,null,"Telecontrol - Specific","Specifically Assigned - Customer"]
[null,null,{"$f":"+SPLTDetails!C97","v":"SPLT11"},{"$f":"MAX(D40:D42)+NoOne","v":20},"Feasibility Studies",{"$f":"SUM(G43:U43)","v":0},{"$f":"+SPLTDetails!E97","v":0},0,0,0,0,0,0,0,0,0,0,0,0,0,0,null,null,{"$f":"MAX(X40:X42)+NoOne","v":20},null,null,"Feasibility Studies","Production, Transmission - Demand"]
[null,null,{"$f":"+SystemizedPlant!C62","v":"SCS2_01"},{"$f":"MAX(D41:D43)+NoOne","v":21},"Software - General",{"$f":"SystemizedPlant!F62","v":8615.8967956415436},{"$f":"$F44*(G$39/SUM($G$39:$U$39))","v":2121.4821556635757},1544.150899761247,0,28.238575047352192,2579.006652795375,697.47028828847817,118.73667371529736,210.17377978968145,419.55491715748502,444.15564979116277,286.69046514054946,110.97399851335952,55.262739977980608,0,0,null,null,{"$f":"MAX(X41:X43)+NoOne","v":21},null,null,"Software - General",{"$f":"+\"Prorated on subtotal Production, Transmission, & Distribution plant - L.\"&$X$39","v":"Prorated on subtotal Production, Transmission, & Distribution plant - L.17"}]
[null,null,{"$f":"+SystemizedPlant!C47","v":"SCS1_01"},{"$f":"MAX(D42:D44)+NoOne","v":22},"Software - Cust Acctng",{"$f":"SUM(G45:U45)","v":0},0,0,0,0,0,0,0,0,0,0,0,0,0,{"$f":"+SystemizedPlant!F47","v":0},0,null,null,{"$f":"MAX(X42:X44)+NoOne","v":22},null,null,"Software - Cust Acctng","Customer Accounting"]
[null,null,null,null,null,null,null,null,null,null,null,null,null,null,null,null,null,null,null,null,null,null,null,null,null,null,""]
[{"$f":"SUM(G47:U47)-F47","v":0},null," ",{"$f":"MAX(D44:D46)+NoOne","v":23},"Total Plant",{"$f":"SUM(F39:F45)","v":20546859.655453872},{"$f":"SUM(G39:G45)","v":6157059.6391467201},4572887.6265039099,0,55202.36751342209,5041588.4239357179,1363454.4632379811,232113.18165885002,410859.62072023592,820169.73909462534,868260.64600712026,560438.77542491187,212286.04999324188,108030.73727862247,144508.38493851022,0,null,null,{"$f":"MAX(X44:X46)+NoOne","v":23},null,null,"Total Plant"]
[null,null,null,null,null,null,null,null,null,null,null,null,null,null,null,null,null,null,null,null,null,null,null,null,null,null,""]
[]
[null,null,null,null,null,null,null,null,null,null,null,null,null,null,null,null,null,null,null,null,"Schedule 2.3B"]
[null,null,null,null,null,null,null,null,null,null,null,null,null,null,null,null,null,null,null,null,"Page 1 of 1"]
[]
[null,null,null,{"$f":"D5","v":"NEWFOUNDLAND AND LABRADOR HYDRO"}]
[null,null,null,{"$f":"D6","v":"2019 Test Year Cost of Service Study"}]
[null,null,null,{"$f":"$B$1","v":"Island Isolated"}]
[null,null,null,"Functional Classification of Net Book Value"]
[]
[]
[null,null,null,null,{"$f":"MAX(D59)+NoOne","v":1},2,3,4,5,6,7,8,9,10,11,12,13,14,15,16,17]
[null,null,null,null,null,null,null,null,"","Distribution",null,null,null,null,null,null,null,null,null,null,"Specifically"]
[null,null,null,"Line",null,"Total","Production","Production","Transmission","Substations","Primary Lines",null,"Line Transformers",null,"Secondary Lines",null,"Services","Meters","Street  Lighting","Accounting","Assigned"]
[null,null,null,"No.","Description ","Amount","Demand","Energy","Demand","Demand","Demand","Customer","Demand","Customer","Demand","Customer","Customer","Customer","Customer","Customer","Customer"]
[null,null,null,null,null,"($)","($)","($)","($)","($)","($)","($)","($)","($)","($)","($)","($)","($)","($)","($)","($)"]
[]
[null,null,null,null,"Production"]
[]
[null,null,"P03",{"$f":"MAX(D64:D66)+NoOne","v":1},"Diesel",9335662.9519953392,{"$f":"$F67*'Schedule 4.1'!$D$18","v":5264475.289685295},{"$f":"$F67*'Schedule 4.1'!$E$18","v":4071187.6623100443},0,0,0,0,0,0,0,0,0,0,0,0,0]
[{"$f":"SUM(G68:U68)-F68","v":0},null," ",{"$f":"MAX(D65:D67)+NoOne","v":2},"Subtotal Production",{"$f":"SUM(F67:F67)","v":9335662.9519953392},{"$f":"SUM(G67:G67)","v":5264475.289685295},{"$f":"SUM(H67:H67)","v":4071187.6623100443},0,0,0,0,0,0,0,0,0,0,0,0,0]
[]
[null,null,null,null,"Transmission"]
[null,null," ",{"$f":"MAX(D68:D70)+NoOne","v":3},"Lines",{"$f":"SUM(G71:U71)","v":0},0,0,0,0,0,0,0,0,0,0,0,0,0,0,0]
[null,null," ",{"$f":"MAX(D69:D71)+NoOne","v":4},"Terminal Stations ",{"$f":"SUM(G72:U72)","v":0},0,0,0,0,0,0,0,0,0,0,0,0,0,0,0]
[{"$f":"SUM(G73:U73)-F73","v":0},null," ",{"$f":"MAX(D70:D72)+NoOne","v":5},"Subtotal Transmission",{"$f":"SUM(F71:F72)","v":0},{"$f":"SUM(G71:G72)","v":0},0,0,0,0,0,0,0,0,0,0,0,0,0,0]
[]
[null,null,null,null,"Distribution"]
[null,null,{"$f":"+SNBVDetails!C$86","v":"SNBV10"},{"$f":"MAX(D73:D75)+NoOne","v":6},"Substation Structures & Equipment",{"$f":"SUM(G76:U76)","v":120644.42966150001},{"$f":"+SNBVDetails!E$86","v":92667.852434500004},0,0,{"$f":"+SNBVDetails!K$86","v":27976.577227000002},0,0,0,0,0,0,0,0,0,0,0]
[null,null,"D11",7,"Land & Land Improvements",{"$f":"DistnDetails!D29+DistnDetails!D38","v":65463.436387877606},{"$f":"$F77*'Schedule 4.1'!D$62","v":0},{"$f":"$F77*'Schedule 4.1'!E$62","v":0},{"$f":"$F77*'Schedule 4.1'!G$62","v":0},{"$f":"$F77*'Schedule 4.1'!J$62","v":0},{"$f":"$F77*'Schedule 4.1'!K$62","v":49356.157864640321},{"$f":"$F77*'Schedule 4.1'!L$62","v":6287.7630650556439},{"$f":"$F77*'Schedule 4.1'!M$62","v":0},{"$f":"$F77*'Schedule 4.1'!N$62","v":0},{"$f":"$F77*'Schedule 4.1'!O$62","v":5724.7775121198956},{"$f":"$F77*'Schedule 4.1'!P$62","v":4094.737946061744},{"$f":"$F77*'Schedule 4.1'!Q$62","v":0},{"$f":"$F77*'Schedule 4.1'!R$62","v":0},{"$f":"$F77*'Schedule 4.1'!S$62","v":0},{"$f":"$F77*'Schedule 4.1'!T$62","v":0},{"$f":"$F77*'Schedule 4.1'!U$62","v":0}]
[null,null,"D11",8,"Poles",{"$f":"DistnDetails!D30+DistnDetails!D32","v":3613953.8949459549},{"$f":"$F78*'Schedule 4.1'!D$67","v":0},{"$f":"$F78*'Schedule 4.1'!E$67","v":0},{"$f":"$F78*'Schedule 4.1'!G$67","v":0},{"$f":"$F78*'Schedule 4.1'!J$67","v":0},{"$f":"$F78*'Schedule 4.1'!K$67","v":2090123.0072342029},{"$f":"$F78*'Schedule 4.1'!L$67","v":714305.21524385794},{"$f":"$F78*'Schedule 4.1'!M$67","v":0},{"$f":"$F78*'Schedule 4.1'!N$67","v":0},{"$f":"$F78*'Schedule 4.1'!O$67","v":369953.23231782747},{"$f":"$F78*'Schedule 4.1'!P$67","v":439572.44015006645},{"$f":"$F78*'Schedule 4.1'!Q$67","v":0},{"$f":"$F78*'Schedule 4.1'!R$67","v":0},{"$f":"$F78*'Schedule 4.1'!S$67","v":0},{"$f":"$F78*'Schedule 4.1'!T$67","v":0},{"$f":"$F78*'Schedule 4.1'!U$67","v":0}]
[null,null,"D11",9,"Primary Conductor & Equipment",{"$f":"DistnDetails!D33","v":1506029.2554414982},{"$f":"$F79*'Schedule 4.1'!D$68","v":0},{"$f":"$F79*'Schedule 4.1'!E$68","v":0},{"$f":"$F79*'Schedule 4.1'!G$68","v":0},{"$f":"$F79*'Schedule 4.1'!J$68","v":0},{"$f":"$F79*'Schedule 4.1'!K$68","v":1335847.9495766091},{"$f":"$F79*'Schedule 4.1'!L$68","v":170181.30586488932},{"$f":"$F79*'Schedule 4.1'!M$68","v":0},{"$f":"$F79*'Schedule 4.1'!N$68","v":0},{"$f":"$F79*'Schedule 4.1'!O$68","v":0},{"$f":"$F79*'Schedule 4.1'!P$68","v":0},{"$f":"$F79*'Schedule 4.1'!Q$68","v":0},{"$f":"$F79*'Schedule 4.1'!R$68","v":0},{"$f":"$F79*'Schedule 4.1'!S$68","v":0},{"$f":"$F79*'Schedule 4.1'!T$68","v":0},{"$f":"$F79*'Schedule 4.1'!U$68","v":0}]
[null,null,"D05",10,"Submarine Conductor",0,{"$f":"$F80*'Schedule 4.1'!D$69","v":0},{"$f":"$F80*'Schedule 4.1'!E$69","v":0},{"$f":"$F80*'Schedule 4.1'!G$69","v":0},{"$f":"$F80*'Schedule 4.1'!J$69","v":0},{"$f":"$F80*'Schedule 4.1'!K$69","v":0},{"$f":"$F80*'Schedule 4.1'!L$69","v":0},{"$f":"$F80*'Schedule 4.1'!M$69","v":0},{"$f":"$F80*'Schedule 4.1'!N$69","v":0},{"$f":"$F80*'Schedule 4.1'!O$69","v":0},{"$f":"$F80*'Schedule 4.1'!P$69","v":0},{"$f":"$F80*'Schedule 4.1'!Q$69","v":0},{"$f":"$F80*'Schedule 4.1'!R$69","v":0},{"$f":"$F80*'Schedule 4.1'!S$69","v":0},{"$f":"$F80*'Schedule 4.1'!T$69","v":0},{"$f":"$F80*'Schedule 4.1'!U$69","v":0}]
[null,null,"D11",11,"Transformers",{"$f":"DistnDetails!D34","v":320686.12841149996},{"$f":"$F81*'Schedule 4.1'!D$70","v":0},{"$f":"$F81*'Schedule 4.1'!E$70","v":0},{"$f":"$F81*'Schedule 4.1'!G$70","v":0},{"$f":"$F81*'Schedule 4.1'!J$70","v":0},{"$f":"$F81*'Schedule 4.1'!K$70","v":0},{"$f":"$F81*'Schedule 4.1'!L$70","v":0},{"$f":"$F81*'Schedule 4.1'!M$70","v":115767.69235655149},{"$f":"$F81*'Schedule 4.1'!N$70","v":204918.43605494848},{"$f":"$F81*'Schedule 4.1'!O$70","v":0},{"$f":"$F81*'Schedule 4.1'!P$70","v":0},{"$f":"$F81*'Schedule 4.1'!Q$70","v":0},{"$f":"$F81*'Schedule 4.1'!R$70","v":0},{"$f":"$F81*'Schedule 4.1'!S$70","v":0},{"$f":"$F81*'Schedule 4.1'!T$70","v":0},{"$f":"$F81*'Schedule 4.1'!U$70","v":0}]
[null,null,"D11",12,"Secondary Conductors & Equipment",{"$f":"DistnDetails!D35","v":184798.5276586668},{"$f":"$F82*'Schedule 4.1'!D$71","v":0},{"$f":"$F82*'Schedule 4.1'!E$71","v":0},{"$f":"$F82*'Schedule 4.1'!G$71","v":0},{"$f":"$F82*'Schedule 4.1'!J$71","v":0},{"$f":"$F82*'Schedule 4.1'!K$71","v":0},{"$f":"$F82*'Schedule 4.1'!L$71","v":0},{"$f":"$F82*'Schedule 4.1'!M$71","v":0},{"$f":"$F82*'Schedule 4.1'!N$71","v":0},{"$f":"$F82*'Schedule 4.1'!O$71","v":107737.54162500273},{"$f":"$F82*'Schedule 4.1'!P$71","v":77060.986033664056},{"$f":"$F82*'Schedule 4.1'!Q$71","v":0},{"$f":"$F82*'Schedule 4.1'!R$71","v":0},{"$f":"$F82*'Schedule 4.1'!S$71","v":0},{"$f":"$F82*'Schedule 4.1'!T$71","v":0},{"$f":"$F82*'Schedule 4.1'!U$71","v":0}]
[null,null,"D11",13,"Services",{"$f":"DistnDetails!D36","v":371537.3959660001},{"$f":"$F83*'Schedule 4.1'!D$72","v":0},{"$f":"$F83*'Schedule 4.1'!E$72","v":0},{"$f":"$F83*'Schedule 4.1'!G$72","v":0},{"$f":"$F83*'Schedule 4.1'!J$72","v":0},{"$f":"$F83*'Schedule 4.1'!K$72","v":0},{"$f":"$F83*'Schedule 4.1'!L$72","v":0},{"$f":"$F83*'Schedule 4.1'!M$72","v":0},{"$f":"$F83*'Schedule 4.1'!N$72","v":0},{"$f":"$F83*'Schedule 4.1'!O$72","v":0},{"$f":"$F83*'Schedule 4.1'!P$72","v":0},{"$f":"$F83*'Schedule 4.1'!Q$72","v":371537.3959660001},{"$f":"$F83*'Schedule 4.1'!R$72","v":0},{"$f":"$F83*'Schedule 4.1'!S$72","v":0},{"$f":"$F83*'Schedule 4.1'!T$72","v":0},{"$f":"$F83*'Schedule 4.1'!U$72","v":0}]
[null,null,{"$f":"+SystemizedPlant!C$31","v":"SMET02"},14,"Meters",{"$f":"SUM((IF(VLOOKUP($C84,AllocatedMeters,4,FALSE)=\"\",0,VLOOKUP($C84,AllocatedMeters,4,FALSE))))","v":129055.31927187466},{"$f":"$F84*'Schedule 4.1'!D$73","v":0},{"$f":"$F84*'Schedule 4.1'!E$73","v":0},{"$f":"$F84*'Schedule 4.1'!G$73","v":0},{"$f":"$F84*'Schedule 4.1'!J$73","v":0},{"$f":"$F84*'Schedule 4.1'!K$73","v":0},{"$f":"$F84*'Schedule 4.1'!L$73","v":0},{"$f":"$F84*'Schedule 4.1'!M$73","v":0},{"$f":"$F84*'Schedule 4.1'!N$73","v":0},{"$f":"$F84*'Schedule 4.1'!O$73","v":0},{"$f":"$F84*'Schedule 4.1'!P$73","v":0},{"$f":"$F84*'Schedule 4.1'!Q$73","v":0},{"$f":"$F84*'Schedule 4.1'!R$73","v":129055.31927187466},{"$f":"$F84*'Schedule 4.1'!S$73","v":0},{"$f":"$F84*'Schedule 4.1'!T$73","v":0},{"$f":"$F84*'Schedule 4.1'!U$73","v":0}]
[null,null,"D11",15,"Street Lighting",{"$f":"DistnDetails!D37","v":49453.793442500006},{"$f":"$F85*'Schedule 4.1'!D$74","v":0},{"$f":"$F85*'Schedule 4.1'!E$74","v":0},{"$f":"$F85*'Schedule 4.1'!G$74","v":0},{"$f":"$F85*'Schedule 4.1'!J$74","v":0},{"$f":"$F85*'Schedule 4.1'!K$74","v":0},{"$f":"$F85*'Schedule 4.1'!L$74","v":0},{"$f":"$F85*'Schedule 4.1'!M$74","v":0},{"$f":"$F85*'Schedule 4.1'!N$74","v":0},{"$f":"$F85*'Schedule 4.1'!O$74","v":0},{"$f":"$F85*'Schedule 4.1'!P$74","v":0},{"$f":"$F85*'Schedule 4.1'!Q$74","v":0},{"$f":"$F85*'Schedule 4.1'!R$74","v":0},{"$f":"$F85*'Schedule 4.1'!S$74","v":49453.793442500006},{"$f":"$F85*'Schedule 4.1'!T$74","v":0},{"$f":"$F85*'Schedule 4.1'!U$74","v":0}]
[{"$f":"SUM(G86:U86)-F86","v":0},null," ",16,"Subtotal Distribution",{"$f":"SUM(F76:F85)","v":6361622.1811873717},{"$f":"SUM(G76:G85)","v":92667.852434500004},0,0,27976.577227000002,3475327.114675452,890774.28417380282,115767.69235655149,204918.43605494848,483415.55145495012,520728.16412979225,371537.3959660001,129055.31927187466,49453.793442500006,0,0]
[]
[{"$f":"SUM(G88:U88)-F88","v":0},null," ",{"$f":"MAX(D85:D87)+NoOne","v":17},"Subttl Prod, Trans, & Dist",{"$f":"SUM(F86,F73,F68)","v":15697285.133182712},{"$f":"SUM(G86,G73,G68)","v":5357143.1421197951},4071187.6623100443,0,27976.577227000002,3475327.114675452,890774.28417380282,115767.69235655149,204918.43605494848,483415.55145495012,520728.16412979225,371537.3959660001,129055.31927187466,49453.793442500006,0,0]
[]
[null,{"$f":"IF(OverheadAlloc=\"Expenses\",\"E-GTDC\",\"L-GTDC\")","v":"E-GTDC"},{"$f":"+SystemizedPlant!C109","v":"SGPLT02"},{"$f":"MAX(D87:D89)+NoOne","v":18},"General",{"$f":"+SystemizedPlant!F109","v":1785107.4852340699},{"$f":"$F90*VLOOKUP($B90,RatiosIslIso,G$434,FALSE)","v":858218.7555023497},659517.48001927638,0,1220.9540377928058,111508.76348912214,30156.591233741397,5133.8292022058877,9087.3043219101455,18140.337085716001,19204.001374419779,12395.66374801454,3024.0032838413299,2389.4005063097552,55110.401429370082,0]
[null,null,"G43",{"$f":"MAX(D88:D90)+NoOne","v":19},"Telecontrol - Specific",{"$f":"SUM(G91:V91)","v":0},0,0,0,0,0,0,0,0,0,0,0,0,0,0,0]
[null,null,{"$f":"+SNBVDetails!C$93","v":"SNBV11"},{"$f":"MAX(D89:D91)+NoOne","v":20},"Feasibility Studies",{"$f":"SUM(G92:U92)","v":0},{"$f":"+SNBVDetails!E$93","v":0},0,0,0,0,0,0,0,0,0,0,0,0,0,0," "]
[null,null,{"$f":"+SystemizedPlant!C68","v":"SCS2_02"},{"$f":"MAX(D90:D92)+NoOne","v":21},"Software - General",{"$f":"+SystemizedPlant!F68","v":12780.010302598268},{"$f":"$F93*(G$88/SUM($G$88:$U$88))","v":4361.5404809113707},3314.5744519953164,0,22.777247285690517,2829.4520965642964,725.22760671307276,94.252750617187473,166.83520123097728,393.57479179444897,423.95301136270467,302.48872387548192,105.07092760984054,40.263012637878425,0,0]
[null,null,{"$f":"+SystemizedPlant!C51","v":"SCS1_02"},{"$f":"MAX(D91:D93)+NoOne","v":22},"Software - Cust Acctng",{"$f":"SUM(G94:U94)","v":0},0,0,0,0,0,0,0,0,0,0,0,0,0,{"$f":"+SystemizedPlant!F51","v":0},0]
[]
[{"$f":"SUM(G96:U96)-F96","v":0},null," ",{"$f":"MAX(D93:D95)+NoOne","v":23},"Total Net Book Value",{"$f":"SUM(F88:F94)","v":17495172.628719382},{"$f":"SUM(G88:G94)","v":6219723.4381030565},4734019.7167813154,0,29220.3085120785,3589665.3302611383,921656.10301425727,120995.77430937457,214172.5755780896,501949.46333246061,540356.11851557472,384235.54843789013,132184.39348332581,51883.456961447642,55110.401429370082,0]
[]
[]
[]
[]
[null,null,null,null,null,null,null,null,null,null,null,null,null,null,null,null,null,null,null,null,"Schedule 2.5B"]
[null,null,null,null,null,null,null,null,null,null,null,null,null,null,null,null,null,null,null,null,"Page 1 of 1"]
[]
[null,null,null,{"$f":"D5","v":"NEWFOUNDLAND AND LABRADOR HYDRO"}]
[null,null,null,{"$f":"D6","v":"2019 Test Year Cost of Service Study"}]
[null,null,null,{"$f":"$B$1","v":"Island Isolated"}]
[null,null,null,"Functional Classification of Depreciation Expense"]
[]
[null,null,null,null,{"$f":"MAX(D109)+NoOne","v":1},2,3,4,5,6,7,8,9,10,11,12,13,14,15,16,17]
[null,null,null,null,null,null,null,null,"","Distribution",null,null,null,null,null,null,null,null,null,null,"Specifically"]
[null,null,null,"Line",null,"Total","Production","Production","Transmission","Substations","Primary Lines",null,"Line Transformers",null,"Secondary Lines",null,"Services","Meters","Street  Lighting","Accounting","Assigned"]
[null,null,null,"No.","Description ","Amount","Demand","Energy","Demand","Demand","Demand","Customer","Demand","Customer","Demand","Customer","Customer","Customer","Customer","Customer","Customer"]
[null,null,null,null,null,"($)","($)","($)","($)","($)","($)","($)","($)","($)","($)","($)","($)","($)","($)","($)","($)"]
[null,null,null,null," "]
[null,null,null,null,"Production"]
[]
[null,null,"P03",{"$f":"MAX(D114:D116)+NoOne","v":1},"Diesel",526958.9170723334,{"$f":"$F117*'Schedule 4.1'!$D$18","v":297157.49292488024},{"$f":"$F117*'Schedule 4.1'!$E$18","v":229801.42414745313},0,0,0,0,0,0,0,0,0,0,0,0,0]
[{"$f":"SUM(G118:U118)-F118","v":0},null," ",{"$f":"MAX(D115:D117)+NoOne","v":2},"Subtotal Production",{"$f":"SUM(F117:F117)","v":526958.9170723334},{"$f":"SUM(G117:G117)","v":297157.49292488024},{"$f":"SUM(H117:H117)","v":229801.42414745313},0,0,0,0,0,0,0,0,0,0,0,0,0]
[]
[null,null,null,null,"Transmission"]
[null,null," ",{"$f":"MAX(D118:D120)+NoOne","v":3},"Lines",{"$f":"SUM(G121:U121)","v":0},0,0,0,0,0,0,0,0,0,0,0,0,0,0,0]
[null,null," ",{"$f":"MAX(D119:D121)+NoOne","v":4},"Terminal Stations",{"$f":"SUM(G122:U122)","v":0},0,0,0,0,0,0,0,0,0,0,0,0,0,0,0]
[{"$f":"SUM(G123:U123)-F123","v":0},null," ",{"$f":"MAX(D120:D122)+NoOne","v":5},"Subtotal Transmission",{"$f":"SUM(F121:F122)","v":0},{"$f":"SUM(G121:G122)","v":0},0,0,0,0,0,0,0,0,0,0,0,0,0,0]
[]
[null,null,null,null,"Distribution"]
[null,null,{"$f":"+SDEPDetails!C$89","v":"SDEP10"},{"$f":"MAX(D123:D125)+NoOne","v":6},"Substn Struct & Eqpt",{"$f":"SUM(G126:U126)","v":6549.3135590000002},{"$f":"+SDEPDetails!E$89","v":5552.6183769999998},0,0,{"$f":"+SDEPDetails!K$89","v":996.69518199999993},0,0,0,0,0,0,0,0,0,0,0]
[null,null,"D11",7,"Land & Land Improvements",{"$f":"DistnDetails!D45+DistnDetails!D54","v":2643.6143828447275},{"$f":"$F127*'Schedule 4.1'!D$62","v":0},{"$f":"$F127*'Schedule 4.1'!E$62","v":0},{"$f":"$F127*'Schedule 4.1'!G$62","v":0},{"$f":"$F127*'Schedule 4.1'!J$62","v":0},{"$f":"$F127*'Schedule 4.1'!K$62","v":1993.1530639457824},{"$f":"$F127*'Schedule 4.1'!L$62","v":253.91916147223606},{"$f":"$F127*'Schedule 4.1'!M$62","v":0},{"$f":"$F127*'Schedule 4.1'!N$62","v":0},{"$f":"$F127*'Schedule 4.1'!O$62","v":231.18407777977137},{"$f":"$F127*'Schedule 4.1'!P$62","v":165.35807964693768},{"$f":"$F127*'Schedule 4.1'!Q$62","v":0},{"$f":"$F127*'Schedule 4.1'!R$62","v":0},{"$f":"$F127*'Schedule 4.1'!S$62","v":0},{"$f":"$F127*'Schedule 4.1'!T$62","v":0},{"$f":"$F127*'Schedule 4.1'!U$62","v":0}]
[null,null,"D11",8,"Poles",{"$f":"DistnDetails!D46+DistnDetails!D48","v":202023.18695015542},{"$f":"$F128*'Schedule 4.1'!D$67","v":0},{"$f":"$F128*'Schedule 4.1'!E$67","v":0},{"$f":"$F128*'Schedule 4.1'!G$67","v":0},{"$f":"$F128*'Schedule 4.1'!J$67","v":0},{"$f":"$F128*'Schedule 4.1'!K$67","v":116839.70612624848},{"$f":"$F128*'Schedule 4.1'!L$67","v":39930.28694707212},{"$f":"$F128*'Schedule 4.1'!M$67","v":0},{"$f":"$F128*'Schedule 4.1'!N$67","v":0},{"$f":"$F128*'Schedule 4.1'!O$67","v":20680.709601713508},{"$f":"$F128*'Schedule 4.1'!P$67","v":24572.484275121307},{"$f":"$F128*'Schedule 4.1'!Q$67","v":0},{"$f":"$F128*'Schedule 4.1'!R$67","v":0},{"$f":"$F128*'Schedule 4.1'!S$67","v":0},{"$f":"$F128*'Schedule 4.1'!T$67","v":0},{"$f":"$F128*'Schedule 4.1'!U$67","v":0}]
[null,null,"D11",9,"Primary Conductor & Equipment",{"$f":"DistnDetails!D49","v":75874.713039000082},{"$f":"$F129*'Schedule 4.1'!D$68","v":0},{"$f":"$F129*'Schedule 4.1'!E$68","v":0},{"$f":"$F129*'Schedule 4.1'!G$68","v":0},{"$f":"$F129*'Schedule 4.1'!J$68","v":0},{"$f":"$F129*'Schedule 4.1'!K$68","v":67300.870465593078},{"$f":"$F129*'Schedule 4.1'!L$68","v":8573.8425734070097},{"$f":"$F129*'Schedule 4.1'!M$68","v":0},{"$f":"$F129*'Schedule 4.1'!N$68","v":0},{"$f":"$F129*'Schedule 4.1'!O$68","v":0},{"$f":"$F129*'Schedule 4.1'!P$68","v":0},{"$f":"$F129*'Schedule 4.1'!Q$68","v":0},{"$f":"$F129*'Schedule 4.1'!R$68","v":0},{"$f":"$F129*'Schedule 4.1'!S$68","v":0},{"$f":"$F129*'Schedule 4.1'!T$68","v":0},{"$f":"$F129*'Schedule 4.1'!U$68","v":0}]
[null,null,"D05",10,"Submarine Conductor",0,{"$f":"$F130*'Schedule 4.1'!D$69","v":0},{"$f":"$F130*'Schedule 4.1'!E$69","v":0},{"$f":"$F130*'Schedule 4.1'!G$69","v":0},{"$f":"$F130*'Schedule 4.1'!J$69","v":0},{"$f":"$F130*'Schedule 4.1'!K$69","v":0},{"$f":"$F130*'Schedule 4.1'!L$69","v":0},{"$f":"$F130*'Schedule 4.1'!M$69","v":0},{"$f":"$F130*'Schedule 4.1'!N$69","v":0},{"$f":"$F130*'Schedule 4.1'!O$69","v":0},{"$f":"$F130*'Schedule 4.1'!P$69","v":0},{"$f":"$F130*'Schedule 4.1'!Q$69","v":0},{"$f":"$F130*'Schedule 4.1'!R$69","v":0},{"$f":"$F130*'Schedule 4.1'!S$69","v":0},{"$f":"$F130*'Schedule 4.1'!T$69","v":0},{"$f":"$F130*'Schedule 4.1'!U$69","v":0}]
[null,null,"D11",11,"Transformers",{"$f":"DistnDetails!D50","v":19071.661059000005},{"$f":"$F131*'Schedule 4.1'!D$70","v":0},{"$f":"$F131*'Schedule 4.1'!E$70","v":0},{"$f":"$F131*'Schedule 4.1'!G$70","v":0},{"$f":"$F131*'Schedule 4.1'!J$70","v":0},{"$f":"$F131*'Schedule 4.1'!K$70","v":0},{"$f":"$F131*'Schedule 4.1'!L$70","v":0},{"$f":"$F131*'Schedule 4.1'!M$70","v":6884.8696422990015},{"$f":"$F131*'Schedule 4.1'!N$70","v":12186.791416701004},{"$f":"$F131*'Schedule 4.1'!O$70","v":0},{"$f":"$F131*'Schedule 4.1'!P$70","v":0},{"$f":"$F131*'Schedule 4.1'!Q$70","v":0},{"$f":"$F131*'Schedule 4.1'!R$70","v":0},{"$f":"$F131*'Schedule 4.1'!S$70","v":0},{"$f":"$F131*'Schedule 4.1'!T$70","v":0},{"$f":"$F131*'Schedule 4.1'!U$70","v":0}]
[null,null,"D11",12,"Secondary Conductors & Equipment",{"$f":"DistnDetails!D51","v":3284.3643386666686},{"$f":"$F132*'Schedule 4.1'!D$71","v":0},{"$f":"$F132*'Schedule 4.1'!E$71","v":0},{"$f":"$F132*'Schedule 4.1'!G$71","v":0},{"$f":"$F132*'Schedule 4.1'!J$71","v":0},{"$f":"$F132*'Schedule 4.1'!K$71","v":0},{"$f":"$F132*'Schedule 4.1'!L$71","v":0},{"$f":"$F132*'Schedule 4.1'!M$71","v":0},{"$f":"$F132*'Schedule 4.1'!N$71","v":0},{"$f":"$F132*'Schedule 4.1'!O$71","v":1914.7844094426678},{"$f":"$F132*'Schedule 4.1'!P$71","v":1369.5799292240008},{"$f":"$F132*'Schedule 4.1'!Q$71","v":0},{"$f":"$F132*'Schedule 4.1'!R$71","v":0},{"$f":"$F132*'Schedule 4.1'!S$71","v":0},{"$f":"$F132*'Schedule 4.1'!T$71","v":0},{"$f":"$F132*'Schedule 4.1'!U$71","v":0}]
[null,null,"D11",13,"Services",{"$f":"DistnDetails!D52","v":8061.5943560000105},{"$f":"$F133*'Schedule 4.1'!D$72","v":0},{"$f":"$F133*'Schedule 4.1'!E$72","v":0},{"$f":"$F133*'Schedule 4.1'!G$72","v":0},{"$f":"$F133*'Schedule 4.1'!J$72","v":0},{"$f":"$F133*'Schedule 4.1'!K$72","v":0},{"$f":"$F133*'Schedule 4.1'!L$72","v":0},{"$f":"$F133*'Schedule 4.1'!M$72","v":0},{"$f":"$F133*'Schedule 4.1'!N$72","v":0},{"$f":"$F133*'Schedule 4.1'!O$72","v":0},{"$f":"$F133*'Schedule 4.1'!P$72","v":0},{"$f":"$F133*'Schedule 4.1'!Q$72","v":8061.5943560000105},{"$f":"$F133*'Schedule 4.1'!R$72","v":0},{"$f":"$F133*'Schedule 4.1'!S$72","v":0},{"$f":"$F133*'Schedule 4.1'!T$72","v":0},{"$f":"$F133*'Schedule 4.1'!U$72","v":0}]
[null,null,{"$f":"+SystemizedPlant!C40","v":"SMET03"},14,"Meters",{"$f":"SUM((IF(VLOOKUP($C134,AllocatedMeters,4,FALSE)=\"\",0,VLOOKUP($C134,AllocatedMeters,4,FALSE))))","v":9011.5750923285323},{"$f":"$F134*'Schedule 4.1'!D$73","v":0},{"$f":"$F134*'Schedule 4.1'!E$73","v":0},{"$f":"$F134*'Schedule 4.1'!G$73","v":0},{"$f":"$F134*'Schedule 4.1'!J$73","v":0},{"$f":"$F134*'Schedule 4.1'!K$73","v":0},{"$f":"$F134*'Schedule 4.1'!L$73","v":0},{"$f":"$F134*'Schedule 4.1'!M$73","v":0},{"$f":"$F134*'Schedule 4.1'!N$73","v":0},{"$f":"$F134*'Schedule 4.1'!O$73","v":0},{"$f":"$F134*'Schedule 4.1'!P$73","v":0},{"$f":"$F134*'Schedule 4.1'!Q$73","v":0},{"$f":"$F134*'Schedule 4.1'!R$73","v":9011.5750923285323},{"$f":"$F134*'Schedule 4.1'!S$73","v":0},{"$f":"$F134*'Schedule 4.1'!T$73","v":0},{"$f":"$F134*'Schedule 4.1'!U$73","v":0}]
[null,null,"D11",15,"Street Lighting",{"$f":"DistnDetails!D53","v":5657.8577049999994},{"$f":"$F135*'Schedule 4.1'!D$74","v":0},{"$f":"$F135*'Schedule 4.1'!E$74","v":0},{"$f":"$F135*'Schedule 4.1'!G$74","v":0},{"$f":"$F135*'Schedule 4.1'!J$74","v":0},{"$f":"$F135*'Schedule 4.1'!K$74","v":0},{"$f":"$F135*'Schedule 4.1'!L$74","v":0},{"$f":"$F135*'Schedule 4.1'!M$74","v":0},{"$f":"$F135*'Schedule 4.1'!N$74","v":0},{"$f":"$F135*'Schedule 4.1'!O$74","v":0},{"$f":"$F135*'Schedule 4.1'!P$74","v":0},{"$f":"$F135*'Schedule 4.1'!Q$74","v":0},{"$f":"$F135*'Schedule 4.1'!R$74","v":0},{"$f":"$F135*'Schedule 4.1'!S$74","v":5657.8577049999994},{"$f":"$F135*'Schedule 4.1'!T$74","v":0},{"$f":"$F135*'Schedule 4.1'!U$74","v":0}]
[{"$f":"SUM(G136:U136)-F136","v":0},null," ",16,"Subtotal Distribution",{"$f":"SUM(F126:F135)","v":332177.88048199547},{"$f":"SUM(G126:G135)","v":5552.6183769999998},0,0,996.69518199999993,186133.72965578735,48758.048681951368,6884.8696422990015,12186.791416701004,22826.678088935947,26107.422283992244,8061.5943560000105,9011.5750923285323,5657.8577049999994,0,0]
[]
[{"$f":"SUM(G138:U138)-F138","v":0},null," ",{"$f":"MAX(D135:D137)+NoOne","v":17},"Subtotal Prod Tran & Dist",{"$f":"SUM(F136,F123,F118)","v":859136.7975543288},{"$f":"SUM(G136,G123,G118)","v":302710.11130188021},229801.42414745313,0,996.69518199999993,186133.72965578735,48758.048681951368,6884.8696422990015,12186.791416701004,22826.678088935947,26107.422283992244,8061.5943560000105,9011.5750923285323,5657.8577049999994,0,0]
[]
[null,{"$f":"IF(OverheadAlloc=\"Expenses\",\"E-GTDC\",\"L-GTDC\")","v":"E-GTDC"},{"$f":"+SystemizedPlant!C119","v":"SGPLT03"},{"$f":"MAX(D137:D139)+NoOne","v":18},"General",{"$f":"+SystemizedPlant!F119","v":155406.88698433718},{"$f":"$F140*VLOOKUP($B140,RatiosIslIso,G$434,FALSE)","v":74714.32742701417},57415.903148325662,0,106.29313233732628,9707.6674366445313,2625.3556183371143,446.93802542623121,791.11744666859204,1579.2512992392678,1671.8511887535894,1079.134747413234,263.2619830791715,208.01509013655169,4797.7704409617427,0]
[null,null,null,{"$f":"MAX(D138:D140)+NoOne","v":19},"Telecontrol - Specific",0,0,0,0,0,0,0,0,0,0,0,0,0,0,0,0]
[null,null,{"$f":"+SDEPDetails!C$96","v":"SDEP11"},{"$f":"MAX(D139:D141)+NoOne","v":20},"Feasibility Studies",{"$f":"SUM(G142:U142)","v":0},{"$f":"+SDEPDetails!E$96","v":0},0,0,0,0,0,0,0,0,0,0,0,0,0,0]
[null,null,{"$f":"+SystemizedPlant!C74","v":"SCS2_03"},{"$f":"MAX(D140:D142)+NoOne","v":21},"Software - General",{"$f":"+SystemizedPlant!F74","v":9264.5465242703685},{"$f":"$F143*G$138/SUM($G$138:$U$138)","v":3264.2902940564431},2478.0756585193722,0,10.74791454683467,2007.1827944524252,525.78496431822623,74.243351345432558,131.41690168900666,246.15267528000038,281.53075164205603,86.932623749286648,97.176790631592326,61.011804039692962,0,0]
[null,null,{"$f":"+SystemizedPlant!C55","v":"SCS1_03"},{"$f":"MAX(D141:D143)+NoOne","v":22},"Software - Cust Acctng",{"$f":"SUM(G144:U144)","v":0},0,0,0,0,0,0,0,0,0,0,0,0,0,{"$f":"+SystemizedPlant!F55","v":0},0]
[]
[{"$f":"SUM(G146:U146)-F146","v":0},null," ",{"$f":"MAX(D143:D145)+NoOne","v":23},"Total Depreciation Expense",{"$f":"SUM(F138:F144)","v":1023808.2310629362},{"$f":"SUM(G138:G144)","v":380688.72902295087},289695.40295429813,0,1113.7362288841609,197848.57988688428,51909.189264606706,7406.0510190706655,13109.325765058602,24652.082063455218,28060.804224387888,9227.661727162531,9372.0138660392968,5926.8845991762437,4797.7704409617427,0]
[]
[]
[]
[null,null,null,null,null,null,null,null,null,null,null,null,null,null,null,null,null,null,null,null,"Schedule 2.6B",null,null,null,null,null,null,null,null,null,"Schedule 2.6B"]
[null,null,null,null,null,null,null,null,null,null,null,null,null,null,null,null,null,null,null,null,"Page 1 of 2",null,null,null,null,null,null,null,null,null,"Page 2 of 2"]
[]
[null,null,null,{"$f":"D5","v":"NEWFOUNDLAND AND LABRADOR HYDRO"},null,null,null,null,null,null,null,null,null,null,null,null,null,null,null,null,null,null,null,null,"NEWFOUNDLAND & LABRADOR HYDRO"]
[null,null,null,{"$f":"D6","v":"2019 Test Year Cost of Service Study"},null,null,null,null,null,null,null,null,null,null,null,null,null,null,null,null,null,null,null,null,{"$f":"RunName","v":"2019 Test Year Cost of Service Study"}]
[null,null,null,{"$f":"$B$1","v":"Island Isolated"},null,null,null,null,null,null,null,null,null,null,null,null,null,null,null,null,null,null,null,null,{"$f":"$B$1","v":"Island Isolated"}]
[null,null,null,"Functional Classification of Rate Base",null,null,null,null,null,null,null,null,null,null,null,null,null,null,null,null,null,null,null,null,{"$f":"+D156&\" (CONT'D.)\"","v":"Functional Classification of Rate Base (CONT'D.)"}]
[]
[null,null,null,null,{"$f":"MAX(D158)+NoOne","v":1},2,3,4,5,6,7,8,9,10,11,12,13,14,15,16,17,null,null,null,null,null,{"$f":"MAX(Z158)+NoOne","v":1},null,{"$f":"MAX(U158)+NoOne","v":18}]
[null,null,null,null,null,null,null,null,"","Distribution",null,null,null,null,null,null,null,null,null,null,"Specifically"]
[null,null,null,"Line",null,"Total","Production","Production","Transmission","Substations","Primary Lines",null,"Line Transformers",null,"Secondary Lines",null,"Services","Meters","Street  Lighting","Accounting","Assigned",null,null,null,null,null,"Description ",null,"Basis of Functional Classification"]
[null,null,null,"No.","Description ","Amount","Demand","Energy","Demand","Demand","Demand","Customer","Demand","Customer","Demand","Customer","Customer","Customer","Customer","Customer","Customer"]
[null,null,null,null,null,"($)","($)","($)","($)","($)","($)","($)","($)","($)","($)","($)","($)","($)","($)","($)","($)",null,null,null,null,null,{"$f":"IF(ISBLANK(E162),\"\",E162)","v":""}]
[null,null,null,null," ",null,null,null,null,null,null,null,null,null,null,null,null,null,null,null,null,null,null,null,null,null," "]
[null,null,null,{"$f":"MAX(D161:D163)+NoOne","v":1},"Average Net Book Value",{"$f":"SUM(G164:U164)","v":17495172.628719382},{"$f":"G96","v":6219723.4381030565},{"$f":"H96","v":4734019.7167813154},0,29220.3085120785,3589665.3302611383,921656.10301425727,120995.77430937457,214172.5755780896,501949.46333246061,540356.11851557472,384235.54843789013,132184.39348332581,51883.456961447642,55110.401429370082,0,null,null,null,null,null,"Average Net Book Value",null,{"$f":"+\"Sch. 2.3 , L. \"&D96","v":"Sch. 2.3 , L. 23"}]
[null,null,null,null,null," ",null,null,null,null,null,null,null,null,null,null,null,null,null,null,null,null,null,null,null,null,""]
[{"$f":"F166-SUM(G166:U166)","v":0},null,null,{"$f":"MAX(D163:D165)+NoOne","v":2},"Cash Working Capital",{"$f":"'Rate Base'!F15","v":18105.372449723443},{"$f":"IF(SUM($G$164:$U$164)<>0,$F166*(G$164/SUM($G$164:$U$164)),0)","v":6436.6560862779643},4899.1337196616123,0,30.23945976037681,3714.8663321874719,953.80179262942556,125.21588698803595,221.64252572120489,519.45654823974292,559.20275774538084,397.63698595759297,136.79474486166256,53.693057633748332,57.032552059222155,0,null,null,null,null,null,"Cash Working Capital",null,"Prorated on Average Net Book Value, L. 1"]
[null,null,null,null,null," ",null,null,null,null,null,null,null,null,null,null,null,null,null,null,null,null,null,null,null,null,""]
[null,null,null,{"$f":"MAX(D165:D167)+NoOne","v":3},"Fuel Inventory - No. 6 Fuel",0,0,0,0,0,0,0,0,0,0,0,0,0,0,0,0,null,null,null,null,null,"Fuel Inventory - No. 6 Fuel"]
[{"$f":"F169-SUM(G169:U169)","v":0},null,null,{"$f":"MAX(D166:D168)+NoOne","v":4},"Fuel Inventory - Diesel",{"$f":"'Rate Base'!F17","v":131836.61187887116},{"$f":"$F169*(G255/$F255)","v":0},131836.61187887116,0,0,0,0,0,0,0,0,0,0,0,0,0,null,null,null,null,null,"Fuel Inventory - Diesel",null,"Production - Energy"]
[null,null,null,{"$f":"MAX(D167:D169)+NoOne","v":5},"Fuel Inventory - Gas Turbine",{"$f":"'Rate Base'!F18","v":0},0,0,0,0,0,0,0,0,0,0,0,0,0,0,0,null,null,null,null,null,"Fuel Inventory - Gas Turbine"]
[null,null,null,null,null,null,null,null,null,null,null,null,null,null,null,null,null,null,null,null,null,null,null,null,null,null,""]
[{"$f":"F172-SUM(G172:U172)","v":0},null,null,{"$f":"MAX(D169:D171)+NoOne","v":6},"Inventory/Supplies",{"$f":"'Rate Base'!F19","v":201109.62174406584},{"$f":"IF(SUM($G$47:$U$47)<>0,$F172*(G$47/SUM($G$47:$U$47)),0)","v":60264.388614528587},44758.747383579452,0,540.31260426964695,49346.321429603217,13345.290519578994,2271.8894735250879,4021.433167818645,8027.7000359744598,8498.4067162497486,5485.4917990591475,2077.8244428389098,1057.3888698884189,1414.4266871514619,0,null,null,null,null,null,"Inventory/Supplies",null,{"$f":"+\"Prorated on Total Plant in Service, Sch. 2.2, L. \"&D47","v":"Prorated on Total Plant in Service, Sch. 2.2, L. 23"}]
[null,null,null,null,null," ",null,null,null,null,null,null,null,null,null,null,null,null,null,null,null,null,null,null,null,null,""]
[{"$f":"F174-SUM(G174:U174)","v":0},null,null,{"$f":"MAX(D171:D173)+NoOne","v":7},"Deferred Charges: \nForeign Exchange Loss and Regulatory Costs",{"$f":"'Rate Base'!F21","v":609866.02241068438},{"$f":"IF(SUM($G$164:$U$164)<>0,$F174*(G$164/SUM($G$164:$U$164)),0)","v":216813.97915809383},165023.68030069035,0,1018.5937403453222,125132.5130200869,32128.104906672244,4217.8041436085296,7465.863844226732,17497.507978356716,18836.329522316468,13394.106509697049,4607.8293703779,1808.6107635229516,1921.0991526893108,0,null,null,null,null,null,"Deferred Charges: \nForeign Exchange Loss and Regulatory Costs",null,"Prorated on Average Net Book Value, L. 1 "]
[null,null,null,null,null," ",null,null,null,null,null,null,null,null,null,null,null,null,null,null,null,null,null,null,null,null,""]
[{"$f":"SUM(F164:F174)-F176","v":0},null,null,{"$f":"MAX(D173:D175)+NoOne","v":8},"Total Rate Base",{"$f":"SUM(G176:U176)","v":18456090.257202718},{"$f":"SUM(G164:G174)","v":6503238.4619619576},5080537.8900641175,0,30809.454316453845,3767859.0310430159,968083.30023313791,127610.68381349623,225881.51511585616,527994.12789503147,568250.05751188635,403512.78373260389,139006.84204140428,54803.149652492757,58502.95982127008,0,null,null,null,null,null,"Total Rate Base"]
[null,null,null,null,null," ",null,null,null,null,null,null,null,null,null,null,null,null,null,null,null,null,null,null,null,null,""]
[null,null,null,{"$f":"MAX(D175:D177)+NoOne","v":9},"Less:  Rural Portion",{"$f":"SUM(G178:U178)","v":0},{"$f":"IF(RuralMarginSwitch=1,-G176,0)","v":0},0,0,0,0,0,0,0,0,0,0,0,0,0,0,null,null,null,null,null,"Less:  Rural Portion"]
[]
[null,null,null,{"$f":"MAX(D177:D179)+NoOne","v":10},"Rate Base Available for Equity Return",{"$f":"SUM(F176,F178)","v":18456090.257202718},{"$f":"SUM(G176,G178)","v":6503238.4619619576},5080537.8900641175,0,30809.454316453845,3767859.0310430159,968083.30023313791,127610.68381349623,225881.51511585616,527994.12789503147,568250.05751188635,403512.78373260389,139006.84204140428,54803.149652492757,58502.95982127008,0,null,null,null,null,null,"Rate Base Available for Equity Return"]
[]
[{"$f":"('Rate Base'!F41*F$176)-F182","v":0},null,null,{"$f":"MAX(D179:D181)+NoOne","v":11},"Return on Debt",{"$f":"SUM(G182:U182)","v":746170.72392953723},{"$f":"G176*'Rate Base'!$F41","v":262922.75793107395},{"$f":"H176*'Rate Base'!$F41","v":205403.66797898163},{"$f":"I176*'Rate Base'!$F41","v":0},{"$f":"J176*'Rate Base'!$F41","v":1245.6112053423979},{"$f":"K176*'Rate Base'!$F41","v":152332.70219626289},{"$f":"L176*'Rate Base'!$F41","v":39139.135477360796},{"$f":"M176*'Rate Base'!$F41","v":5159.2376822658416},{"$f":"N176*'Rate Base'!$F41","v":9132.2794431242983},{"$f":"O176*'Rate Base'!$F41","v":21346.544969795377},{"$f":"P176*'Rate Base'!$F41","v":22974.072562371082},{"$f":"Q176*'Rate Base'!$F41","v":16313.824962742357},{"$f":"R176*'Rate Base'!$F41","v":5619.9787989611887},{"$f":"S176*'Rate Base'!$F41","v":2215.6646006789256},{"$f":"T176*'Rate Base'!$F41","v":2365.2461205764589},{"$f":"U176*'Rate Base'!$F41","v":0},null,null,null,null,null,"Return on Debt",null,{"$f":"+\"L.\"&D176&\" x Sch.1.1,p2,L.\"&'Rate Base'!$B$32","v":"L.8 x Sch.1.1,p2,L.12"}]
[null,null,null,null,null," ",null,null,null,null,null,null,null,null,null,null,null,null,null,null,null,null,null,null,null,null,""]
[{"$f":"('Rate Base'!F42*F$176)-F184","v":0},null,null,{"$f":"MAX(D181:D183)+NoOne","v":12},"Return on Equity",{"$f":"SUM(G184:U184)","v":303056.37552122946},{"$f":"G180*'Rate Base'!$F42","v":106785.77369133189},{"$f":"H180*'Rate Base'!$F42","v":83424.461909543519},{"$f":"I180*'Rate Base'!$F42","v":0},{"$f":"J180*'Rate Base'!$F42","v":505.90354873711755},{"$f":"K180*'Rate Base'!$F42","v":61869.750608593662},{"$f":"L180*'Rate Base'!$F42","v":15896.314554312941},{"$f":"M180*'Rate Base'!$F42","v":2095.4184106902635},{"$f":"N180*'Rate Base'!$F42","v":3709.0647214157289},{"$f":"O180*'Rate Base'!$F42","v":8669.8745219840894},{"$f":"P180*'Rate Base'!$F42","v":9330.8929691690573},{"$f":"Q180*'Rate Base'!$F42","v":6625.841118584719},{"$f":"R180*'Rate Base'!$F42","v":2282.547881736733},{"$f":"S180*'Rate Base'!$F42","v":899.88961201304926},{"$f":"T180*'Rate Base'!$F42","v":960.64197311665089},{"$f":"U180*'Rate Base'!$F42","v":0},null,null,null,null,null,"Return on Equity",null,{"$f":"+\"L.\"&D180&\" x Sch.1.1,p2,L.\"&'Rate Base'!$B$36","v":"L.10 x Sch.1.1,p2,L.15"}]
[null,null,null,null,null," ",null,null,null,null,null,null,null,null,null,null,null,null,null,null,null,null,null,null,null,null,""]
[null,null,null,{"$f":"MAX(D183:D185)+NoOne","v":13},"Return on Rate Base",{"$f":"SUM(G186:U186)","v":1049227.0994507666},{"$f":"SUM(G182:G184)","v":369708.53162240586},{"$f":"SUM(H182:H184)","v":288828.12988852512},0,1751.5147540795153,214202.45280485656,55035.450031673739,7254.6560929561056,12841.344164540027,30016.419491779467,32304.96553154014,22939.666081327076,7902.5266806979216,3115.554212691975,3325.88809369311,0,null,null,null,null,null,"Return on Rate Base"]
[null,null,null,null,null,null,null,null,null,null,null,null,null,null,null,null,null,null,null,null,null,null,null,null,null,null,""]
[]
[null,null,null,null,null,null,null,null,null,null,null,null,null,null,null,null,null,null,null,null,"Schedule 2.4B",null,null,null,null,null,null,null,null,null,"Schedule 2.4B"]
[null,null,null,null,null,null,null,null,null,null,null,null,null,null,null,null,null,null,null,null,"Page 1 of 2",null,null,null,null,null,"",null,null,null,"Page 2 of 2"]
[null,null,null,{"$f":"D5","v":"NEWFOUNDLAND AND LABRADOR HYDRO"},null,null,null,null,null,null,null,null,null,null,null,null,null,null,null,null,null,null,null,null,"NEWFOUNDLAND & LABRADOR HYDRO"]
[null,null,null,{"$f":"D6","v":"2019 Test Year Cost of Service Study"},null,null,null,null,null,null,null,null,null,null,null,null,null,null,null,null,null,null,null,null,{"$f":"+RunName","v":"2019 Test Year Cost of Service Study"}]
[null,null,null,{"$f":"$B$1","v":"Island Isolated"},null,null,null,null,null,null,null,null,null,null,null,null,null,null,null,null,null,null,null,null,{"$f":"$B$1","v":"Island Isolated"}]
[null,null,null,"Functional Classification of Operating & Maintenance Expense",null,null,null,null,null,null,null,null,null,null,null,null,null,null,null,null,null,null,null,null,{"$f":"+D194&\" (CONT'D.)\"","v":"Functional Classification of Operating & Maintenance Expense (CONT'D.)"}]
[null,null,null,null,null,null,null,null,null,null,null,null,null,null,null,null,null,null,null,null,null,null,null,null,null,null,""]
[null,null,null,null,{"$f":"MAX(D196)+NoOne","v":1},2,3,4,5,6,7,8,9,10,11,12,13,14,15,16,17,null,null,null,null,null,{"$f":"MAX(Z196)+NoOne","v":1},null,{"$f":"MAX(U196)+NoOne","v":18},{"$f":"MAX(AC196)+NoOne","v":19},{"$f":"MAX(AD196)+NoOne","v":20}]
[null,null,null,null,null,null,null,null,"","Distribution",null,null,null,null,null,null,null,null,null,null,"Specifically",null,null,null,null,null,"",null,"Revenue Related"]
[null,null,null,"Line",null,"Total","Production","Production","Transmission","Substations","Primary Lines",null,"Line Transformers",null,"Secondary Lines",null,"Services","Meters","Street  Lighting","Accounting","Assigned",null,null,null,null,null,"",null,"Municipal","PUB "]
[null,null,null,"No.","Description ","Amount","Demand","Energy","Demand","Demand","Demand","Customer","Demand","Customer","Demand","Customer","Customer","Customer","Customer","Customer","Customer",null,null,null,null,null,"Description ",null,"Tax","Assessment","Basis of Functional Classification"]
[null,null,null,null,null,"($)","($)","($)","($)","($)","($)","($)","($)","($)","($)","($)","($)","($)","($)","($)","($)",null,null,null,null,null,""]
[]
[null,null,null,null,"Production",null,null,null,null,null,null,null,null,null,null,null,null,null,null,null,null,null,null,null,null,null,"Production"]
[null,null,null,{"$f":"MAX(D200:D202)+NoOne","v":1},"Diesel",{"$f":"+'O&M Summary'!G19","v":3068311.8025499997},{"$f":"$F203*'Schedule 4.1'!$D$18","v":1730252.2326089095},{"$f":"$F203*'Schedule 4.1'!$E$18","v":1338059.5699410902},0,0,0,0,0,0,0,0,0,0,0,0,0,null,null,null,null,null,"Diesel",null,0,0,{"$f":"\"Production - Demand, Energy ratios Sch.4.1 L\"&'Schedule 4.1'!$A$18","v":"Production - Demand, Energy ratios Sch.4.1 L6"}]
[null,null,null,{"$f":"MAX(D201:D203)+NoOne","v":2},"Other",{"$f":"'O&M Summary'!G21","v":377119.03847500001},{"$f":"$F204*'Schedule 4.1'!$D$18","v":212661.2613941021},{"$f":"$F204*'Schedule 4.1'!$E$18","v":164457.77708089791},0,0,0,0,0,0,0,0,0,0,0,0,0,null,null,null,null,null,"Other",null,0,null,{"$f":"\"Production - Demand, Energy ratios Sch.4.1 L\"&'Schedule 4.1'!$A$18","v":"Production - Demand, Energy ratios Sch.4.1 L6"}]
[{"$f":"SUM(G205:AD205)-F205","v":0},null,null,{"$f":"MAX(D202:D204)+NoOne","v":3},"Subtotal Production",{"$f":"SUM(F203:F204)","v":3445430.8410249995},1942913.4940030116,1502517.3470219881,0,0,0,0,0,0,0,0,0,0,0,0,0,null,null,null,null,null,"Subtotal Production",null,{"$f":"SUM(AC203:AC204)","v":0},{"$f":"SUM(AD203:AD204)","v":0}]
[null,null,null,null,null,null,null,null,null,null,null,null,null,null,null,null,null,null,null,null,null,null,null,null,null,null,""]
[null,null,null,null,"Transmission",null,null,null,null,null,null,null,null,null,null,null,null,null,null,null,null,null,null,null,null,null,"Transmission"]
[null,null,null,{"$f":"MAX(D205:D207)+NoOne","v":4},"Transmission Lines",{"$f":"+'O&M Summary'!G26","v":0},{"$f":"IF(SUM($F$22)<>0,$F208*(G22/$F$22),0)","v":0},0,0,0,0,0,0,0,0,0,0,0,0,0,0,null,null,null,null,null,"Transmission Lines",null,0,0,{"$f":"+\"Prorated on Transmission Lines Plant in Service - Sch.2.2  L.\"&D22","v":"Prorated on Transmission Lines Plant in Service - Sch.2.2  L.3"}]
[null,null,null,{"$f":"MAX(D206:D208)+NoOne","v":5},"Terminal Stations",{"$f":"+'O&M Summary'!G30","v":0},{"$f":"IF(SUM($G$23:$U$23)<>0,$F209*G23/SUM($G$23:$U$23),0)","v":0},0,0,0,0,0,0,0,0,0,0,0,0,0,0,null,null,null,null,null,"Terminal Stations",null,0,0,{"$f":"+\"Prorated on Transmission Terminal Stations Plant in Service - Sch.2.2  L.\"&D23","v":"Prorated on Transmission Terminal Stations Plant in Service - Sch.2.2  L.4"}]
[null,null,null,{"$f":"MAX(D207:D209)+NoOne","v":6},"Other",{"$f":"'O&M Summary'!G31+'O&M Summary'!G33","v":0},{"$f":"IF($G$24<>0,($F210*G24/$F$24),0)","v":0},0,0,0,0,0,0,0,0,0,0,0,0,0,0,null,null,null,null,null,{"$f":"IF(ISBLANK(E210),\"\",E210)","v":"Other"},null,0,0,{"$f":"+\"Prorated on Transmission Plant in Service - Sch.2.2 L.\"&$D$24","v":"Prorated on Transmission Plant in Service - Sch.2.2 L.5"}]
[{"$f":"SUM(G211:AD211)-F211","v":0},null,null,{"$f":"MAX(D208:D210)+NoOne","v":7},"Subtotal Transmission",{"$f":"SUM(F208:F210)","v":0},{"$f":"SUM(G208:G210)","v":0},0,0,0,0,0,0,0,0,0,0,0,0,0,0,null,null,null,null,null,"Subtotal Transmission",null,{"$f":"SUM(AC208:AC209)","v":0},{"$f":"SUM(AD208:AD209)","v":0}]
[null,null,null,null,null,null,null,null,null,null,null,null,null,null,null,null,null,null,null,null,null,null,null,null,null,null,""]
[null,null,null,null,"Distribution",null,null,null,null,null,null,null,null,null,null,null,null,null,null,null,null,null,null,null,null,null,"Distribution"]
[null,"P-DisxMet",null,{"$f":"MAX(D211:D213)+NoOne","v":8},"Other",{"$f":"+'O&M Summary'!G39","v":488971.33925799996},{"$f":"$F214*VLOOKUP($B214,RatiosIslIso,G$434,FALSE)","v":12286.491968874283},0,0,2781.5860493138284,254040.04679675988,68702.95758411639,11695.925683026546,20702.760419540064,41327.443135120462,43750.690575261877,28239.888059826826,0,5443.5489861596943,0,0,null,null,null,null,null,"Other",null,0,0,{"$f":"+\"Prorated on Distribution Plant, excluding Meters - Sch. 2.2 L. \"&D37&\", less L. \"&D35","v":"Prorated on Distribution Plant, excluding Meters - Sch. 2.2 L. 16, less L. 14"}]
[null,null,null,{"$f":"MAX(D212:D214)+NoOne","v":9},"Meters",{"$f":"+'O&M Summary'!G43","v":6889.3054832909884},{"$f":"$F215*'Schedule 4.1'!D73","v":0},{"$f":"$F215*'Schedule 4.1'!E73","v":0},{"$f":"$F215*'Schedule 4.1'!G73","v":0},{"$f":"$F215*'Schedule 4.1'!J73","v":0},{"$f":"$F215*'Schedule 4.1'!K73","v":0},{"$f":"$F215*'Schedule 4.1'!L73","v":0},{"$f":"$F215*'Schedule 4.1'!M73","v":0},{"$f":"$F215*'Schedule 4.1'!N73","v":0},{"$f":"$F215*'Schedule 4.1'!O73","v":0},{"$f":"$F215*'Schedule 4.1'!P73","v":0},{"$f":"$F215*'Schedule 4.1'!Q73","v":0},{"$f":"$F215*'Schedule 4.1'!R73","v":6889.3054832909884},{"$f":"$F215*'Schedule 4.1'!S73","v":0},{"$f":"$F215*'Schedule 4.1'!T73","v":0},{"$f":"$F215*'Schedule 4.1'!U73","v":0},null,null,null,null,null,"Meters",null,0,0,"Meters - Customer"]
[{"$f":"SUM(G216:AD216)-F216","v":0},null,null,{"$f":"MAX(D213:D215)+NoOne","v":10},"Subtotal Distribution",{"$f":"SUM(F214:F215)","v":495860.64474129095},{"$f":"SUM(G214:G215)","v":12286.491968874283},0,0,2781.5860493138284,254040.04679675988,68702.95758411639,11695.925683026546,20702.760419540064,41327.443135120462,43750.690575261877,28239.888059826826,6889.3054832909884,5443.5489861596943,0,0,null,null,null,null,null,"Subtotal Distribution",null,{"$f":"SUM(AC214:AC215)","v":0},{"$f":"SUM(AD214:AD215)","v":0}]
[null,null,null,null,null,null,null,null,null,null,null,null,null,null,null,null,null,null,null,null,null,null,null,null,null,null,""]
[{"$f":"SUM(G218:AD218)-F218","v":0},null,null,{"$f":"MAX(D215:D217)+NoOne","v":11},"Subttl Prod, Trans, & Dist",{"$f":"SUM(F216,F211,F205)","v":3941291.4857662907},{"$f":"SUM(G216,G211,G205)","v":1955199.985971886},1502517.3470219881,0,2781.5860493138284,254040.04679675988,68702.95758411639,11695.925683026546,20702.760419540064,41327.443135120462,43750.690575261877,28239.888059826826,6889.3054832909884,5443.5489861596943,0,0,null,null,null,null,null,"Subttl Prod, Trans, & Dist",null,{"$f":"SUM(AC216,AC211,AC205)","v":0},{"$f":"SUM(AD216,AD211,AD205)","v":0}]
[null,null,null,null,null,null,null,null,null,null,null,null,null,null,null,null,null,null,null,null,null,null,null,null,null,null,""]
[null,null,null,{"$f":"MAX(D217:D219)+NoOne","v":12},"Customer Accounting",{"$f":"+'O&M Summary'!G53","v":125552.90292920472},{"$f":"$F220*'Schedule 4.1'!D$75","v":0},{"$f":"$F220*'Schedule 4.1'!E$75","v":0},{"$f":"$F220*'Schedule 4.1'!G$75","v":0},{"$f":"$F220*'Schedule 4.1'!J$75","v":0},{"$f":"$F220*'Schedule 4.1'!K$75","v":0},{"$f":"$F220*'Schedule 4.1'!L$75","v":0},{"$f":"$F220*'Schedule 4.1'!M$75","v":0},{"$f":"$F220*'Schedule 4.1'!N$75","v":0},{"$f":"$F220*'Schedule 4.1'!O$75","v":0},{"$f":"$F220*'Schedule 4.1'!P$75","v":0},{"$f":"$F220*'Schedule 4.1'!Q$75","v":0},{"$f":"$F220*'Schedule 4.1'!R$75","v":0},{"$f":"$F220*'Schedule 4.1'!S$75","v":0},{"$f":"$F220*'Schedule 4.1'!T$75","v":125552.90292920472},{"$f":"$F220*'Schedule 4.1'!U$75","v":0},null,null,null,null,null,"Customer Accounting",null,0,0,"Accounting - Customer"]
[null,null,null,null,null,null,null,null,null,null,null,null,null,null,null,null,null,null,null,null,null,null,null,null,null,null,""]
[null,null,null,null,"Administrative & General:",null,null,null,null,null,null,null,null,null,null,null,null,null,null,null,null,null,null,null,null,null,"Administrative & General:"]
[null,null," "," ","Plant-Related:",null,null,null,null,null,null,null,null,null,null,null,null,null,null,null,null,null,null,null,null,null,"Plant-Related:"]
[null,null,null,{"$f":"MAX(D220:D223)+NoOne","v":13},"Production",{"$f":"+'O&M Summary'!G79","v":472809.39753999992},{"$f":"IF($F$19<>0,$F224*(G19/$F$19),0)","v":266622.02811727684},206187.36942272313,0,0,0,0,0,0,0,0,0,0,0,0,0,null,null,null,null,null,"Production",null,0,0,{"$f":"+\"Prorated on Production Plant in Service - Sch.2.2 L.\"&D19","v":"Prorated on Production Plant in Service - Sch.2.2 L.2"}]
[null,null,null,{"$f":"MAX(D222:D224)+NoOne","v":14},"Transmission  ",{"$f":"+'O&M Summary'!G86","v":0},{"$f":"IF($F$24<>0,$F225*(G24/$F$24),0)","v":0},0,0,0,0,0,0,0,0,0,0,0,0,0,0,null,null,null,null,null,"Transmission  ",null,0,0,{"$f":"+\"Prorated on Transmission Plant in Service - Sch.2.2 L.\"&D24","v":"Prorated on Transmission Plant in Service - Sch.2.2 L.5"}]
[null,null,null,15,"Distribution  ",{"$f":"+'O&M Summary'!G87","v":400642.01075999992},{"$f":"IF($F$37<>0,$F226*(G37/$F$37),0)","v":9846.887520683169},0,0,2229.2746396678981,203597.88399275509,55061.306138715881,9373.5840093975876,16592.022664833959,33121.470725727944,35063.558429712517,22632.579097943799,8760.7650220853557,4362.6785184766259,0,0,null,null,null,null,null,"Distribution  ",null,0,0,{"$f":"+\"Prorated on Distribution Plant in Service - Sch.2.2 L.\"&D37","v":"Prorated on Distribution Plant in Service - Sch.2.2 L.16"}]
[null,null,null,16,"Prod, Trans, Distn Plant",{"$f":"+'O&M Summary'!G94","v":289834.38400000002},{"$f":"IF($F$39<>0,$F227*(G39/$F$39),0)","v":71365.580198777243},51944.450525654436,0,949.9312953733762,86756.471470616219,23462.545589758454,3994.2412845394019,7070.1390050434293,14113.613922351562,14941.1700500477,9644.1213646753658,3733.1088407891634,1859.0104523736402,0,0,null,null,null,null,null,"Prod, Trans, Distn Plant",null,0,0,{"$f":"+\"Prorated on Production, Transmission & Distribution Plant in Service - Sch.2.2 L.\"&D39","v":"Prorated on Production, Transmission & Distribution Plant in Service - Sch.2.2 L.17"}]
[null,null,null,17,"Prod, Trans, Distn and Gen Plt",{"$f":"+'O&M Summary'!G92","v":1092.7635368359065},{"$f":"IF($F$47<>0,$F228*(G47/$F$47),0)","v":327.45686594484874},243.2043115145901,0,2.935880975352394,268.13167996446612,72.513919233743209,12.34470014343208,21.851145129232957,43.619881574502706,46.177546853215752,29.806358182368317,11.290214597341821,5.7455033292273878,7.6855293935847353,0,null,null,null,null,null,{"$f":"IF(ISBLANK(E228),\"\",E228)","v":"Prod, Trans, Distn and Gen Plt"},null,0,0,{"$f":"+\"Prorated on Production, Transmission, Distribution & General Plant in Service - Sch.2.2 L.\"&$D$47","v":"Prorated on Production, Transmission, Distribution & General Plant in Service - Sch.2.2 L.23"}]
[null,null,null,18,"Property Insurance",{"$f":"+'O&M Summary'!G98","v":13852.303574073154},{"$f":"IF(SUM($F$19,$F$23,$F$27,$F$41:$F$42)<>0,$F229*((SUM(G$19,G$23,G$27,G$41:G$42)/SUM($F$19,$F$23,$F$27,$F$41:$F$42))),0)","v":7427.2593718626204},5516.3110993437222,0,66.579477452009726,352.83638967916431,95.421583407492747,16.244478947275702,28.754077693377209,57.399713211881085,60.765363190535076,39.222399277640676,9.5685609602567023,7.5605488014055853,174.38051024577351,0,null,null,null,null,null,{"$f":"IF(ISBLANK(E229),\"\",E229)","v":"Property Insurance"},null,0,0,{"$f":"+\"Prorated on Prod., Trans. Terminal, Dist. Sub & General Plant in Service - Sch.2.2  L.\"&D19&\", \"&D23&\", \"&D27&\", \"&D41&\" - \"&D42","v":"Prorated on Prod., Trans. Terminal, Dist. Sub & General Plant in Service - Sch.2.2  L.2, 4, 6, 18 - 19"}]
[null,null,null,19,"Revenue Related:"," ",null,null,null,null,null,null,null,null,null,null,null,null,null,null,null,null,null,null,null,null,"Revenue Related:"]
[null,null,null,20,"Municipal Tax",{"$f":"+'O&M Summary'!G102","v":40242.707803937454},0,0,0,0,0,0,0,0,0,0,0,0,0,0,0,null,null,null,null,null,{"$f":"IF(ISBLANK(E231),\"\",E231)","v":"Municipal Tax"},null,{"$f":"+F231","v":40242.707803937454},0,"Revenue-related"]
[null,null,null,21,"PUB Assessment",{"$f":"+'O&M Summary'!G106","v":2858.2660257737034},0,0,0,0,0,0,0,0,0,0,0,0,0,0,0,null,null,null,null,null,{"$f":"IF(ISBLANK(E232),\"\",E232)","v":"PUB Assessment"},null,0,{"$f":"+F232","v":2858.2660257737034},"Revenue-related"]
[null,{"$f":"IF(OverheadAlloc=\"Expenses\",\"E-GTDC\",\"L-GTDC\")","v":"E-GTDC"},null,22,"All Expense-Related",{"$f":"+'O&M Summary'!G66","v":1817316.9356677965},{"$f":"$F233*VLOOKUP($B233,RatiosIslIso,G$434,FALSE)","v":873703.96000420803},671417.43324818334,0,1242.9842286286193,113520.76333800411,30700.719382117844,5226.461056921341,9251.2704026945612,18467.650871046328,19550.507305023439,12619.323959171217,3078.5666559004317,2432.5134716694929,56104.78174422789,0,null,null,null,null,null,{"$f":"IF(ISBLANK(E233),\"\",E233)","v":"All Expense-Related"},null,0,0,{"$f":"+\"Prorated on Subtotal Production, Transmission, Distribution, Accounting Expenses - L.\"&$D$218&\", \"&$D$220","v":"Prorated on Subtotal Production, Transmission, Distribution, Accounting Expenses - L.11, 12"}]
[null,{"$f":"IF(OverheadAlloc=\"Expenses\",\"E-GTD\",\"L-GTD\")","v":"E-GTD"},null,23,"Prod, Trans, and Distn Expense-Related ",{"$f":"+'O&M Summary'!G70","v":96402.386983260876},47823.396558725057,36750.963297127018,0,68.036463611382899,6213.7162371753475,1680.4464038850035,286.07758596250244,506.38110091423556,1010.8524529405579,1070.1240998929247,690.73617796073495,168.50961052858835,133.14699453752149,0,0,null,null,null,null,null,{"$f":"IF(ISBLANK(E234),\"\",E234)","v":"Prod, Trans, and Distn Expense-Related "},null,0,0,{"$f":"+\"Prorated on Subtotal Production, Transmission, Distribution Expenses - L.\"&D218","v":"Prorated on Subtotal Production, Transmission, Distribution Expenses - L.11"}]
[{"$f":"SUM(G235:AD235)-F235","v":0},null,null,24,"Subtotal Admin & General",{"$f":"SUM(F224:F234)","v":3135051.1558916778},{"$f":"SUM(G224:G234)","v":1277116.5686374779},972059.73190454626,0,4559.7419857086388,410709.80310819444,111072.95301711842,18908.953115911539,33470.4183963088,66814.607566852777,70732.302794720337,45655.789357211128,15761.808904861138,8800.6554891879132,56286.847783867248,0,null,null,null,null,null,"Subtotal Admin & General",null,{"$f":"SUM(AC224:AC234)","v":40242.707803937454},{"$f":"SUM(AD224:AD234)","v":2858.2660257737034}]
[{"$f":"SUM(G236:AD236)-F236","v":0},null," ",25,"Total Operating & Maintenance Expenses",{"$f":"SUM(F235,F220,F218)","v":7201895.5445871726},3232316.5546093639,2474577.0789265344,0,7341.3280350224668,664749.84990495432,179775.91060123482,30604.878798938087,54173.178815848863,108142.05070197323,114482.99336998221,73895.67741703795,22651.114388152128,14244.204475347608,181839.75071307196,0,null,null,null,null,null,"Total Operating & Maintenance Expenses",null,{"$f":"SUM(AC235,AC220,AC218)","v":40242.707803937454},{"$f":"SUM(AD235,AD220,AD218)","v":2858.2660257737034}]
[null,null,null,null,null,null,null,null,null,null,null,null,null,null,null,null,null,null,null,null,null,null,null,null,null,null,""]
[null,null,null,null,null,null,null,null,null,null,null,null,null,null,null,null,null,null,null,null,"Schedule 2.1B",null,null,null,null,null,"",null,null,null,"Schedule 2.1B"]
[null,null,null,null,null,null,null,null,null,null,null,null,null,null,null,null,null,null,null,null,"Page 1 of 2",null,null,null,null,null,"",null,null,null,"Page 2 of 2"]
[null,null,null,null,null,null,null,null,null,null,null,null,null,null,null,null,null,null,null,null,null,null,null,null,null,null,""]
[null,null,null,{"$f":"D5","v":"NEWFOUNDLAND AND LABRADOR HYDRO"},null,null,null,null,null,null,null,null,null,null,null,null,null,null,null,null,null,null,null,null,"NEWFOUNDLAND & LABRADOR HYDRO"]
[null,null,null,{"$f":"D6","v":"2019 Test Year Cost of Service Study"},null,null,null,null,null,null,null,null,null,null,null,null,null,null,null,null,null,null,null,null,{"$f":"+RunName","v":"2019 Test Year Cost of Service Study"}]
[null,null,null,{"$f":"$B$1","v":"Island Isolated"},null,null,null,null,null,null,null,null,null,null,null,null,null,null,null,null,null,null,null,null,{"$f":"$B$1","v":"Island Isolated"}]
[null,null,null,"Functional Classification of Revenue Requirement",null,null,null,null,null,null,null,null,null,null,null,null,null,null,null,null,null,null,null,null,{"$f":"+D244&\" (CONT'D.)\"","v":"Functional Classification of Revenue Requirement (CONT'D.)"}]
[null,null,null,null,null,null,null,null,null,null,null,null,null,null,null,null,null,null,null,null,null,null,null,null,null,null,""]
[null,null,null,null,{"$f":"MAX(D246)+NoOne","v":1},2,3,4,5,6,7,8,9,10,11,12,13,14,15,16,17,null,null,null,null,null,{"$f":"MAX(Z246)+NoOne","v":1},null,{"$f":"MAX(U246)+NoOne","v":18},{"$f":"MAX(AC246)+NoOne","v":19},{"$f":"MAX(AD246)+NoOne","v":20}]
[null,null,null,null,null,null,null,null,"","Distribution",null,null,null,null,null,null,null,null,null,null,"Specifically",null,null,null,null,null,"",null,"Revenue Related"]
[null,null,null,"Line",null,"Total","Production","Production","Transmission","Substations","Primary Lines",null,"Line Transformers",null,"Secondary Lines",null,"Services","Meters","Street  Lighting","Accounting","Assigned",null,null,null,null,null,"",null,"Municipal","PUB "]
[null,null,null,"No.","Description ","Amount","Demand","Energy","Demand","Demand","Demand","Customer","Demand","Customer","Demand","Customer","Customer","Customer","Customer","Customer","Customer",null,null,null,null,null,"Description ",null,"Tax","Assessment","Basis of Functional Classification"]
[null,null,null,null,null,"($)","($)","($)","($)","($)","($)","($)","($)","($)","($)","($)","($)","($)","($)","($)","($)",null,null,null,null,null,""]
[null,null,null,null,null,null,null,null,null,null,null,null,null,null,null,null,null,null,null,null,null,null,null,null,null,null,""]
[null,null,null,null,"Expenses",null,null,null,null,null,null,null,null,null,null,null,null,null,null,null,null,null,null,null,null,null,"Expenses"]
[null,null,null,{"$f":"MAX(D250:D252)+NoOne","v":1},"Operating & Maintenance",{"$f":"SUM(G253:AD253)","v":7201895.5445871735},{"$f":"G$236","v":3232316.5546093639},{"$f":"H$236","v":2474577.0789265344},0,7341.3280350224668,664749.84990495432,179775.91060123482,30604.878798938087,54173.178815848863,108142.05070197323,114482.99336998221,73895.67741703795,22651.114388152128,14244.204475347608,181839.75071307196,0,null,null,null,null,null,"Operating & Maintenance",null,{"$f":"AC$236","v":40242.707803937454},{"$f":"AD$236","v":2858.2660257737034},{"$f":"+\"Carryforward from Sch.2.4 L.\"&D236","v":"Carryforward from Sch.2.4 L.25"}]
[null,null,"FUEL1",2,"Fuels",0,0,0,0,0,0,0,0,0,0,0,0,0,0,0,0,null,null,null,null,null,"Fuels",null,0,0,"Production - Energy"]
[null,null,"FUEL2",3,"Fuels-Diesel",2641700,{"$f":"$F255*'Schedule 4.1'!D$27","v":0},{"$f":"$F255*'Schedule 4.1'!E$27","v":2641700},0,0,0,0,0,0,0,0,0,0,0,0,0,null,null,null,null,null,"Fuels-Diesel",null,0,0,"Production - Energy"]
[null,null,"FUEL3",4,"Fuels-Gas Turbine",0,{"$f":"$F256*'Schedule 4.1'!D$27","v":0},{"$f":"$F256*'Schedule 4.1'!E$27","v":0},0,0,0,0,0,0,0,0,0,0,0,0,0,null,null,null,null,null,"Fuels-Gas Turbine",null,0,0,"Production - Energy"]
[null,null,null,5,"Power Purchases -CF(L)Co",{"$f":"SUM(G257:AD257)","v":0},0,0,0,0,0,0,0,0,0,0,0,0,0,0,0,null,null,null,null,null,"Power Purchases -CF(L)Co",null,0,0]
[null,null,null,6,"Power Purchases-Other",{"$f":"SUM(G258:AD258)","v":227200},{"$f":"'Schedules 4.2,4.3,4.4'!W$44","v":0},{"$f":"+'Schedules 4.2,4.3,4.4'!V38","v":227200},{"$f":"'Schedules 4.2,4.3,4.4'!Z$44","v":0},0,0,0,0,0,0,0,0,0,0,0,0,null,null,null,null,null,"Power Purchases-Other",null,0,0]
[null,null,null,7,"Depreciation",{"$f":"SUM(G259:AD259)","v":1023808.2310629364},{"$f":"G$146","v":380688.72902295087},289695.40295429813,0,1113.7362288841609,197848.57988688428,51909.189264606706,7406.0510190706655,13109.325765058602,24652.082063455218,28060.804224387888,9227.661727162531,9372.0138660392968,5926.8845991762437,4797.7704409617427,0,null,null,null,null,null,"Depreciation",null,{"$f":"AC$146","v":0},{"$f":"AD$146","v":0},{"$f":"+\"Carryforward from Sch.2.5 L.\"&D146","v":"Carryforward from Sch.2.5 L.23"}]
[null,null,null,null,null,null,null,null,null,null,null,null,null,null,null,null,null,null,null,null,null,null,null,null,null,null,""]
[null,null,null,null,"Expense Credits",null,null,null,null,null,null,null,null,null,null,null,null,null,null,null,null,null,null,null,null,null,"Expense Credits"]
[null,null,null,{"$f":"MAX(D259:D261)+NoOne","v":8},"Sundry ",{"$f":"-AllocMisc!G26","v":-22596.691056280444},{"$f":"IF(SUM($G$236:$AD$236)<>0,$F262*(G$236/SUM($G$236:$AD$236)),0)","v":-10141.727011787061},-7764.2411503013673,0,-23.034174895093148,-2085.7213069829509,-564.06548610258369,-96.02596799036931,-169.97394334029363,-339.30685258851247,-359.20221507849971,-231.85531956824323,-71.070210716154193,-44.692662630164193,-570.54099759924702,0,null,null,null,null,null,"Sundry ",null,{"$f":"IF(SUM($G$236:$AD$236)<>0,$F262*(AC$236/SUM($G$236:$AD$236)),0)","v":-126.26565185289235},{"$f":"IF(SUM($G$236:$AD$236)<>0,$F262*(AD$236/SUM($G$236:$AD$236)),0)","v":-8.9681048470098528},{"$f":"+\"Prorated on Total Operating & Maintenance Expenses - Sch 2.4 L.\"&$D$236","v":"Prorated on Total Operating & Maintenance Expenses - Sch 2.4 L.25"}]
[null,null,"EXPCR9",9,"Building Rental Income",0,{"$f":"$F263*(G39/SUM($G$39:$U$39))","v":0},0,0,0,0,0,0,0,0,0,0,0,0,0,0,null,null,null,null,null,"Building Rental Income",null,0,0,{"$f":"+\"Prorated on Production, Transmission & Distribution Plant - Sch.2.2 L.\"&D39","v":"Prorated on Production, Transmission & Distribution Plant - Sch.2.2 L.17"}]
[null,null,null,10,"Tax Refunds",{"$f":"-AllocMisc!G29","v":0},{"$f":"IF(SUM($G$236:$AD$236)<>0,$F264*(G$236/SUM($G$236:$AD$236)),0)","v":0},0,0,0,0,0,0,0,0,0,0,0,0,0,0,null,null,null,null,null,"Tax Refunds",null,{"$f":"IF(SUM($G$236:$AD$236)<>0,$F264*(AC$236/SUM($G$236:$AD$236)),0)","v":0},{"$f":"IF(SUM($G$236:$AD$236)<>0,$F264*(AD$236/SUM($G$236:$AD$236)),0)","v":0},{"$f":"+\"Prorated on Total Operating & Maintenance Expenses - Sch 2.4 L.\"&$D$236","v":"Prorated on Total Operating & Maintenance Expenses - Sch 2.4 L.25"}]
[null,null,null,11,"Suppliers' Discounts",{"$f":"-AllocMisc!G32","v":-1962.3442233085648},-880.72892470782369,-674.26304726301339,0,-2.0003362408896681,-181.12842929062467,-48.984634319434889,-8.3390972202162814,-14.760895079551814,-29.466121409002398,-31.193876572606552,-20.134804067768492,-6.1718867200870742,-3.8812049126195216,-49.546981370460927,0,null,null,null,null,null,"Suppliers' Discounts",null,{"$f":"IF(SUM($G$236:$AD$236)<>0,$F265*(AC$236/SUM($G$236:$AD$236)),0)","v":-10.965175029330124},{"$f":"IF(SUM($G$236:$AD$236)<>0,$F265*(AD$236/SUM($G$236:$AD$236)),0)","v":-0.77880910513506618},{"$f":"+\"Prorated on Total Operating & Maintenance Expenses - Sch 2.4 L.\"&$D$236","v":"Prorated on Total Operating & Maintenance Expenses - Sch 2.4 L.25"}]
[null,null,"EXPCR5",12,"Pole Attachments",-23750,{"$f":"$F266*'Schedule 4.1'!D67","v":0},{"$f":"$F266*'Schedule 4.1'!E67","v":0},{"$f":"$F266*'Schedule 4.1'!G67","v":0},{"$f":"$F266*'Schedule 4.1'!J67","v":0},{"$f":"$F266*'Schedule 4.1'!K67","v":-13735.764999999999},{"$f":"$F266*'Schedule 4.1'!L67","v":-4694.2350000000006},{"$f":"$F266*'Schedule 4.1'!M67","v":0},{"$f":"$F266*'Schedule 4.1'!N67","v":0},{"$f":"$F266*'Schedule 4.1'!O67","v":-2431.2399999999998},{"$f":"$F266*'Schedule 4.1'!P67","v":-2888.76},{"$f":"$F266*'Schedule 4.1'!Q67","v":0},{"$f":"$F266*'Schedule 4.1'!R67","v":0},{"$f":"$F266*'Schedule 4.1'!S67","v":0},{"$f":"$F266*'Schedule 4.1'!T67","v":0},{"$f":"$F266*'Schedule 4.1'!U67","v":0},null,null,null,null,null,"Pole Attachments",null,{"$f":"$F266*'Schedule 4.1'!AC67","v":0},{"$f":"$F266*'Schedule 4.1'!AD67","v":0},{"$f":"+\"Prorated on Distribution Poles - Sch.4.1 L.\"&'Schedule 4.1'!$A$67","v":"Prorated on Distribution Poles - Sch.4.1 L.37"}]
[null,null,"EXPCR6",13,"Secondary Energy Revenues",0,0,{"$f":"F267","v":0},0,0,0,0,0,0,0,0,0,0,0,0,0,null,null,null,null,null,"Secondary Energy Revenues",null,0,0,"Production - Energy"]
[null,null,"EXPCR7",14,"Wheeling Revenues",0,{"$f":"$F268*'Schedule 4.1'!D$36","v":0},{"$f":"$F268*'Schedule 4.1'!E$36","v":0},{"$f":"$F268*'Schedule 4.1'!G$36","v":0},{"$f":"$F268*'Schedule 4.1'!J$36","v":0},{"$f":"$F268*'Schedule 4.1'!K$36","v":0},{"$f":"$F268*'Schedule 4.1'!L$36","v":0},{"$f":"$F268*'Schedule 4.1'!M$36","v":0},{"$f":"$F268*'Schedule 4.1'!N$36","v":0},{"$f":"$F268*'Schedule 4.1'!O$36","v":0},{"$f":"$F268*'Schedule 4.1'!P$36","v":0},{"$f":"$F268*'Schedule 4.1'!Q$36","v":0},{"$f":"$F268*'Schedule 4.1'!R$36","v":0},{"$f":"$F268*'Schedule 4.1'!S$36","v":0},{"$f":"$F268*'Schedule 4.1'!T$36","v":0},{"$f":"$F268*'Schedule 4.1'!U$36","v":0},null,null,null,null,null,"Wheeling Revenues",null,{"$f":"$F268*'Schedule 4.1'!AC$36","v":0},{"$f":"$F268*'Schedule 4.1'!AD$36","v":0},{"$f":"+\"Transmission - Demand, Energy ratios Sch.4.1 L.\"&'Schedule 4.1'!A32","v":"Transmission - Demand, Energy ratios Sch.4.1 L.16"}]
[null,null,"EXPCR8",15,"Application Fees",-300,0,0,0,0,0,0,0,0,0,0,0,0,0,{"$f":"+F269","v":-300},0,null,null,null,null,null,"Application Fees",null,0,0,"Accounting - Customer"]
[null,null,null,16,"Meter Test Revenues",{"$f":"-AllocMisc!G38","v":0},0,0,0,0,0,0,0,0,0,0,0,{"$f":"+F270","v":0},0,0,0,null,null,null,null,null,{"$f":"IF(ISBLANK(E270),\"\",E270)","v":"Meter Test Revenues"},null,0,0,"Meters - Customer"]
[{"$f":"SUM(G271:AD271)-F271","v":0},null,null,17,"    Total Expense Credits",{"$f":"SUM(F262:F270)","v":-48609.035279589007},-11022.455936494885,-8438.5041975643799,0,-25.034511135982818,-16002.614736273576,-5307.2851204220187,-104.36506521058558,-184.73483841984543,-2800.0129739975146,-3279.1560916511066,-251.99012363601173,-77.242097436241266,-48.573867542783717,-920.08797896970793,0,null,null,null,null,null,"    Total Expense Credits",null,{"$f":"SUM(AC262:AC270)","v":-137.23082688222246},{"$f":"SUM(AD262:AD270)","v":-9.7469139521449186}]
[null,null,null,null,null,null,null,null,null,null,null,null,null,null,null,null,null,null,null,null,null,null,null,null,null,null,""]
[{"$f":"SUM(G273:AD273)-F273","v":0},null,null,{"$f":"MAX(D270:D272)+NoOne","v":18},"Subtotal Expenses",{"$f":"SUM(F271,F253:F259)","v":11045994.740370521},3601982.82769582,5624733.9776832676,0,8430.0297527706443,846595.81505556509,226377.81474541951,37906.564752798164,67097.76974248761,129994.11979143095,139264.64150271899,82871.349020564463,31945.886156755179,20122.515206981068,185717.43317506398,0,null,null,null,null,null,"Subtotal Expenses",null,{"$f":"SUM(AC271,AC253:AC259)","v":40105.47697705523},{"$f":"SUM(AD271,AD253:AD259)","v":2848.5191118215585}]
[null,null,null,null,null,null,null,null,null,null,null,null,null,null,null,null,null,null,null,null,null,null,null,null,null,null,""]
[null,null,"DISGL",{"$f":"MAX(D272:D274)+NoOne","v":19},"Disposal Gain / Loss",0,{"$f":"IF(SUM($G$96:$U$96)<>0,$F275*(G$96/SUM($G$96:$U$96)),0)","v":0},0,0,0,0,0,0,0,0,0,0,0,0,0,0,null,null,null,null,null,"Disposal Gain / Loss",null,0,0,{"$f":"+\"Prorated on Total Net Book Value - Sch.2.3 L.\"&D96","v":"Prorated on Total Net Book Value - Sch.2.3 L.23"}]
[{"$f":"SUM(G276:AD276)-F276","v":0},null,null,{"$f":"MAX(D273:D275)+NoOne","v":20},"Subtotal Revenue Requirement  Ex. Return",{"$f":"SUM(F273,F275)","v":11045994.740370521},{"$f":"SUM(G273,G275)","v":3601982.82769582},5624733.9776832676,0,8430.0297527706443,846595.81505556509,226377.81474541951,37906.564752798164,67097.76974248761,129994.11979143095,139264.64150271899,82871.349020564463,31945.886156755179,20122.515206981068,185717.43317506398,0,null,null,null,null,null,"Subtotal Revenue Requirement  Ex. Return",null,{"$f":"SUM(AC273,AC275)","v":40105.47697705523},{"$f":"SUM(AD273,AD275)","v":2848.5191118215585}]
[null,null,null,null,null,null,null,null,null,null,null,null,null,null,null,null,null,null,null,null,null,null,null,null,null,null,""]
[null,null,null,{"$f":"MAX(D275:D277)+NoOne","v":21},"Return on Debt",{"$f":"SUM(G278:U278)","v":746170.72392953723},{"$f":"+G182","v":262922.75793107395},{"$f":"+H182","v":205403.66797898163},0,1245.6112053423979,152332.70219626289,39139.135477360796,5159.2376822658416,9132.2794431242983,21346.544969795377,22974.072562371082,16313.824962742357,5619.9787989611887,2215.6646006789256,2365.2461205764589,0,null,null,null,null,null,"Return on Debt",null,0,0,{"$f":"+\"Prorated on Rate Base - Sch.2.6 L.\"&D176","v":"Prorated on Rate Base - Sch.2.6 L.8"}]
[null,null,null,{"$f":"MAX(D276:D278)+NoOne","v":22},"Return on Equity",{"$f":"SUM(G279:U279)","v":303056.37552122946},{"$f":"+G184","v":106785.77369133189},{"$f":"+H184","v":83424.461909543519},0,505.90354873711755,61869.750608593662,15896.314554312941,2095.4184106902635,3709.0647214157289,8669.8745219840894,9330.8929691690573,6625.841118584719,2282.547881736733,899.88961201304926,960.64197311665089,0,null,null,null,null,null,"Return on Equity",null,0,0,{"$f":"+\"Prorated on Rate Base - Sch.2.6 L.\"&D180","v":"Prorated on Rate Base - Sch.2.6 L.10"}]
[null,null,null,null,null,null,null,null,null,null,null,null,null,null,null,null,null,null,null,null,null,null,null,null,null,null,""]
[null,null,null,null,null,null,null,null,null,null,null,null,null,null,null,null,null,null,null,null,null,null,null,null,null,null,""]
[{"$f":"SUM(G282:AD282)-F282","v":0},null,null,{"$f":"MAX(D279:D281)+NoOne","v":23},"Total Revenue Requirement",{"$f":"SUM(F279,F275,F278,F273)","v":12095221.839821288},{"$f":"SUM(G279,G275,G278,G273)","v":3971691.3593182256},5913562.1075717928,0,10181.544506850159,1060798.2678604217,281413.26477709325,45161.220845754273,79939.11390702764,160010.53928321041,171569.60703425913,105811.01510189153,39848.412837453099,23238.069419673044,189043.32126875711,0,null,null,null,null,null,"Total Revenue Requirement",null,{"$f":"SUM(AC279,AC275,AC278,AC273)","v":40105.47697705523},{"$f":"SUM(AD279,AD275,AD278,AD273)","v":2848.5191118215585}]
[null,null,null,null,null,null,null,null,null,null,null,null,null,null,null,null,null,null,null,null,null,null,null,null,null,null,""]
[]
[]
[]
[]
[]
[]
[]
[]
[]
[null,null,null,null,null,null,null,null,null,null,null,null,null,null,null,null,null,null,null,null,"Schedule 3.1B",null,null,null,null,null,null,null,null,null,"Schedule 3.1B"]
[null,null,null,null,null,null,null,null,null,null,null,null,null,null,null,null,null,null,null,null,"Page 1 of 2",null,null,null,null,null,null,null,null,null,"Page 2 of 2"]
[]
[null,null,null,{"$f":"D5","v":"NEWFOUNDLAND AND LABRADOR HYDRO"},null,null,null,null,null,null,null,null,null,null,null,null,null,null,null,null,null,null,null,null,{"$f":"Y5","v":"NEWFOUNDLAND & LABRADOR HYDRO"}]
[null,null,null,{"$f":"D6","v":"2019 Test Year Cost of Service Study"},null,null,null,null,null,null,null,null,null,null,null,null,null,null,null,null,null,null,null,null,{"$f":"Y6","v":"2019 Test Year Cost of Service Study"}]
[null,null,null,{"$f":"$B$1","v":"Island Isolated"},null,null,null,null,null,null,null,null,null,null,null,null,null,null,null,null,null,null,null,null,{"$f":"$B$1","v":"Island Isolated"}]
[null,null,null,"Basis of Allocation to Classes of Service",null,null,null,null,null,null,null,null,null,null,null,null,null,null,null,null,null,null,null,null,{"$f":"+D299&\" (CONT'D.)\"","v":"Basis of Allocation to Classes of Service (CONT'D.)"}]
[]
[null,null,null,null,{"$f":"MAX(D301)+NoOne","v":1},2,3,4,5,6,7,8,9,10,11,12,13,14,15,16,17,null,null,null,null,null,{"$f":"MAX(Z301)+NoOne","v":1},null,{"$f":"MAX(U301)+NoOne","v":18},{"$f":"MAX(AC301)+NoOne","v":19}]
[null,null,null,null,null,null,null,null,"","Distribution",null,null,null,null,null,null,null,null,null,null,"Specifically",null,null,null,null,null,null,null,"Revenue Related"]
[null,null,null,"Line",null,"Total","Production","Production","Transmission","Substations","Primary Lines",null,"Line Transformers",null,"Secondary Lines",null,"Services","Meters","Street  Lighting","Accounting","Assigned",null,null,null,null,null,null,null,"Municipal","PUB "]
[null,null,null,"No.","Description ","Amount","Demand","Energy","Demand","Demand","Demand","Customer","Demand","Customer","Demand","Customer","Customer","Customer","Customer","Customer","Customer",null,null,null,null,null,"Description",null,"Tax","Assessment"]
[null,null,null,null,null,null,null,null,null,null,null,null,null,null,null,null,null,null,null,null,null,null,null,null,null,null,null,null,"(Prior Year","(Prior Year"]
[null,null,null," ",null,null,{"$f":"IF(CP_AED_Switch=0,\"(AED kW)\",\"(CP kW)\")","v":"(CP kW)"},"(MWh @ Gen)","(CP kW)","(CP kW)","(CP kW)","(Rural Cust)","(CP kW)","(Rural Cust)","(CP kW)","(Rural Cust)","(Wtd Rural Cust)  ",null,"(Rural Cust)","(Rural Cust)",null,null,null,null,null,null,null,null,"(Rural Revenues)","(Revenues + RSP)"]
[null,null,null," "]
[null,null,null,null,"Amounts",null,null,null,null,null,null,null,null,null,null,null,null,null,null,null,null,null,null,null,null,null,{"$f":"IF(ISBLANK(E308),\"\",E308)","v":"Amounts"}]
[" ",null,"ISLISO1.2",{"$f":"MAX(D306:D308)+NoOne","v":1},"1.2 Domestic Diesel","-",1593.3880333623513,5467.6983966064618,1593.3880333623513,1538.3291911395081,1538.3291911395081,{"$f":"Customers!$D57","v":680.5},1455.2724607163423,{"$f":"Customers!$D57","v":680.5},1455.2724607163423,{"$f":"Customers!$D57","v":680.5},{"$f":"Customers!F57","v":680.5},{"$f":"Customers!G57","v":680.5},0,{"$f":"Customers!$D57","v":680.5},0,null,null,null,null,null,"1.2 Domestic Diesel",null,822205.13794652862,822205.13794652862]
[null,null,"ISLISO1.2G",2,"1.2G Government Domestic Diesel",null,0,0,0,0,0,{"$f":"Customers!$D58","v":0},0,{"$f":"Customers!$D58","v":0},0,{"$f":"Customers!$D58","v":0},{"$f":"Customers!F58","v":0},{"$f":"Customers!G58","v":0},0,{"$f":"Customers!$D58","v":0},0,null,null,null,null,null,"1.2G Government Domestic Diesel",null,0,0]
[" ",null,"ISLISO1.23",3,"1.23 Churches, Schools & Com Halls","-",47.638666615082094,296.12293057056274,47.638666615082094,45.992532858616286,45.992532858616286,{"$f":"Customers!$D59","v":0},43.509326126845792,{"$f":"Customers!$D59","v":0},43.509326126845792,{"$f":"Customers!$D59","v":0},{"$f":"Customers!F59","v":0},{"$f":"Customers!G59","v":0},0,{"$f":"Customers!$D59","v":0},0,null,null,null,null,null,"1.23 Churches, Schools & Com Halls",null,62409.176752335916,62409.176752335916]
[null,null,"ISLISO2.1",4,"2.1 GS 0-10 kW","-",101.54557883741182,758.28621863961951,101.54557883741182,98.036714777576819,98.036714777576819,{"$f":"Customers!$D60","v":92},92.743563586171291,{"$f":"Customers!$D60","v":92},92.743563586171291,{"$f":"Customers!$D60","v":92},{"$f":"Customers!F60","v":172.72809374290128},{"$f":"Customers!G60","v":172.72809374290128},0,{"$f":"Customers!$D60","v":92},0,null,null,null,null,null,"2.1 GS 0-10 kW",null,213661.892280787,213661.892280787]
[" ",null,"ISLISO2.2",5,"2.2 GS 10-100 kW","-",194.31561382467694,884.13846413210865,194.31561382467694,187.60112087067168,187.60112087067168,{"$f":"Customers!$D61","v":13},177.47225130687099,{"$f":"Customers!$D61","v":13},177.47225130687099,{"$f":"Customers!$D61","v":13},{"$f":"Customers!F61","v":62.011627389838729},{"$f":"Customers!G61","v":62.011627389838729},0,{"$f":"Customers!$D61","v":13},0,null,null,null,null,null,"2.2 GS 10-100 kW",null,463859.06834894751,463859.06834894751]
[" ",null,"ISLISO2.3",6,"2.3 GS 110-1,000 kVa","-",0,0,0,0,0,{"$f":"Customers!$D62","v":0},0,{"$f":"Customers!$D62","v":0},0,{"$f":"Customers!$D62","v":0},{"$f":"Customers!F62","v":0},{"$f":"Customers!G62","v":0},0,{"$f":"Customers!$D62","v":0},0,null,null,null,null,null,"2.3 GS 110-1,000 kVa",null,0,0]
[null,null,"ISLISO2.4",7,"2.4 GS Over 1,000 kVa","-",0,0,0,0,0,{"$f":"Customers!$D63","v":0},0,{"$f":"Customers!$D63","v":0},0,{"$f":"Customers!$D63","v":0},{"$f":"Customers!F63","v":0},{"$f":"Customers!G63","v":0},0,{"$f":"Customers!$D63","v":0},0,null,null,null,null,null,{"$f":"IF(ISBLANK(E315),\"\",E315)","v":"2.4 GS Over 1,000 kVa"},null,0,0]
[" ",null,"ISLISO2.5",8,"2.5 GS Diesel","-",0,0,0,0,0,{"$f":"Customers!$D64","v":0},0,{"$f":"Customers!$D64","v":0},0,{"$f":"Customers!$D64","v":0},{"$f":"Customers!F64","v":0},{"$f":"Customers!G64","v":0},0,{"$f":"Customers!$D64","v":0},0,null,null,null,null,null,"2.5 GS Diesel",null,0,0]
[null,null,"ISLISO2.5G",9,"2.5G Gov't General Service Diesel",null,0,0,0,0,0,{"$f":"Customers!$D65","v":0},0,{"$f":"Customers!$D65","v":0},0,{"$f":"Customers!$D65","v":0},{"$f":"Customers!F65","v":0},{"$f":"Customers!G65","v":0},0,{"$f":"Customers!$D65","v":0},0,null,null,null,null,null,"2.5G Gov't General Service Diesel",null,0,0]
[" ",null,"ISLISO4.1",10,"4.1 Street and Area Lighting","-",30.08757891478869,107.88392909822537,30.08757891478869,29.047915489652393,29.047915489652393,{"$f":"Customers!$D66","v":38},27.479574395902606,{"$f":"Customers!$D66","v":38},27.479574395902606,{"$f":"Customers!$D66","v":38},{"$f":"Customers!F66","v":0},{"$f":"Customers!G66","v":0},{"$f":"Customers!$D66","v":38},{"$f":"Customers!$D66","v":38},0,null,null,null,null,null,"4.1 Street and Area Lighting",null,40488,40488]
[null,null,"ISLISO4.1G",11,"4.1G Gov't Street and Area Lighting",null,1.0949070200765174,4.1880243037836724,1.0949070200765174,1.0570729761369098,1.0570729761369098,{"$f":"Customers!$D67","v":3},1,{"$f":"Customers!$D67","v":3},1,{"$f":"Customers!$D67","v":3},{"$f":"Customers!F67","v":0},{"$f":"Customers!G67","v":0},{"$f":"Customers!$D67","v":3},{"$f":"Customers!$D67","v":3},0,null,null,null,null,null,"4.1G Gov't Street and Area Lighting",null,5007,5007]
[null,null,null,12,"      Total","-",{"$f":"SUM(G309:G319)","v":1968.0703785743874},7518.3179633507616,1968.0703785743874,1900.0645481121621,1900.0645481121621,826.5,1797.4771761321329,826.5,1797.4771761321329,826.5,915.23972113273999,915.23972113273999,41,826.5,0,null,null,null,null,null,"      Total",null,{"$f":"SUM(AC309:AC319)","v":1607630.2753285989},{"$f":"SUM(AD309:AD319)","v":1607630.2753285989}]
[null,null,null,null,null,null,null,null,null,null,null,null,null,null,null,null,null,null,null,null,null,null,null,null,null,null,""]
[null,null,null,null,"Ratios",null,null,null,null,null,null,null,null,null,null,null,null,null,null,null,null,null,null,null,null,null,"Ratios"]
[null,null,null,{"$f":"MAX(D320:D322)+NoOne","v":13},"1.2 Domestic Diesel","-",{"$f":"IF(G$320<>0,G309/G$320,0)","v":0.80961943775433221},0.72725022049607746,0.80961943775433221,0.80961943775433232,0.80961943775433232,0.82335148215366005,0.80961943775433232,0.82335148215366005,0.80961943775433232,0.82335148215366005,0.74352105168445271,0.74352105168445271,0,0.82335148215366005,0,null,null,null,null,null,"1.2 Domestic Diesel",null,{"$f":"IF(AC$320<>0,AC309/AC$320,0)","v":0.51143919753468825},0.51143919753468825]
[null,null,null,14,"1.2G Government Domestic Diesel",null,{"$f":"IF(G$320<>0,G310/G$320,0)","v":0},0,0,0,0,0,0,0,0,0,0,0,0,0,0,null,null,null,null,null,"1.2G Government Domestic Diesel",null,0,0]
[null,null,null,15,"1.23 Churches, Schools & Com Halls","-",{"$f":"IF(G$320<>0,G311/G$320,0)","v":2.4205773906109063E-2},3.938685913711832E-2,2.4205773906109063E-2,2.4205773906109066E-2,2.4205773906109066E-2,0,2.4205773906109066E-2,0,2.4205773906109066E-2,0,0,0,0,0,0,null,null,null,null,null,"1.23 Churches, Schools & Com Halls",null,3.8820603039202844E-2,3.8820603039202844E-2]
[null,null,null,16,"2.1 GS 0-10 kW","-",{"$f":"IF(G$320<>0,G312/G$320,0)","v":5.159651806302195E-2},0.10085849286183511,5.159651806302195E-2,5.1596518063021957E-2,5.1596518063021957E-2,0.11131276467029642,5.1596518063021957E-2,0.11131276467029642,5.1596518063021957E-2,0.11131276467029642,0.18872442897159836,0.18872442897159836,0,0.11131276467029642,0,null,null,null,null,null,"2.1 GS 0-10 kW",null,0.13290486970775331,0.13290486970775331]
[null,null,null,17,"2.2 GS 10-100 kW","-",{"$f":"IF(G$320<>0,G313/G$320,0)","v":9.8734077774918536E-2},0.1175979079951104,9.8734077774918536E-2,9.8734077774918549E-2,9.8734077774918549E-2,1.572897761645493E-2,9.8734077774918563E-2,1.572897761645493E-2,9.8734077774918563E-2,1.572897761645493E-2,6.7754519343949007E-2,6.7754519343949007E-2,0,1.572897761645493E-2,0,null,null,null,null,null,"2.2 GS 10-100 kW",null,0.28853591243430327,0.28853591243430327]
[null,null,null,18,"2.3 GS 110-1,000 kVa","-",{"$f":"IF(G$320<>0,G314/G$320,0)","v":0},0,0,0,0,0,0,0,0,0,0,0,0,0,0,null,null,null,null,null,"2.3 GS 110-1,000 kVa",null,0,0]
[null,null,null,19,"2.4 GS Over 1,000 kVa","-",0,0,0,0,0,0,0,0,0,0,0,0,0,0,0,null,null,null,null,null,{"$f":"IF(ISBLANK(E329),\"\",E329)","v":"2.4 GS Over 1,000 kVa"},null,0,0]
[null,null,null,20,"2.5 GS Diesel","-",{"$f":"IF(G$320<>0,G316/G$320,0)","v":0},0,0,0,0,0,0,0,0,0,0,0,0,0,0,null,null,null,null,null,"2.5 GS Diesel",null,0,0]
[null,null,null,21,"2.5G Gov't General Service Diesel",null,{"$f":"IF(G$320<>0,G317/G$320,0)","v":0},0,0,0,0,0,0,0,0,0,0,0,0,0,0,null,null,null,null,null,"2.5G Gov't General Service Diesel",null,0,0]
[null,null,null,22,"4.1 Street and Area Lighting","-",{"$f":"IF(G$320<>0,G318/G$320,0)","v":1.5287857203858356E-2},1.434947678777657E-2,1.5287857203858356E-2,1.5287857203858357E-2,1.5287857203858357E-2,4.5977011494252873E-2,1.5287857203858357E-2,4.5977011494252873E-2,1.5287857203858357E-2,4.5977011494252873E-2,0,0,0.92682926829268297,4.5977011494252873E-2,0,null,null,null,null,null,"4.1 Street and Area Lighting",null,2.5184895197202149E-2,2.5184895197202149E-2]
[null,null,null,23,"4.1G Gov't Street and Area Lighting",null,{"$f":"IF(G$320<>0,G319/G$320,0)","v":5.5633529775984741E-4},5.570427220821019E-4,5.5633529775984741E-4,5.5633529775984752E-4,5.5633529775984752E-4,3.629764065335753E-3,5.5633529775984752E-4,3.629764065335753E-3,5.5633529775984752E-4,3.629764065335753E-3,0,0,7.3170731707317069E-2,3.629764065335753E-3,0,null,null,null,null,null,"4.1G Gov't Street and Area Lighting",null,3.1145220868502065E-3,3.1145220868502065E-3]
[null,null,null,24,"      Total","-",{"$f":"SUM(G323:G333)","v":0.99999999999999989},1,0.99999999999999989,1.0000000000000002,1.0000000000000002,1,1.0000000000000002,1,1.0000000000000002,1,1,1,1,1,0,null,null,null,null,null,"      Total",null,{"$f":"SUM(AC323:AC333)","v":1},{"$f":"SUM(AD323:AD333)","v":1}]
[]
[null,null,null,null,null,null,null,null,null,null,null,null,null,null,null,null,null,null,null,null,"Schedule 3.2B",null,null,null,null,null,null,null,null,null,"Schedule 3.2B"]
[null,null,null,null,null,null,null,null,null,null,null,null,null,null,null,null,null,null,null,null,"Page 1 of 4",null,null,null,null,null,null,null,null,null,"Page 2 of 4"]
[null,null,null,{"$f":"D5","v":"NEWFOUNDLAND AND LABRADOR HYDRO"},null,null,null,null,null,null,null,null,null,null,null,null,null,null,null,null,null,null,null,null,{"$f":"Y5","v":"NEWFOUNDLAND & LABRADOR HYDRO"}]
[null,null,null,{"$f":"D6","v":"2019 Test Year Cost of Service Study"},null,null,null,null,null,null,null,null,null,null,null,null,null,null,null,null,null,null,null,null,{"$f":"Y6","v":"2019 Test Year Cost of Service Study"}]
[null,null,null,{"$f":"$B$1","v":"Island Isolated"},null,null,null,null,null,null,null,null,null,null,null,null,null,null,null,null,null,null,null,null,{"$f":"$B$1","v":"Island Isolated"}]
[null,null,null,"Allocation of Functionalized Amounts to Classes of Service",null,null,null,null,null,null,null,null,null,null,null,null,null,null,null,null,null,null,null,null,{"$f":"+D341&\" (CONT'D.)\"","v":"Allocation of Functionalized Amounts to Classes of Service (CONT'D.)"}]
[]
[null,null,null,null,{"$f":"MAX(D343)+NoOne","v":1},2,3,4,5,6,7,8,9,10,11,12,13,14,15,16,17,null,null,null,null,null,{"$f":"MAX(Z343)+NoOne","v":1},null,{"$f":"MAX(U343)+NoOne","v":18},{"$f":"MAX(AC343)+NoOne","v":19}]
[null,null,null,null,null,null,null,null,"","Distribution",null,null,null,null,null,null,null,null,null,null,"Specifically",null,null,null,null,null,null,null,"Revenue Related"]
[null,null,null,"Line",null,"Total","Production","Production","Transmission","Substations","Primary Lines",null,"Line Transformers",null,"Secondary Lines",null,"Services","Meters","Street  Lighting","Accounting","Assigned",null,null,null,null,null,null,null,"Municipal","PUB "]
[null,null,null,"No.","Description ","Amount","Demand","Energy","Demand","Demand","Demand","Customer","Demand","Customer","Demand","Customer","Customer","Customer","Customer","Customer","Customer",null,null,null,null,null,"Description",null,"Tax","Assessment","Basis of Proration"]
[null,null,null,null,null,"($)","($)","($)","($)","($)","($)","($)","($)","($)","($)","($)","($)","($)","($)","($)","($)",null,null,null,null,null,null,null,"($)","($)"]
[]
[null,null,null,null,"Allocated Revenue Requirement Excluding Return",null,null,null,null,null,null,null,null,null,null,null,null,null,null,null,null,null,null,null,null,null,{"$f":"IF(ISBLANK(E349),\"\",E349)","v":"Allocated Revenue Requirement Excluding Return"}]
[null,null,null,{"$f":"MAX(D347:D349)+NoOne","v":1},"1.2 Domestic Diesel",{"$f":"SUM(G350:AD350)","v":8451550.9578846991},{"$f":"IF(G$320<>0,(G$276/G$320)*G$309,0)","v":2916235.3117598495},4090589.0255019353,0,6825.1159486904617,685420.42779045727,186388.50929734783,30689.891642358638,55245.04816668218,105245.76617690764,114663.7489928618,61616.592578279422,23752.438872262406,0,152910.72386646224,0,null,null,null,null,null,"1.2 Domestic Diesel",null,{"$f":"IF(AC$320<>0,(AC$276/AC$320)*AC$309,0)","v":20511.512961891043},{"$f":"IF(AD$320<>0,(AD$276/AD$320)*AD$309,0)","v":1456.8443287122409}]
[null,null,null,2,"1.2G Government Domestic Diesel",0,{"$f":"IF(G$320<>0,(G$276/G$320)*G$310,0)","v":0},0,0,0,0,0,0,0,0,0,0,0,0,0,0,null,null,null,null,null,"1.2G Government Domestic Diesel",null,{"$f":"IF(AC$320<>0,(AC$276/AC$320)*AC$310,0)","v":0},{"$f":"IF(AD$320<>0,(AD$276/AD$320)*AD$310,0)","v":0}]
[null,null,null,3,"1.23 Churches, Schools & Com Halls",335157.61512684921,{"$f":"IF(G$320<>0,(G$276/G$320)*G$311,0)","v":87188.781940892426},221540.60486277408,0,204.05539421733872,20492.506889093132,0,917.55773596351537,0,3146.6082727950352,0,0,0,0,0,0,null,null,null,null,null,"1.23 Churches, Schools & Com Halls",null,{"$f":"IF(AC$320<>0,(AC$276/AC$320)*AC$311,0)","v":1556.9188014241502},{"$f":"IF(AD$320<>0,(AD$276/AD$320)*AD$311,0)","v":110.58122968960738}]
[null,null,null,4,"2.1 GS 0-10 kW",902151.25519048516,{"$f":"IF(G$320<>0,(G$276/G$320)*G$312,0)","v":185849.77203190225},567302.1917378892,0,434.96018241064303,43681.396263593255,25198.740419332844,1955.8467529748618,7468.8382532472606,6707.243949905207,15501.932266485357,15639.848022012055,6028.9691229253094,0,20672.7209341874,0,null,null,null,null,null,{"$f":"IF(ISBLANK(E353),\"\",E353)","v":"2.1 GS 0-10 kW"},null,{"$f":"IF(AC$320<>0,(AC$276/AC$320)*AC$312,0)","v":5330.2131922028248},{"$f":"IF(AD$320<>0,(AD$276/AD$320)*AD$312,0)","v":378.58206141668938}]
[null,null,null,5,"2.2 GS 10-100 kW",1147993.9726791182,{"$f":"IF(G$320<>0,(G$276/G$320)*G$313,0)","v":355638.45265364012},661456.94880456827,0,832.33121325493414,83587.857047616722,3560.6915809926841,3742.6697124827601,1055.3793183936345,12834.849533769222,2190.4904289598876,5614.9084202729846,2164.4781615674615,0,2921.1453493960457,0,null,null,null,null,null,"2.2 GS 10-100 kW",null,{"$f":"IF(AC$320<>0,(AC$276/AC$320)*AC$313,0)","v":11571.870393187575},{"$f":"IF(AD$320<>0,(AD$276/AD$320)*AD$313,0)","v":821.90006101598453}]
[null,null,null,6,"2.3 GS 110-1,000 kVa",0,{"$f":"IF(G$320<>0,(G$276/G$320)*G$314,0)","v":0},0,0,0,0,0,0,0,0,0,0,0,0,0,0,null,null,null,null,null,"2.3 GS 110-1,000 kVa",null,{"$f":"IF(AC$320<>0,(AC$276/AC$320)*AC$314,0)","v":0},{"$f":"IF(AD$320<>0,(AD$276/AD$320)*AD$314,0)","v":0}]
[null,null,null,7,"2.4 GS Over 1,000 kVa",{"$f":"SUM(G356:AD356)","v":0},{"$f":"IF(G$320<>0,(G$276/G$320)*G$315,0)","v":0},0,0,0,0,0,0,0,0,0,0,0,0,0,0,null,null,null,null,null,{"$f":"IF(ISBLANK(E356),\"\",E356)","v":"2.4 GS Over 1,000 kVa"},null,{"$f":"IF(AC$320<>0,(AC$276/AC$320)*AC$315,0)","v":0},{"$f":"IF(AD$320<>0,(AD$276/AD$320)*AD$315,0)","v":0}]
[null,null,null,8,"2.5 GS Diesel",0,{"$f":"IF(G$320<>0,(G$276/G$320)*G$316,0)","v":0},0,0,0,0,0,0,0,0,0,0,0,0,0,0,null,null,null,null,null,"2.5 GS Diesel",null,{"$f":"IF(AC$320<>0,(AC$276/AC$320)*AC$316,0)","v":0},{"$f":"IF(AD$320<>0,(AD$276/AD$320)*AD$316,0)","v":0}]
[null,null,null,9,"2.5G Gov't General Service Diesel",0,{"$f":"IF(G$320<>0,(G$276/G$320)*G$317,0)","v":0},0,0,0,0,0,0,0,0,0,0,0,0,0,0,null,null,null,null,null,"2.5G Gov't General Service Diesel",null,{"$f":"IF(AC$320<>0,(AC$276/AC$320)*AC$317,0)","v":0},{"$f":"IF(AD$320<>0,(AD$276/AD$320)*AD$317,0)","v":0}]
[null,null,null,10,"4.1 Street and Area Lighting",199583.70632099197,{"$f":"IF(G$320<>0,(G$276/G$320)*G$318,0)","v":55066.599120563631},80711.989650184216,0,128.877091084635,12942.63592995356,10408.175390594,579.51014902958866,3084.9549306890858,1987.331540712654,6402.972023113517,0,0,18650.136045494648,8538.732559773056,0,null,null,null,null,null,"4.1 Street and Area Lighting",null,{"$f":"IF(AC$320<>0,(AC$276/AC$320)*AC$318,0)","v":1010.0522345009397},{"$f":"IF(AD$320<>0,(AD$276/AD$320)*AD$318,0)","v":71.7396552984533}]
[null,null,null,11,"4.1G Gov't Street and Area Lighting",9557.2331683771863,{"$f":"IF(G$320<>0,(G$276/G$320)*G$319,0)","v":2003.9101889720112},3133.2171259163756,0,4.6899231126320302,470.99113485117857,821.69805715215784,21.088759988800906,243.54907347545412,72.320317341195022,505.49779129843557,0,0,1472.3791614864197,674.11046524524136,0,null,null,null,null,null,"4.1G Gov't Street and Area Lighting",null,{"$f":"IF(AC$320<>0,(AC$276/AC$320)*AC$319,0)","v":124.90939384870097},{"$f":"IF(AD$320<>0,(AD$276/AD$320)*AD$319,0)","v":8.8717756885831776}]
[{"$f":"SUM(G361:AD361)-F361","v":0},null,null,12,"      Total",{"$f":"SUM(F350:F360)","v":11045994.740370521},3601982.82769582,5624733.9776832676,0,8430.0297527706425,846595.81505556498,226377.81474541951,37906.564752798164,67097.769742487624,129994.11979143095,139264.64150271899,82871.349020564463,31945.886156755176,20122.515206981068,185717.43317506398,0,null,null,null,null,null,"      Total",null,{"$f":"SUM(AC350:AC360)","v":40105.47697705523},{"$f":"SUM(AD350:AD360)","v":2848.5191118215585}]
[null,null,null,null,null,null,null,null,null,null,null,null,null,null,null,null,null,null,null,null,null,null,null,null,null,null,""]
[null,null,null,null,"Allocated Return on Debt and Equity",null,null,null,null,null,null,null,null,null,null,null,null,null,null,null,null,null,null,null,null,null,"Allocated Return on Debt and Equity"]
[null,null,null,{"$f":"MAX(D361:D363)+NoOne","v":13},"1.2 Domestic Diesel",{"$f":"SUM(G364:AD364)","v":822544.44655401038},{"$f":"IF(G$320<>0,((G$278+$G279)/G$320)*G$309,0)","v":299323.21350511198},{"$f":"IF(H$320<>0,((H$278+H279)/H$320)*H$309,0)","v":210050.32114689963},0,1418.0603904162747,173422.46940546687,45313.519354572272,5873.5105870801635,10572.939750719284,24301.876672332673,26598.341251316473,17056.124650078473,5875.6949485969653,0,2738.3748914194325,0,null,null,null,null,null,"1.2 Domestic Diesel",null,{"$f":"IF(AC$320<>0,((AC$278+AC279)/AC$320)*AC$309,0)","v":0},{"$f":"IF(AD$320<>0,((AD$278+AD279)/AD$320)*AD$309,0)","v":0}]
[null,null,null,14,"1.2G Government Domestic Diesel",0,{"$f":"IF(G$320<>0,((G$278+G279)/G$320)*G$310,0)","v":0},0,0,0,0,0,0,0,{"$f":"IF(O$320<>0,((O$278+O279)/O$320)*O$310,0)","v":0},0,0,0,0,0,0,null,null,null,null,null,"1.2G Government Domestic Diesel",null,{"$f":"IF(AC$320<>0,((AC$278+AC279)/AC$320)*AC$310,0)","v":0},{"$f":"IF(AD$320<>0,((AD$278+AD279)/AD$320)*AD$310,0)","v":0}]
[null,null,null,15,"1.23 Churches, Schools & Com Halls",26454.622136068618,{"$f":"IF(G$320<>0,((G$278+G279)/G$320)*G$311,0)","v":8949.0811276115292},11376.032866756654,0,42.396770130462968,5184.9361427283557,0,175.60456515267208,0,{"$f":"IF(O$320<>0,((O$278+O279)/O$320)*O$311,0)","v":726.57066368893902},0,0,0,0,0,0,null,null,null,null,null,"1.23 Churches, Schools & Com Halls",null,{"$f":"IF(AC$320<>0,((AC$278+AC279)/AC$320)*AC$311,0)","v":0},{"$f":"IF(AD$320<>0,((AD$278+AD279)/AD$320)*AD$311,0)","v":0}]
[null,null,null,16,"2.1 GS 0-10 kW",{"$f":"SUM(G367:AD367)","v":78614.370979909538},{"$f":"IF(G$320<>0,((G$278+G279)/G$320)*G$312,0)","v":19075.672929908786},29130.769876659,0,90.372062646513157,11052.100725289389,6126.1480978995578,374.31499414122203,1429.4055210377282,{"$f":"IF(O$320<>0,((O$278+O279)/O$320)*O$312,0)","v":1548.7427304948435},3595.9550258943655,4329.2753819975951,1491.399835247536,0,370.21379869300193,0,null,null,null,null,null,{"$f":"IF(ISBLANK(E367),\"\",E367)","v":"2.1 GS 0-10 kW"},null,{"$f":"IF(AC$320<>0,((AC$278+AC279)/AC$320)*AC$312,0)","v":0},{"$f":"IF(AD$320<>0,((AD$278+AD279)/AD$320)*AD$312,0)","v":0}]
[null,null,null,17,"2.2 GS 10-100 kW",99188.123286412389,{"$f":"IF(G$320<>0,((G$278+G279)/G$320)*G$313,0)","v":36502.830915257553},33965.583845030575,0,172.93419395320419,21149.081634813025,865.65136165972012,716.28177891221503,201.98121492924423,{"$f":"IF(O$320<>0,((O$278+O279)/O$320)*O$313,0)","v":2963.6434966259353},508.12407974594294,1554.2660492510063,535.43189685342054,0,52.312819380532879,0,null,null,null,null,null,"2.2 GS 10-100 kW",null,{"$f":"IF(AC$320<>0,((AC$278+AC279)/AC$320)*AC$313,0)","v":0},{"$f":"IF(AD$320<>0,((AD$278+AD279)/AD$320)*AD$313,0)","v":0}]
[null,null,null,18,"2.3 GS 110-1,000 kVa",0,{"$f":"IF(G$320<>0,((G$278+G279)/G$320)*G$314,0)","v":0},0,0,0,0,0,0,0,{"$f":"IF(O$320<>0,((O$278+O279)/O$320)*O$314,0)","v":0},0,0,0,0,0,0,null,null,null,null,null,"2.3 GS 110-1,000 kVa",null,{"$f":"IF(AC$320<>0,((AC$278+AC279)/AC$320)*AC$314,0)","v":0},{"$f":"IF(AD$320<>0,((AD$278+AD279)/AD$320)*AD$314,0)","v":0}]
[null,null,null,19,"2.4 GS Over 1,000 kVa",{"$f":"SUM(G370:AD370)","v":0},{"$f":"IF(G$320<>0,((G$278+G279)/G$320)*G$315,0)","v":0},0,0,0,0,0,0,0,{"$f":"IF(O$320<>0,((O$278+O279)/O$320)*O$315,0)","v":0},0,0,0,0,0,0,null,null,null,null,null,{"$f":"IF(ISBLANK(E370),\"\",E370)","v":"2.4 GS Over 1,000 kVa"},null,{"$f":"IF(AC$320<>0,((AC$278+AC279)/AC$320)*AC$315,0)","v":0},{"$f":"IF(AD$320<>0,((AD$278+AD279)/AD$320)*AD$315,0)","v":0}]
[null,null,null,20,"2.5 GS Diesel",0,{"$f":"IF(G$320<>0,((G$278+G279)/G$320)*G$316,0)","v":0},0,0,0,0,0,0,0,{"$f":"IF(O$320<>0,((O$278+O279)/O$320)*O$316,0)","v":0},0,0,0,0,0,0,null,null,null,null,null,"2.5 GS Diesel",null,{"$f":"IF(AC$320<>0,((AC$278+AC279)/AC$320)*AC$316,0)","v":0},{"$f":"IF(AD$320<>0,((AD$278+AD279)/AD$320)*AD$316,0)","v":0}]
[null,null,null,21,"2.5G Gov't General Service Diesel",0,{"$f":"IF(G$320<>0,((G$278+G279)/G$320)*G$317,0)","v":0},0,0,0,0,0,0,0,{"$f":"IF(O$320<>0,((O$278+O279)/O$320)*O$317,0)","v":0},0,0,0,0,0,0,null,null,null,null,null,"2.5G Gov't General Service Diesel",null,{"$f":"IF(AC$320<>0,((AC$278+AC279)/AC$320)*AC$317,0)","v":0},{"$f":"IF(AD$320<>0,((AD$278+AD279)/AD$320)*AD$317,0)","v":0}]
[null,null,null,22,"4.1 Street and Area Lighting",21314.411228910358,{"$f":"IF(G$320<>0,((G$278+G279)/G$320)*G$318,0)","v":5652.0512384914919},4144.5325454923077,0,26.776907450818719,3274.6965111968561,2530.3655186976434,110.90814641221394,590.40662825471384,{"$f":"IF(O$320<>0,((O$278+O279)/O$320)*O$318,0)","v":458.88673496143514},1485.2857715650639,0,0,2887.5868312754892,152.91439511232687,0,null,null,null,null,null,"4.1 Street and Area Lighting",null,{"$f":"IF(AC$320<>0,((AC$278+AC279)/AC$320)*AC$318,0)","v":0},{"$f":"IF(AD$320<>0,((AD$278+AD279)/AD$320)*AD$318,0)","v":0}]
[null,null,null,23,"4.1G Gov't Street and Area Lighting",757.04234430707731,{"$f":"IF(G$320<>0,(G$278/G$320)*G$319,0)","v":146.27321082142433},114.41861833666019,0,0.69297748081716548,84.748059234920092,142.06582750403192,2.8702660321771925,0,11.875836451915086,83.390463021310651,0,0,162.12180004967749,8.5852853741432256,0,null,null,null,null,null,"4.1G Gov't Street and Area Lighting",null,{"$f":"IF(AC$320<>0,(AC$278/AC$320)*AC$319,0)","v":0},{"$f":"IF(AD$320<>0,(AD$278/AD$320)*AD$319,0)","v":0}]
[null,null,null,24,"      Total",{"$f":"SUM(F364:F374)","v":1048873.0165296183},{"$f":"SUM(G364:G374)","v":369649.12292720278},288781.65889917483,0,1751.2333020780909,214168.03247872938,54977.750160333235,7253.4903377306628,12794.733114940971,30011.596134555744,32271.096591543155,22939.666081327076,7902.5266806979216,3049.7086313251666,3322.4011899794373,0,null,null,null,null,null,"      Total",null,{"$f":"SUM(AC364:AC374)","v":0},{"$f":"SUM(AD364:AD374)","v":0}]
[]
[]
[null,null,null,null,null,null,null,null,null,null,null,null,null,null,null,null,null,null,null,null,"Schedule 3.2B",null,null,null,null,null,null,null,null,null,"Schedule 3.2B"]
[null,null,null,null,null,null,null,null,null,null,null,null,null,null,null,null,null,null,null,null,"Page 3 of 4",null,null,null,null,null,null,null,null,null,"Page 4 of 4"]
[null,null,null,{"$f":"+D5","v":"NEWFOUNDLAND AND LABRADOR HYDRO"},null,null,null,null,null,null,null,null,null,null,null,null,null,null,null,null,null,null,null,null,{"$f":"Y5","v":"NEWFOUNDLAND & LABRADOR HYDRO"}]
[null,null,null,{"$f":"+D6","v":"2019 Test Year Cost of Service Study"},null,null,null,null,null,null,null,null,null,null,null,null,null,null,null,null,null,null,null,null,{"$f":"Y6","v":"2019 Test Year Cost of Service Study"}]
[null,null,null,{"$f":"$B$1","v":"Island Isolated"},null,null,null,null,null,null,null,null,null,null,null,null,null,null,null,null,null,null,null,null,{"$f":"$B$1","v":"Island Isolated"}]
[null,null,null,"Allocation of Functionalized Amounts to Classes of Service (CONT'D.)",null,null,null,null,null,null,null,null,null,null,null,null,null,null,null,null,null,null,null,null,{"$f":"+D383","v":"Allocation of Functionalized Amounts to Classes of Service (CONT'D.)"}]
[]
[null,null,null,null,{"$f":"MAX(D385)+NoOne","v":1},2,3,4,5,6,7,8,9,10,11,12,13,14,15,16,17,null,null,null,null,null,{"$f":"MAX(Z385)+NoOne","v":1},null,{"$f":"MAX(U385)+NoOne","v":18},{"$f":"MAX(AC385)+NoOne","v":19}]
[null,null,null,null,null,null,null,null,"","Distribution",null,null,null,null,null,null,null,null,null,null,"Specifically",null,null,null,null,null,null,null,"Revenue Related"]
[null,null,null,"Line",null,"Total","Production","Production","Transmission","Substations","Primary Lines",null,"Line Transformers",null,"Secondary Lines",null,"Services","Meters","Street  Lighting","Accounting","Assigned",null,null,null,null,null,null,null,"Municipal","PUB "]
[null,null,null,"No.","Description ","Amount","Demand","Energy","Demand","Demand","Demand","Customer","Demand","Customer","Demand","Customer","Customer","Customer","Customer","Customer","Customer",null,null,null,null,null,"Description",null,"Tax","Assessment","Basis of Proration"]
[null,null,null,null,null,"($)","($)","($)","($)","($)","($)","($)","($)","($)","($)","($)","($)","($)","($)","($)","($)",null,null,null,null,null,null,null,"($)","($)"]
[]
[null,null,null," ","Total Revenue Requirement",null,null,null,null,null,null,null,null,null,null,null,null,null,null,null,null,null,null,null,null,null,"Total Revenue Requirement"]
[null,null,null,{"$f":"MAX(D375:D391)+NoOne","v":25},"1.2 Domestic Diesel",{"$f":"SUM(G392:AD392)","v":9274095.404438708},{"$f":"SUM(G364,G350,G$376)","v":3215558.5252649616},4300639.3466488346,0,8243.1763391067361,858842.89719592407,231702.02865192009,36563.402229438798,65817.987917401464,129547.64284924031,141262.09024417828,78672.717228357898,29628.133820859373,0,155649.09875788167,0,null,null,null,null,null,"1.2 Domestic Diesel",null,{"$f":"SUM(AC364,AC350,AC$376)","v":20511.512961891043},1456.8443287122409]
[null,null,null,{"$f":"MAX(D390:D392)+NoOne","v":26},"1.2G Government Domestic Diesel",0,{"$f":"SUM(G365,G351,G$376)","v":0},0,0,0,0,0,0,0,0,0,0,0,0,0,0,null,null,null,null,null,"1.2G Government Domestic Diesel",null,0,0]
[null,null,null,27,"1.23 Churches, Schools & Com Halls",361612.23726291792,{"$f":"SUM(G366,G352,G$376)","v":96137.863068503953},232916.63772953075,0,246.45216434780167,25677.443031821487,0,1093.1623011161873,0,3873.1789364839742,0,0,0,0,0,0,null,null,null,null,null,"1.23 Churches, Schools & Com Halls",null,1556.9188014241502,110.58122968960738]
[null,null,null,28,"2.1 GS 0-10 kW",{"$f":"SUM(G395:AD395)","v":980765.62617039483},{"$f":"SUM(G367,G353,G$376)","v":204925.44496181104},596432.96161454823,0,525.33224505715623,54733.496988882645,31324.888517232401,2330.1617471160839,8898.2437742849888,8255.9866804000503,19097.887292379724,19969.12340400965,7520.3689581728449,0,21042.934732880403,0,null,null,null,null,null,{"$f":"IF(ISBLANK(E395),\"\",E395)","v":"2.1 GS 0-10 kW"},null,5330.2131922028248,378.58206141668938]
[null,null,null,29,"2.2 GS 10-100 kW",1247182.0959655305,{"$f":"SUM(G368,G354,G$376)","v":392141.28356889769},695422.53264959878,0,1005.2654072081383,104736.93868242975,4426.3429426524044,4458.9514913949752,1257.3605333228788,15798.493030395157,2698.6145087058303,7169.1744695239904,2699.9100584208818,0,2973.4581687765785,0,null,null,null,null,null,"2.2 GS 10-100 kW",null,11571.870393187575,821.90006101598453]
[null,null,null,30,"2.3 GS 110-1,000 kVa",0,{"$f":"SUM(G369,G355,G$376)","v":0},0,0,0,0,0,0,0,0,0,0,0,0,0,0,null,null,null,null,null,"2.3 GS 110-1,000 kVa",null,0,0]
[null,null,null,31,"2.4 GS Over 1,000 kVa",{"$f":"SUM(G398:AD398)","v":0},{"$f":"SUM(G370,G356,G$376)","v":0},0,0,0,0,0,0,0,0,0,0,0,0,0,0,null,null,null,null,null,{"$f":"IF(ISBLANK(E398),\"\",E398)","v":"2.4 GS Over 1,000 kVa"},null,0,0]
[null,null,null,32,"2.5 GS Diesel",0,{"$f":"SUM(G371,G357,G$376)","v":0},0,0,0,0,0,0,0,0,0,0,0,0,0,0,null,null,null,null,null,"2.5 GS Diesel",null,0,0]
[null,null,null,33,"2.5G Gov't General Service Diesel",0,{"$f":"SUM(G372,G358,G$376)","v":0},0,0,0,0,0,0,0,0,0,0,0,0,0,0,null,null,null,null,null,"2.5G Gov't General Service Diesel",null,0,0]
[null,null,null,34,"4.1 Street and Area Lighting",220898.11754990235,{"$f":"SUM(G373,G359,G$376)","v":60718.650359055122},84856.522195676516,0,155.65399853545372,16217.332441150416,12938.540909291643,690.41829544180257,3675.3615589437995,2446.218275674089,7888.2577946785805,0,0,21537.722876770138,8691.646954885382,0,null,null,null,null,null,"4.1 Street and Area Lighting",null,1010.0522345009397,71.7396552984533]
[null,null,null,35,"4.1G Gov't Street and Area Lighting",10314.275512684262,{"$f":"SUM(G374,G360,G$376)","v":2150.1833997934355},3247.6357442530357,0,5.3829005934491958,555.73919408609868,963.7638846561897,23.959026020978097,243.54907347545412,84.196153793110113,588.88825431974624,0,0,1634.5009615360971,682.69575061938463,0,null,null,null,null,null,"4.1G Gov't Street and Area Lighting",null,124.90939384870097,8.8717756885831776]
[{"$f":"SUM(G403:AD403)-F403","v":0},null,null,36,"      Total",{"$f":"SUM(F392:F402)","v":12094867.756900137},{"$f":"SUM(G392:G402)","v":3971631.9506230224},5913515.6365824426,0,10181.263054848736,1060763.8475342945,281355.56490575272,45160.055090528826,79892.502857428583,160005.7159259867,171535.73809426217,105811.01510189153,39848.412837453099,23172.223838306236,189039.83436504344,0,null,null,null,null,null,"      Total",null,{"$f":"SUM(AC392:AC402)","v":40105.47697705523},{"$f":"SUM(AD392:AD402)","v":2848.5191118215585}]
[]
[null,null,null," ","Re-classification of Revenue-Related",null,null,null,null,null,null,null,null,null,null,null,null,null,null,null,null,null,null,null,null,null,{"$f":"IF(ISBLANK(E405),\"\",E405)","v":"Re-classification of Revenue-Related"}]
[null,null,null,{"$f":"MAX(D403:D405)+NoOne","v":37},"1.2 Domestic Diesel",{"$f":"SUM(G406:AD406)","v":1.8189894035458565E-12},{"$f":"IF(SUM($G392:$U392)<>0,+G392/SUM($G392:$U392)*SUM($AC392,$AD392),0)","v":7635.0592908946774},{"$f":"IF(SUM($G392:$U392)<>0,+H392/SUM($G392:$U392)*SUM($AC392,$AD392),0)","v":10211.487722094173},0,19.572693079561986,2039.2464917472835,550.15597218284711,86.816564433574655,156.27899047968401,307.59941900547295,335.4143381610956,186.80140818298696,70.349383046039662,0,369.57501729589092,0,null,null,null,null,null,"1.2 Domestic Diesel",null,{"$f":"-AC392","v":-20511.512961891043},-1456.8443287122409,"Re-classification to demand, energy and customer is based on rate class revenue"]
[null,null,null,38,"1.2G Government Domestic Diesel",0,{"$f":"IF(SUM($G393:$U393)<>0,+G393/SUM($G393:$U393)*SUM($AC393,$AD393),0)","v":0},0,0,0,0,0,0,0,0,0,0,0,0,0,0,null,null,null,null,null,"1.2G Government Domestic Diesel",null,0,0,"requirements excluding revenue-related items."]
[null,null,null,39,"1.23 Churches, Schools & Com Halls",-1.8474111129762605E-13,{"$f":"IF(SUM($G394:$U394)<>0,+G394/SUM($G394:$U394)*SUM($AC394,$AD394),0)","v":445.37361732476461},1079.0225845440889,0,1.1417280188023831,118.95475228718196,0,5.0642445424885221,0,17.943104396430975,0,0,0,0,0,0,null,null,null,null,null,"1.23 Churches, Schools & Com Halls",null,-1556.9188014241502,-110.58122968960738]
[null,null,null,40,"2.1 GS 0-10 kW",{"$f":"SUM(G409:AD409)","v":0},1199.8043298090665,3492.0155958150353,0,3.0757327491730111,320.45550363494766,183.40200203427975,13.642708712265271,52.09773442274706,48.337426168994867,111.81494746966555,116.91588971338938,44.030506994672905,0,123.20287609527695,0,null,null,null,null,null,{"$f":"IF(ISBLANK(E409),\"\",E409)","v":"2.1 GS 0-10 kW"},null,-5330.2131922028248,-378.58206141668938]
[null,null,null,41,"2.2 GS 10-100 kW",-2.6147972675971687E-12,{"$f":"IF(SUM($G396:$U396)<>0,+G396/SUM($G396:$U396)*SUM($AC396,$AD396),0)","v":3935.9855885883012},6980.0686160285077,0,10.090011741348331,1051.2616205441441,44.427921166245731,44.755218452436687,12.62033136062054,158.57203384229453,27.086430989241293,71.958165529806692,27.09943463160543,0,29.845081329006561,0,null,null,null,null,null,"2.2 GS 10-100 kW",null,-11571.870393187575,-821.90006101598453]
[null,null,null,42,"2.3 GS 110-1,000 kVa",0,{"$f":"IF(SUM($G397:$U397)<>0,+G397/SUM($G397:$U397)*SUM($AC397,$AD397),0)","v":0},0,0,0,0,0,0,0,0,0,0,0,0,0,0,null,null,null,null,null,"2.3 GS 110-1,000 kVa",null,0,0]
[null,null,null,43,"2.4 GS Over 1,000 kVa",{"$f":"SUM(G412:AD412)","v":0},0,0,0,0,0,0,0,0,0,0,0,0,0,0,0,null,null,null,null,null,{"$f":"IF(ISBLANK(E412),\"\",E412)","v":"2.4 GS Over 1,000 kVa"},null,0,0]
[null,null,null,44,"2.5 GS Diesel",0,{"$f":"IF(SUM($G399:$U399)<>0,+G399/SUM($G399:$U399)*SUM($AC399,$AD399),0)","v":0},0,0,0,0,0,0,0,0,0,0,0,0,0,0,null,null,null,null,null,"2.5 GS Diesel",null,0,0]
[null,null,null,45,"2.5G Gov't General Service Diesel",0,{"$f":"IF(SUM($G400:$U400)<>0,+G400/SUM($G400:$U400)*SUM($AC400,$AD400),0)","v":0},0,0,0,0,0,0,0,0,0,0,0,0,0,0,null,null,null,null,null,"2.5G Gov't General Service Diesel",null,0,0]
[null,null,null,46,"4.1 Street and Area Lighting",-2.5579538487363607E-13,{"$f":"IF(SUM($G401:$U401)<>0,+G401/SUM($G401:$U401)*SUM($AC401,$AD401),0)","v":298.81740275996594},417.60818825535654,0,0.76602696694544303,79.811081621592848,63.675018584162451,3.3977863579293954,18.087720803293827,12.03868312945599,38.820834991688557,0,0,105.99455642282012,42.774589906181731,0,null,null,null,null,null,"4.1 Street and Area Lighting",null,-1010.0522345009397,-71.7396552984533]
[null,null,null,47,"4.1G Gov't Street and Area Lighting",0,{"$f":"IF(SUM($G402:$U402)<>0,+G402/SUM($G402:$U402)*SUM($AC402,$AD402),0)","v":28.255410812899722},42.676955897502701,0,7.0736323072497137E-2,7.3029301757427101,12.664754313614752,0.31484389795062412,3.2004614698500404,1.1064158129576098,7.7385396754036462,0,0,21.478863685171603,8.9712574731182446,0,null,null,null,null,null,"4.1G Gov't Street and Area Lighting",null,-124.90939384870097,-8.8717756885831776]
[{"$f":"SUM(G417:AD417)-F417","v":8.9670493252924643E-12},null,null,48,"      Total",{"$f":"SUM(F406:F416)","v":-1.2363443602225743E-12},13543.295640189674,22222.879662634663,0,34.716928878903651,3617.0323800108931,854.32566828114977,153.99136639664516,242.28523853619546,545.59708235560686,520.87509128709473,375.67546342618306,141.479324672318,127.47342010799173,574.36882209947441,0,null,null,null,null,null,"      Total",null,{"$f":"SUM(AC406:AC416)","v":-40105.47697705523},{"$f":"SUM(AD406:AD416)","v":-2848.5191118215585}]
[]
[null,null,null," ","Total Allocated Revenue Requirement",null,null,null,null,null,null,null,null,null,null,null,null,null,null,null,null,null,null,null,null,null,{"$f":"IF(ISBLANK(E419),\"\",E419)","v":"Total Allocated Revenue Requirement"}]
[null,null,null,{"$f":"MAX(D417:D419)+NoOne","v":49},"1.2 Domestic Diesel",{"$f":"SUM(G420:AD420)","v":9274095.4044387098},{"$f":"SUM(G392,G406)","v":3223193.5845558564},{"$f":"SUM(H392,H406)","v":4310850.8343709288},0,8262.7490321862988,860882.1436876714,232252.18462410293,36650.218793872373,65974.266907881145,129855.24226824578,141597.50458233937,78859.518636540888,29698.483203905413,0,156018.67377517757,0,null,null,null,null,null,"1.2 Domestic Diesel",null,{"$f":"SUM(AC392,AC406)","v":0},0]
[null,null,null,50,"1.2G Government Domestic Diesel",0,{"$f":"SUM(G393,G407)","v":0},0,0,0,0,0,0,0,0,0,0,0,0,0,0,null,null,null,null,null,"1.2G Government Domestic Diesel",null,0,0]
[null,null,null,51,"1.23 Churches, Schools & Com Halls",361612.23726291786,{"$f":"SUM(G394,G408)","v":96583.236685828713},233995.66031407483,0,247.59389236660405,25796.397784108671,0,1098.2265456586758,0,3891.1220408804052,0,0,0,0,0,0,null,null,null,null,null,"1.23 Churches, Schools & Com Halls",null,0,0]
[null,null,null,52,"2.1 GS 0-10 kW",{"$f":"SUM(G423:AD423)","v":980765.62617039459},{"$f":"SUM(G395,G409)","v":206125.2492916201},599924.97721036326,0,528.4079778063292,55053.952492517594,31508.29051926668,2343.8044558283491,8950.3415087077356,8304.3241065690454,19209.70223984939,20086.039293723039,7564.3994651675175,0,21166.137608975681,0,null,null,null,null,null,{"$f":"IF(ISBLANK(E423),\"\",E423)","v":"2.1 GS 0-10 kW"},null,0,0]
[null,null,null,53,"2.2 GS 10-100 kW",1247182.0959655303,{"$f":"SUM(G396,G410)","v":396077.26915748598},702402.60126562731,0,1015.3554189494866,105788.2003029739,4470.7708638186505,4503.7067098474117,1269.9808646834995,15957.065064237451,2725.7009396950716,7241.1326350537975,2727.0094930524874,0,3003.303250105585,0,null,null,null,null,null,"2.2 GS 10-100 kW",null,0,0]
[null,null,null,54,"2.3 GS 110-1,000 kVa",0,{"$f":"SUM(G397,G411)","v":0},0,0,0,0,0,0,0,0,0,0,0,0,0,0,null,null,null,null,null,"2.3 GS 110-1,000 kVa",null,0,0]
[null,null,null,55,"2.4 GS Over 1,000 kVa",{"$f":"SUM(G426:AD426)","v":0},0,0,0,0,0,0,0,0,0,0,0,0,0,0,0,null,null,null,null,null,{"$f":"IF(ISBLANK(E426),\"\",E426)","v":"2.4 GS Over 1,000 kVa"},null,0,0]
[null,null,null,56,"2.5 GS Diesel",0,{"$f":"SUM(G399,G413)","v":0},0,0,0,0,0,0,0,0,0,0,0,0,0,0,null,null,null,null,null,"2.5 GS Diesel",null,0,0]
[null,null,null,57,"2.5G Gov't General Service Diesel",0,{"$f":"SUM(G400,G414)","v":0},0,0,0,0,0,0,0,0,0,0,0,0,0,0,null,null,null,null,null,"2.5G Gov't General Service Diesel",null,0,0]
[null,null,null,58,"4.1 Street and Area Lighting",220898.11754990235,{"$f":"SUM(G401,G415)","v":61017.467761815089},85274.130383931872,0,156.42002550239917,16297.143522772009,13002.215927875806,693.81608179973193,3693.4492797470934,2458.2569588035449,7927.078629670269,0,0,21643.71743319296,8734.4215447915631,0,null,null,null,null,null,"4.1 Street and Area Lighting",null,0,0]
[null,null,null,59,"4.1G Gov't Street and Area Lighting",10314.275512684264,{"$f":"SUM(G402,G416)","v":2178.4388106063352},3290.3127001505386,0,5.4536369165216927,563.04212426184142,976.42863896980441,24.273869918928721,246.74953494530416,85.302569606067721,596.62679399514991,0,0,1655.9798252212686,691.6670080925029,0,null,null,null,null,null,"4.1G Gov't Street and Area Lighting",null,0,0]
[{"$f":"SUM(G431:AD431)-F431","v":0},null,null,60,"      Total",{"$f":"SUM(F420:F430)","v":12094867.756900139},3985175.246263213,5935738.5162450764,0,10215.979983727639,1064380.8799143054,282209.8905740339,45314.046456925476,80134.788095964774,160551.31300834232,172056.61318554924,106186.69056531772,39989.892162125419,23299.697258414228,189614.20318714291,0,null,null,null,null,null,"      Total",null,{"$f":"SUM(AC420:AC430)","v":0},{"$f":"SUM(AD420:AD430)","v":0}]
[]
[null,null,"RatiosIslIso:"]
[null,null,{"$f":"MAX(B434)+NoOne","v":1},2,3,4,5,6,7,8,9,10,11,12,13,14,15,16,17,18,19]
[null,null,null,null,"Expense Ratios:"]
[{"$f":"(SUM(G436:AD436)-1)*1000","v":0},null,"E-GTDC",null,"GTDC",{"$f":"SUM(G436:U436)","v":1},{"$f":"IF(SUM($F$218,$F$220)<>0,(SUM(G218,G220)/SUM($F$218,$F$220)),0)","v":0.48076587129979848},0.36945533278787301,0,6.8396667869705888E-4,6.2466134062790453E-2,1.6893431618649649E-2,2.8759216151809041E-3,5.0906202551263095E-3,1.0162041913872415E-2,1.0757896391825212E-2,6.9439313041641162E-3,1.6940174800985789E-3,1.3385191233997028E-3,3.0872315468524186E-2,0]
[{"$f":"(SUM(G437:AD437)-1)*1000","v":0},null,"E-GTD",null,"GTD",{"$f":"SUM(G437:U437)","v":1},{"$f":"IF($F$218<>0,G218/$F$218,0)","v":0.49608104171766015},0.38122461950561853,0,7.0575496873533452E-4,6.4456041303772749E-2,1.7431585010200971E-2,2.967536333018148E-3,5.2527859191096853E-3,1.0485761655632867E-2,1.110059754100009E-2,7.1651356317626556E-3,1.7479817232933042E-3,1.3811586901955122E-3,0,0]
[]
[]
[null,null,null,null,"Labour Ratios:"]
[null,null,null,null,"GTDC:"]
[null,null,null,null,"Hydraulic",{"$f":"+LabourRatios!F45","v":0}]
[null,null,null,null,"Holyrood",{"$f":"+LabourRatios!F46","v":0}]
[null,null,null,null,"Diesel",{"$f":"+LabourRatios!F47","v":0.79349295397921316},{"$f":"+G18/$F18*$F444","v":0.44745874719803663},{"$f":"+H18/$F18*$F444","v":0.34603420678117658},{"$f":"+I18/$F18*$F444","v":0},{"$f":"+J18/$F18*$F444","v":0}]
[null,null,null,null,"Gas Turbines",{"$f":"+LabourRatios!F48","v":0}]
[null,null,null,null,"Production - General",{"$f":"+LabourRatios!F49","v":9.0244198895983618E-2},{"$f":"+G19/$F19*$F446","v":5.0889621612122217E-2},{"$f":"+H19/$F19*$F446","v":3.9354577283861401E-2},{"$f":"+I19/$F19*$F446","v":0},{"$f":"+J19/$F19*$F446","v":0}]
[null,null,null,null,"Transmission Lines",{"$f":"+LabourRatios!F50","v":0}]
[null,null,null,null,"Terminal Stations",{"$f":"+LabourRatios!F51","v":0}]
[null,null,null,null,"Transmission - General",{"$f":"+LabourRatios!F52","v":0}]
[null,null,null,null,"Distribution",{"$f":"+LabourRatios!F53","v":0.10280937140122745},{"$f":"SUM(G37,-G35)/SUM($F37,-$F35)*$F450","v":2.5833140199239767E-3},0,0,5.8484637087796276E-4,5.3413554998021251E-2,1.4445239046825457E-2,2.4591436570742891E-3,4.3528886339902241E-3,8.6893609281664917E-3,9.1988642999768413E-3,5.937618233979803E-3,0,1.1445412123911327E-3,0,0]
[null,null,null,null,"Meters",{"$f":"+LabourRatios!F54","v":1.1102379343008242E-3},null,null,null,null,null,null,null,null,null,null,null,{"$f":"+F451","v":1.1102379343008242E-3}]
[null,null,null,null,"Customer-Related",{"$f":"+LabourRatios!F55","v":1.2343237789274982E-2},null,null,null,null,null,null,null,null,null,null,null,null,null,{"$f":"+F452","v":1.2343237789274982E-2}]
[{"$f":"(SUM(G453:AD453)-1)*1000","v":2.2204460492503131E-13},null,"L-GTDC",null,"Total",{"$f":"SUM(F442:F452)","v":1},{"$f":"SUM(G442:G452)","v":0.50093168283008283},{"$f":"SUM(H442:H452)","v":0.38538878406503796},0,5.8484637087796276E-4,5.3413554998021251E-2,1.4445239046825457E-2,2.4591436570742891E-3,4.3528886339902241E-3,8.6893609281664917E-3,9.1988642999768413E-3,5.937618233979803E-3,1.1102379343008242E-3,1.1445412123911327E-3,1.2343237789274982E-2,0]
[]
[null,null,null,null,"GTD:"]
[null,null,null,null,"Hydraulic",{"$f":"+LabourRatios!F62","v":0}]
[null,null,null,null,"Holyrood",{"$f":"+LabourRatios!F63","v":0}]
[null,null,null,null,"Diesel",{"$f":"+LabourRatios!F64","v":0.80340963008555255},{"$f":"+G18/$F18*$F458","v":0.45305086171481851},{"$f":"+H18/$F18*$F458","v":0.35035876837073404},{"$f":"+I18/$F18*$F458","v":0},{"$f":"+J18/$F18*$F458","v":0}]
[null,null,null,null,"Gas Turbines",{"$f":"+LabourRatios!F65","v":0}]
[null,null,null,null,"Production - General",{"$f":"+LabourRatios!F66","v":9.1372025534442958E-2},{"$f":"+G19/$F19*$F460","v":5.1525614524435853E-2},{"$f":"+H19/$F19*$F460","v":3.9846411010007105E-2},{"$f":"+I19/$F19*$F460","v":0},{"$f":"+J19/$F19*$F460","v":0}]
[null,null,null,null,"Transmission Lines",{"$f":"+LabourRatios!F67","v":0}]
[null,null,null,null,"Terminal Stations",{"$f":"+LabourRatios!F68","v":0}]
[null,null,null,null,"Transmission - General",{"$f":"+LabourRatios!F69","v":0}]
[null,null,null,null,"Distribution",{"$f":"+LabourRatios!F70","v":0.10409423125003844},{"$f":"SUM(G37,-G35)/SUM($F37,-$F35)*$F464","v":2.615598980096695E-3},0,0,5.9215548686050582E-4,5.4081090761189977E-2,1.4625768383838028E-2,2.4898767984637255E-3,4.4072888482501954E-3,8.7979561935227664E-3,9.3138270823828802E-3,6.011823602249544E-3,0,1.1588451131841033E-3,0,0]
[null,null,null,null,"Meters",{"$f":"+LabourRatios!F71","v":1.1241131299660413E-3},null,null,null,null,null,null,null,null,null,null,null,{"$f":"+F465","v":1.1241131299660413E-3}]
[null,null,null,null,"Customer-Related",{"$f":"+LabourRatios!F72","v":0},null,null,null,null,null,null,null,null,null,null,null,null,null,{"$f":"+F466","v":0}]
[{"$f":"(SUM(G467:AD467)-1)*1000","v":-1.1102230246251565E-13},null,"L-GTD",null,"Total",{"$f":"SUM(F456:F466)","v":1},0.50719207521935106,0.39020517938074117,0,5.9215548686050582E-4,5.4081090761189977E-2,1.4625768383838028E-2,2.4898767984637255E-3,4.4072888482501954E-3,8.7979561935227664E-3,9.3138270823828802E-3,6.011823602249544E-3,1.1241131299660413E-3,1.1588451131841033E-3,0,0]
[]
[{"$f":"(SUM(G469:AE469)-1)*1000","v":-2.2204460492503131E-13},null,"P-DisxMet",null,"Plant - Distribution excl. Meters",{"$f":"SUM(G469:V469)","v":0.99999999999999978},{"$f":"SUM(G37,-G35)/SUM($F37,-$F35)","v":2.5127223177372079E-2},0,0,5.6886484462152853E-3,0.51953974885779275,0.14050508090795499,2.3919450372643064E-2,4.2339414925537174E-2,8.4519152385973531E-2,8.9474959087893172E-2,5.7753667326759989E-2,0,1.1132654511857739E-2,0,0]
[]
[null,null,"Insert rows before this line to extend the ratio range"]

{"sheet":"LabIsoCos","index":22,"n_rows":472,"n_cols":31,"rows_kept":472,"cut":false,"hidden":false,"merged":[]}
[3,"Labrador Isolated",null,null," "," "]
[10,"Plant Lookups"]
[null,null,null,null,null,null,null,null,null,null,null,null,null,null,null,null,null,null,null,null,"Schedule 2.2C",null,null,null,null,null,null,null,null,null,"Schedule 2.2C"]
[null,null,null,null,null,null,null,null,null,null,null,null,null,null,null,null,null,null,null,null,"Page 1 of 2",null,null,null,null,null,null,null,null,null,"Page 2 of 2"]
[null,null,null,"NEWFOUNDLAND AND LABRADOR HYDRO",null,null,null,null,null,null,null,null,null,null,null,null,null,null,null,null,null,null,null,null,"NEWFOUNDLAND & LABRADOR HYDRO"]
[null,null,null,{"$f":"RunName","v":"2019 Test Year Cost of Service Study"},null,null,null,null,null,null,null,null,null,null,null,null,null,null,null,null,null,null,null,null,{"$f":"RunName","v":"2019 Test Year Cost of Service Study"}]
[null,null,null,{"$f":"$B$1","v":"Labrador Isolated"},null,null,null,null,null,null,null,null,null,null,null,null,null,null,null,null,null,null,null,null,{"$f":"$B$1","v":"Labrador Isolated"}]
[null,null,null,"Functional Classification of Plant in Service for the Allocation of O&M Expense",null,null,null,null,null,null,null,null,null,null,null,null,null,null,null,null,null,null,null,null,{"$f":"+D8&\" (CONT'D.)\"","v":"Functional Classification of Plant in Service for the Allocation of O&M Expense (CONT'D.)"}]
[]
[null,null,null,null,{"$f":"MAX(D10)+NoOne","v":1},2,3,4,5,6,7,8,9,10,11,12,13,14,15,16,17,null,null,null,null,null,{"$f":"MAX(Z10)+NoOne","v":1},null,{"$f":"MAX(U10)+NoOne","v":18}]
[null,null,null,null,null,null,null,null,"","Distribution",null,null,null,null,null,null,null,null,null,null,"Specifically"]
["Check","Alloc","Code","Line",null,"Total","Production","Production","Transmission","Substations","Primary Lines",null,"Line Transformers",null,"Secondary Lines",null,"Services","Meters","Street Lighting","Accounting","Assigned"]
["Column","Factor","Reference","No.","Description ","Amount","Demand","Energy","Demand","Demand","Demand","Customer","Demand","Customer","Demand","Customer","Customer","Customer","Customer","Customer","Customer",null,null,null,null,null,"Description ",null,"Basis of Functional Classification"]
[{"$f":"ROUND(SUM(A15:A474),2)","v":0},null,null,null,null,"($)","($)","($)","($)","($)","($)","($)","($)","($)","($)","($)","($)","($)","($)","($)","($)"]
[null,null,null,null," ",null,null,null,null,null,null,null,null,null,null,null,null,null,null,null,null,null,null,null,null,null,{"$f":"+E15","v":" "}]
[null,null,null,null,"Production",null,null,null,null,null,null,null,null,null,null,null,null,null,null,null,null,null,null,null,null,null,{"$f":"IF(ISBLANK(E16),\"\",E16)","v":"Production"}]
[null,null,null,null,null," ",null,null,null,null,null,null,null,null,null,null,null,null,null,null,null,null,null,null,null,null,""]
[null,null,"P03",{"$f":"MAX(D15:D17)+NoOne","v":1},"Diesel",99549250.72777003,{"$f":"$F18*'Schedule 4.1'!$D$19","v":40449931.675099954},{"$f":"$F18*'Schedule 4.1'!$E$19","v":59099319.052670076},0,0,0,0,0,0,0,0,0,0,0,0,0,null,null,null,null,null,"Diesel",null,{"$f":"\"Production - Demand, Energy ratios Sch.4.1 L.\"&'Schedule 4.1'!$A$19","v":"Production - Demand, Energy ratios Sch.4.1 L.7"}]
[{"$f":"SUM(G19:U19)-F19","v":0},null," ",{"$f":"MAX(D16:D18)+NoOne","v":2},"Subtotal Production",{"$f":"SUM(F18:F18)","v":99549250.72777003},{"$f":"SUM(G18:G18)","v":40449931.675099954},{"$f":"SUM(H18:H18)","v":59099319.052670076},0,0,0,0,0,0,0,0,0,0,0,0,0,null,null,null,null,null,"Subtotal Production"]
[null,null,null,null,null,null,null,null,null,null,null,null,null,null,null,null,null,null,null,null,null,null,null,null,null,null,""]
[null,null,null,null,"Transmission",null,null,null,null,null,null,null,null,null,null,null,null,null,null,null,null,null,null,null,null,null,"Transmission"]
[null,null," ",{"$f":"MAX(D19:D21)+NoOne","v":3},"Lines",{"$f":"SUM(G22:U22)","v":0},0,0,0,0,0,0,0,0,0,0,0,0,0,0,0,null,null,null,null,null,"Lines",null,"Production, Transmission - Demand; Distribution - Primary Demand; Spec Assigned - Custmr"]
[null,null," ",{"$f":"MAX(D20:D22)+NoOne","v":4},"Terminal Stations ",{"$f":"SUM(G23:U23)","v":0},0,0,0,0,0,0,0,0,0,0,0,0,0,0,0,null,null,null,null,null,"Terminal Stations ",null,"Production, Transmission - Demand; Spec Assigned - Custmr"]
[{"$f":"SUM(G24:U24)-F24","v":0},null," ",{"$f":"MAX(D21:D23)+NoOne","v":5},"Subtotal Transmission",{"$f":"SUM(F22:F23)","v":0},{"$f":"SUM(G22:G23)","v":0},0,0,0,0,0,0,0,0,0,0,0,0,0,0,null,null,null,null,null,"Subtotal Transmission"]
[null,null,null,null,null,null,null,null,null,null,null,null,null,null,null,null,null,null,null,null,null,null,null,null,null,null,""]
[null,null,null,null,"Distribution",null,null,null,null,null,null,null,null,null,null,null,null,null,null,null,null,null,null,null,null,null,"Distribution"]
[null,null,{"$f":"+SPLTDetails!C104","v":"SPLT12"},{"$f":"MAX(D24:D26)+NoOne","v":6},"Substation Structures & Equipment",{"$f":"SUM(G27:U27)","v":3429562.8599999994},{"$f":"SPLTDetails!E104","v":2096304.1899999995},0,0,{"$f":"SPLTDetails!K104","v":1333258.6699999997},0,0,0,0,0,0,0,0,0,0,0,null,null,null,null,null,"Substation Structures & Equipment",null,"Production - Demand; Dist Substns - Demand"]
[null,null,"D11",7,"Land & Land Improvements",{"$f":"DistnDetails!E13+DistnDetails!E22","v":281795.71744411031},{"$f":"$F28*'Schedule 4.1'!D$62","v":0},{"$f":"$F28*'Schedule 4.1'!E$62","v":0},{"$f":"$F28*'Schedule 4.1'!G$62","v":0},{"$f":"$F28*'Schedule 4.1'!J$62","v":0},{"$f":"$F28*'Schedule 4.1'!K$62","v":212459.88116698698},{"$f":"$F28*'Schedule 4.1'!L$62","v":27066.478660506793},{"$f":"$F28*'Schedule 4.1'!M$62","v":0},{"$f":"$F28*'Schedule 4.1'!N$62","v":0},{"$f":"$F28*'Schedule 4.1'!O$62","v":24643.035490487444},{"$f":"$F28*'Schedule 4.1'!P$62","v":17626.3221261291},{"$f":"$F28*'Schedule 4.1'!Q$62","v":0},{"$f":"$F28*'Schedule 4.1'!R$62","v":0},{"$f":"$F28*'Schedule 4.1'!S$62","v":0},{"$f":"$F28*'Schedule 4.1'!T$62","v":0},{"$f":"$F28*'Schedule 4.1'!U$62","v":0},null,null,null,null,null,"Land & Land Improvements",null,{"$f":"\"Primary, Secondary - Demand, Customer - zero intercept ratios Sch.4.1 L.\"&'Schedule 4.1'!$A$62","v":"Primary, Secondary - Demand, Customer - zero intercept ratios Sch.4.1 L.32"}]
[null,null,"D11",8,"Poles",{"$f":"DistnDetails!E14+DistnDetails!E16","v":14616219.552555885},{"$f":"$F29*'Schedule 4.1'!D$67","v":0},{"$f":"$F29*'Schedule 4.1'!E$67","v":0},{"$f":"$F29*'Schedule 4.1'!G$67","v":0},{"$f":"$F29*'Schedule 4.1'!J$67","v":0},{"$f":"$F29*'Schedule 4.1'!K$67","v":8453261.3457815908},{"$f":"$F29*'Schedule 4.1'!L$67","v":2888925.0270017763},{"$f":"$F29*'Schedule 4.1'!M$67","v":0},{"$f":"$F29*'Schedule 4.1'!N$67","v":0},{"$f":"$F29*'Schedule 4.1'!O$67","v":1496233.1631560407},{"$f":"$F29*'Schedule 4.1'!P$67","v":1777800.0166164776},{"$f":"$F29*'Schedule 4.1'!Q$67","v":0},{"$f":"$F29*'Schedule 4.1'!R$67","v":0},{"$f":"$F29*'Schedule 4.1'!S$67","v":0},{"$f":"$F29*'Schedule 4.1'!T$67","v":0},{"$f":"$F29*'Schedule 4.1'!U$67","v":0},null,null,null,null,null,"Poles",null,{"$f":"\"Primary, Secondary - Demand, Customer - zero intercept ratios Sch.4.1 L.\"&'Schedule 4.1'!$A$67","v":"Primary, Secondary - Demand, Customer - zero intercept ratios Sch.4.1 L.37"}]
[null,null,"D11",9,"Primary Conductor & Equipment",{"$f":"DistnDetails!E17","v":3632324.080000001},{"$f":"$F30*'Schedule 4.1'!D$68","v":0},{"$f":"$F30*'Schedule 4.1'!E$68","v":0},{"$f":"$F30*'Schedule 4.1'!G$68","v":0},{"$f":"$F30*'Schedule 4.1'!J$68","v":0},{"$f":"$F30*'Schedule 4.1'!K$68","v":3221871.4589600009},{"$f":"$F30*'Schedule 4.1'!L$68","v":410452.62104000011},{"$f":"$F30*'Schedule 4.1'!M$68","v":0},{"$f":"$F30*'Schedule 4.1'!N$68","v":0},{"$f":"$F30*'Schedule 4.1'!O$68","v":0},{"$f":"$F30*'Schedule 4.1'!P$68","v":0},{"$f":"$F30*'Schedule 4.1'!Q$68","v":0},{"$f":"$F30*'Schedule 4.1'!R$68","v":0},{"$f":"$F30*'Schedule 4.1'!S$68","v":0},{"$f":"$F30*'Schedule 4.1'!T$68","v":0},{"$f":"$F30*'Schedule 4.1'!U$68","v":0},null,null,null,null,null,"Primary Conductor & Equipment",null,{"$f":"\"Primary - Demand, Customer - zero intercept ratios Sch.4.1 L.\"&'Schedule 4.1'!$A$68","v":"Primary - Demand, Customer - zero intercept ratios Sch.4.1 L.38"}]
[null,null,"D05",10,"Submarine Conductor",0,{"$f":"$F31*'Schedule 4.1'!D$69","v":0},{"$f":"$F31*'Schedule 4.1'!E$69","v":0},{"$f":"$F31*'Schedule 4.1'!G$69","v":0},{"$f":"$F31*'Schedule 4.1'!J$69","v":0},{"$f":"$F31*'Schedule 4.1'!K$69","v":0},{"$f":"$F31*'Schedule 4.1'!L$69","v":0},{"$f":"$F31*'Schedule 4.1'!M$69","v":0},{"$f":"$F31*'Schedule 4.1'!N$69","v":0},{"$f":"$F31*'Schedule 4.1'!O$69","v":0},{"$f":"$F31*'Schedule 4.1'!P$69","v":0},{"$f":"$F31*'Schedule 4.1'!Q$69","v":0},{"$f":"$F31*'Schedule 4.1'!R$69","v":0},{"$f":"$F31*'Schedule 4.1'!S$69","v":0},{"$f":"$F31*'Schedule 4.1'!T$69","v":0},{"$f":"$F31*'Schedule 4.1'!U$69","v":0},null,null,null,null,null,"Submarine Conductor",null,{"$f":"\"Primary - Demand, Customer - zero intercept ratios Sch.4.1 L.\"&'Schedule 4.1'!$A$69","v":"Primary - Demand, Customer - zero intercept ratios Sch.4.1 L.39"}]
[null,null,"D11",11,"Transformers",{"$f":"DistnDetails!E18","v":2064535.1499999978},{"$f":"$F32*'Schedule 4.1'!D$70","v":0},{"$f":"$F32*'Schedule 4.1'!E$70","v":0},{"$f":"$F32*'Schedule 4.1'!G$70","v":0},{"$f":"$F32*'Schedule 4.1'!J$70","v":0},{"$f":"$F32*'Schedule 4.1'!K$70","v":0},{"$f":"$F32*'Schedule 4.1'!L$70","v":0},{"$f":"$F32*'Schedule 4.1'!M$70","v":745297.18914999918},{"$f":"$F32*'Schedule 4.1'!N$70","v":1319237.9608499985},{"$f":"$F32*'Schedule 4.1'!O$70","v":0},{"$f":"$F32*'Schedule 4.1'!P$70","v":0},{"$f":"$F32*'Schedule 4.1'!Q$70","v":0},{"$f":"$F32*'Schedule 4.1'!R$70","v":0},{"$f":"$F32*'Schedule 4.1'!S$70","v":0},{"$f":"$F32*'Schedule 4.1'!T$70","v":0},{"$f":"$F32*'Schedule 4.1'!U$70","v":0},null,null,null,null,null,"Transformers",null,{"$f":"+\"Transformers - Demand, Customer - zero intercept ratios Sch.4.1 L.\"&'Schedule 4.1'!$A$70","v":"Transformers - Demand, Customer - zero intercept ratios Sch.4.1 L.40"}]
[null,null,"D11",12,"Secondary Conductors & Equipment",{"$f":"DistnDetails!E19","v":944735.50999999978},{"$f":"$F33*'Schedule 4.1'!D$71","v":0},{"$f":"$F33*'Schedule 4.1'!E$71","v":0},{"$f":"$F33*'Schedule 4.1'!G$71","v":0},{"$f":"$F33*'Schedule 4.1'!J$71","v":0},{"$f":"$F33*'Schedule 4.1'!K$71","v":0},{"$f":"$F33*'Schedule 4.1'!L$71","v":0},{"$f":"$F33*'Schedule 4.1'!M$71","v":0},{"$f":"$F33*'Schedule 4.1'!N$71","v":0},{"$f":"$F33*'Schedule 4.1'!O$71","v":550780.80232999986},{"$f":"$F33*'Schedule 4.1'!P$71","v":393954.70766999992},{"$f":"$F33*'Schedule 4.1'!Q$71","v":0},{"$f":"$F33*'Schedule 4.1'!R$71","v":0},{"$f":"$F33*'Schedule 4.1'!S$71","v":0},{"$f":"$F33*'Schedule 4.1'!T$71","v":0},{"$f":"$F33*'Schedule 4.1'!U$71","v":0},null,null,null,null,null,"Secondary Conductors & Equipment",null,{"$f":"\"Secondary - Demand, Customer - zero intercept ratios Sch. 4.1 L.\"&'Schedule 4.1'!$A$71","v":"Secondary - Demand, Customer - zero intercept ratios Sch. 4.1 L.41"}]
[null,null,"D11",13,"Services",{"$f":"DistnDetails!E20","v":1216914.0199999986},{"$f":"$F34*'Schedule 4.1'!D$72","v":0},{"$f":"$F34*'Schedule 4.1'!E$72","v":0},{"$f":"$F34*'Schedule 4.1'!G$72","v":0},{"$f":"$F34*'Schedule 4.1'!J$72","v":0},{"$f":"$F34*'Schedule 4.1'!K$72","v":0},{"$f":"$F34*'Schedule 4.1'!L$72","v":0},{"$f":"$F34*'Schedule 4.1'!M$72","v":0},{"$f":"$F34*'Schedule 4.1'!N$72","v":0},{"$f":"$F34*'Schedule 4.1'!O$72","v":0},{"$f":"$F34*'Schedule 4.1'!P$72","v":0},{"$f":"$F34*'Schedule 4.1'!Q$72","v":1216914.0199999986},{"$f":"$F34*'Schedule 4.1'!R$72","v":0},{"$f":"$F34*'Schedule 4.1'!S$72","v":0},{"$f":"$F34*'Schedule 4.1'!T$72","v":0},{"$f":"$F34*'Schedule 4.1'!U$72","v":0},null,null,null,null,null,"Services",null,"Services Customer"]
[null,null,{"$f":"+SystemizedPlant!C21","v":"SMET01"},14,"Meters",{"$f":"SUM((IF(VLOOKUP($C35,AllocatedMeters,5,FALSE)=\"\",0,VLOOKUP($C35,AllocatedMeters,5,FALSE))))","v":809781.94981012854},{"$f":"$F35*'Schedule 4.1'!D$73","v":0},{"$f":"$F35*'Schedule 4.1'!E$73","v":0},{"$f":"$F35*'Schedule 4.1'!G$73","v":0},{"$f":"$F35*'Schedule 4.1'!J$73","v":0},{"$f":"$F35*'Schedule 4.1'!K$73","v":0},{"$f":"$F35*'Schedule 4.1'!L$73","v":0},{"$f":"$F35*'Schedule 4.1'!M$73","v":0},{"$f":"$F35*'Schedule 4.1'!N$73","v":0},{"$f":"$F35*'Schedule 4.1'!O$73","v":0},{"$f":"$F35*'Schedule 4.1'!P$73","v":0},{"$f":"$F35*'Schedule 4.1'!Q$73","v":0},{"$f":"$F35*'Schedule 4.1'!R$73","v":809781.94981012854},{"$f":"$F35*'Schedule 4.1'!S$73","v":0},{"$f":"$F35*'Schedule 4.1'!T$73","v":0},{"$f":"$F35*'Schedule 4.1'!U$73","v":0},null,null,null,null,null,"Meters",null,"Meters - Customer"]
[null,null,"D11",15,"Street Lighting",{"$f":"DistnDetails!E21","v":267984.26000000018},{"$f":"$F36*'Schedule 4.1'!D$74","v":0},{"$f":"$F36*'Schedule 4.1'!E$74","v":0},{"$f":"$F36*'Schedule 4.1'!G$74","v":0},{"$f":"$F36*'Schedule 4.1'!J$74","v":0},{"$f":"$F36*'Schedule 4.1'!K$74","v":0},{"$f":"$F36*'Schedule 4.1'!L$74","v":0},{"$f":"$F36*'Schedule 4.1'!M$74","v":0},{"$f":"$F36*'Schedule 4.1'!N$74","v":0},{"$f":"$F36*'Schedule 4.1'!O$74","v":0},{"$f":"$F36*'Schedule 4.1'!P$74","v":0},{"$f":"$F36*'Schedule 4.1'!Q$74","v":0},{"$f":"$F36*'Schedule 4.1'!R$74","v":0},{"$f":"$F36*'Schedule 4.1'!S$74","v":267984.26000000018},{"$f":"$F36*'Schedule 4.1'!T$74","v":0},{"$f":"$F36*'Schedule 4.1'!U$74","v":0},null,null,null,null,null,"Street Lighting",null,"Street Lighting - Customer"]
[{"$f":"SUM(G37:U37)-F37","v":0},null," ",16,"Subtotal Distribution",{"$f":"SUM(F27:F36)","v":27263853.099810127},{"$f":"SUM(G27:G36)","v":2096304.1899999995},0,0,1333258.6699999997,11887592.685908578,3326444.126702283,745297.18914999918,1319237.9608499985,2071657.000976528,2189381.0464126067,1216914.0199999986,809781.94981012854,267984.26000000018,0,0,null,null,null,null,null,"Subtotal Distribution"]
[null,null,null,null,null,null,null,null,null,null,null,null,null,null,null,null,null,null,null,null,null,null,null,null,null,null,""]
[{"$f":"SUM(G39:U39)-F39","v":0},null," ",{"$f":"MAX(D36:D38)+NoOne","v":17},"Subttl Prod, Trans, & Dist",{"$f":"SUM(F37,F24,F19)","v":126813103.82758015},{"$f":"SUM(G37,G24,G19)","v":42546235.865099952},59099319.052670076,0,1333258.6699999997,11887592.685908578,3326444.126702283,745297.18914999918,1319237.9608499985,2071657.000976528,2189381.0464126067,1216914.0199999986,809781.94981012854,267984.26000000018,0,0,null,null,null,null,null,"Subttl Prod, Trans, & Dist"]
[null,null,null,null,null,null,null,null,null,null,null,null,null,null,null,null,null,null,null,null,null,null,null,null,null,null,""]
[null,{"$f":"IF(OverheadAlloc=\"Expenses\",\"E-GTDC\",\"L-GTDC\")","v":"E-GTDC"},{"$f":"+SystemizedPlant!C99","v":"SGPLT01"},{"$f":"MAX(D38:D40)+NoOne","v":18},"General",{"$f":"SystemizedPlant!G99","v":13954834.728893366},{"$f":"$F41*VLOOKUP($B41,RatiosLabIso,G$435,FALSE)","v":4870777.8759292532},6933826.8255741168,0,79494.301784892785,708786.60062979441,198336.12128594329,44437.648152494185,78658.330109262562,123520.61196827923,130539.79812158141,72557.360794921333,39509.030102457204,15978.31097399966,658411.9134663688,0,null,null,null,null,null,"General",null,{"$f":"+\"Prorated on Subtotal Production, Transmission, Distribution, Accounting Expenses - Sch 2.4 L.\"&$D$218&\", \"&$D$220","v":"Prorated on Subtotal Production, Transmission, Distribution, Accounting Expenses - Sch 2.4 L.11, 12"}]
[null,null,null,{"$f":"MAX(D39:D41)+NoOne","v":19},"Telecontrol - Specific",0,0,0,0,0,0,0,0,0,0,0,0,0,0,0,0,null,null,null,null,null,"Telecontrol - Specific",null,"Specifically Assigned - Customer"]
[null,null,{"$f":"+SPLTDetails!C111","v":"SPLT13"},{"$f":"MAX(D40:D42)+NoOne","v":20},"Feasibility Studies",{"$f":"SUM(G43:U43)","v":0},{"$f":"+SPLTDetails!E111","v":0},0,0,0,0,0,0,0,0,0,0,0,0,0,0,null,null,null,null,null,"Feasibility Studies",null,"Production, Transmission - Demand"]
[null,null,{"$f":"+SystemizedPlant!C62","v":"SCS2_01"},{"$f":"MAX(D41:D43)+NoOne","v":21},"Software - General",{"$f":"SystemizedPlant!G62","v":68902.114545817079},{"$f":"$F44*(G$39/SUM($G$39:$U$39))","v":23116.898243073367},32110.782939934976,0,724.40732721474831,6458.9561188577363,1807.376582785394,404.94673458438172,716.78937229756207,1125.6056643405352,1189.5693669754164,661.19309966936419,439.98362139936643,145.60547468423542,0,0,null,null,null,null,null,"Software - General",null,{"$f":"+\"Prorated on subtotal Production, Transmission, & Distribution plant - L.\"&$D$39","v":"Prorated on subtotal Production, Transmission, & Distribution plant - L.17"}]
[null,null,{"$f":"+SystemizedPlant!C47","v":"SCS1_01"},{"$f":"MAX(D42:D44)+NoOne","v":22},"Software - Cust Acctng",{"$f":"SUM(G45:U45)","v":0},0,0,0,0,0,0,0,0,0,0,0,0,0,{"$f":"+SystemizedPlant!G47","v":0},0,null,null,null,null,null,"Software - Cust Acctng",null,"Customer Accounting"]
[null,null,null,null,null,null,null,null,null,null,null,null,null,null,null,null,null,null,null,null,null,null,null,null,null,null,""]
[{"$f":"SUM(G47:U47)-F47","v":0},null," ",{"$f":"MAX(D44:D46)+NoOne","v":23},"Total Plant",{"$f":"SUM(F39:F45)","v":140836840.67101935},{"$f":"SUM(G39:G45)","v":47440130.639272273},66065256.661184125,0,1413477.3791121072,12602838.242657231,3526587.6245710119,790139.7840370778,1398613.0803315586,2196303.2186091477,2321110.4139011633,1290132.5738945894,849730.96353398508,284108.17644868407,658411.9134663688,0,null,null,null,null,null,"Total Plant"]
[null,null,null,null,null,null,null,null,null,null,null,null,null,null,null,null,null,null,null,null,null,null,null,null,null,null,""]
[]
[null,null,null,null,null,null,null,null,null,null,null,null,null,null,null,null,null,null,null,null,"Schedule 2.3C"]
[null,null,null,null,null,null,null,null,null,null,null,null,null,null,null,null,null,null,null,null,"Page 1 of 1"]
[]
[null,null,null,{"$f":"D5","v":"NEWFOUNDLAND AND LABRADOR HYDRO"}]
[null,null,null,{"$f":"D6","v":"2019 Test Year Cost of Service Study"}]
[null,null,null,{"$f":"$B$1","v":"Labrador Isolated"}]
[null,null,null,"Functional Classification of Net Book Value"]
[]
[]
[null,null,null,null,{"$f":"MAX(D59)+NoOne","v":1},2,3,4,5,6,7,8,9,10,11,12,13,14,15,16,17]
[null,null,null,null,null,null,null,null,"","Distribution",null,null,null,null,null,null,null,null,null,null,"Specifically"]
[null,null,null,"Line",null,"Total","Production","Production","Transmission","Substations","Primary Lines",null,"Line Transformers",null,"Secondary Lines",null,"Services","Meters","Street Lighting","Accounting","Assigned"]
[null,null,null,"No.","Description ","Amount","Demand","Energy","Demand","Demand","Demand","Customer","Demand","Customer","Demand","Customer","Customer","Customer","Customer","Customer","Customer"]
[null,null,null,null,null,"($)","($)","($)","($)","($)","($)","($)","($)","($)","($)","($)","($)","($)","($)","($)","($)"]
[]
[null,null,null,null,"Production"]
[]
[null,null,"P03",{"$f":"MAX(D64:D66)+NoOne","v":1},"Diesel",66891733.605350889,{"$f":"$F67*'Schedule 4.1'!$D$19","v":27180174.980570059},{"$f":"$F67*'Schedule 4.1'!$E$19","v":39711558.624780826},0,0,0,0,0,0,0,0,0,0,0,0,0]
[{"$f":"SUM(G68:U68)-F68","v":0},null," ",{"$f":"MAX(D65:D67)+NoOne","v":2},"Subtotal Production",{"$f":"SUM(F67:F67)","v":66891733.605350889},{"$f":"SUM(G67:G67)","v":27180174.980570059},{"$f":"SUM(H67:H67)","v":39711558.624780826},0,0,0,0,0,0,0,0,0,0,0,0,0]
[]
[null,null,null,null,"Transmission"]
[null,null," ",{"$f":"MAX(D68:D70)+NoOne","v":3},"Lines",{"$f":"SUM(G71:U71)","v":0},0,0,0,0,0,0,0,0,0,0,0,0,0,0,0]
[null,null," ",{"$f":"MAX(D69:D71)+NoOne","v":4},"Terminal Stations ",{"$f":"SUM(G72:U72)","v":0},0,0,0,0,0,0,0,0,0,0,0,0,0,0,0]
[{"$f":"SUM(G73:U73)-F73","v":0},null," ",{"$f":"MAX(D70:D72)+NoOne","v":5},"Subtotal Transmission",{"$f":"SUM(F71:F72)","v":0},{"$f":"SUM(G71:G72)","v":0},0,0,0,0,0,0,0,0,0,0,0,0,0,0]
[]
[null,null,null,null,"Distribution"]
[null,null,{"$f":"+SNBVDetails!C100","v":"SNBV12"},{"$f":"MAX(D73:D75)+NoOne","v":6},"Substation Structures & Equipment",{"$f":"SUM(G76:U76)","v":1648180.4726645004},{"$f":"+SNBVDetails!E100","v":825187.50151300034},0,0,{"$f":"+SNBVDetails!K100","v":822992.97115150001},0,0,0,0,0,0,0,0,0,0,0]
[null,null,"D11",7,"Land & Land Improvements",{"$f":"DistnDetails!E29+DistnDetails!E38","v":158487.25087341695},{"$f":"$F77*'Schedule 4.1'!D$62","v":0},{"$f":"$F77*'Schedule 4.1'!E$62","v":0},{"$f":"$F77*'Schedule 4.1'!G$62","v":0},{"$f":"$F77*'Schedule 4.1'!J$62","v":0},{"$f":"$F77*'Schedule 4.1'!K$62","v":119491.46279601271},{"$f":"$F77*'Schedule 4.1'!L$62","v":15222.700446391698},{"$f":"$F77*'Schedule 4.1'!M$62","v":0},{"$f":"$F77*'Schedule 4.1'!N$62","v":0},{"$f":"$F77*'Schedule 4.1'!O$62","v":13859.710088880311},{"$f":"$F77*'Schedule 4.1'!P$62","v":9913.3775421322298},{"$f":"$F77*'Schedule 4.1'!Q$62","v":0},{"$f":"$F77*'Schedule 4.1'!R$62","v":0},{"$f":"$F77*'Schedule 4.1'!S$62","v":0},{"$f":"$F77*'Schedule 4.1'!T$62","v":0},{"$f":"$F77*'Schedule 4.1'!U$62","v":0}]
[null,null,"D11",8,"Poles",{"$f":"DistnDetails!E30+DistnDetails!E32","v":7843981.4648219096},{"$f":"$F78*'Schedule 4.1'!D$67","v":0},{"$f":"$F78*'Schedule 4.1'!E$67","v":0},{"$f":"$F78*'Schedule 4.1'!G$67","v":0},{"$f":"$F78*'Schedule 4.1'!J$67","v":0},{"$f":"$F78*'Schedule 4.1'!K$67","v":4536550.9922168218},{"$f":"$F78*'Schedule 4.1'!L$67","v":1550378.6244849802},{"$f":"$F78*'Schedule 4.1'!M$67","v":0},{"$f":"$F78*'Schedule 4.1'!N$67","v":0},{"$f":"$F78*'Schedule 4.1'!O$67","v":802972.69459088915},{"$f":"$F78*'Schedule 4.1'!P$67","v":954079.15352921863},{"$f":"$F78*'Schedule 4.1'!Q$67","v":0},{"$f":"$F78*'Schedule 4.1'!R$67","v":0},{"$f":"$F78*'Schedule 4.1'!S$67","v":0},{"$f":"$F78*'Schedule 4.1'!T$67","v":0},{"$f":"$F78*'Schedule 4.1'!U$67","v":0}]
[null,null,"D11",9,"Primary Conductor & Equipment",{"$f":"DistnDetails!E33","v":2393450.2905586706},{"$f":"$F79*'Schedule 4.1'!D$68","v":0},{"$f":"$F79*'Schedule 4.1'!E$68","v":0},{"$f":"$F79*'Schedule 4.1'!G$68","v":0},{"$f":"$F79*'Schedule 4.1'!J$68","v":0},{"$f":"$F79*'Schedule 4.1'!K$68","v":2122990.4077255409},{"$f":"$F79*'Schedule 4.1'!L$68","v":270459.88283312978},{"$f":"$F79*'Schedule 4.1'!M$68","v":0},{"$f":"$F79*'Schedule 4.1'!N$68","v":0},{"$f":"$F79*'Schedule 4.1'!O$68","v":0},{"$f":"$F79*'Schedule 4.1'!P$68","v":0},{"$f":"$F79*'Schedule 4.1'!Q$68","v":0},{"$f":"$F79*'Schedule 4.1'!R$68","v":0},{"$f":"$F79*'Schedule 4.1'!S$68","v":0},{"$f":"$F79*'Schedule 4.1'!T$68","v":0},{"$f":"$F79*'Schedule 4.1'!U$68","v":0}]
[null,null,"D05",10,"Submarine Conductor",0,{"$f":"$F80*'Schedule 4.1'!D$69","v":0},{"$f":"$F80*'Schedule 4.1'!E$69","v":0},{"$f":"$F80*'Schedule 4.1'!G$69","v":0},{"$f":"$F80*'Schedule 4.1'!J$69","v":0},{"$f":"$F80*'Schedule 4.1'!K$69","v":0},{"$f":"$F80*'Schedule 4.1'!L$69","v":0},{"$f":"$F80*'Schedule 4.1'!M$69","v":0},{"$f":"$F80*'Schedule 4.1'!N$69","v":0},{"$f":"$F80*'Schedule 4.1'!O$69","v":0},{"$f":"$F80*'Schedule 4.1'!P$69","v":0},{"$f":"$F80*'Schedule 4.1'!Q$69","v":0},{"$f":"$F80*'Schedule 4.1'!R$69","v":0},{"$f":"$F80*'Schedule 4.1'!S$69","v":0},{"$f":"$F80*'Schedule 4.1'!T$69","v":0},{"$f":"$F80*'Schedule 4.1'!U$69","v":0}]
[null,null,"D11",11,"Transformers",{"$f":"DistnDetails!E34","v":1303897.2141674971},{"$f":"$F81*'Schedule 4.1'!D$70","v":0},{"$f":"$F81*'Schedule 4.1'!E$70","v":0},{"$f":"$F81*'Schedule 4.1'!G$70","v":0},{"$f":"$F81*'Schedule 4.1'!J$70","v":0},{"$f":"$F81*'Schedule 4.1'!K$70","v":0},{"$f":"$F81*'Schedule 4.1'!L$70","v":0},{"$f":"$F81*'Schedule 4.1'!M$70","v":470706.89431446645},{"$f":"$F81*'Schedule 4.1'!N$70","v":833190.31985303073},{"$f":"$F81*'Schedule 4.1'!O$70","v":0},{"$f":"$F81*'Schedule 4.1'!P$70","v":0},{"$f":"$F81*'Schedule 4.1'!Q$70","v":0},{"$f":"$F81*'Schedule 4.1'!R$70","v":0},{"$f":"$F81*'Schedule 4.1'!S$70","v":0},{"$f":"$F81*'Schedule 4.1'!T$70","v":0},{"$f":"$F81*'Schedule 4.1'!U$70","v":0}]
[null,null,"D11",12,"Secondary Conductors & Equipment",{"$f":"DistnDetails!E35","v":705966.34220399964},{"$f":"$F82*'Schedule 4.1'!D$71","v":0},{"$f":"$F82*'Schedule 4.1'!E$71","v":0},{"$f":"$F82*'Schedule 4.1'!G$71","v":0},{"$f":"$F82*'Schedule 4.1'!J$71","v":0},{"$f":"$F82*'Schedule 4.1'!K$71","v":0},{"$f":"$F82*'Schedule 4.1'!L$71","v":0},{"$f":"$F82*'Schedule 4.1'!M$71","v":0},{"$f":"$F82*'Schedule 4.1'!N$71","v":0},{"$f":"$F82*'Schedule 4.1'!O$71","v":411578.37750493176},{"$f":"$F82*'Schedule 4.1'!P$71","v":294387.96469906782},{"$f":"$F82*'Schedule 4.1'!Q$71","v":0},{"$f":"$F82*'Schedule 4.1'!R$71","v":0},{"$f":"$F82*'Schedule 4.1'!S$71","v":0},{"$f":"$F82*'Schedule 4.1'!T$71","v":0},{"$f":"$F82*'Schedule 4.1'!U$71","v":0}]
[null,null,"D11",13,"Services",{"$f":"DistnDetails!E36","v":886601.1335184999},{"$f":"$F83*'Schedule 4.1'!D$72","v":0},{"$f":"$F83*'Schedule 4.1'!E$72","v":0},{"$f":"$F83*'Schedule 4.1'!G$72","v":0},{"$f":"$F83*'Schedule 4.1'!J$72","v":0},{"$f":"$F83*'Schedule 4.1'!K$72","v":0},{"$f":"$F83*'Schedule 4.1'!L$72","v":0},{"$f":"$F83*'Schedule 4.1'!M$72","v":0},{"$f":"$F83*'Schedule 4.1'!N$72","v":0},{"$f":"$F83*'Schedule 4.1'!O$72","v":0},{"$f":"$F83*'Schedule 4.1'!P$72","v":0},{"$f":"$F83*'Schedule 4.1'!Q$72","v":886601.1335184999},{"$f":"$F83*'Schedule 4.1'!R$72","v":0},{"$f":"$F83*'Schedule 4.1'!S$72","v":0},{"$f":"$F83*'Schedule 4.1'!T$72","v":0},{"$f":"$F83*'Schedule 4.1'!U$72","v":0}]
[null,null,{"$f":"+SystemizedPlant!C$31","v":"SMET02"},14,"Meters",{"$f":"SUM((IF(VLOOKUP($C84,AllocatedMeters,5,FALSE)=\"\",0,VLOOKUP($C84,AllocatedMeters,5,FALSE))))","v":511671.4500221886},{"$f":"$F84*'Schedule 4.1'!D$73","v":0},{"$f":"$F84*'Schedule 4.1'!E$73","v":0},{"$f":"$F84*'Schedule 4.1'!G$73","v":0},{"$f":"$F84*'Schedule 4.1'!J$73","v":0},{"$f":"$F84*'Schedule 4.1'!K$73","v":0},{"$f":"$F84*'Schedule 4.1'!L$73","v":0},{"$f":"$F84*'Schedule 4.1'!M$73","v":0},{"$f":"$F84*'Schedule 4.1'!N$73","v":0},{"$f":"$F84*'Schedule 4.1'!O$73","v":0},{"$f":"$F84*'Schedule 4.1'!P$73","v":0},{"$f":"$F84*'Schedule 4.1'!Q$73","v":0},{"$f":"$F84*'Schedule 4.1'!R$73","v":511671.4500221886},{"$f":"$F84*'Schedule 4.1'!S$73","v":0},{"$f":"$F84*'Schedule 4.1'!T$73","v":0},{"$f":"$F84*'Schedule 4.1'!U$73","v":0}]
[null,null,"D11",15,"Street Lighting",{"$f":"DistnDetails!E37","v":89748.231816500003},{"$f":"$F85*'Schedule 4.1'!D$74","v":0},{"$f":"$F85*'Schedule 4.1'!E$74","v":0},{"$f":"$F85*'Schedule 4.1'!G$74","v":0},{"$f":"$F85*'Schedule 4.1'!J$74","v":0},{"$f":"$F85*'Schedule 4.1'!K$74","v":0},{"$f":"$F85*'Schedule 4.1'!L$74","v":0},{"$f":"$F85*'Schedule 4.1'!M$74","v":0},{"$f":"$F85*'Schedule 4.1'!N$74","v":0},{"$f":"$F85*'Schedule 4.1'!O$74","v":0},{"$f":"$F85*'Schedule 4.1'!P$74","v":0},{"$f":"$F85*'Schedule 4.1'!Q$74","v":0},{"$f":"$F85*'Schedule 4.1'!R$74","v":0},{"$f":"$F85*'Schedule 4.1'!S$74","v":89748.231816500003},{"$f":"$F85*'Schedule 4.1'!T$74","v":0},{"$f":"$F85*'Schedule 4.1'!U$74","v":0}]
[{"$f":"SUM(G86:U86)-F86","v":0},null," ",16,"Subtotal Distribution",{"$f":"SUM(F76:F85)","v":15541983.850647183},{"$f":"SUM(G76:G85)","v":825187.50151300034},0,0,822992.97115150001,6779032.8627383756,1836061.2077645017,470706.89431446645,833190.31985303073,1228410.7821847012,1258380.4957704188,886601.1335184999,511671.4500221886,89748.231816500003,0,0]
[]
[{"$f":"SUM(G88:U88)-F88","v":0},null," ",{"$f":"MAX(D85:D87)+NoOne","v":17},"Subttl Prod, Trans, & Dist",{"$f":"SUM(F86,F73,F68)","v":82433717.455998078},{"$f":"SUM(G86,G73,G68)","v":28005362.48208306},39711558.624780826,0,822992.97115150001,6779032.8627383756,1836061.2077645017,470706.89431446645,833190.31985303073,1228410.7821847012,1258380.4957704188,886601.1335184999,511671.4500221886,89748.231816500003,0,0]
[]
[null,{"$f":"IF(OverheadAlloc=\"Expenses\",\"E-GTDC\",\"L-GTDC\")","v":"E-GTDC"},{"$f":"+SystemizedPlant!C109","v":"SGPLT02"},{"$f":"MAX(D87:D89)+NoOne","v":18},"General",{"$f":"+SystemizedPlant!G109","v":5882423.240462306},{"$f":"$F90*VLOOKUP($B90,RatiosLabIso,G$435,FALSE)","v":2053193.5729179359},2922836.7699437938,0,33509.470902982182,298776.93667272932,83605.218688828129,18731.934796941019,33157.081261067346,52068.013174954489,55026.831717737063,30585.321410001434,16654.35968235572,6735.3852369302194,277542.34405604901,0]
[{"$f":"SUM(G91:U91)-F91","v":0},null,null,{"$f":"MAX(D88:D90)+NoOne","v":19},"Telecontrol - Specific",0,{"$f":"$F91*'Schedule 4.1'!D35","v":0},{"$f":"$F91*'Schedule 4.1'!E35","v":0},{"$f":"$F91*'Schedule 4.1'!G35","v":0},{"$f":"$F91*'Schedule 4.1'!J35","v":0},{"$f":"$F91*'Schedule 4.1'!K35","v":0},{"$f":"$F91*'Schedule 4.1'!L35","v":0},{"$f":"$F91*'Schedule 4.1'!M35","v":0},{"$f":"$F91*'Schedule 4.1'!N35","v":0},{"$f":"$F91*'Schedule 4.1'!O35","v":0},{"$f":"$F91*'Schedule 4.1'!P35","v":0},{"$f":"$F91*'Schedule 4.1'!Q35","v":0},{"$f":"$F91*'Schedule 4.1'!R35","v":0},{"$f":"$F91*'Schedule 4.1'!S35","v":0},{"$f":"$F91*'Schedule 4.1'!T35","v":0},{"$f":"$F91*'Schedule 4.1'!U35","v":0}]
[{"$f":"SUM(G92:U92)-F92","v":0},null,{"$f":"+SNBVDetails!C107","v":"SNBV13"},{"$f":"MAX(D89:D91)+NoOne","v":20},"Feasibility Studies",{"$f":"SUM(G92:U92)","v":0},{"$f":"+SNBVDetails!E107","v":0},0,0,0,0,0,0,0,0,0,0,0,0,0,0]
[null,null,{"$f":"+SystemizedPlant!C68","v":"SCS2_02"},{"$f":"MAX(D90:D92)+NoOne","v":21},"Software - General",{"$f":"+SystemizedPlant!G68","v":67113.755622755023},{"$f":"$F93*(G$88/SUM($G$88:$U$88))","v":22800.682921432825},32331.331440498121,0,670.04316740404226,5519.1779401590511,1494.8369066590121,383.2279854639558,678.34538147220985,1000.1157728196401,1024.5157404026797,721.83001866414793,416.57944971680024,73.068898062520574,0,0]
[null,null,{"$f":"+SystemizedPlant!C51","v":"SCS1_02"},{"$f":"MAX(D91:D93)+NoOne","v":22},"Software - Cust Acctng",{"$f":"SUM(G94:U94)","v":0},0,0,0,0,0,0,0,0,0,0,0,0,0,{"$f":"+SystemizedPlant!G51","v":0},0]
[]
[{"$f":"SUM(G96:U96)-F96","v":0},null," ",{"$f":"MAX(D93:D95)+NoOne","v":23},"Total Net Book Value",{"$f":"SUM(F88:F94)","v":88383254.452083141},{"$f":"SUM(G88:G94)","v":30081356.737922426},42666726.726165123,0,857172.48522188619,7083328.9773512641,1921161.2633599888,489822.05709687143,867025.74649557029,1281478.9111324754,1314431.8432285585,917908.28494716552,528742.38915426121,96556.685951492749,277542.34405604901,0]
[]
[]
[]
[]
[null,null,null,null,null,null,null,null,null,null,null,null,null,null,null,null,null,null,null,null,"Schedule 2.5C"]
[null,null,null,null,null,null,null,null,null,null,null,null,null,null,null,null,null,null,null,null,"Page 1 of 1"]
[]
[null,null,null,{"$f":"D5","v":"NEWFOUNDLAND AND LABRADOR HYDRO"}]
[null,null,null,{"$f":"D6","v":"2019 Test Year Cost of Service Study"}]
[null,null,null,{"$f":"$B$1","v":"Labrador Isolated"}]
[null,null,null,"Functional Classification of Depreciation Expense"]
[]
[null,null,null,null,{"$f":"MAX(D109)+NoOne","v":1},2,3,4,5,6,7,8,9,10,11,12,13,14,15,16,17]
[null,null,null,null,null,null,null,null,"","Distribution",null,null,null,null,null,null,null,null,null,null,"Specifically"]
[null,null,null,"Line",null,"Total","Production","Production","Transmission","Substations","Primary Lines",null,"Line Transformers",null,"Secondary Lines",null,"Services","Meters","Street Lighting","Accounting","Assigned"]
[null,null,null,"No.","Description ","Amount","Demand","Energy","Demand","Demand","Demand","Customer","Demand","Customer","Demand","Customer","Customer","Customer","Customer","Customer","Customer"]
[null,null,null,null,null,"($)","($)","($)","($)","($)","($)","($)","($)","($)","($)","($)","($)","($)","($)","($)","($)"]
[null,null,null,null," "]
[null,null,null,null,"Production"]
[]
[null,null,"P03",{"$f":"MAX(D114:D116)+NoOne","v":1},"Diesel",3634138.7841173327,{"$f":"$F117*'Schedule 4.1'!$D$19","v":1476662.7015342261},{"$f":"$F117*'Schedule 4.1'!$E$19","v":2157476.0825831066},0,0,0,0,0,0,0,0,0,0,0,0,0]
[{"$f":"SUM(G118:U118)-F118","v":0},null," ",{"$f":"MAX(D115:D117)+NoOne","v":2},"Subtotal Production",{"$f":"SUM(F117:F117)","v":3634138.7841173327},{"$f":"SUM(G117:G117)","v":1476662.7015342261},{"$f":"SUM(H117:H117)","v":2157476.0825831066},0,0,0,0,0,0,0,0,0,0,0,0,0]
[]
[null,null,null,null,"Transmission"]
[null,null," ",{"$f":"MAX(D118:D120)+NoOne","v":3},"Lines",{"$f":"SUM(G121:U121)","v":0},0,0,0,0,0,0,0,0,0,0,0,0,0,0,0]
[null,null," ",{"$f":"MAX(D119:D121)+NoOne","v":4},"Terminal Stations",{"$f":"SUM(G122:U122)","v":0},0,0,0,0,0,0,0,0,0,0,0,0,0,0,0]
[{"$f":"SUM(G123:U123)-F123","v":0},null," ",{"$f":"MAX(D120:D122)+NoOne","v":5},"Subtotal Transmission",{"$f":"SUM(F121:F122)","v":0},{"$f":"SUM(G121:G122)","v":0},0,0,0,0,0,0,0,0,0,0,0,0,0,0]
[]
[null,null,null,null,"Distribution"]
[null,null,{"$f":"+SDEPDetails!C103","v":"SDEP12"},{"$f":"MAX(D123:D125)+NoOne","v":6},"Substn Struct & Eqpt",{"$f":"SUM(G126:U126)","v":67743.941556999998},{"$f":"+SDEPDetails!E103","v":40794.705657999992},0,0,{"$f":"+SDEPDetails!K103","v":26949.235899000003},0,0,0,0,0,0,0,0,0,0,0]
[null,null,"D11",7,"Land & Land Improvements",{"$f":"DistnDetails!E45+DistnDetails!E54","v":5636.7367780118711},{"$f":"$F127*'Schedule 4.1'!D$62","v":0},{"$f":"$F127*'Schedule 4.1'!E$62","v":0},{"$f":"$F127*'Schedule 4.1'!G$62","v":0},{"$f":"$F127*'Schedule 4.1'!J$62","v":0},{"$f":"$F127*'Schedule 4.1'!K$62","v":4249.8176937820499},{"$f":"$F127*'Schedule 4.1'!L$62","v":541.40856752804018},{"$f":"$F127*'Schedule 4.1'!M$62","v":0},{"$f":"$F127*'Schedule 4.1'!N$62","v":0},{"$f":"$F127*'Schedule 4.1'!O$62","v":492.93263123713803},{"$f":"$F127*'Schedule 4.1'!P$62","v":352.57788546464252},{"$f":"$F127*'Schedule 4.1'!Q$62","v":0},{"$f":"$F127*'Schedule 4.1'!R$62","v":0},{"$f":"$F127*'Schedule 4.1'!S$62","v":0},{"$f":"$F127*'Schedule 4.1'!T$62","v":0},{"$f":"$F127*'Schedule 4.1'!U$62","v":0}]
[null,null,"D11",8,"Poles",{"$f":"DistnDetails!E46+DistnDetails!E48","v":401461.9941473208},{"$f":"$F128*'Schedule 4.1'!D$67","v":0},{"$f":"$F128*'Schedule 4.1'!E$67","v":0},{"$f":"$F128*'Schedule 4.1'!G$67","v":0},{"$f":"$F128*'Schedule 4.1'!J$67","v":0},{"$f":"$F128*'Schedule 4.1'!K$67","v":232184.74139111469},{"$f":"$F128*'Schedule 4.1'!L$67","v":79349.766067206263},{"$f":"$F128*'Schedule 4.1'!M$67","v":0},{"$f":"$F128*'Schedule 4.1'!N$67","v":0},{"$f":"$F128*'Schedule 4.1'!O$67","v":41096.861416872933},{"$f":"$F128*'Schedule 4.1'!P$67","v":48830.625272126934},{"$f":"$F128*'Schedule 4.1'!Q$67","v":0},{"$f":"$F128*'Schedule 4.1'!R$67","v":0},{"$f":"$F128*'Schedule 4.1'!S$67","v":0},{"$f":"$F128*'Schedule 4.1'!T$67","v":0},{"$f":"$F128*'Schedule 4.1'!U$67","v":0}]
[null,null,"D11",9,"Primary Conductor & Equipment",{"$f":"DistnDetails!E49","v":83530.568238666834},{"$f":"$F129*'Schedule 4.1'!D$68","v":0},{"$f":"$F129*'Schedule 4.1'!E$68","v":0},{"$f":"$F129*'Schedule 4.1'!G$68","v":0},{"$f":"$F129*'Schedule 4.1'!J$68","v":0},{"$f":"$F129*'Schedule 4.1'!K$68","v":74091.614027697477},{"$f":"$F129*'Schedule 4.1'!L$68","v":9438.9542109693521},{"$f":"$F129*'Schedule 4.1'!M$68","v":0},{"$f":"$F129*'Schedule 4.1'!N$68","v":0},{"$f":"$F129*'Schedule 4.1'!O$68","v":0},{"$f":"$F129*'Schedule 4.1'!P$68","v":0},{"$f":"$F129*'Schedule 4.1'!Q$68","v":0},{"$f":"$F129*'Schedule 4.1'!R$68","v":0},{"$f":"$F129*'Schedule 4.1'!S$68","v":0},{"$f":"$F129*'Schedule 4.1'!T$68","v":0},{"$f":"$F129*'Schedule 4.1'!U$68","v":0}]
[null,null,"D05",10,"Submarine Conductor",0,{"$f":"$F130*'Schedule 4.1'!D$69","v":0},{"$f":"$F130*'Schedule 4.1'!E$69","v":0},{"$f":"$F130*'Schedule 4.1'!G$69","v":0},{"$f":"$F130*'Schedule 4.1'!J$69","v":0},{"$f":"$F130*'Schedule 4.1'!K$69","v":0},{"$f":"$F130*'Schedule 4.1'!L$69","v":0},{"$f":"$F130*'Schedule 4.1'!M$69","v":0},{"$f":"$F130*'Schedule 4.1'!N$69","v":0},{"$f":"$F130*'Schedule 4.1'!O$69","v":0},{"$f":"$F130*'Schedule 4.1'!P$69","v":0},{"$f":"$F130*'Schedule 4.1'!Q$69","v":0},{"$f":"$F130*'Schedule 4.1'!R$69","v":0},{"$f":"$F130*'Schedule 4.1'!S$69","v":0},{"$f":"$F130*'Schedule 4.1'!T$69","v":0},{"$f":"$F130*'Schedule 4.1'!U$69","v":0}]
[null,null,"D11",11,"Transformers",{"$f":"DistnDetails!E50","v":75120.690554999979},{"$f":"$F131*'Schedule 4.1'!D$70","v":0},{"$f":"$F131*'Schedule 4.1'!E$70","v":0},{"$f":"$F131*'Schedule 4.1'!G$70","v":0},{"$f":"$F131*'Schedule 4.1'!J$70","v":0},{"$f":"$F131*'Schedule 4.1'!K$70","v":0},{"$f":"$F131*'Schedule 4.1'!L$70","v":0},{"$f":"$F131*'Schedule 4.1'!M$70","v":27118.56929035499},{"$f":"$F131*'Schedule 4.1'!N$70","v":48002.121264644986},{"$f":"$F131*'Schedule 4.1'!O$70","v":0},{"$f":"$F131*'Schedule 4.1'!P$70","v":0},{"$f":"$F131*'Schedule 4.1'!Q$70","v":0},{"$f":"$F131*'Schedule 4.1'!R$70","v":0},{"$f":"$F131*'Schedule 4.1'!S$70","v":0},{"$f":"$F131*'Schedule 4.1'!T$70","v":0},{"$f":"$F131*'Schedule 4.1'!U$70","v":0}]
[null,null,"D11",12,"Secondary Conductors & Equipment",{"$f":"DistnDetails!E51","v":42694.389363999879},{"$f":"$F132*'Schedule 4.1'!D$71","v":0},{"$f":"$F132*'Schedule 4.1'!E$71","v":0},{"$f":"$F132*'Schedule 4.1'!G$71","v":0},{"$f":"$F132*'Schedule 4.1'!J$71","v":0},{"$f":"$F132*'Schedule 4.1'!K$71","v":0},{"$f":"$F132*'Schedule 4.1'!L$71","v":0},{"$f":"$F132*'Schedule 4.1'!M$71","v":0},{"$f":"$F132*'Schedule 4.1'!N$71","v":0},{"$f":"$F132*'Schedule 4.1'!O$71","v":24890.828999211928},{"$f":"$F132*'Schedule 4.1'!P$71","v":17803.560364787947},{"$f":"$F132*'Schedule 4.1'!Q$71","v":0},{"$f":"$F132*'Schedule 4.1'!R$71","v":0},{"$f":"$F132*'Schedule 4.1'!S$71","v":0},{"$f":"$F132*'Schedule 4.1'!T$71","v":0},{"$f":"$F132*'Schedule 4.1'!U$71","v":0}]
[null,null,"D11",13,"Services",{"$f":"DistnDetails!E52","v":21246.519321000014},{"$f":"$F133*'Schedule 4.1'!D$72","v":0},{"$f":"$F133*'Schedule 4.1'!E$72","v":0},{"$f":"$F133*'Schedule 4.1'!G$72","v":0},{"$f":"$F133*'Schedule 4.1'!J$72","v":0},{"$f":"$F133*'Schedule 4.1'!K$72","v":0},{"$f":"$F133*'Schedule 4.1'!L$72","v":0},{"$f":"$F133*'Schedule 4.1'!M$72","v":0},{"$f":"$F133*'Schedule 4.1'!N$72","v":0},{"$f":"$F133*'Schedule 4.1'!O$72","v":0},{"$f":"$F133*'Schedule 4.1'!P$72","v":0},{"$f":"$F133*'Schedule 4.1'!Q$72","v":21246.519321000014},{"$f":"$F133*'Schedule 4.1'!R$72","v":0},{"$f":"$F133*'Schedule 4.1'!S$72","v":0},{"$f":"$F133*'Schedule 4.1'!T$72","v":0},{"$f":"$F133*'Schedule 4.1'!U$72","v":0}]
[null,null,{"$f":"+SystemizedPlant!C40","v":"SMET03"},14,"Meters",{"$f":"SUM((IF(VLOOKUP($C134,AllocatedMeters,5,FALSE)=\"\",0,VLOOKUP($C134,AllocatedMeters,5,FALSE))))","v":35728.598561380313},{"$f":"$F134*'Schedule 4.1'!D$73","v":0},{"$f":"$F134*'Schedule 4.1'!E$73","v":0},{"$f":"$F134*'Schedule 4.1'!G$73","v":0},{"$f":"$F134*'Schedule 4.1'!J$73","v":0},{"$f":"$F134*'Schedule 4.1'!K$73","v":0},{"$f":"$F134*'Schedule 4.1'!L$73","v":0},{"$f":"$F134*'Schedule 4.1'!M$73","v":0},{"$f":"$F134*'Schedule 4.1'!N$73","v":0},{"$f":"$F134*'Schedule 4.1'!O$73","v":0},{"$f":"$F134*'Schedule 4.1'!P$73","v":0},{"$f":"$F134*'Schedule 4.1'!Q$73","v":0},{"$f":"$F134*'Schedule 4.1'!R$73","v":35728.598561380313},{"$f":"$F134*'Schedule 4.1'!S$73","v":0},{"$f":"$F134*'Schedule 4.1'!T$73","v":0},{"$f":"$F134*'Schedule 4.1'!U$73","v":0}]
[null,null,"D11",15,"Street Lighting",{"$f":"DistnDetails!E53","v":12489.878789000008},{"$f":"$F135*'Schedule 4.1'!D$74","v":0},{"$f":"$F135*'Schedule 4.1'!E$74","v":0},{"$f":"$F135*'Schedule 4.1'!G$74","v":0},{"$f":"$F135*'Schedule 4.1'!J$74","v":0},{"$f":"$F135*'Schedule 4.1'!K$74","v":0},{"$f":"$F135*'Schedule 4.1'!L$74","v":0},{"$f":"$F135*'Schedule 4.1'!M$74","v":0},{"$f":"$F135*'Schedule 4.1'!N$74","v":0},{"$f":"$F135*'Schedule 4.1'!O$74","v":0},{"$f":"$F135*'Schedule 4.1'!P$74","v":0},{"$f":"$F135*'Schedule 4.1'!Q$74","v":0},{"$f":"$F135*'Schedule 4.1'!R$74","v":0},{"$f":"$F135*'Schedule 4.1'!S$74","v":12489.878789000008},{"$f":"$F135*'Schedule 4.1'!T$74","v":0},{"$f":"$F135*'Schedule 4.1'!U$74","v":0}]
[{"$f":"SUM(G136:U136)-F136","v":0},null," ",16,"Subtotal Distribution",{"$f":"SUM(F126:F135)","v":745653.31731137959},{"$f":"SUM(G126:G135)","v":40794.705657999992},0,0,26949.235899000003,310526.17311259417,89330.128845703657,27118.56929035499,48002.121264644986,66480.623047322006,66986.763522379522,21246.519321000014,35728.598561380313,12489.878789000008,0,0]
[]
[{"$f":"SUM(G138:U138)-F138","v":0},null," ",{"$f":"MAX(D135:D137)+NoOne","v":17},"Subtotal Prod Tran & Dist",{"$f":"SUM(F136,F123,F118)","v":4379792.1014287118},{"$f":"SUM(G136,G123,G118)","v":1517457.407192226},2157476.0825831066,0,26949.235899000003,310526.17311259417,89330.128845703657,27118.56929035499,48002.121264644986,66480.623047322006,66986.763522379522,21246.519321000014,35728.598561380313,12489.878789000008,0,0]
[]
[null,{"$f":"IF(OverheadAlloc=\"Expenses\",\"E-GTDC\",\"L-GTDC\")","v":"E-GTDC"},{"$f":"+SystemizedPlant!C119","v":"SGPLT03"},{"$f":"MAX(D137:D139)+NoOne","v":18},"General",{"$f":"+SystemizedPlant!G119","v":477088.44212544581},{"$f":"$F140*VLOOKUP($B140,RatiosLabIso,G$435,FALSE)","v":166522.34683616742},237053.94599417894,0,2717.7543362716774,24232.024360253752,6780.7231658284163,1519.236074139689,2689.1741035325795,4222.9275716403463,4462.8997857099139,2480.5939231018056,1350.7362851414739,546.26712809417347,22509.812561385588,0]
[null,null,null,{"$f":"MAX(D138:D140)+NoOne","v":19},"Telecontrol - Specific",0,0,0,0,0,0,0,0,0,0,0,0,0,0,0,0]
[null,null,{"$f":"+SDEPDetails!C110","v":"SDEP13"},{"$f":"MAX(D139:D141)+NoOne","v":20},"Feasibility Studies",{"$f":"SUM(G142:U142)","v":0},{"$f":"+SDEPDetails!E110","v":0},0,0,0,0,0,0,0,0,0,0,0,0,0,0]
[null,null,{"$f":"+SystemizedPlant!C74","v":"SCS2_03"},{"$f":"MAX(D140:D142)+NoOne","v":21},"Software - General",{"$f":"+SystemizedPlant!G74","v":47229.716857462678},{"$f":"$F143*G$138/SUM($G$138:$U$138)","v":16363.581198653115},23265.256009276913,0,290.60849272264386,3348.5752047808646,963.29610961373498,292.4345081916432,517.6333815359003,716.89727053676506,722.35526278239479,229.11295068323093,385.28120848875102,134.6852601967278,0,0]
[null,null,{"$f":"+SystemizedPlant!C55","v":"SCS1_03"},{"$f":"MAX(D141:D143)+NoOne","v":22},"Software - Cust Acctng",{"$f":"SUM(G144:U144)","v":0},0,0,0,0,0,0,0,0,0,0,0,0,0,{"$f":"+SystemizedPlant!G55","v":0},0]
[]
[{"$f":"SUM(G146:U146)-F146","v":0},null," ",{"$f":"MAX(D143:D145)+NoOne","v":23},"Total Depreciation Expense",{"$f":"SUM(F138:F144)","v":4904110.2604116211},{"$f":"SUM(G138:G144)","v":1700343.3352270466},2417795.2845865623,0,29957.598727994326,338106.77267762879,97074.148121145801,28930.239872686321,51208.928749713472,71420.447889499119,72172.018570871835,23956.226194785049,37464.616055010534,13170.831177290909,22509.812561385588,0]
[]
[]
[]
[null,null,null,null,null,null,null,null,null,null,null,null,null,null,null,null,null,null,null,null,"Schedule 2.6C",null,null,null,null,null,null,null,null,null,"Schedule 2.6C"]
[null,null,null,null,null,null,null,null,null,null,null,null,null,null,null,null,null,null,null,null,"Page 1 of 2",null,null,null,null,null,null,null,null,null,"Page 2 of 2"]
[]
[null,null,null,{"$f":"D5","v":"NEWFOUNDLAND AND LABRADOR HYDRO"},null,null,null,null,null,null,null,null,null,null,null,null,null,null,null,null,null,null,null,null,"NEWFOUNDLAND & LABRADOR HYDRO"]
[null,null,null,{"$f":"D6","v":"2019 Test Year Cost of Service Study"},null,null,null,null,null,null,null,null,null,null,null,null,null,null,null,null,null,null,null,null,{"$f":"RunName","v":"2019 Test Year Cost of Service Study"}]
[null,null,null,{"$f":"$B$1","v":"Labrador Isolated"},null,null,null,null,null,null,null,null,null,null,null,null,null,null,null,null,null,null,null,null,{"$f":"$B$1","v":"Labrador Isolated"}]
[null,null,null,"Functional Classification of Rate Base",null,null,null,null,null,null,null,null,null,null,null,null,null,null,null,null,null,null,null,null,{"$f":"+D156&\" (CONT'D.)\"","v":"Functional Classification of Rate Base (CONT'D.)"}]
[]
[null,null,null,null,{"$f":"MAX(D158)+NoOne","v":1},2,3,4,5,6,7,8,9,10,11,12,13,14,15,16,17,null,null,null,null,null,{"$f":"MAX(Z158)+NoOne","v":1},null,{"$f":"MAX(U158)+NoOne","v":18}]
[null,null,null,null,null,null,null,null,"","Distribution",null,null,null,null,null,null,null,null,null,null,"Specifically"]
[null,null,null,"Line",null,"Total","Production","Production","Transmission","Substations","Primary Lines",null,"Line Transformers",null,"Secondary Lines",null,"Services","Meters","Street Lighting","Accounting","Assigned",null,null,null,null,null,"Description ",null,"Basis of Functional Classification"]
[null,null,null,"No.","Description ","Amount","Demand","Energy","Demand","Demand","Demand","Customer","Demand","Customer","Demand","Customer","Customer","Customer","Customer","Customer","Customer"]
[null,null,null,null,null,"($)","($)","($)","($)","($)","($)","($)","($)","($)","($)","($)","($)","($)","($)","($)","($)",null,null,null,null,null,{"$f":"IF(ISBLANK(E162),\"\",E162)","v":""}]
[null,null,null,null," ",null,null,null,null,null,null,null,null,null,null,null,null,null,null,null,null,null,null,null,null,null," "]
[null,null,null,{"$f":"MAX(D161:D163)+NoOne","v":1},"Average Net Book Value",{"$f":"SUM(G164:U164)","v":88383254.452083141},{"$f":"G96","v":30081356.737922426},{"$f":"H96","v":42666726.726165123},0,857172.48522188619,7083328.9773512641,1921161.2633599888,489822.05709687143,867025.74649557029,1281478.9111324754,1314431.8432285585,917908.28494716552,528742.38915426121,96556.685951492749,277542.34405604901,0,null,null,null,null,null,"Average Net Book Value",{"$f":"+\"Sch. 2.3 , L. \"&D96","v":"Sch. 2.3 , L. 23"}]
[null,null,null,null,null," ",null,null,null,null,null,null,null,null,null,null,null,null,null,null,null,null,null,null,null,null,""]
[{"$f":"F166-SUM(G166:U166)","v":0},null,null,{"$f":"MAX(D163:D165)+NoOne","v":2},"Cash Working Capital",{"$f":"'Rate Base'!G15","v":91465.901716614026},{"$f":"IF(SUM($G$164:$U$164)<>0,$F166*(G$164/SUM($G$164:$U$164)),0)","v":31130.539783244749},44154.864600746405,0,887.0691034577867,7330.3826169934009,1988.1678762068841,506.90616011816462,897.26602857481237,1326.174566259072,1360.2768367294209,949.92325748041469,547.18396261376279,99.924407650198788,287.22251653894523,0,null,null,null,null,null,"Cash Working Capital","Prorated on Average Net Book Value, L. 1"]
[null,null,null,null,null," ",null,null,null,null,null,null,null,null,null,null,null,null,null,null,null,null,null,null,null,null,""]
[null,null,null,{"$f":"MAX(D165:D167)+NoOne","v":3},"Fuel Inventory - No. 6 Fuel",0,0,0,0,0,0,0,0,0,0,0,0,0,0,0,0,null,null,null,null,null,{"$f":"IF(ISBLANK(E168),\"\",E168)","v":"Fuel Inventory - No. 6 Fuel"}]
[{"$f":"F169-SUM(G169:U169)","v":0},null,null,{"$f":"MAX(D166:D168)+NoOne","v":4},"Fuel Inventory - Diesel",{"$f":"'Rate Base'!G17","v":2456424.5712364023},{"$f":"$F169*(G255/$F255)","v":0},2456424.5712364023,0,0,0,0,0,0,0,0,0,0,0,0,0,null,null,null,null,null,"Fuel Inventory - Diesel","Production - Energy"]
[null,null,null,{"$f":"MAX(D167:D169)+NoOne","v":5},"Fuel Inventory - Gas Turbine",{"$f":"'Rate Base'!G18","v":0},0,0,0,0,0,0,0,0,0,0,0,0,0,0,0,null,null,null,null,null,{"$f":"IF(ISBLANK(E170),\"\",E170)","v":"Fuel Inventory - Gas Turbine"}]
[null,null,null,null,null,null,null,null,null,null,null,null,null,null,null,null,null,null,null,null,null,null,null,null,null,null,""]
[{"$f":"F172-SUM(G172:U172)","v":0},null,null,{"$f":"MAX(D169:D171)+NoOne","v":6},"Inventory/Supplies",{"$f":"'Rate Base'!G19","v":1378490.1551833912},{"$f":"IF(SUM($G$47:$U$47)<>0,$F172*(G$47/SUM($G$47:$U$47)),0)","v":464336.9784160998},646636.9557368682,0,13834.907417668359,123354.71572706649,34517.717798131976,7733.7712797612658,13689.417860851658,21497.090890603213,22718.68524891444,12627.626716999039,8317.0409262604899,2780.8087882093942,6444.4383759569273,0,null,null,null,null,null,"Inventory/Supplies",{"$f":"+\"Prorated on Total Plant in Service, Sch. 2.2, L. \"&D47","v":"Prorated on Total Plant in Service, Sch. 2.2, L. 23"}]
[null,null,null,null,null," ",null,null,null,null,null,null,null,null,null,null,null,null,null,null,null,null,null,null,null,null,""]
[{"$f":"F174-SUM(G174:U174)","v":0},null,null,{"$f":"MAX(D171:D173)+NoOne","v":7},"Deferred Charges: \nForeign Exchange Loss and Regulatory Costs",{"$f":"'Rate Base'!G21","v":3080960.9590202076},{"$f":"IF(SUM($G$164:$U$164)<>0,$F174*(G$164/SUM($G$164:$U$164)),0)","v":1048609.1090269201},1487323.8161168494,0,29880.263840552801,246918.49349072494,66969.958111273838,17074.757476831728,30223.739688907139,44671.205190202483,45819.914840041398,31997.459331129641,18431.485335794321,3365.8794484673167,9674.8771225122837,0,null,null,null,null,null,"Deferred Charges: \nForeign Exchange Loss and Regulatory Costs","Prorated on Average Net Book Value, L. 1 "]
[null,null,null,null,null," ",null,null,null,null,null,null,null,null,null,null,null,null,null,null,null,null,null,null,null,null,""]
[{"$f":"SUM(F164:F174)-F176","v":0},null,null,{"$f":"MAX(D173:D175)+NoOne","v":8},"Total Rate Base",{"$f":"SUM(G176:U176)","v":95390596.039239734},{"$f":"SUM(G164:G174)","v":31625433.36514869},47301266.933855988,0,901774.72558356507,7460932.5691860486,2024637.1071456014,515137.49201358261,911836.17007390386,1348973.3817795401,1384330.7201542438,963483.29425277456,556038.09937892982,102803.29859581965,293948.8820710571,0,null,null,null,null,null,"Total Rate Base"]
[null,null,null,null,null," ",null,null,null,null,null,null,null,null,null,null,null,null,null,null,null,null,null,null,null,null,""]
[null,null,null,{"$f":"MAX(D175:D177)+NoOne","v":9},"Less:  Rural Portion",{"$f":"SUM(G178:U178)","v":0},{"$f":"IF(RuralMarginSwitch=1,-G176,0)","v":0},0,0,0,0,0,0,0,0,0,0,0,0,0,0,null,null,null,null,null,"Less:  Rural Portion"]
[]
[null,null,null,{"$f":"MAX(D177:D179)+NoOne","v":10},"Rate Base Available for Equity Return",{"$f":"SUM(F176,F178)","v":95390596.039239734},{"$f":"SUM(G176,G178)","v":31625433.36514869},47301266.933855988,0,901774.72558356507,7460932.5691860486,2024637.1071456014,515137.49201358261,911836.17007390386,1348973.3817795401,1384330.7201542438,963483.29425277456,556038.09937892982,102803.29859581965,293948.8820710571,0,null,null,null,null,null,"Rate Base Available for Equity Return"]
[]
[{"$f":"('Rate Base'!G41*F$176)-F182","v":0},null,null,{"$f":"MAX(D179:D181)+NoOne","v":11},"Return on Debt",{"$f":"SUM(G182:U182)","v":3856595.2545063854},{"$f":"G176*'Rate Base'!$G41","v":1278600.8401453784},{"$f":"H176*'Rate Base'!$G41","v":1912367.1427129779},{"$f":"I176*'Rate Base'!$G41","v":0},{"$f":"J176*'Rate Base'!$G41","v":36458.312157822773},{"$f":"K176*'Rate Base'!$G41","v":301641.86340421543},{"$f":"L176*'Rate Base'!$G41","v":81855.090372884239},{"$f":"M176*'Rate Base'!$G41","v":20826.757454169456},{"$f":"N176*'Rate Base'!$G41","v":36865.091449347048},{"$f":"O176*'Rate Base'!$G41","v":54538.335628874098},{"$f":"P176*'Rate Base'!$G41","v":55967.815567669808},{"$f":"Q176*'Rate Base'!$G41","v":38953.159480027971},{"$f":"R176*'Rate Base'!$G41","v":22480.349053562972},{"$f":"S176*'Rate Base'!$G41","v":4156.2872020335153},{"$f":"T176*'Rate Base'!$G41","v":11884.209877421907},{"$f":"U176*'Rate Base'!$G41","v":0},null,null,null,null,null,"Return on Debt",{"$f":"+\"L.\"&D176&\" x Sch.1.1,p2,L.\"&'Rate Base'!$B$32","v":"L.8 x Sch.1.1,p2,L.12"}]
[null,null,null,null,null," ",null,null,null,null,null,null,null,null,null,null,null,null,null,null,null,null,null,null,null,null,""]
[{"$f":"('Rate Base'!G42*F$176)-F184","v":0},null,null,{"$f":"MAX(D181:D183)+NoOne","v":12},"Return on Equity",{"$f":"SUM(G184:U184)","v":1566351.6970058025},{"$f":"G180*'Rate Base'!$G42","v":519302.25071313407},{"$f":"H180*'Rate Base'!$G42","v":776705.70065305009},{"$f":"I180*'Rate Base'!$G42","v":0},{"$f":"J180*'Rate Base'!$G42","v":14807.501267249827},{"$f":"K180*'Rate Base'!$G42","v":122511.49354579048},{"$f":"L180*'Rate Base'!$G42","v":33245.350173657498},{"$f":"M180*'Rate Base'!$G42","v":8458.763424382716},{"$f":"N180*'Rate Base'!$G42","v":14972.714205486305},{"$f":"O180*'Rate Base'!$G42","v":22150.681864875354},{"$f":"P180*'Rate Base'!$G42","v":22731.263486800053},{"$f":"Q180*'Rate Base'!$G42","v":15820.78061834073},{"$f":"R180*'Rate Base'!$G42","v":9130.3677377568147},{"$f":"S180*'Rate Base'!$G42","v":1688.0712344759522},{"$f":"T180*'Rate Base'!$G42","v":4826.7580808024095},{"$f":"U182*'Rate Base'!$G42","v":0},null,null,null,null,null,"Return on Equity",{"$f":"+\"L.\"&D180&\" x Sch.1.1,p2,L.\"&'Rate Base'!$B$36","v":"L.10 x Sch.1.1,p2,L.15"}]
[null,null,null,null,null," ",null,null,null,null,null,null,null,null,null,null,null,null,null,null,null,null,null,null,null,null,""]
[null,null,null,{"$f":"MAX(D183:D185)+NoOne","v":13},"Return on Rate Base",{"$f":"SUM(G186:U186)","v":5422946.9515121859},{"$f":"SUM(G182:G184)","v":1797903.0908585126},{"$f":"SUM(H182:H184)","v":2689072.8433660278},0,51265.8134250726,424153.35695000592,115100.44054654174,29285.520878552172,51837.805654833355,76689.017493749445,78699.079054469854,54773.940098368701,31610.716791319785,5844.3584365094675,16710.967958224315,0,null,null,null,null,null,"Return on Rate Base"]
[null,null,null,null,null," ",null,null,null,null,null,null,null,null,null,null,null,null,null,null,null,null,null,null,null,null,""]
[]
[null,null,null,null,null,null,null,null,null,null,null,null,null,null,null,null,null,null,null,null,"Schedule 2.4C",null,null,null,null,null,"",null,null,null,"Schedule 2.4C"]
[null,null,null,null,null,null,null,null,null,null,null,null,null,null,null,null,null,null,null,null,"Page 1 of 2",null,null,null,null,null,"",null,null,null,"Page 2 of 2"]
[null,null,null,{"$f":"D5","v":"NEWFOUNDLAND AND LABRADOR HYDRO"},null,null,null,null,null,null,null,null,null,null,null,null,null,null,null,null,null,null,null,null,"NEWFOUNDLAND & LABRADOR HYDRO"]
[null,null,null,{"$f":"D6","v":"2019 Test Year Cost of Service Study"},null,null,null,null,null,null,null,null,null,null,null,null,null,null,null,null,null,null,null,null,{"$f":"RunName","v":"2019 Test Year Cost of Service Study"}]
[null,null,null,{"$f":"$B$1","v":"Labrador Isolated"},null,null,null,null,null,null,null,null,null,null,null,null,null,null,null,null,null,null,null,null,{"$f":"$B$1","v":"Labrador Isolated"}]
[null,null,null,"Functional Classification of Operating & Maintenance Expense",null,null,null,null,null,null,null,null,null,null,null,null,null,null,null,null,null,null,null,null,{"$f":"+D194&\" (CONT'D.)\"","v":"Functional Classification of Operating & Maintenance Expense (CONT'D.)"}]
[null,null,null,null,null,null,null,null,null,null,null,null,null,null,null,null,null,null,null,null,null,null,null,null,null,null,""]
[null,null,null,null,{"$f":"MAX(D196)+NoOne","v":1},2,3,4,5,6,7,8,9,10,11,12,13,14,15,16,17,null,null,null,null,null,{"$f":"MAX(Z196)+NoOne","v":1},null,{"$f":"MAX(U196)+NoOne","v":18},{"$f":"MAX(AC196)+NoOne","v":19},{"$f":"+AD196+1","v":20}]
[null,null,null,null,null,null,null,null,"","Distribution",null,null,null,null,null,null,null,null,null,null,"Specifically",null,null,null,null,null,"",null,"Revenue Related"]
[null,null,null,"Line",null,"Total","Production","Production","Transmission","Substations","Primary Lines",null,"Line Transformers",null,"Secondary Lines",null,"Services","Meters","Street Lighting","Accounting","Assigned",null,null,null,null,null,"",null,"Municipal","PUB "]
[null,null,null,"No.","Description ","Amount","Demand","Energy","Demand","Demand","Demand","Customer","Demand","Customer","Demand","Customer","Customer","Customer","Customer","Customer","Customer",null,null,null,null,null,"Description ",null,"Tax","Assessment","Basis of Functional Classification"]
[null,null,null,null,null,"($)","($)","($)","($)","($)","($)","($)","($)","($)","($)","($)","($)","($)","($)","($)","($)",null,null,null,null,null,""]
[null,null,null,null,null,null,null,null,null,null,null,null,null,null,null,null,null,null,null,null,null,null,null,null,null,null,""]
[null,null,null,null,"Production",null,null,null,null,null,null,null,null,null,null,null,null,null,null,null,null,null,null,null,null,null,"Production"]
[null,null,null,{"$f":"MAX(D200:D202)+NoOne","v":1},"Diesel",{"$f":"+'O&M Summary'!H19","v":7670430.3395499997},{"$f":"$F203*'Schedule 4.1'!$D$19","v":3116732.4805073543},{"$f":"$F203*'Schedule 4.1'!$E$19","v":4553697.8590426454},0,0,0,0,0,0,0,0,0,0,0,0,0,null,null,null,null,null,"Diesel",null,0,0,{"$f":"\"Production - Demand, Energy ratios Sch.4.1 L\"&'Schedule 4.1'!$A$19","v":"Production - Demand, Energy ratios Sch.4.1 L7"}]
[null,null,null,{"$f":"MAX(D201:D203)+NoOne","v":2},"Other",{"$f":"'O&M Summary'!H21","v":404203.90219300002},{"$f":"$F204*'Schedule 4.1'!$D$19","v":164240.51519209144},{"$f":"$F204*'Schedule 4.1'!$E$19","v":239963.38700090858},0,0,0,0,0,0,0,0,0,0,0,0,0,null,null,null,null,null,{"$f":"IF(ISBLANK(E204),\"\",E204)","v":"Other"},null,0,0,{"$f":"\"Production - Demand, Energy ratios Sch.4.1 L\"&'Schedule 4.1'!$A$19","v":"Production - Demand, Energy ratios Sch.4.1 L7"}]
[{"$f":"SUM(G205:AD205)-F205","v":0},null,null,{"$f":"MAX(D202:D204)+NoOne","v":3},"Subtotal Production",{"$f":"SUM(F203:F204)","v":8074634.2417429993},3280972.9956994457,4793661.2460435536,0,0,0,0,0,0,0,0,0,0,0,0,0,null,null,null,null,null,"Subtotal Production",null,{"$f":"SUM(AC203:AC204)","v":0},{"$f":"SUM(AD203:AD204)","v":0}]
[null,null,null,null,null,null,null,null,null,null,null,null,null,null,null,null,null,null,null,null,null,null,null,null,null,null,""]
[null,null,null,null,"Transmission",null,null,null,null,null,null,null,null,null,null,null,null,null,null,null,null,null,null,null,null,null,"Transmission"]
[null,null,null,{"$f":"MAX(D205:D207)+NoOne","v":4},"Transmission Lines",{"$f":"+'O&M Summary'!H26","v":0},{"$f":"IF(SUM($G$22:$U$22)<>0,$F208*G22/SUM($G$22:$U$22),0)","v":0},0,0,0,0,0,0,0,0,0,0,0,0,0,0,null,null,null,null,null,"Transmission Lines",null,{"$f":"IF(SUM($G$22:$U$22)<>0,$F208*AC22/SUM($G$22:$U$22),0)","v":0},{"$f":"IF(SUM($G$22:$U$22)<>0,$F208*AD22/SUM($G$22:$U$22),0)","v":0},{"$f":"+\"Prorated on Transmission Lines Plant in Service - Sch.2.2  L.\"&D22","v":"Prorated on Transmission Lines Plant in Service - Sch.2.2  L.3"}]
[null,null,null,{"$f":"MAX(D206:D208)+NoOne","v":5},"Terminal Stations",{"$f":"+'O&M Summary'!H30","v":0},{"$f":"IF(SUM($G$23:$U$23)<>0,$F209*G23/SUM($G$23:$U$23),0)","v":0},0,0,0,0,0,0,0,0,0,0,0,0,0,0,null,null,null,null,null,"Terminal Stations",null,{"$f":"IF(SUM($G$23:$U$23)<>0,$F209*AC23/SUM($G$23:$U$23),0)","v":0},{"$f":"IF(SUM($G$23:$U$23)<>0,$F209*AD23/SUM($G$23:$U$23),0)","v":0},{"$f":"+\"Prorated on Transmission Terminal Stations Plant in Service - Sch.2.2  L.\"&D23","v":"Prorated on Transmission Terminal Stations Plant in Service - Sch.2.2  L.4"}]
[null,null,null,{"$f":"MAX(D207:D209)+NoOne","v":6},"Other",{"$f":"'O&M Summary'!H31+'O&M Summary'!H33","v":0},{"$f":"IF($G$24<>0,($F210*G24/$F$24),0)","v":0},0,0,0,0,0,0,0,0,0,0,0,0,0,0,null,null,null,null,null,{"$f":"IF(ISBLANK(E210),\"\",E210)","v":"Other"},null,0,0,{"$f":"+\"Prorated on Transmission Plant in Service - Sch.2.2 L.\"&$D$24","v":"Prorated on Transmission Plant in Service - Sch.2.2 L.5"}]
[{"$f":"SUM(G211:AD211)-F211","v":0},null,null,{"$f":"MAX(D208:D210)+NoOne","v":7},"Subtotal Transmission",{"$f":"SUM(F208:F209)","v":0},0,0,0,0,0,0,0,0,0,0,0,0,0,0,0,null,null,null,null,null,"Subtotal Transmission",null,{"$f":"SUM(AC208:AC209)","v":0},{"$f":"SUM(AD208:AD209)","v":0}]
[null,null,null,null,null,null,null,null,null,null,null,null,null,null,null,null,null,null,null,null,null,null,null,null,null,null,""]
[null,null,null,null,"Distribution",null,null,null,null,null,null,null,null,null,null,null,null,null,null,null,null,null,null,null,null,null,"Distribution"]
[null,"P-DisxMet",null,{"$f":"MAX(D211:D213)+NoOne","v":8},"Other",{"$f":"+'O&M Summary'!H39","v":1090456.7611735556},{"$f":"$F214*VLOOKUP($B214,RatiosLabIso,G$435,FALSE)","v":86411.239483717553},0,0,54957.927755280958,490015.53465717955,137118.53529314214,30721.712147215683,54379.983551442718,85395.263766325297,90247.937692035019,50162.113549614842,0,11046.513277601594,0,0,null,null,null,null,null,"Other",null,0,0,{"$f":"+\"Prorated on Distribution Plant, excluding Meters - Sch. 2.2 L. \"&D37&\", less L. \"&D35","v":"Prorated on Distribution Plant, excluding Meters - Sch. 2.2 L. 16, less L. 14"}]
[null,null,null,{"$f":"MAX(D212:D214)+NoOne","v":9},"Meters",{"$f":"+'O&M Summary'!H43","v":27314.340440747255},{"$f":"$F215*'Schedule 4.1'!D73","v":0},{"$f":"$F215*'Schedule 4.1'!E73","v":0},{"$f":"$F215*'Schedule 4.1'!G73","v":0},{"$f":"$F215*'Schedule 4.1'!J73","v":0},{"$f":"$F215*'Schedule 4.1'!K73","v":0},{"$f":"$F215*'Schedule 4.1'!L73","v":0},{"$f":"$F215*'Schedule 4.1'!M73","v":0},{"$f":"$F215*'Schedule 4.1'!N73","v":0},{"$f":"$F215*'Schedule 4.1'!O73","v":0},{"$f":"$F215*'Schedule 4.1'!P73","v":0},{"$f":"$F215*'Schedule 4.1'!Q73","v":0},{"$f":"$F215*'Schedule 4.1'!R73","v":27314.340440747255},{"$f":"$F215*'Schedule 4.1'!S73","v":0},{"$f":"$F215*'Schedule 4.1'!T73","v":0},{"$f":"$F215*'Schedule 4.1'!U73","v":0},null,null,null,null,null,"Meters",null,0,0,"Meters - Customer"]
[{"$f":"SUM(G216:AD216)-F216","v":0},null,null,{"$f":"MAX(D213:D215)+NoOne","v":10},"Subtotal Distribution",{"$f":"SUM(F214:F215)","v":1117771.101614303},{"$f":"SUM(G214:G215)","v":86411.239483717553},0,0,54957.927755280958,490015.53465717955,137118.53529314214,30721.712147215683,54379.983551442718,85395.263766325297,90247.937692035019,50162.113549614842,27314.340440747255,11046.513277601594,0,0,null,null,null,null,null,"Subtotal Distribution",null,{"$f":"SUM(AC214:AC215)","v":0},{"$f":"SUM(AD214:AD215)","v":0}]
[null,null,null,null,null,null,null,null,null,null,null,null,null,null,null,null,null,null,null,null,null,null,null,null,null,null,""]
[{"$f":"SUM(G218:AD218)-F218","v":0},null,null,{"$f":"MAX(D215:D217)+NoOne","v":11},"Subttl Prod, Trans, & Dist",{"$f":"SUM(F216,F211,F205)","v":9192405.3433573022},{"$f":"SUM(G216,G211,G205)","v":3367384.2351831631},4793661.2460435536,0,54957.927755280958,490015.53465717955,137118.53529314214,30721.712147215683,54379.983551442718,85395.263766325297,90247.937692035019,50162.113549614842,27314.340440747255,11046.513277601594,0,0,null,null,null,null,null,"Subttl Prod, Trans, & Dist",null,{"$f":"SUM(AC216,AC211,AC205)","v":0},{"$f":"SUM(AD216,AD211,AD205)","v":0}]
[null,null,null,null,null,null,null,null,null,null,null,null,null,null,null,null,null,null,null,null,null,null,null,null,null,null,""]
[null,null,null,{"$f":"MAX(D217:D219)+NoOne","v":12},"Customer Accounting",{"$f":"+'O&M Summary'!H53","v":455189.28477937321},{"$f":"$F220*'Schedule 4.1'!D$75","v":0},{"$f":"$F220*'Schedule 4.1'!E$75","v":0},{"$f":"$F220*'Schedule 4.1'!G$75","v":0},{"$f":"$F220*'Schedule 4.1'!J$75","v":0},{"$f":"$F220*'Schedule 4.1'!K$75","v":0},{"$f":"$F220*'Schedule 4.1'!L$75","v":0},{"$f":"$F220*'Schedule 4.1'!M$75","v":0},{"$f":"$F220*'Schedule 4.1'!N$75","v":0},{"$f":"$F220*'Schedule 4.1'!O$75","v":0},{"$f":"$F220*'Schedule 4.1'!P$75","v":0},{"$f":"$F220*'Schedule 4.1'!Q$75","v":0},{"$f":"$F220*'Schedule 4.1'!R$75","v":0},{"$f":"$F220*'Schedule 4.1'!S$75","v":0},{"$f":"$F220*'Schedule 4.1'!T$75","v":455189.28477937321},{"$f":"$F220*'Schedule 4.1'!U$75","v":0},null,null,null,null,null,"Customer Accounting",null,{"$f":"$F220*'Schedule 4.1'!AC$75","v":0},{"$f":"$F220*'Schedule 4.1'!AD$75","v":0},"Accounting - Customer"]
[null,null,null,null,null,null,null,null,null,null,null,null,null,null,null,null,null,null,null,null,null,null,null,null,null,null,""]
[null,null,null,null,"Administrative & General:",null,null,null,null,null,null,null,null,null,null,null,null,null,null,null,null,null,null,null,null,null,"Administrative & General:"]
[null,null," "," ","Plant-Related:",null,null,null,null,null,null,null,null,null,null,null,null,null,null,null,null,null,null,null,null,null,"Plant-Related:"]
[null,null,null,{"$f":"MAX(D220:D223)+NoOne","v":13},"Production",{"$f":"'O&M Summary'!H79","v":619608.41415199998},{"$f":"IF($F$19<>0,$F224*(G19/$F$19),0)","v":251766.01365191274},367842.40050008724,0,0,0,0,0,0,0,0,0,0,0,0,0,null,null,null,null,null,"Production",null,{"$f":"IF($F$19<>0,$F224*(AC19/$F$19),0)","v":0},{"$f":"IF($F$19<>0,$F224*(AD19/$F$19),0)","v":0},{"$f":"+\"Prorated on Production Plant in Service - Sch.2.2 L.\"&D19","v":"Prorated on Production Plant in Service - Sch.2.2 L.2"}]
[null,null,null,{"$f":"MAX(D222:D224)+NoOne","v":14},"Transmission  ",{"$f":"+'O&M Summary'!H86","v":0},{"$f":"IF($F$24<>0,$F225*(G24/$F$24),0)","v":0},0,0,0,0,0,0,0,0,0,0,0,0,0,0,null,null,null,null,null,"Transmission  ",null,{"$f":"IF($F$24<>0,$F225*(AC24/$F$24),0)","v":0},{"$f":"IF($F$24<>0,$F225*(AD24/$F$24),0)","v":0},{"$f":"+\"Prorated on Transmission Plant in Service - Sch.2.2 L.\"&D24","v":"Prorated on Transmission Plant in Service - Sch.2.2 L.5"}]
[null,null,null,{"$f":"MAX(D223:D225)+NoOne","v":15},"Distribution  ",{"$f":"+'O&M Summary'!H87","v":301508.30344799999},{"$f":"IF($F$37<>0,$F226*(G37/$F$37),0)","v":23182.82443512122},0,0,14744.378139707493,131463.73293927812,36786.822518624635,8242.1692283378816,14589.324478969271,22910.253565551768,24212.152350163196,13457.733955250822,8955.2999334406522,2963.611903554839,0,0,null,null,null,null,null,"Distribution  ",null,{"$f":"IF($F$37<>0,$F226*(AC37/$F$37),0)","v":0},{"$f":"IF($F$37<>0,$F226*(AD37/$F$37),0)","v":0},{"$f":"+\"Prorated on Distribution Plant in Service - Sch.2.2 L.\"&D37","v":"Prorated on Distribution Plant in Service - Sch.2.2 L.16"}]
[null,null,null,{"$f":"MAX(D224:D226)+NoOne","v":16},"Prod, Trans, Distn Plant",{"$f":"+'O&M Summary'!H94","v":0},{"$f":"IF($F$39<>0,$F227*(G39/$F$39),0)","v":0},0,0,0,0,0,0,0,0,0,0,0,0,0,0,null,null,null,null,null,"Prod, Trans, Distn Plant",null,{"$f":"IF($F$39<>0,$F227*(AC39/$F$39),0)","v":0},{"$f":"IF($F$39<>0,$F227*(AD39/$F$39),0)","v":0},{"$f":"+\"Prorated on Production, Transmission & Distribution Plant in Service - Sch.2.2 L.\"&D39","v":"Prorated on Production, Transmission & Distribution Plant in Service - Sch.2.2 L.17"}]
[null,null,null,{"$f":"MAX(D225:D227)+NoOne","v":17},"Prod, Trans, Distn and General Plt",{"$f":"+'O&M Summary'!H92","v":508793.50569889002},{"$f":"IF($F$47<>0,$F228*(G47/$F$47),0)","v":171384.34988861188},238670.31794655728,0,5106.3919604986895,45529.58033342968,12740.309084688439,2854.4945257005738,5052.6925261015685,7934.4638011597335,8385.3478889205671,4660.7909689018834,3069.776301267997,1026.3819779279527,2378.6084951236885,0,null,null,null,null,null,{"$f":"IF(ISBLANK(E228),\"\",E228)","v":"Prod, Trans, Distn and General Plt"},null,{"$f":"IF($F$47<>0,$F228*(AC47/$F$47),0)","v":0},{"$f":"IF($F$47<>0,$F228*(AD47/$F$47),0)","v":0},{"$f":"+\"Prorated on Production, Transmission, Distribution & General Plant in Service - Sch.2.2 L.\"&$D$47","v":"Prorated on Production, Transmission, Distribution & General Plant in Service - Sch.2.2 L.23"}]
[null,null,null,{"$f":"MAX(D226:D228)+NoOne","v":18},"Property Insurance",{"$f":"+'O&M Summary'!H98","v":94949.530200859168},{"$f":"IF(SUM($F$19,$F$23,$F$27,$F$41:$F$42)<>0,$F229*((SUM(G$19,G$23,G$27,G$41:G$42)/SUM($F$19,$F$23,$F$27,$F$41:$F$42))),0)","v":38502.375005405745},53618.58001595096,0,1147.1482579384106,575.53112992945648,161.0479259739075,36.083145237068024,63.870165668937588,100.29811132506525,105.99765493156919,58.916209485189505,32.081132342343359,12.974307585751639,534.62713908475348,0,null,null,null,null,null,{"$f":"IF(ISBLANK(E229),\"\",E229)","v":"Property Insurance"},null,{"$f":"IF(SUM($F$19,$F$23,$F$27,$F$41:$F$42)<>0,$F229*((SUM(AC$19,AC$23,AC$27,AC$41:AC$42)/SUM($F$19,$F$23,$F$27,$F$41:$F$42))),0)","v":0},{"$f":"IF(SUM($F$19,$F$23,$F$27,$F$41:$F$42)<>0,$F229*((SUM(AD$19,AD$23,AD$27,AD$41:AD$42)/SUM($F$19,$F$23,$F$27,$F$41:$F$42))),0)","v":0},{"$f":"+\"Prorated on Prod., Trans. Terminal, Dist. Sub & General Plant in Service - Sch.2.2  L.\"&D19&\", \"&D23&\", \"&D27&\", \"&D41&\" - \"&D42","v":"Prorated on Prod., Trans. Terminal, Dist. Sub & General Plant in Service - Sch.2.2  L.2, 4, 6, 18 - 19"}]
[null,null,null,null,"Revenue Related:"," ",null,null,null,null,null,null,null,null,null,null,null,null,null,null,null,null,null,null,null,null,"Revenue Related:"]
[null,null,null,{"$f":"MAX(D228:D230)+NoOne","v":19},"Municipal Tax",{"$f":"+'O&M Summary'!H102","v":226506.64538116066},0,0,0,0,0,0,0,0,0,0,0,0,0,0,0,null,null,null,null,null,"Municipal Tax",null,{"$f":"+F231","v":226506.64538116066},0,"Revenue-related"]
[null,null,null,20,"PUB Assessment",{"$f":"+'O&M Summary'!H106","v":16087.790420544186},0,0,0,0,0,0,0,0,0,0,0,0,0,0,0,null,null,null,null,null,"PUB Assessment",null,0,{"$f":"+F232","v":16087.790420544186},"Revenue-related"]
[null,{"$f":"IF(OverheadAlloc=\"Expenses\",\"E-GTDC\",\"L-GTDC\")","v":"E-GTDC"},null,21,"All Expense-Related",{"$f":"+'O&M Summary'!H66","v":4321676.4675169345},{"$f":"$F233*VLOOKUP($B233,RatiosLabIso,G$435,FALSE)","v":1508432.4919536223},2147338.6682163612,0,24618.611398825527,219504.31029404365,61422.76599273047,13761.90703963005,24359.719108929643,38253.131073730401,40426.904694785124,22470.30830421119,12235.562008819847,4948.3273624178501,203903.76006882664,0,null,null,null,null,null,"All Expense-Related",null,{"$f":"IF(SUM($F$218,$F$220)<>0,$F233*(SUM(AC218,AC220)/SUM($F$218,$F$220)),0)","v":0},{"$f":"IF(SUM($F$218,$F$220)<>0,$F233*(SUM(AD218,AD220)/SUM($F$218,$F$220)),0)","v":0},{"$f":"+\"Prorated on Subtotal Production, Transmission, Distribution, Accounting Expenses - L.\"&$D$218&\", \"&$D$220","v":"Prorated on Subtotal Production, Transmission, Distribution, Accounting Expenses - L.11, 12"}]
[null,{"$f":"IF(OverheadAlloc=\"Expenses\",\"E-GTD\",\"L-GTD\")","v":"E-GTD"},null,22,"Prod, Trans, and Distn Expense-Related ",{"$f":"'O&M Summary'!H70","v":224842.49653131934},82364.849018098903,117251.00469647269,0,1344.2485638010614,11985.580708869205,3353.8636128906787,751.44058588409905,1330.1122836009399,2088.7334250383033,2207.4278558814185,1226.9448985877395,668.09765957959644,270.19322261470131,0,0,null,null,null,null,null,"Prod, Trans, and Distn Expense-Related ",null,{"$f":"IF(SUM($F$218,$F$220)<>0,$F234*(SUM(AC219,AC221)/SUM($F$218,$F$220)),0)","v":0},{"$f":"IF(SUM($F$218,$F$220)<>0,$F234*(SUM(AD219,AD221)/SUM($F$218,$F$220)),0)","v":0},{"$f":"+\"Prorated on Subtotal Production, Transmission, Distribution Expenses - L.\"&D218","v":"Prorated on Subtotal Production, Transmission, Distribution Expenses - L.11"}]
[{"$f":"SUM(G235:AD235)-F235","v":0},null,null,23,"Subtotal Admin & General",{"$f":"SUM(F224:F234)","v":6313973.1533497069},2075632.9039527727,2924720.9713754291,0,46960.778320771184,409058.73540555016,114464.80913490814,25646.094524789671,45395.718563270355,71286.87997680527,75337.830444681866,41874.69433643682,24960.817035450433,9221.4887741010953,206816.99570303509,0,null,null,null,null,null,"Subtotal Admin & General",null,{"$f":"SUM(AC224:AC234)","v":226506.64538116066},{"$f":"SUM(AD224:AD234)","v":16087.790420544186}]
[{"$f":"SUM(G236:AD236)-F236","v":0},null," ",24,"Total Operating & Maintenance Expenses",{"$f":"SUM(F235,F220,F218)","v":15961567.781486383},5443017.1391359363,7718382.2174189826,0,101918.70607605214,899074.27006272972,251583.34442805027,56367.806672005354,99775.702114713073,156682.14374313055,165585.76813671688,92036.807886051654,52275.157476197688,20268.00205170269,662006.28048240836,0,null,null,null,null,null,"Total Operating & Maintenance Expenses",null,{"$f":"SUM(AC235,AC220,AC218)","v":226506.64538116066},{"$f":"SUM(AD235,AD220,AD218)","v":16087.790420544186}]
[null,null,null,null,null,null,null,null,null,null,null,null,null,null,null,null,null,null,null,null,null,null,null,null,null,null,""]
[null,null,null,null,null,null,null,null,null,null,null,null,null,null,null,null,null,null,null,null,"Schedule 2.1C",null,null,null,null,null,"",null,null,null,"Schedule 2.1C"]
[null,null,null,null,null,null,null,null,null,null,null,null,null,null,null,null,null,null,null,null,"Page 1 of 2",null,null,null,null,null,"",null,null,null,"Page 2 of 2"]
[null,null,null,null,null,null,null,null,null,null,null,null,null,null,null,null,null,null,null,null,null,null,null,null,null,null,""]
[null,null,null,{"$f":"D5","v":"NEWFOUNDLAND AND LABRADOR HYDRO"},null,null,null,null,null,null,null,null,null,null,null,null,null,null,null,null,null,null,null,null,"NEWFOUNDLAND & LABRADOR HYDRO"]
[null,null,null,{"$f":"D6","v":"2019 Test Year Cost of Service Study"},null,null,null,null,null,null,null,null,null,null,null,null,null,null,null,null,null,null,null,null,{"$f":"RunName","v":"2019 Test Year Cost of Service Study"}]
[null,null,null,{"$f":"$B$1","v":"Labrador Isolated"},null,null,null,null,null,null,null,null,null,null,null,null,null,null,null,null,null,null,null,null,{"$f":"$B$1","v":"Labrador Isolated"}]
[null,null,null,"Functional Classification of Revenue Requirement",null,null,null,null,null,null,null,null,null,null,null,null,null,null,null,null,null,null,null,null,{"$f":"+D244&\" (CONT'D.)\"","v":"Functional Classification of Revenue Requirement (CONT'D.)"}]
[null,null,null,null,null,null,null,null,null,null,null,null,null,null,null,null,null,null,null,null,null,null,null,null,null,null,""]
[null,null,null,null,{"$f":"MAX(D246)+NoOne","v":1},2,3,4,5,6,7,8,9,10,11,12,13,14,15,16,17,null,null,null,null,null,{"$f":"MAX(Z246)+NoOne","v":1},null,{"$f":"MAX(U246)+NoOne","v":18},{"$f":"MAX(AC246)+NoOne","v":19},{"$f":"MAX(AD246)+NoOne","v":20}]
[null,null,null,null,null,null,null,null,"","Distribution",null,null,null,null,null,null,null,null,null,null,"Specifically",null,null,null,null,null,"",null,"Revenue Related"]
[null,null,null,"Line",null,"Total","Production","Production","Transmission","Substations","Primary Lines",null,"Line Transformers",null,"Secondary Lines",null,"Services","Meters","Street Lighting","Accounting","Assigned",null,null,null,null,null,"",null,"Municipal","PUB "]
[null,null,null,"No.","Description ","Amount","Demand","Energy","Demand","Demand","Demand","Customer","Demand","Customer","Demand","Customer","Customer","Customer","Customer","Customer","Customer",null,null,null,null,null,"Description ",null,"Tax","Assessment","Basis of Functional Classification"]
[null,null,null,null,null,"($)","($)","($)","($)","($)","($)","($)","($)","($)","($)","($)","($)","($)","($)","($)","($)",null,null,null,null,null,""]
[null,null,null,null,null,null,null,null,null,null,null,null,null,null,null,null,null,null,null,null,null,null,null,null,null,null,""]
[null,null,null,null,"Expenses",null,null,null,null,null,null,null,null,null,null,null,null,null,null,null,null,null,null,null,null,null,"Expenses"]
[null,null,null,{"$f":"MAX(D250:D252)+NoOne","v":1},"Operating & Maintenance",{"$f":"SUM(G253:AD253)","v":15961567.781486377},{"$f":"G$236","v":5443017.1391359363},{"$f":"H$236","v":7718382.2174189826},0,101918.70607605214,899074.27006272972,251583.34442805027,56367.806672005354,99775.702114713073,156682.14374313055,165585.76813671688,92036.807886051654,52275.157476197688,20268.00205170269,662006.28048240836,0,null,null,null,null,null,"Operating & Maintenance",null,{"$f":"AC$236","v":226506.64538116066},{"$f":"AD$236","v":16087.790420544186},{"$f":"+\"Carryforward from Sch.2.4 L.\"&D236","v":"Carryforward from Sch.2.4 L.24"}]
[null,null,"FUEL1",2,"Fuels",0,0,0,0,0,0,0,0,0,0,0,0,0,0,0,0,null,null,null,null,null,"Fuels",null,0,0,"Production - Energy"]
[null,null,"FUEL2",3,"Fuels-Diesel",17625400,{"$f":"$F255*'Schedule 4.1'!D$27","v":0},{"$f":"$F255*'Schedule 4.1'!E$27","v":17625400},0,0,0,0,0,0,0,0,0,0,0,0,0,null,null,null,null,null,"Fuels-Diesel",null,0,0,"Production - Energy"]
[null,null,"FUEL3",4,"Fuels-Gas Turbine",0,{"$f":"$F256*'Schedule 4.1'!D$27","v":0},{"$f":"$F256*'Schedule 4.1'!E$27","v":0},0,0,0,0,0,0,0,0,0,0,0,0,0,null,null,null,null,null,{"$f":"IF(ISBLANK(E256),\"\",E256)","v":"Fuels-Gas Turbine"},null,0,0,"Production - Energy"]
[null,null,null,5,"Power Purchases -CF(L)Co",{"$f":"SUM(G257:AD257)","v":0},0,0,0,0,0,0,0,0,0,0,0,0,0,0,0,null,null,null,null,null,"Power Purchases -CF(L)Co",null,0,0]
[null,null,null,6,"Power Purchases-Other",{"$f":"SUM(G258:AD258)","v":0},{"$f":"'Schedules 4.2,4.3,4.4'!W$36","v":0},{"$f":"'Schedules 4.2,4.3,4.4'!X$36","v":0},{"$f":"'Schedules 4.2,4.3,4.4'!Z$36","v":0},0,0,0,0,0,0,0,0,0,0,0,0,null,null,null,null,null,"Power Purchases-Other",null,0,0,{"$f":"+\"Carryforward from Sch.4.4 L.\"&'Schedules 4.2,4.3,4.4'!T36","v":"Carryforward from Sch.4.4 L.12"}]
[null,null,null,7,"Depreciation",{"$f":"SUM(G259:AD259)","v":4904110.2604116201},{"$f":"G$146","v":1700343.3352270466},2417795.2845865623,0,29957.598727994326,338106.77267762879,97074.148121145801,28930.239872686321,51208.928749713472,71420.447889499119,72172.018570871835,23956.226194785049,37464.616055010534,13170.831177290909,22509.812561385588,0,null,null,null,null,null,"Depreciation",null,{"$f":"AC$146","v":0},{"$f":"AD$146","v":0},{"$f":"+\"Carryforward from Sch.2.5 L.\"&D146","v":"Carryforward from Sch.2.5 L.23"}]
[null,null,null,null,null,null,null,null,null,null,null,null,null,null,null,null,null,null,null,null,null,null,null,null,null,null,""]
[null,null,null,null,"Expense Credits",null,null,null,null,null,null,null,null,null,null,null,null,null,null,null,null,null,null,null,null,null,"Expense Credits"]
[null,null,null,{"$f":"MAX(D259:D261)+NoOne","v":8},"Sundry ",{"$f":"-AllocMisc!H26","v":-50081.067366105803},{"$f":"IF(SUM($G$236:$AD$236)<>0,$F262*(G$236/SUM($G$236:$AD$236)),0)","v":-17078.028408720067},-24217.221333123784,0,-319.78046610066707,-2820.9383753875204,-789.36872574042877,-176.85981489203363,-313.05656985044175,-491.6064075464447,-519.54244861472239,-288.77498996364017,-164.01870536651333,-63.592949641515098,-2077.1130745740097,0,null,null,null,null,null,"Sundry ",null,{"$f":"IF(SUM($G$236:$AD$236)<>0,$F262*(AC$236/SUM($G$236:$AD$236)),0)","v":-710.68799265207235},{"$f":"IF(SUM($G$236:$AD$236)<>0,$F262*(AD$236/SUM($G$236:$AD$236)),0)","v":-50.477103931957046},{"$f":"+\"Prorated on Total Operating & Maintenance Expenses - Sch 2.4 L.\"&$D$236","v":"Prorated on Total Operating & Maintenance Expenses - Sch 2.4 L.24"}]
[null,null,"EXPCR9",9,"Building Rental Income",0,{"$f":"$F263*(G39/SUM($G$39:$U$39))","v":0},0,0,0,0,0,0,0,0,0,0,0,0,0,0,null,null,null,null,null,"Building Rental Income",null,{"$f":"$F263*(AC39/SUM($G$39:$U$39))","v":0},{"$f":"$F263*(AD39/SUM($G$39:$U$39))","v":0},{"$f":"+\"Prorated on Production, Transmission & Distribution Plant - Sch.2.2 L.\"&D39","v":"Prorated on Production, Transmission & Distribution Plant - Sch.2.2 L.17"}]
[null,null,null,10,"Tax Refunds",{"$f":"-AllocMisc!H29","v":0},{"$f":"IF(SUM($G$236:$AD$236)<>0,$F264*(G$236/SUM($G$236:$AD$236)),0)","v":0},0,0,0,0,0,0,0,0,0,0,0,0,0,0,null,null,null,null,null,"Tax Refunds",null,{"$f":"IF(SUM($G$236:$AD$236)<>0,$F264*(AC$236/SUM($G$236:$AD$236)),0)","v":0},{"$f":"IF(SUM($G$236:$AD$236)<>0,$F264*(AD$236/SUM($G$236:$AD$236)),0)","v":0},{"$f":"+\"Prorated on Total Operating & Maintenance Expenses - Sch 2.4 L.\"&$D$236","v":"Prorated on Total Operating & Maintenance Expenses - Sch 2.4 L.24"}]
[null,null,null,11,"Suppliers' Discounts",{"$f":"-AllocMisc!H32","v":-4349.1453238986614},-1483.091940757269,-2103.0744841923283,0,-27.77040889821582,-244.97622733628464,-68.550441972195117,-15.358878661676602,-27.1864915922752,-42.692135392191247,-45.118160011278519,-25.077828075789803,-14.243729676565628,-5.5225456267631534,-180.38087226563769,0,null,null,null,null,null,"Suppliers' Discounts",null,{"$f":"IF(SUM($G$236:$AD$236)<>0,$F265*(AC$236/SUM($G$236:$AD$236)),0)","v":-61.717641467153641},{"$f":"IF(SUM($G$236:$AD$236)<>0,$F265*(AD$236/SUM($G$236:$AD$236)),0)","v":-4.3835379730383748},{"$f":"+\"Prorated on Total Operating & Maintenance Expenses - Sch 2.4 L.\"&$D$236","v":"Prorated on Total Operating & Maintenance Expenses - Sch 2.4 L.24"}]
[null,null,"EXPCR5",12,"Pole Attachments",-103327,{"$f":"$F266*'Schedule 4.1'!D67","v":0},{"$f":"$F266*'Schedule 4.1'!E67","v":0},{"$f":"$F266*'Schedule 4.1'!G67","v":0},{"$f":"$F266*'Schedule 4.1'!J67","v":0},{"$f":"$F266*'Schedule 4.1'!K67","v":-59758.963795999996},{"$f":"$F266*'Schedule 4.1'!L67","v":-20422.788204000004},{"$f":"$F266*'Schedule 4.1'!M67","v":0},{"$f":"$F266*'Schedule 4.1'!N67","v":0},{"$f":"$F266*'Schedule 4.1'!O67","v":-10577.378335999998},{"$f":"$F266*'Schedule 4.1'!P67","v":-12567.869664000002},{"$f":"$F266*'Schedule 4.1'!Q67","v":0},{"$f":"$F266*'Schedule 4.1'!R67","v":0},{"$f":"$F266*'Schedule 4.1'!S67","v":0},{"$f":"$F266*'Schedule 4.1'!T67","v":0},{"$f":"$F266*'Schedule 4.1'!U67","v":0},null,null,null,null,null,"Pole Attachments",null,{"$f":"$F266*'Schedule 4.1'!AC67","v":0},{"$f":"$F266*'Schedule 4.1'!AD67","v":0},{"$f":"+\"Prorated on Distribution Poles - Sch.4.1 L.\"&'Schedule 4.1'!$A$67","v":"Prorated on Distribution Poles - Sch.4.1 L.37"}]
[null,null,"EXPCR6",13,"Secondary Energy Revenues",0,0,{"$f":"F267","v":0},0,0,0,0,0,0,0,0,0,0,0,0,0,null,null,null,null,null,"Secondary Energy Revenues",null,0,0,"Production - Energy"]
[null,null,"EXPCR7",14,"Wheeling Revenues",0,{"$f":"$F268*'Schedule 4.1'!D$36","v":0},{"$f":"$F268*'Schedule 4.1'!E$36","v":0},{"$f":"$F268*'Schedule 4.1'!G$36","v":0},{"$f":"$F268*'Schedule 4.1'!J$36","v":0},{"$f":"$F268*'Schedule 4.1'!K$36","v":0},{"$f":"$F268*'Schedule 4.1'!L$36","v":0},{"$f":"$F268*'Schedule 4.1'!M$36","v":0},{"$f":"$F268*'Schedule 4.1'!N$36","v":0},{"$f":"$F268*'Schedule 4.1'!O$36","v":0},{"$f":"$F268*'Schedule 4.1'!P$36","v":0},{"$f":"$F268*'Schedule 4.1'!Q$36","v":0},{"$f":"$F268*'Schedule 4.1'!R$36","v":0},{"$f":"$F268*'Schedule 4.1'!S$36","v":0},{"$f":"$F268*'Schedule 4.1'!T$36","v":0},{"$f":"$F268*'Schedule 4.1'!U$36","v":0},null,null,null,null,null,"Wheeling Revenues",null,{"$f":"$F268*'Schedule 4.1'!AC$36","v":0},{"$f":"$F268*'Schedule 4.1'!AD$36","v":0},{"$f":"+\"Transmission - Demand, Energy ratios Sch.4.1 L.\"&'Schedule 4.1'!A32","v":"Transmission - Demand, Energy ratios Sch.4.1 L.16"}]
[null,null,"EXPCR8",15,"Application Fees",-1654,0,0,0,0,0,0,0,0,0,0,0,0,0,{"$f":"+F269","v":-1654},0,null,null,null,null,null,"Application Fees",null,0,0,"Accounting - Customer"]
[null,null,null,16,"Meter Test Revenues",{"$f":"-AllocMisc!H38","v":0},0,0,0,0,0,0,0,0,0,0,0,{"$f":"+F270","v":0},0,0,0,null,null,null,null,null,{"$f":"IF(ISBLANK(E270),\"\",E270)","v":"Meter Test Revenues"},null,0,0,"Meters - Customer"]
[{"$f":"SUM(G271:AD271)-F271","v":0},null,null,17,"    Total Expense Credits",{"$f":"SUM(F262:F270)","v":-159411.21269000447},-18561.120349477336,-26320.295817316113,0,-347.55087499888288,-62824.878398723798,-21280.70737171263,-192.21869355371024,-340.24306144271696,-11111.676878938633,-13132.530272626003,-313.85281803942996,-178.26243504307897,-69.115495268278252,-3911.4939468396474,0,null,null,null,null,null,"    Total Expense Credits",null,{"$f":"SUM(AC262:AC270)","v":-772.40563411922597},{"$f":"SUM(AD262:AD270)","v":-54.860641904995418}]
[null,null,null,null,null,null,null,null,null,null,null,null,null,null,null,null,null,null,null,null,null,null,null,null,null,null,""]
[{"$f":"SUM(G273:AD273)-F273","v":0},null,null,{"$f":"MAX(D270:D272)+NoOne","v":18},"Subtotal Expenses",{"$f":"SUM(F271,F253:F259)","v":38331666.829207994},7124799.3540135063,27735257.206188232,0,131528.75392904758,1174356.1643416346,327376.78517748346,85105.827851137961,150644.38780298384,216990.91475369106,224625.25643496274,115679.18126279727,89561.511096165137,33369.717733725323,680604.59909695433,0,null,null,null,null,null,"Subtotal Expenses",null,{"$f":"SUM(AC271,AC253:AC259)","v":225734.23974704143},{"$f":"SUM(AD271,AD253:AD259)","v":16032.929778639191}]
[null,null,null,null,null,null,null,null,null,null,null,null,null,null,null,null,null,null,null,null,null,null,null,null,null,null,""]
[null,null,"DISGL",{"$f":"MAX(D272:D274)+NoOne","v":19},"Disposal Gain / Loss",0,{"$f":"IF(SUM($G$96:$U$96)<>0,$F275*(G$96/SUM($G$96:$U$96)),0)","v":0},0,0,0,0,0,0,0,0,0,0,0,0,0,0,null,null,null,null,null,"Disposal Gain / Loss",null,{"$f":"IF(SUM($G$96:$U$96)<>0,$F275*(AC$96/SUM($G$96:$U$96)),0)","v":0},{"$f":"IF(SUM($G$96:$U$96)<>0,$F275*(AD$96/SUM($G$96:$U$96)),0)","v":0},{"$f":"+\"Prorated on Total Net Book Value - Sch.2.3 L.\"&D96","v":"Prorated on Total Net Book Value - Sch.2.3 L.23"}]
[{"$f":"SUM(G276:AD276)-F276","v":0},null,null,{"$f":"MAX(D273:D275)+NoOne","v":20},"Subtotal Revenue Requirement  Ex. Return",{"$f":"SUM(F273,F275)","v":38331666.829207994},{"$f":"SUM(G273,G275)","v":7124799.3540135063},27735257.206188232,0,131528.75392904758,1174356.1643416346,327376.78517748346,85105.827851137961,150644.38780298384,216990.91475369106,224625.25643496274,115679.18126279727,89561.511096165137,33369.717733725323,680604.59909695433,0,null,null,null,null,null,"Subtotal Revenue Requirement  Ex. Return",null,{"$f":"SUM(AC273,AC275)","v":225734.23974704143},{"$f":"SUM(AD273,AD275)","v":16032.929778639191}]
[null,null,null,null,null,null,null,null,null,null,null,null,null,null,null,null,null,null,null,null,null,null,null,null,null,null,""]
[null,null,null,{"$f":"MAX(D275:D277)+NoOne","v":21},"Return on Debt",{"$f":"SUM(G278:U278)","v":3856595.2545063854},{"$f":"+G182","v":1278600.8401453784},{"$f":"+H182","v":1912367.1427129779},0,36458.312157822773,301641.86340421543,81855.090372884239,20826.757454169456,36865.091449347048,54538.335628874098,55967.815567669808,38953.159480027971,22480.349053562972,4156.2872020335153,11884.209877421907,0,null,null,null,null,null,"Return on Debt",null,{"$f":"+AC182","v":0},{"$f":"+AD182","v":0},{"$f":"+\"Prorated on Rate Base - Sch.2.6 L.\"&D176","v":"Prorated on Rate Base - Sch.2.6 L.8"}]
[null,null,null,{"$f":"MAX(D276:D278)+NoOne","v":22},"Return on Equity",{"$f":"SUM(G279:U279)","v":1566351.6970058025},{"$f":"+G184","v":519302.25071313407},{"$f":"+H184","v":776705.70065305009},0,14807.501267249827,122511.49354579048,33245.350173657498,8458.763424382716,14972.714205486305,22150.681864875354,22731.263486800053,15820.78061834073,9130.3677377568147,1688.0712344759522,4826.7580808024095,0,null,null,null,null,null,"Return on Equity",null,{"$f":"+AC184","v":0},{"$f":"+AD184","v":0},{"$f":"+\"Prorated on Rate Base - Sch.2.6 L.\"&D180","v":"Prorated on Rate Base - Sch.2.6 L.10"}]
[null,null,null,null,null,null,null,null,null,null,null,null,null,null,null,null,null,null,null,null,null,null,null,null,null,null,""]
[{"$f":"SUM(G281:AD281)-F281","v":0},null,null,{"$f":"MAX(D278:D280)+NoOne","v":23},"Total Revenue Requirement",{"$f":"SUM(F273,F278,F275,F279)","v":43754613.780720182},8922702.4448720198,30424330.049554259,0,182794.5673541202,1598509.5212916404,442477.22572402516,114391.34872969013,202482.19345781719,293679.93224744051,303324.33548943262,170453.12136116598,121172.22788748491,39214.076170234788,697315.56705517869,0,null,null,null,null,null,"Total Revenue Requirement",null,{"$f":"SUM(AC273,AC278,AC275,AC279)","v":225734.23974704143},{"$f":"SUM(AD273,AD278,AD275,AD279)","v":16032.929778639191}]
[null,null,null,null,null,null,null,null,null,null,null,null,null,null,null,null,null,null,null,null,null,null,null,null,null,null,""]
[]
[]
[]
[]
[]
[]
[]
[]
[]
[null,null,null,null,null,null,null,null,null,null,null,null,null,null,null,null,null,null,null,null,"Schedule 3.1C",null,null,null,null,null,null,null,null,null,"Schedule 3.1C"]
[null,null,null,null,null,null,null,null,null,null,null,null,null,null,null,null,null,null,null,null,"Page 1 of 2",null,null,null,null,null,null,null,null,null,"Page 2 of 2"]
[]
[null,null,null,{"$f":"D5","v":"NEWFOUNDLAND AND LABRADOR HYDRO"},null,null,null,null,null,null,null,null,null,null,null,null,null,null,null,null,null,null,null,null,{"$f":"Y5","v":"NEWFOUNDLAND & LABRADOR HYDRO"}]
[null,null,null,{"$f":"D6","v":"2019 Test Year Cost of Service Study"},null,null,null,null,null,null,null,null,null,null,null,null,null,null,null,null,null,null,null,null,{"$f":"Y6","v":"2019 Test Year Cost of Service Study"}]
[null,null,null,{"$f":"$B$1","v":"Labrador Isolated"},null,null,null,null,null,null,null,null,null,null,null,null,null,null,null,null,null,null,null,null,{"$f":"$B$1","v":"Labrador Isolated"}]
[null,null,null,"Basis of Allocation to Classes of Service",null,null,null,null,null,null,null,null,null,null,null,null,null,null,null,null,null,null,null,null,{"$f":"+D298&\" (CONT'D.)\"","v":"Basis of Allocation to Classes of Service (CONT'D.)"}]
[]
[null,null,null,null,{"$f":"MAX(D300)+NoOne","v":1},2,3,4,5,6,7,8,9,10,11,12,13,14,15,16,17,null,null,null,null,null,{"$f":"MAX(Z300)+NoOne","v":1},null,{"$f":"MAX(U300)+NoOne","v":18},{"$f":"MAX(AC300)+NoOne","v":19}]
[null,null,null,null,null,null,null,null,"","Distribution",null,null,null,null,null,null,null,null,null,null,"Specifically",null,null,null,null,null,null,null,"Revenue Related"]
[null,null,null,"Line",null,"Total","Production","Production","Transmission","Substations","Primary Lines",null,"Line Transformers",null,"Secondary Lines",null,"Services","Meters","Street Lighting","Accounting","Assigned",null,null,null,null,null,null,null,"Municipal","PUB "]
[null,null,null,"No.","Description ","Amount","Demand","Energy","Demand","Demand","Demand","Customer","Demand","Customer","Demand","Customer","Customer","Customer","Customer","Customer","Customer",null,null,null,null,null,"Description",null,"Tax","Assessment"]
[null,null,null,null,null,null,null,null,null,null,null,null,null,null,null,null,null,null,null,null,null,null,null,null,null,null,null,null,"(Prior Year","(Prior Year"]
[null,null,null," ",null,null,{"$f":"IF(CP_AED_Switch=0,\"(AED kW)\",\"(CP kW)\")","v":"(CP kW)"},"(MWh @ Gen)","(CP kW)","(CP kW)","(CP kW)","(Rural Cust)","(CP kW)","(Rural Cust)","(CP kW)","(Rural Cust)","(Wtd Rural Cust)  ",null,"(Rural Cust)","(Rural Cust)",null,null,null,null,null,null,null,null,"(Rural Revenues)","(Revenues + RSP)"]
[null,null,null," "]
[null,null,null,null,"Amounts",null,null,null,null,null,null,null,null,null,null,null,null,null,null,null,null,null,null,null,null,null,{"$f":"IF(ISBLANK(E307),\"\",E307)","v":"Amounts"}]
[" ",null,"LABISO1.2",{"$f":"MAX(D305:D307)+NoOne","v":1},"1.2 Domestic Diesel","-",5602.4555013866029,22767.782433199478,5602.4555013866029,5420.4342242665552,5420.4342242665552,{"$f":"Customers!$D83","v":2082.5},5145.2662756428381,{"$f":"Customers!$D83","v":2082.5},5145.2662756428381,{"$f":"Customers!$D83","v":2082.5},{"$f":"Customers!F83","v":2082.5},{"$f":"Customers!G83","v":2082.5},0,{"$f":"Customers!$D83","v":2082.5},0,null,null,null,null,null,"1.2 Domestic Diesel",null,3186506.3271005666,3186506.3271005666]
[" ",null,"LABISO1.2G",2,"1.2G Government Domestic Diesel","-",161.82641282554226,597.56009089978568,161.82641282554226,156.56874494634698,156.56874494634698,{"$f":"Customers!$D84","v":26},148.62054401207482,{"$f":"Customers!$D84","v":26},148.62054401207482,{"$f":"Customers!$D84","v":26},{"$f":"Customers!F84","v":26},{"$f":"Customers!G84","v":26},0,{"$f":"Customers!$D84","v":26},0,null,null,null,null,null,"1.2G Government Domestic Diesel",null,517116.99800026329,517116.99800026329]
[" ",null,"LABISO1.23",3,"1.23 Churches, Schools & Com Halls","-",81.540440571009668,1779.9436455398593,81.540440571009668,78.89122807374072,78.89122807374072,{"$f":"Customers!$D85","v":0},74.88632062623924,{"$f":"Customers!$D85","v":0},74.88632062623924,{"$f":"Customers!$D85","v":0},{"$f":"Customers!F85","v":0},{"$f":"Customers!G85","v":0},0,{"$f":"Customers!$D85","v":0},0,null,null,null,null,null,"1.23 Churches, Schools & Com Halls",null,291382.08973225183,291382.08973225183]
[null,null,"LABISO2.1",4,"2.1 GS 0-10 kW","-",753.93545820272016,4595.7996333855635,753.93545820272016,729.44043188181809,729.44043188181809,{"$f":"Customers!$D86","v":452.5},692.4104414826121,{"$f":"Customers!$D86","v":452.5},692.4104414826121,{"$f":"Customers!$D86","v":452.5},{"$f":"Customers!F86","v":849.55937411590037},{"$f":"Customers!G86","v":849.55937411590037},0,{"$f":"Customers!$D86","v":452.5},0,null,null,null,null,null,{"$f":"IF(ISBLANK(E311),\"\",E311)","v":"2.1 GS 0-10 kW"},null,1299063.8766741562,1299063.8766741562]
[" ",null,"LABISO2.2",5,"2.2 GS 10-100 kW","-",1929.3722707417364,11334.536786356683,1929.3722707417364,1866.687827344819,1866.687827344819,{"$f":"Customers!$D87","v":130},1771.9255557408608,{"$f":"Customers!$D87","v":130},1771.9255557408608,{"$f":"Customers!$D87","v":130},{"$f":"Customers!F87","v":620.11627389838725},{"$f":"Customers!G87","v":620.11627389838725},0,{"$f":"Customers!$D87","v":130},0,null,null,null,null,null,"2.2 GS 10-100 kW",null,3142914.2198529402,3142914.2198529402]
[" ",null,"LABISO2.3",6,"2.3 GS 110-1,000 kVa","-",107.88427521702819,2209.8048121729198,107.88427521702819,104.37916329756466,104.37916329756466,{"$f":"Customers!$D88","v":5},99.08036267471654,{"$f":"Customers!$D88","v":5},99.08036267471654,{"$f":"Customers!$D88","v":5},{"$f":"Customers!F88","v":42.097157775337934},{"$f":"Customers!G88","v":42.097157775337934},0,{"$f":"Customers!$D88","v":5},0,null,null,null,null,null,"2.3 GS 110-1,000 kVa",null,258575.88197183577,258575.88197183577]
[null,null,"LABISO2.4",7,"2.4 GS Over 1,000 kVa","-",143.00938807838617,2522.9135631772483,143.00938807838617,138.36307692932988,138.36307692932988,{"$f":"Customers!$D89","v":1},131.33908540601959,{"$f":"Customers!$D89","v":1},131.33908540601959,{"$f":"Customers!$D89","v":1},{"$f":"Customers!F89","v":8.419431555067586},{"$f":"Customers!G89","v":8.419431555067586},0,{"$f":"Customers!$D89","v":1},0,null,null,null,null,null,"2.4 GS Over 1,000 kVa",null,229154.0524731825,229154.0524731825]
[" ",null,"LABISO2.5",8,"2.5 GS Diesel","-",0,0,0,0,0,{"$f":"Customers!$D90","v":0},0,{"$f":"Customers!$D90","v":0},0,{"$f":"Customers!$D90","v":0},{"$f":"Customers!F90","v":0},{"$f":"Customers!G90","v":0},0,{"$f":"Customers!$D90","v":0},0,null,null,null,null,null,"2.5 GS Diesel",null,0,0]
[" ",null,"LABISO2.5G",9,"2.5G Gov't General Service Diesel","-",0,0,0,0,0,{"$f":"Customers!$D91","v":0},0,{"$f":"Customers!$D91","v":0},0,{"$f":"Customers!$D91","v":0},{"$f":"Customers!F91","v":0},{"$f":"Customers!G91","v":0},0,{"$f":"Customers!$D91","v":0},0,null,null,null,null,null,"2.5G Gov't General Service Diesel",null,0,0]
[" ",null,"LABISO4.1",10,"4.1 Street and Area Lighting","-",87.812782153395034,313.10875100432827,87.812782153395034,84.959784079413097,84.959784079413097,{"$f":"Customers!$D92","v":90},80.646806828257652,{"$f":"Customers!$D92","v":90},80.646806828257652,{"$f":"Customers!$D92","v":90},{"$f":"Customers!F92","v":0},{"$f":"Customers!G92","v":0},{"$f":"Customers!$D92","v":90},{"$f":"Customers!$D92","v":90},0,null,null,null,null,null,"4.1 Street and Area Lighting",null,115285.59000000003,115285.59000000003]
[null,null,"LABISO4.1G",11,"4.1G Gov't Street and Area Lighting",null,2.1777125618971565,7.4296991763738909,2.1777125618971565,2.1069596533521828,2.1069596533521828,{"$f":"Customers!$D93","v":2},2,{"$f":"Customers!$D93","v":2},2,{"$f":"Customers!$D93","v":2},{"$f":"Customers!F93","v":0},{"$f":"Customers!G93","v":0},{"$f":"Customers!$D93","v":2},{"$f":"Customers!$D93","v":2},0,null,null,null,null,null,"4.1G Gov't Street and Area Lighting",null,8570.52,8570.52]
[null,null,null,12,"      Total","-",{"$f":"SUM(G308:G318)","v":8870.0142417383158},{"$f":"SUM(H308:H318)","v":46128.879414912248},{"$f":"SUM(I308:I318)","v":8870.0142417383158},8581.831440472939,8581.831440472939,2789,8146.1753924136192,2789,8146.1753924136192,2789,3628.6922373446932,3628.6922373446932,92,2789,0,null,null,null,null,null,"      Total",null,{"$f":"SUM(AC308:AC318)","v":9048569.555805197},{"$f":"SUM(AD308:AD318)","v":9048569.555805197}]
[null,null,null,null,null,null,null,null,null,null,null,null,null,null,null,null,null,null,null,null,null,null,null,null,null,null,""]
[null,null,null,null,"Ratios",null,null,null,null,null,null,null,null,null,null,null,null,null,null,null,null,null,null,null,null,null,"Ratios"]
[null,null,null,{"$f":"MAX(D319:D321)+NoOne","v":13},"1.2 Domestic Diesel","-",{"$f":"IF(G$319<>0,G308/G$319,0)","v":0.63161741894662982},0.49356894687190811,0.63161741894662982,0.63161741894662971,0.63161741894662971,0.74668339906776626,0.63161741894662959,0.74668339906776626,0.63161741894662959,0.74668339906776626,0.57389821560725018,0.57389821560725018,0,0.74668339906776626,0,null,null,null,null,null,"1.2 Domestic Diesel",null,{"$f":"IF(AC$319<>0,AC308/AC$319,0)","v":0.35215580843452021},0.35215580843452021]
[null,null,null,14,"1.2G Government Domestic Diesel","-",{"$f":"IF(G$319<>0,G309/G$319,0)","v":1.8244211160796071E-2},1.2954142794689486E-2,1.8244211160796071E-2,1.8244211160796067E-2,1.8244211160796067E-2,9.3223377554679104E-3,1.8244211160796064E-2,9.3223377554679104E-3,1.8244211160796064E-2,9.3223377554679104E-3,7.1651157770893188E-3,7.1651157770893188E-3,0,9.3223377554679104E-3,0,null,null,null,null,null,"1.2G Government Domestic Diesel",null,5.7149032762698046E-2,5.7149032762698046E-2]
[null,null,null,15,"1.23 Churches, Schools & Com Halls","-",{"$f":"IF(G$319<>0,G310/G$319,0)","v":9.1928195771453069E-3},3.8586318768551106E-2,9.1928195771453069E-3,9.1928195771453034E-3,9.1928195771453034E-3,0,9.1928195771453034E-3,0,9.1928195771453034E-3,0,0,0,0,0,0,null,null,null,null,null,"1.23 Churches, Schools & Com Halls",null,3.2202005845809387E-2,3.2202005845809387E-2]
[null,null,null,16,"2.1 GS 0-10 kW","-",8.4998224090220439E-2,9.9629552932514187E-2,8.4998224090220439E-2,8.4998224090220439E-2,8.4998224090220439E-2,0.16224453209035497,8.4998224090220426E-2,0.16224453209035497,8.4998224090220426E-2,0.16224453209035497,0.23412274134815247,0.23412274134815247,0,0.16224453209035497,0,null,null,null,null,null,{"$f":"IF(ISBLANK(E325),\"\",E325)","v":"2.1 GS 0-10 kW"},null,0.14356566180570821,0.14356566180570821]
[null,null,null,17,"2.2 GS 10-100 kW","-",{"$f":"IF(G$319<>0,G312/G$319,0)","v":0.21751625399460739},{"$f":"IF(H$319<>0,H312/H$319,0)","v":0.24571454867582423},0.21751625399460739,0.21751625399460736,0.21751625399460736,4.6611688777339545E-2,0.21751625399460733,4.6611688777339545E-2,0.21751625399460733,4.6611688777339545E-2,0.17089249606689139,0.17089249606689139,0,4.6611688777339545E-2,0,null,null,null,null,null,"2.2 GS 10-100 kW",null,0.34733823953826748,0.34733823953826748]
[null,null,null,18,"2.3 GS 110-1,000 kVa","-",1.2162807440530714E-2,{"$f":"IF(H$319<>0,H313/H$319,0)","v":4.7905018292262014E-2},1.2162807440530714E-2,1.2162807440530712E-2,1.2162807440530712E-2,1.7927572606669057E-3,1.216280744053071E-2,1.7927572606669057E-3,1.216280744053071E-2,1.7927572606669057E-3,1.1601192667180465E-2,1.1601192667180465E-2,0,1.7927572606669057E-3,0,null,null,null,null,null,"2.3 GS 110-1,000 kVa",null,2.857643745534828E-2,2.857643745534828E-2]
[null,null,null,19,"2.4 GS Over 1,000 kVa","-",1.6122791258377921E-2,5.4692713007063791E-2,1.6122791258377921E-2,1.6122791258377917E-2,1.6122791258377917E-2,3.5855145213338117E-4,1.6122791258377917E-2,3.5855145213338117E-4,1.6122791258377917E-2,3.5855145213338117E-4,2.3202385334360931E-3,2.3202385334360931E-3,0,3.5855145213338117E-4,0,null,null,null,null,null,"2.4 GS Over 1,000 kVa",null,2.5324892631915119E-2,2.5324892631915119E-2]
[null,null,null,20,"2.5 GS Diesel","-",0,{"$f":"IF(H$319<>0,H315/H$319,0)","v":0},0,0,0,0,0,0,0,0,0,0,0,0,0,null,null,null,null,null,"2.5 GS Diesel",null,0,0]
[null,null,null,21,"2.5G Gov't General Service Diesel","-",0,{"$f":"IF(H$319<>0,H316/H$319,0)","v":0},0,0,0,0,0,0,0,0,0,0,0,0,0,null,null,null,null,null,"2.5G Gov't General Service Diesel",null,0,0]
[null,null,null,22,"4.1 Street and Area Lighting","-",9.8999595446180224E-3,{"$f":"IF(H$319<>0,H317/H$319,0)","v":6.7876947148017754E-3},9.8999595446180224E-3,9.8999595446180224E-3,9.8999595446180224E-3,3.2269630692004302E-2,9.8999595446180207E-3,3.2269630692004302E-2,9.8999595446180207E-3,3.2269630692004302E-2,0,0,0.97826086956521741,3.2269630692004302E-2,0,null,null,null,null,null,"4.1 Street and Area Lighting",null,1.2740753031625585E-2,1.2740753031625585E-2]
[null,null,null,23,"4.1G Gov't Street and Area Lighting",null,2.4551398707454335E-4,1.6106394238512686E-4,2.4551398707454335E-4,2.4551398707454335E-4,2.4551398707454335E-4,7.1710290426676233E-4,2.455139870745433E-4,7.1710290426676233E-4,2.455139870745433E-4,7.1710290426676233E-4,0,0,2.1739130434782608E-2,7.1710290426676233E-4,0,null,null,null,null,null,"4.1G Gov't Street and Area Lighting",null,9.4716849410761297E-4,9.4716849410761297E-4]
[null,null,null,24,"      Total","-",{"$f":"SUM(G322:G332)","v":1.0000000000000002},{"$f":"SUM(H322:H332)","v":0.99999999999999989},1.0000000000000002,1,1,0.99999999999999989,0.99999999999999989,0.99999999999999989,0.99999999999999989,0.99999999999999989,1,1,1,0.99999999999999989,0,null,null,null,null,null,"      Total",null,{"$f":"SUM(AC322:AC332)","v":0.99999999999999989},{"$f":"SUM(AD322:AD332)","v":0.99999999999999989}]
[]
[null,null,null,null,null,null,null,null,null,null,null,null,null,null,null,null,null,null,null,null,"Schedule 3.2C",null,null,null,null,null,null,null,null,null,"Schedule 3.2C"]
[null,null,null,null,null,null,null,null,null,null,null,null,null,null,null,null,null,null,null,null,"Page 1 of 4",null,null,null,null,null,null,null,null,null,"Page 2 of 4"]
[null,null,null,{"$f":"D$5","v":"NEWFOUNDLAND AND LABRADOR HYDRO"},null,null,null,null,null,null,null,null,null,null,null,null,null,null,null,null,null,null,null,null,{"$f":"Y$5","v":"NEWFOUNDLAND & LABRADOR HYDRO"}]
[null,null,null,{"$f":"D$6","v":"2019 Test Year Cost of Service Study"},null,null,null,null,null,null,null,null,null,null,null,null,null,null,null,null,null,null,null,null,{"$f":"Y$6","v":"2019 Test Year Cost of Service Study"}]
[null,null,null,{"$f":"$B$1","v":"Labrador Isolated"},null,null,null,null,null,null,null,null,null,null,null,null,null,null,null,null,null,null,null,null,{"$f":"$B$1","v":"Labrador Isolated"}]
[null,null,null,"Allocation of Functionalized Amounts to Classes of Service",null,null,null,null,null,null,null,null,null,null,null,null,null,null,null,null,null,null,null,null,{"$f":"+D340&\" (CONT'D.)\"","v":"Allocation of Functionalized Amounts to Classes of Service (CONT'D.)"}]
[]
[null,null,null,null,{"$f":"MAX(D342)+NoOne","v":1},2,3,4,5,6,7,8,9,10,11,12,13,14,15,16,17,null,null,null,null,null,{"$f":"MAX(Z342)+NoOne","v":1},null,{"$f":"MAX(U342)+NoOne","v":18},{"$f":"MAX(AC342)+NoOne","v":19}]
[null,null,null,null,null,null,null,null,"","Distribution",null,null,null,null,null,null,null,null,null,null,"Specifically",null,null,null,null,null,null,null,"Revenue Related"]
[null,null,null,"Line",null,"Total","Production","Production","Transmission","Substations","Primary Lines",null,"Line Transformers",null,"Secondary Lines",null,"Services","Meters","Street Lighting","Accounting","Assigned",null,null,null,null,null,null,null,"Municipal","PUB "]
[null,null,null,"No.","Description ","Amount","Demand","Energy","Demand","Demand","Demand","Customer","Demand","Customer","Demand","Customer","Customer","Customer","Customer","Customer","Customer",null,null,null,null,null,"Description",null,"Tax","Assessment","Basis of Proration"]
[null,null,null,null,null,"($)","($)","($)","($)","($)","($)","($)","($)","($)","($)","($)","($)","($)","($)","($)","($)",null,null,null,null,null,null,null,"($)","($)"]
[]
[null,null,null,null,"Allocated Revenue Requirement Excluding Return",null,null,null,null,null,null,null,null,null,null,null,null,null,null,null,null,null,null,null,null,null,{"$f":"IF(ISBLANK(E348),\"\",E348)","v":"Allocated Revenue Requirement Excluding Return"}]
[null,null,null,{"$f":"MAX(D346:D348)+NoOne","v":1},"1.2 Domestic Diesel",{"$f":"SUM(G349:AD349)","v":20440815.855215814},{"$f":"IF(G$319<>0,(G$276/G$319)*G$308,0)","v":4500147.3784946268},13689261.690479826,0,83075.852073931426,741743.80944552738,244446.81073220124,53754.323324651945,112483.66353521473,137055.24151159448,167723.9499913266,66388.07570962701,51399.191405178113,0,508196.1554748682,0,null,null,null,null,null,"1.2 Domestic Diesel",null,{"$f":"IF(AC$319<>0,(AC$276/AC$319)*AC$308,0)","v":79493.623689471176},{"$f":"IF(AD$319<>0,(AD$276/AD$319)*AD$308,0)","v":5646.0893477705777}]
[null,null,null,2,"1.2G Government Domestic Diesel",546791.64965650975,{"$f":"IF(G$319<>0,(G$276/G$319)*G$309,0)","v":129986.34389292584},359286.48229640297,0,2399.6383603979293,21425.201840231312,3051.9169647237613,1552.6886943305199,1404.3578640651058,3958.8280687406382,2094.0325088953141,828.85472674684377,641.7185961750929,0,6344.8259507066377,0,null,null,null,null,null,"1.2G Government Domestic Diesel",null,{"$f":"IF(AC$319<>0,(AC$276/AC$319)*AC$309,0)","v":12900.493462966406},{"$f":"IF(AD$319<>0,(AD$276/AD$319)*AD$309,0)","v":916.26642920148822}]
[null,null,null,3,"1.23 Churches, Schools & Com Halls",1158265.743768719,{"$f":"IF(G$319<>0,(G$276/G$319)*G$310,0)","v":65496.994984807599},1070201.4756857334,0,1209.1201040764761,10795.644338101047,0,782.36252039909903,0,1994.7583292103989,0,0,0,0,0,0,null,null,null,null,null,"1.23 Churches, Schools & Com Halls",null,{"$f":"IF(AC$319<>0,(AC$276/AC$319)*AC$310,0)","v":7269.0953079335659},{"$f":"IF(AD$319<>0,(AD$276/AD$319)*AD$310,0)","v":516.29249845719073}]
[null,null,null,4,"2.1 GS 0-10 kW",{"$f":"SUM(G352:AD352)","v":3812708.0466667996},{"$f":"IF(G$319<>0,(G$276/G$319)*G$311,0)","v":605595.29209029791},2763251.275920826,0,11179.710500768648,99818.188418441991,53115.093328365459,7233.8442270747464,24441.22821113309,18443.842397776149,36444.219625966529,27083.127034155932,20968.386497117157,0,110424.37471902899,0,null,null,null,null,null,{"$f":"IF(ISBLANK(E352),\"\",E352)","v":"2.1 GS 0-10 kW"},null,{"$f":"IF(AC$319<>0,(AC$276/AC$319)*AC$311,0)","v":32407.685521492403},{"$f":"IF(AD$319<>0,(AD$276/AD$319)*AD$311,0)","v":2301.7781743547821}]
[null,null,null,5,"2.2 GS 10-100 kW",8898002.763835201,{"$f":"IF(G$319<>0,(G$276/G$319)*G$312,0)","v":1549759.6659482166},6814956.2068264438,0,28609.641847224924,255441.55372306786,15259.584823618805,18511.900867289449,7021.7893203255289,47199.05092808605,10470.16254447657,19768.704028973796,15305.390182746249,0,31724.129753533191,0,null,null,null,null,null,"2.2 GS 10-100 kW",null,{"$f":"IF(AC$319<>0,(AC$276/AC$319)*AC$312,0)","v":78406.133437246579},{"$f":"IF(AD$319<>0,(AD$276/AD$319)*AD$312,0)","v":5568.8496039532019}]
[null,null,null,6,"2.3 GS 110-1,000 kVa",1446642.8522460561,{"$f":"IF(G$319<>0,(G$276/G$319)*G$313,0)","v":86657.562595283904},1328658.003803039,0,1599.7589069319531,14283.467893487541,586.90710860072329,1035.1257962203465,270.06882001252035,2639.2187124937586,402.69855940294508,1342.0164694114037,1039.0203457904329,0,1220.1588366743536,0,null,null,null,null,null,"2.3 GS 110-1,000 kVa",null,{"$f":"IF(AC$319<>0,(AC$276/AC$319)*AC$313,0)","v":6450.6803836619229},{"$f":"IF(AD$319<>0,(AD$276/AD$319)*AD$313,0)","v":458.1640150452738}]
[null,null,null,7,"2.4 GS Over 1,000 kVa",1664808.1696014705,{"$f":"IF(G$319<>0,(G$276/G$319)*G$314,0)","v":114871.65274258562},1516916.462555151,0,2120.6106440725885,18933.899300669531,117.38142172014466,1372.143497315343,54.013764002504068,3498.4992235382379,80.53971188058901,268.40329388228071,207.80406915808655,0,244.03176733487069,0,null,null,null,null,null,"2.4 GS Over 1,000 kVa",null,{"$f":"IF(AC$319<>0,(AC$276/AC$319)*AC$314,0)","v":5716.6953849408101},{"$f":"IF(AD$319<>0,(AD$276/AD$319)*AD$314,0)","v":406.03222521907219}]
[null,null,null,8,"2.5 GS Diesel",0,{"$f":"IF(G$319<>0,(G$276/G$319)*G$315,0)","v":0},0,0,0,0,0,0,0,0,0,0,0,0,0,0,null,null,null,null,null,"2.5 GS Diesel",null,{"$f":"IF(AC$319<>0,(AC$276/AC$319)*AC$315,0)","v":0},{"$f":"IF(AD$319<>0,(AD$276/AD$319)*AD$315,0)","v":0}]
[null,null,null,9,"2.5G Gov't General Service Diesel",0,{"$f":"IF(G$319<>0,(G$276/G$319)*G$316,0)","v":0},0,0,0,0,0,0,0,0,0,0,0,0,0,0,null,null,null,null,null,"2.5G Gov't General Service Diesel",null,{"$f":"IF(AC$319<>0,(AC$276/AC$319)*AC$316,0)","v":0},{"$f":"IF(AD$319<>0,(AD$276/AD$319)*AD$316,0)","v":0}]
[null,null,null,10,"4.1 Street and Area Lighting",355074.22224137286,{"$f":"IF(G$319<>0,(G$276/G$319)*G$317,0)","v":70535.225368254338},188258.45875211171,0,1302.1293428515896,11626.078517954977,10564.327954813019,842.54425273749132,4861.2387602253657,2148.2012776111987,7248.5740692530107,0,0,32644.289087339988,21962.859060138362,0,null,null,null,null,null,"4.1 Street and Area Lighting",null,{"$f":"IF(AC$319<>0,(AC$276/AC$319)*AC$317,0)","v":2876.0241993988143},{"$f":"IF(AD$319<>0,(AD$276/AD$319)*AD$317,0)","v":204.27159868303738}]
[null,null,null,11,"4.1G Gov't Street and Area Lighting",8557.5259760543049,{"$f":"IF(G$319<>0,(G$276/G$319)*G$318,0)","v":1749.237896509987},4467.1498686941759,0,32.292148792066982,288.32086415308237,234.76284344028932,20.894671119012592,108.02752800500814,53.274304640131035,161.07942376117802,0,0,725.42864638533308,488.06353466974139,0,null,null,null,null,null,"4.1G Gov't Street and Area Lighting",null,{"$f":"IF(AC$319<>0,(AC$276/AC$319)*AC$318,0)","v":213.80835992973209},{"$f":"IF(AD$319<>0,(AD$276/AD$319)*AD$318,0)","v":15.185885954566787}]
[{"$f":"SUM(G360:AD360)-F360","v":0},null,null,12,"      Total",{"$f":"SUM(F349:F359)","v":38331666.829207994},{"$f":"SUM(G349:G359)","v":7124799.3540135073},27735257.206188232,0,131528.75392904758,1174356.1643416348,327376.78517748346,85105.827851137947,150644.38780298387,216990.914753691,224625.25643496276,115679.18126279725,89561.511096165123,33369.717733725323,680604.59909695433,0,null,null,null,null,null,"      Total",null,{"$f":"SUM(AC349:AC359)","v":225734.23974704143},{"$f":"SUM(AD349:AD359)","v":16032.929778639189}]
[null,null,null,null,null,null,null,null,null,null,null,null,null,null,null,null,null,null,null,null,null,null,null,null,null,null,""]
[null,null,null,null,"Allocated Return on Debt and Equity",null,null,null,null,null,null,null,null,null,null,null,null,null,null,null,null,null,null,null,null,null,"Allocated Return on Debt and Equity"]
[null,null,null,{"$f":"MAX(D360:D362)+NoOne","v":13},"1.2 Domestic Diesel",{"$f":"SUM(G363:AD363)","v":3075515.2705986132},{"$f":"IF(G$319<>0,((G$278+G279)/G$319)*G$308,0)","v":1135586.9097642219},1327242.8513620177,0,32380.380755743834,267902.64855431131,85943.588181489118,18497.245109818756,38706.428926565241,48438.11929095495,58763.2958518944,31434.666484232213,18141.333960604567,0,12477.802356759461,0,null,null,null,null,null,"1.2 Domestic Diesel",null,{"$f":"IF(AC$319<>0,((AC$278+AC279)/AC$319)*AC$308,0)","v":0},{"$f":"IF(AD$319<>0,((AD$278+AD279)/AD$319)*AD$308,0)","v":0}]
[null,null,null,14,"1.2G Government Domestic Diesel",81307.682291392208,{"$f":"IF(G$319<>0,((G$278+G279)/G$319)*G$309,0)","v":32801.323636270623},34834.633598285196,0,935.30432545699841,7738.3434087564165,1073.0051825780154,534.29122686220774,483.24953281666086,1399.1306288699482,733.65939599003809,392.46162237216686,226.49444560658765,0,155.78528752736904,0,null,null,null,null,null,"1.2G Government Domestic Diesel",null,{"$f":"IF(AC$319<>0,((AC$278+AC279)/AC$319)*AC$309,0)","v":0},{"$f":"IF(AD$319<>0,((AD$278+AD279)/AD$319)*AD$309,0)","v":0}]
[null,null,null,15,"1.23 Churches, Schools & Com Halls",125633.86812523185,{"$f":"IF(G$319<>0,((G$278+G279)/G$319)*G$310,0)","v":16527.79873145419},103761.42192597565,0,471.27737329228597,3899.1652834819151,0,269.21650965925193,0,704.9883013685785,0,0,0,0,0,0,null,null,null,null,null,"1.23 Churches, Schools & Com Halls",null,{"$f":"IF(AC$319<>0,((AC$278+AC279)/AC$319)*AC$310,0)","v":0},{"$f":"IF(AD$319<>0,((AD$278+AD279)/AD$319)*AD$310,0)","v":0}]
[null,null,null,16,"2.1 GS 0-10 kW",{"$f":"SUM(G366:AD366)","v":532936.31649622147},{"$f":"IF(G$319<>0,((G$278+G279)/G$319)*G$311,0)","v":152818.56980929183},267911.12518752209,0,4357.5030976717517,36052.28208265586,18674.417119867383,2489.2172662340063,8410.4005230591938,6518.4302941925489,12768.495257134316,12823.825010269575,7400.7876711638628,0,2711.2631771590186,0,null,null,null,null,null,{"$f":"IF(ISBLANK(E366),\"\",E366)","v":"2.1 GS 0-10 kW"},null,{"$f":"IF(AC$319<>0,((AC$278+AC279)/AC$319)*AC$311,0)","v":0},{"$f":"IF(AD$319<>0,((AD$278+AD279)/AD$319)*AD$311,0)","v":0}]
[null,null,null,17,"2.2 GS 10-100 kW",1205271.0336880519,{"$f":"IF(G$319<>0,((G$278+G279)/G$319)*G$312,0)","v":391073.14536886994},660744.32006409892,0,11151.147694208245,92260.249323002849,5365.0259128900771,6370.0767977835294,2416.2476640833042,16681.107807767286,3668.2969799501907,9360.4553428286181,5402.034294932233,0,778.92643763684509,0,null,null,null,null,null,"2.2 GS 10-100 kW",null,{"$f":"IF(AC$319<>0,((AC$278+AC279)/AC$319)*AC$312,0)","v":0},{"$f":"IF(AD$319<>0,((AD$278+AD279)/AD$319)*AD$312,0)","v":0}]
[null,null,null,18,"2.3 GS 110-1,000 kVa",159231.50442370071,{"$f":"IF(G$319<>0,((G$278+G279)/G$319)*G$313,0)","v":21867.549090847086},128820.08375067457,0,623.53621697133224,5158.8956058376116,206.34715049577221,356.19415124147179,92.932602464742473,932.75375257996541,141.08834538269963,635.44303222177712,366.72201584377751,0,29.958709139878657,0,null,null,null,null,null,"2.3 GS 110-1,000 kVa",null,{"$f":"IF(AC$319<>0,((AC$278+AC279)/AC$319)*AC$313,0)","v":0},{"$f":"IF(AD$319<>0,((AD$278+AD279)/AD$319)*AD$313,0)","v":0}]
[null,null,null,19,"2.4 GS Over 1,000 kVa",185728.09329018934,{"$f":"IF(G$319<>0,((G$278+G279)/G$319)*G$314,0)","v":28987.216236704269},147072.68927730716,0,826.54800854339385,6838.5360356452047,41.269430099154441,472.16434001776491,18.586520492948495,1236.4410208618146,28.217669076539927,127.08860644435541,73.344403168755491,0,5.9917418279757317,0,null,null,null,null,null,"2.4 GS Over 1,000 kVa",null,{"$f":"IF(AC$319<>0,((AC$278+AC279)/AC$319)*AC$314,0)","v":0},{"$f":"IF(AD$319<>0,((AD$278+AD279)/AD$319)*AD$314,0)","v":0}]
[null,null,null,20,"2.5 GS Diesel",0,{"$f":"IF(G$319<>0,((G$278+G279)/G$319)*G$315,0)","v":0},0,0,0,0,0,0,0,0,0,0,0,0,0,0,null,null,null,null,null,"2.5 GS Diesel",null,{"$f":"IF(AC$319<>0,((AC$278+AC279)/AC$319)*AC$315,0)","v":0},{"$f":"IF(AD$319<>0,((AD$278+AD279)/AD$319)*AD$315,0)","v":0}]
[null,null,null,21,"2.5G Gov't General Service Diesel",0,{"$f":"IF(G$319<>0,((G$278+G279)/G$319)*G$316,0)","v":0},0,0,0,0,0,0,0,0,0,0,0,0,0,0,null,null,null,null,null,"2.5G Gov't General Service Diesel",null,{"$f":"IF(AC$319<>0,((AC$278+AC279)/AC$319)*AC$316,0)","v":0},{"$f":"IF(AD$319<>0,((AD$278+AD279)/AD$319)*AD$316,0)","v":0}]
[null,null,null,22,"4.1 Street and Area Lighting",55990.737288216282,{"$f":"IF(G$319<>0,((G$278+G279)/G$319)*G$317,0)","v":17799.167864642975},18252.605526632567,0,507.5294789301542,4199.101074518986,3714.2487089238998,289.92547194073285,1672.7868443653645,759.21817070462305,2539.5902168885937,0,0,5717.3071661505655,539.2567645178159,0,null,null,null,null,null,"4.1 Street and Area Lighting",null,{"$f":"IF(AC$319<>0,((AC$278+AC279)/AC$319)*AC$317,0)","v":0},{"$f":"IF(AD$319<>0,((AD$278+AD279)/AD$319)*AD$317,0)","v":0}]
[null,null,null,23,"4.1G Gov't Street and Area Lighting",1332.4453105703972,{"$f":"IF(G$319<>0,((G$278+G279)/G$319)*G$318,0)","v":441.41035621031841},433.11267351331514,0,12.586474254609225,104.13558179584793,82.538860198308882,7.1900049944481257,37.173040985896989,18.828226449719825,56.435338153079854,0,0,127.05127035890146,11.983483655951463,0,null,null,null,null,null,"4.1G Gov't Street and Area Lighting",null,{"$f":"IF(AC$319<>0,((AC$278+AC279)/AC$319)*AC$318,0)","v":0},{"$f":"IF(AD$319<>0,((AD$278+AD279)/AD$319)*AD$318,0)","v":0}]
[{"$f":"SUM(G374:AD374)-F374","v":0},null,null,24,"      Total",{"$f":"SUM(F363:F373)","v":5422946.9515121868},1797903.090858513,2689072.8433660269,0,51265.813425072614,424153.3569500061,115100.44054654174,29285.520878552165,51837.805654833355,76689.017493749459,78699.079054469854,54773.940098368701,31610.716791319781,5844.3584365094666,16710.967958224319,0,null,null,null,null,null,"      Total",null,{"$f":"SUM(AC363:AC373)","v":0},{"$f":"SUM(AD363:AD373)","v":0}]
[null,null,null,null,null,null,null,null,null,null,null,null,null,null,null,null,null,null,null,null,null,null,null,null,null,null,""]
[]
[]
[null,null,null,null,null,null,null,null,null,null,null,null,null,null,null,null,null,null,null,null,null,null,null,null,null,null,""]
[null,null,null,null,null,null,null,null,null,null,null,null,null,null,null,null,null,null,null,null,"Schedule 3.2C",null,null,null,null,null,null,null,null,null,"Schedule 3.2C"]
[null,null,null,null,null,null,null,null,null,null,null,null,null,null,null,null,null,null,null,null,"Page 3 of 4",null,null,null,null,null,null,null,null,null,"Page 4 of 4"]
[null,null,null,{"$f":"D$5","v":"NEWFOUNDLAND AND LABRADOR HYDRO"},null,null,null,null,null,null,null,null,null,null,null,null,null,null,null,null,null,null,null,null,{"$f":"Y$5","v":"NEWFOUNDLAND & LABRADOR HYDRO"}]
[null,null,null,{"$f":"D$6","v":"2019 Test Year Cost of Service Study"},null,null,null,null,null,null,null,null,null,null,null,null,null,null,null,null,null,null,null,null,{"$f":"Y$6","v":"2019 Test Year Cost of Service Study"}]
[null,null,null,{"$f":"$B$1","v":"Labrador Isolated"},null,null,null,null,null,null,null,null,null,null,null,null,null,null,null,null,null,null,null,null,{"$f":"$B$1","v":"Labrador Isolated"}]
[null,null,null,"Allocation of Functionalized Amounts to Classes of Service (CONT'D.)",null,null,null,null,null,null,null,null,null,null,null,null,null,null,null,null,null,null,null,null,{"$f":"+D384","v":"Allocation of Functionalized Amounts to Classes of Service (CONT'D.)"}]
[]
[null,null,null,null,{"$f":"MAX(D386)+NoOne","v":1},2,3,4,5,6,7,8,9,10,11,12,13,14,15,16,17,null,null,null,null,null,{"$f":"MAX(Z386)+NoOne","v":1},null,{"$f":"MAX(U386)+NoOne","v":18},{"$f":"MAX(AC386)+NoOne","v":19}]
[null,null,null,null,null,null,null,null,"","Distribution",null,null,null,null,null,null,null,null,null,null,"Specifically",null,null,null,null,null,null,null,"Revenue Related"]
[null,null,null,"Line",null,"Total","Production","Production","Transmission","Substations","Primary Lines",null,"Line Transformers",null,"Secondary Lines",null,"Services","Meters","Street Lighting","Accounting","Assigned",null,null,null,null,null,null,null,"Municipal","PUB "]
[null,null,null,"No.","Description ","Amount","Demand","Energy","Demand","Demand","Demand","Customer","Demand","Customer","Demand","Customer","Customer","Customer","Customer","Customer","Customer",null,null,null,null,null,"Description",null,"Tax","Assessment","Basis of Proration"]
[null,null,null,null,null,"($)","($)","($)","($)","($)","($)","($)","($)","($)","($)","($)","($)","($)","($)","($)","($)",null,null,null,null,null,null,null,"($)","($)"]
[]
[null,null,null," ","Total Revenue Requirement",null,null,null,null,null,null,null,null,null,null,null,null,null,null,null,null,null,null,null,null,null,"Total Revenue Requirement"]
[null,null,null,{"$f":"MAX(D390:D392)+NoOne","v":1},"1.2 Domestic Diesel",{"$f":"SUM(G393:AD393)","v":23516331.12581443},{"$f":"SUM(G363,G349,G$377)","v":5635734.2882588487},15016504.541841844,0,115456.23282967525,1009646.4579998387,330390.39891369035,72251.568434470697,151190.09246177998,185493.36080254943,226487.245843221,97822.742193859216,69540.525365782683,0,520673.95783162763,0,null,null,null,null,null,"1.2 Domestic Diesel",null,{"$f":"SUM(AC363,AC349,AC$377)","v":79493.623689471176},5646.0893477705777]
[null,null,null,2,"1.2G Government Domestic Diesel",628099.3319479021,{"$f":"SUM(G364,G350,G$377)","v":162787.66752919648},394121.11589468818,0,3334.9426858549277,29163.545248987728,4124.9221473017769,2086.9799211927275,1887.6073968817666,5357.9586976105866,2827.6919048853524,1221.3163491190107,868.21304178168054,0,6500.611238234007,0,null,null,null,null,null,"1.2G Government Domestic Diesel",null,12900.493462966406,916.26642920148822]
[null,null,null,3,"1.23 Churches, Schools & Com Halls",1283899.611893951,{"$f":"SUM(G365,G351,G$377)","v":82024.793716261789},1173962.8976117091,0,1680.3974773687621,14694.809621582961,0,1051.579030058351,0,2699.7466305789776,0,0,0,0,0,0,null,null,null,null,null,"1.23 Churches, Schools & Com Halls",null,7269.0953079335659,516.29249845719073]
[null,null,null,4,"2.1 GS 0-10 kW",{"$f":"SUM(G396:AD396)","v":4345644.3631630214},758413.86189958977,3031162.4011083483,0,15537.213598440399,135870.47050109785,71789.510448232846,9723.0614933087527,32851.628734192287,24962.272691968697,49212.714883100845,39906.952044425503,28369.174168281021,0,113135.63789618801,0,null,null,null,null,null,{"$f":"IF(ISBLANK(E396),\"\",E396)","v":"2.1 GS 0-10 kW"},null,32407.685521492403,2301.7781743547821]
[null,null,null,5,"2.2 GS 10-100 kW",10103273.797523251,{"$f":"SUM(G367,G353,G$377)","v":1940832.8113170865},7475700.5268905424,0,39760.789541433172,347701.80304607074,20624.610736508883,24881.977665072976,9438.0369844088327,63880.158735853336,14138.459524426762,29129.159371802416,20707.424477678484,0,32503.056191170035,0,null,null,null,null,null,"2.2 GS 10-100 kW",null,78406.133437246579,5568.8496039532019]
[null,null,null,6,"2.3 GS 110-1,000 kVa",1605874.3566697568,{"$f":"SUM(G368,G354,G$377)","v":108525.11168613099},1457478.0875537135,0,2223.2951239032855,19442.363499325154,793.2542590964955,1391.3199474618182,363.00142247726285,3571.9724650737239,543.78690478564477,1977.4595016331809,1405.7423616342103,0,1250.1175458142322,0,null,null,null,null,null,"2.3 GS 110-1,000 kVa",null,6450.6803836619229,458.1640150452738]
[null,null,null,7,"2.4 GS Over 1,000 kVa",1850536.2628916597,{"$f":"SUM(G369,G355,G$377)","v":143858.86897928989},1663989.1518324581,0,2947.1586526159822,25772.435336314735,158.65085181929911,1844.307837333108,72.60028449545257,4734.9402444000525,108.75738095712893,395.49190032663614,281.14847232684201,0,250.02350916284644,0,null,null,null,null,null,"2.4 GS Over 1,000 kVa",null,5716.6953849408101,406.03222521907219]
[null,null,null,8,"2.5 GS Diesel",0,{"$f":"SUM(G370,G356,G$377)","v":0},0,0,0,0,0,0,0,0,0,0,0,0,0,0,null,null,null,null,null,"2.5 GS Diesel",null,0,0]
[null,null,null,9,"2.5G Gov't General Service Diesel",0,{"$f":"SUM(G371,G357,G$377)","v":0},0,0,0,0,0,0,0,0,0,0,0,0,0,0,null,null,null,null,null,"2.5G Gov't General Service Diesel",null,0,0]
[null,null,null,10,"4.1 Street and Area Lighting",411064.95952958905,{"$f":"SUM(G372,G358,G$377)","v":88334.393232897317},206511.06427874428,0,1809.6588217817439,15825.179592473964,14278.57666373692,1132.4697246782241,6534.0256045907299,2907.4194483158217,9788.164286141604,0,0,38361.596253490556,22502.115824656179,0,null,null,null,null,null,"4.1 Street and Area Lighting",null,2876.0241993988143,204.27159868303738]
[null,null,null,11,"4.1G Gov't Street and Area Lighting",9889.9712866246991,{"$f":"SUM(G373,G359,G$377)","v":2190.6482527203052},4900.2625422074907,0,44.878623046676211,392.45644594893031,317.30170363859821,28.084676113460716,145.20056899090514,72.102531089850856,217.51476191425786,0,0,852.47991674423452,500.04701832569287,0,null,null,null,null,null,"4.1G Gov't Street and Area Lighting",null,213.80835992973209,15.185885954566787]
[{"$f":"SUM(G404:AD404)-F404","v":0},null,null,12,"      Total",{"$f":"SUM(F393:F403)","v":43754613.780720174},{"$f":"SUM(G393:G403)","v":8922702.4448720217},30424330.049554255,0,182794.5673541202,1598509.5212916408,442477.22572402511,114391.34872969011,202482.19345781719,293679.93224744051,303324.33548943268,170453.12136116595,121172.22788748491,39214.076170234788,697315.56705517869,0,null,null,null,null,null,"      Total",null,{"$f":"SUM(AC393:AC403)","v":225734.23974704143},{"$f":"SUM(AD393:AD403)","v":16032.929778639189}]
[null,null,null,null,null,null,null,null,null,null,null,null,null,null,null,null,null,null,null,null,null,null,null,null,null,null,""]
[null,null,null," ","Re-classification of Revenue-Related",null,null,null,null,null,null,null,null,null,null,null,null,null,null,null,null,null,null,null,null,null,"Re-classification of Revenue-Related"]
[null,null,null,{"$f":"MAX(D404:D406)+NoOne","v":13},"1.2 Domestic Diesel",{"$f":"SUM(G407:AD407)","v":0},{"$f":"IF(SUM($G393:$U393)<>0,+G393/SUM($G393:$U393)*SUM($AC393,$AD393),0)","v":20478.036801613536},{"$f":"IF(SUM($G393:$U393)<>0,+H393/SUM($G393:$U393)*SUM($AC393,$AD393),0)","v":54564.058011052613},0,419.52243734901185,3668.6572265505342,1200.5084700230952,262.53371818075919,549.36519699338271,674.00975182297645,822.96537030429795,355.44928348626837,252.68285636014198,0,1891.9239135051507,0,null,null,null,null,null,"1.2 Domestic Diesel",null,{"$f":"-AC393","v":-79493.623689471176},-5646.0893477705777,"Re-classification to demand, energy and customer is based on rate class revenue"]
[null,null,null,14,"1.2G Government Domestic Diesel",-1.2505552149377763E-12,{"$f":"IF(SUM($G394:$U394)<>0,+G394/SUM($G394:$U394)*SUM($AC394,$AD394),0)","v":3661.5040340960427},8864.775063577923,0,75.011247983799791,655.96147545119948,92.779872774875415,46.941426930600187,42.457037460976714,120.51396572963709,63.601902245214546,27.470476155109644,19.528294760831695,0,146.21509500168321,0,null,null,null,null,null,"1.2G Government Domestic Diesel",null,-12900.493462966406,-916.26642920148822,"requirements excluding revenue-related items."]
[null,null,null,15,"1.23 Churches, Schools & Com Halls",0,{"$f":"IF(SUM($G395:$U395)<>0,+G395/SUM($G395:$U395)*SUM($AC395,$AD395),0)","v":500.42137041212453},7162.1773785621872,0,10.251861301484007,89.650902313941856,0,6.4155311519439353,0,16.470762649074523,0,0,0,0,0,0,null,null,null,null,null,"1.23 Churches, Schools & Com Halls",null,-7269.0953079335659,-516.29249845719073]
[null,null,null,16,"2.1 GS 0-10 kW",{"$f":"SUM(G410:AD410)","v":-1.0913936421275139E-11},6106.3641692396468,24405.383929711166,0,125.09777203927285,1093.960190347208,578.01276631515827,78.285165001262769,264.50467044627192,200.98357269900185,396.23584685080533,321.31055919427229,228.41421729584013,0,910.91083670727835,0,null,null,null,null,null,{"$f":"IF(ISBLANK(E410),\"\",E410)","v":"2.1 GS 0-10 kW"},null,-32407.685521492403,-2301.7781743547821]
[null,null,null,17,"2.2 GS 10-100 kW",1.6370904631912708E-11,{"$f":"IF(SUM($G397:$U397)<>0,+G397/SUM($G397:$U397)*SUM($AC397,$AD397),0)","v":16266.747347686702},62656.263336445292,0,333.24803354706313,2914.2012385122962,172.86153142037153,208.54390024138928,79.103239696012537,535.40026561127604,118.49900085586012,244.14090342488365,173.55562016241441,0,272.41862359624275,0,null,null,null,null,null,"2.2 GS 10-100 kW",null,{"$f":"-AC397","v":-78406.133437246579},{"$f":"-AD397","v":-5568.8496039532019}]
[null,null,null,18,"2.3 GS 110-1,000 kVa",1.1368683772161603E-12,{"$f":"IF(SUM($G398:$U398)<>0,+G398/SUM($G398:$U398)*SUM($AC398,$AD398),0)","v":468.9176247002751},6297.5025065625159,0,9.6064611435149025,84.006980218827763,3.4275099760753474,6.0116449992585714,1.5684643134314524,15.43385505707993,2.349606093681504,8.5442493266313875,6.0739616750130363,0,5.4015346408923444,0,null,null,null,null,null,"2.3 GS 110-1,000 kVa",null,-6450.6803836619229,-458.1640150452738]
[null,null,null,19,"2.4 GS Over 1,000 kVa",4.5474735088646412E-13,{"$f":"IF(SUM($G399:$U399)<>0,+G399/SUM($G399:$U399)*SUM($AC399,$AD399),0)","v":477.55487162559757},5523.7896101083261,0,9.783407738405824,85.554350147745396,0.52665843761613507,6.1223767345375899,0.24100439401618634,15.718139567014578,0.36103173526822957,1.3128775794604655,0.93330236475796768,0,0.82997972713683377,0,null,null,null,null,null,"2.4 GS Over 1,000 kVa",null,-5716.6953849408101,-406.03222521907219]
[null,null,null,20,"2.5 GS Diesel",0,{"$f":"IF(SUM($G400:$U400)<>0,+G400/SUM($G400:$U400)*SUM($AC400,$AD400),0)","v":0},0,0,0,0,0,0,0,0,0,0,0,0,0,0,null,null,null,null,null,"2.5 GS Diesel",null,0,0]
[null,null,null,21,"2.5G Gov't General Service Diesel",0,{"$f":"IF(SUM($G401:$U401)<>0,+G401/SUM($G401:$U401)*SUM($AC401,$AD401),0)","v":0},0,0,0,0,0,0,0,0,0,0,0,0,0,0,null,null,null,null,null,"2.5G Gov't General Service Diesel",null,0,0]
[null,null,null,22,"4.1 Street and Area Lighting",1.5916157281026244E-12,{"$f":"IF(SUM($G402:$U402)<>0,+G402/SUM($G402:$U402)*SUM($AC402,$AD402),0)","v":666.92717763643373},1559.1644002918983,0,13.662975499403752,119.48055536388469,107.80365932784898,8.5501785838619337,49.332078883301762,21.951099406526694,73.900918347702159,0,0,289.6311411967763,169.89161354421461,0,null,null,null,null,null,{"$f":"IF(ISBLANK(E416),\"\",E416)","v":"4.1 Street and Area Lighting"},null,-2876.0241993988143,-204.27159868303738]
[null,null,null,23,"4.1G Gov't Street and Area Lighting",9.7699626167013776E-14,{"$f":"IF(SUM($G403:$U403)<>0,+G403/SUM($G403:$U403)*SUM($AC403,$AD403),0)","v":51.92495981658994},116.15097735517271,0,1.0637584995349214,9.3023994885324655,7.5210057984938068,0.66569138922348992,3.4416906962750846,1.70904709364719,5.1557548127079462,0,0,20.206340915948921,11.852620018172461,0,null,null,null,null,null,"4.1G Gov't Street and Area Lighting",null,-213.80835992973209,-15.185885954566787]
[null,null,null,24,"      Total",{"$f":"SUM(F407:F417)","v":7.4873440780720557E-12},48678.398356826947,171149.26521366709,0,997.24795510149113,8720.7753183941695,2163.4414740735347,624.06963321283706,990.01338288366833,1602.1904596362342,1483.069431245538,958.22834916662578,681.18825261899917,309.83748211272524,3409.4442167407715,0,null,null,null,null,null,"      Total",null,{"$f":"SUM(AC407:AC417)","v":-225734.23974704143},{"$f":"SUM(AD407:AD417)","v":-16032.929778639189}]
[null,null,null,null,null,null,null,null,null,null,null,null,null,null,null,null,null,null,null,null,null,null,null,null,null,null,""]
[null,null,null,null,"Total Allocated Revenue Requirement",null,null,null,null,null,null,null,null,null,null,null,null,null,null,null,null,null,null,null,null,null,"Total Allocated Revenue Requirement"]
[null,null,null,{"$f":"MAX(D418:D420)+NoOne","v":25},"1.2 Domestic Diesel",{"$f":"SUM(G421:AD421)","v":23516331.125814438},{"$f":"SUM(G393,G407)","v":5656212.3250604626},{"$f":"SUM(H393,H407)","v":15071068.599852897},0,115875.75526702426,1013315.1152263893,331590.90738371346,72514.102152651452,151739.45765877335,186167.37055437241,227310.2112135253,98178.191477345477,69793.208222142828,0,522565.88174513279,0,null,null,null,null,null,"1.2 Domestic Diesel",null,{"$f":"SUM(AC393,AC407)","v":0},0]
[null,null,null,26,"1.2G Government Domestic Diesel",628099.33194790233,{"$f":"SUM(G394,G408)","v":166449.17156329253},402985.8909582661,0,3409.9539338387276,29819.506724438928,4217.7020200766519,2133.9213481233278,1930.0644343427432,5478.4726633402233,2891.2938071305671,1248.7868252741205,887.74133654251227,0,6646.8263332356901,0,null,null,null,null,null,"1.2G Government Domestic Diesel",null,0,0]
[null,null,null,27,"1.23 Churches, Schools & Com Halls",1283899.6118939507,{"$f":"SUM(G395,G409)","v":82525.21508667391},1181125.0749902714,0,1690.6493386702462,14784.460523896903,0,1057.9945612102949,0,2716.2173932280521,0,0,0,0,0,0,null,null,null,null,null,"1.23 Churches, Schools & Com Halls",null,0,0]
[null,null,null,28,"2.1 GS 0-10 kW",{"$f":"SUM(G424:AD424)","v":4345644.3631630223},764520.22606882942,3055567.7850380596,0,15662.311370479672,136964.43069144507,72367.523214548011,9801.3466583100162,33116.13340463856,25163.2562646677,49608.950729951648,40228.262603619776,28597.588385576862,0,114046.54873289529,0,null,null,null,null,null,{"$f":"IF(ISBLANK(E424),\"\",E424)","v":"2.1 GS 0-10 kW"},null,0,0]
[null,null,null,29,"2.2 GS 10-100 kW",10103273.797523256,{"$f":"SUM(G397,G411)","v":1957099.5586647731},7538356.7902269876,0,40094.037574980233,350616.00428458303,20797.472267929254,25090.521565314364,9517.1402241048454,64415.559001464615,14256.958525282622,29373.300275227299,20880.980097840897,0,32775.474814766276,0,null,null,null,null,null,"2.2 GS 10-100 kW",null,0,0]
[null,null,null,30,"2.3 GS 110-1,000 kVa",1605874.3566697568,{"$f":"SUM(G398,G412)","v":108994.02931083126},1463775.590060276,0,2232.9015850468004,19526.370479543981,796.68176907257089,1397.3315924610768,364.56988679069428,3587.406320130804,546.13651087932624,1986.0037509598124,1411.8163233092232,0,1255.5190804551246,0,null,null,null,null,null,"2.3 GS 110-1,000 kVa",null,0,0]
[null,null,null,31,"2.4 GS Over 1,000 kVa",1850536.26289166,{"$f":"SUM(G399,G413)","v":144336.42385091548},1669512.9414425665,0,2956.9420603543881,25857.989686462479,159.17751025691524,1850.4302140676455,72.841288889468757,4750.6583839670675,109.11841269239716,396.8047779060966,282.0817746916,0,250.85348888998328,0,null,null,null,null,null,"2.4 GS Over 1,000 kVa",null,0,0]
[null,null,null,32,"2.5 GS Diesel",0,{"$f":"SUM(G400,G414)","v":0},0,0,0,0,0,0,0,0,0,0,0,0,0,0,null,null,null,null,null,"2.5 GS Diesel",null,0,0]
[null,null,null,33,"2.5G Gov't General Service Diesel",0,{"$f":"SUM(G401,G415)","v":0},0,0,0,0,0,0,0,0,0,0,0,0,0,0,null,null,null,null,null,"2.5G Gov't General Service Diesel",null,0,0]
[null,null,null,34,"4.1 Street and Area Lighting",411064.95952958916,{"$f":"SUM(G402,G416)","v":89001.32041053375},208070.22867903617,0,1823.3217972811476,15944.660147837849,14386.380323064768,1141.019903262086,6583.3576834740315,2929.3705477223484,9862.0652044893068,0,0,38651.227394687332,22672.007438200395,0,null,null,null,null,null,"4.1 Street and Area Lighting",null,0,0]
[null,null,null,35,"4.1G Gov't Street and Area Lighting",9889.9712866247046,{"$f":"SUM(G403,G417)","v":2242.573212536895},5016.4135195626632,0,45.942381546211131,401.75884543746275,324.82270943709204,28.750367502684206,148.64225968718023,73.811578183498042,222.67051672696581,0,0,872.6862576601834,511.89963834386532,0,null,null,null,null,null,{"$f":"IF(ISBLANK(E431),\"\",E431)","v":"4.1G Gov't Street and Area Lighting"},null,0,0]
[null,null,null,36,"      Total",{"$f":"SUM(F421:F431)","v":43754613.780720189},8971380.8432288487,30595479.314767923,0,183791.81530922174,1607230.296610035,444640.66719809867,115015.41836290296,203472.20684070088,295282.12270707666,304807.40492067818,171411.34971033258,121853.41614010392,39523.913652347517,700725.01127191947,0,null,null,null,null,null,{"$f":"IF(ISBLANK(E432),\"\",E432)","v":"      Total"},null,{"$f":"SUM(AC421:AC431)","v":0},{"$f":"SUM(AD421:AD431)","v":0}]
[]
[null,null,"RatiosLabIso:"]
["LookupCol",null,{"$f":"MAX(B435)+NoOne","v":1},2,3,4,5,6,7,8,9,10,11,12,13,14,15,16,17,18,19]
[null,null,null,null,"Expense Ratios:"]
[{"$f":"(SUM(G437:AD437)-1)*1000","v":-2.2204460492503131E-13},null,"E-GTDC",null,"GTDC",{"$f":"SUM(G437:U437)","v":0.99999999999999978},{"$f":"IF(SUM($F$218,$F$220)<>0,(SUM(G218,G220)/SUM($F$218,$F$220)),0)","v":0.34903873607649033},0.4968763127819556,0,5.6965419748254351E-3,5.0791472231645839E-2,1.4212717322641595E-2,3.1843908592114256E-3,5.636636451623548E-3,8.8514564570607822E-3,9.3544495981238585E-3,5.1994425017941586E-3,2.831207310585635E-3,1.1450018065005602E-3,4.718163462754113E-2,0]
[{"$f":"(SUM(G438:AD438)-1)*1000","v":-1.1102230246251565E-13},null,"E-GTD",null,"GTD",{"$f":"SUM(G438:U438)","v":0.99999999999999989},{"$f":"IF($F$218<>0,G218/$F$218,0)","v":0.36632242698224055},0.52148062090273162,0,5.9786231897394669E-3,5.3306563010874941E-2,1.4916502283292801E-2,3.3420754415944116E-3,5.915751266423349E-3,9.2897626439019457E-3,9.8176629860269142E-3,5.4569083581440881E-3,2.9714029593446278E-3,1.2016999756852677E-3,0,0]
[]
[]
[null,null,null,null,"Labour Ratios:"]
[null,null,null,null,"GTDC:"]
[null,null,null,null,"Hydraulic",{"$f":"+LabourRatios!G45","v":0}]
[null,null,null,null,"Holyrood",{"$f":"+LabourRatios!G46","v":0}]
[null,null,null,null,"Diesel",{"$f":"+LabourRatios!G47","v":0.66293895647760293},{"$f":"+G18/$F18*$F445","v":0.2693725497503982},{"$f":"+H18/$F18*$F445","v":0.39356640672720472},{"$f":"+I18/$F18*$F445","v":0},{"$f":"+J18/$F18*$F445","v":0}]
[null,null,null,null,"Gas Turbines",{"$f":"+LabourRatios!G48","v":0}]
[null,null,null,null,"Production - General",{"$f":"+LabourRatios!G49","v":9.335269111972519E-2},{"$f":"+G19/$F19*$F447","v":3.7932078341863594E-2},{"$f":"+H19/$F19*$F447","v":5.5420612777861596E-2},{"$f":"+I19/$F19*$F447","v":0},{"$f":"+J19/$F19*$F447","v":0}]
[null,null,null,null,"Transmission Lines",{"$f":"+LabourRatios!G50","v":0}]
[null,null,null,null,"Terminal Stations",{"$f":"+LabourRatios!G51","v":0}]
[null,null,null,null,"Transmission - General",{"$f":"+LabourRatios!G52","v":0}]
[null,null,null,null,"Distribution",{"$f":"+LabourRatios!G53","v":0.21774490149174472},{"$f":"SUM(G37,-G35)/SUM($F37,-$F35)*$F451","v":1.7254794045123055E-2},0,0,1.0974124780871944E-2,9.7847423320593457E-2,2.7380142911824799E-2,6.1345817856674513E-3,1.0858719559671749E-2,1.7051921688897301E-2,1.8020914723328171E-2,1.0016485625458173E-2,0,2.2057930503085591E-3,0,0]
[null,null,null,null,"Meters",{"$f":"+LabourRatios!G54","v":2.4815851758996821E-3},null,null,null,null,null,null,null,null,null,null,null,{"$f":"+F452","v":2.4815851758996821E-3}]
[null,null,null,null,"Customer-Related",{"$f":"+LabourRatios!G55","v":2.3481865735027484E-2},null,null,null,null,null,null,null,null,null,null,null,null,null,{"$f":"+F453","v":2.3481865735027484E-2}]
[{"$f":"(SUM(G454:AD454)-1)*1000","v":0},null,"L-GTDC",null,"Total",{"$f":"SUM(F443:F453)","v":1},{"$f":"SUM(G443:G453)","v":0.32455942213738481},{"$f":"SUM(H443:H453)","v":0.44898701950506631},0,1.0974124780871944E-2,9.7847423320593457E-2,2.7380142911824799E-2,6.1345817856674513E-3,1.0858719559671749E-2,1.7051921688897301E-2,1.8020914723328171E-2,1.0016485625458173E-2,2.4815851758996821E-3,2.2057930503085591E-3,2.3481865735027484E-2,0]
[]
[null,null,null,null,"GTD:"]
[null,null,null,null,"Hydraulic",{"$f":"+LabourRatios!G62","v":0}]
[null,null,null,null,"Holyrood",{"$f":"+LabourRatios!G63","v":0}]
[null,null,null,null,"Diesel",{"$f":"+LabourRatios!G64","v":0.67888033331464825},{"$f":"+G18/$F18*$F459","v":0.27585002295237004},{"$f":"+H18/$F18*$F459","v":0.40303031036227821},{"$f":"+I18/$F18*$F459","v":0},{"$f":"+J18/$F18*$F459","v":0}]
[null,null,null,null,"Gas Turbines",{"$f":"+LabourRatios!G65","v":0}]
[null,null,null,null,"Production - General",{"$f":"+LabourRatios!G66","v":9.5597498749976598E-2},{"$f":"+G19/$F19*$F461","v":3.8844212934576128E-2},{"$f":"+H19/$F19*$F461","v":5.675328581540047E-2},{"$f":"+I19/$F19*$F461","v":0},{"$f":"+J19/$F19*$F461","v":0}]
[null,null,null,null,"Transmission Lines",{"$f":"+LabourRatios!G67","v":0}]
[null,null,null,null,"Terminal Stations",{"$f":"+LabourRatios!G68","v":0}]
[null,null,null,null,"Transmission - General",{"$f":"+LabourRatios!G69","v":0}]
[null,null,null,null,"Distribution",{"$f":"+LabourRatios!G70","v":0.2229809092645697},{"$f":"SUM(G37,-G35)/SUM($F37,-$F35)*$F465","v":1.7669711846273882E-2},0,0,1.1238014324364998E-2,0.10020031363190551,2.8038540146961936E-2,6.2820971474175083E-3,1.1119834008863679E-2,1.7461961115276495E-2,1.8454255062956469E-2,1.0257347277014581E-2,0,2.258834703534579E-3,0,0]
[null,null,null,null,"Meters",{"$f":"+LabourRatios!G71","v":2.5412586708055116E-3},null,null,null,null,null,null,null,null,null,null,null,{"$f":"+F466","v":2.5412586708055116E-3}]
[null,null,null,null,"Customer-Related",{"$f":"+LabourRatios!G72","v":0},null,null,null,null,null,null,null,null,null,null,null,null,null,{"$f":"+F467","v":0}]
[{"$f":"(SUM(G468:AD468)-1)*1000","v":-1.1102230246251565E-13},null,"L-GTD",null,"Total",{"$f":"SUM(F457:F467)","v":1},{"$f":"SUM(G457:G467)","v":0.33236394773322003},{"$f":"SUM(H457:H467)","v":0.45978359617767867},0,1.1238014324364998E-2,0.10020031363190551,2.8038540146961936E-2,6.2820971474175083E-3,1.1119834008863679E-2,1.7461961115276495E-2,1.8454255062956469E-2,1.0257347277014581E-2,2.5412586708055116E-3,2.258834703534579E-3,0,0]
[]
[{"$f":"(SUM(G470:AE470)-1)*1000","v":-2.2204460492503131E-13},null,"P-DisxMet",null,"Plant - Distribution excl. Meters",{"$f":"SUM(G470:V470)","v":0.99999999999999978},{"$f":"SUM(G37,-G35)/SUM($F37,-$F35)","v":7.9243159894502646E-2},{"$f":"SUM(H37,-H35)/SUM($F37,-$F35)","v":0},0,5.0398997660516982E-2,0.44936723041619925,0.12574412867647719,2.8173251100899046E-2,4.9868995715995817E-2,7.8311462505328902E-2,8.2761592119351607E-2,4.6001011076890475E-2,0,1.0130170833837809E-2,0,0]
[]
[null,null,"Insert rows before this line to extend the ratio range"]

{"sheet":"LALCos","index":23,"n_rows":472,"n_cols":31,"rows_kept":472,"cut":false,"hidden":false,"merged":[]}
[9,"L'Anse au Loup",null,null," "," "]
[15,"Plant Lookups"]
[null,null,null,null,null,null,null,null,null,null,null,null,null,null,null,null,null,null,null,null,"Schedule 2.2D",null,null,null,null,null,null,null,null,null,"Schedule 2.2D"]
[null,null,null,null,null,null,null,null,null,null,null,null,null,null,null,null,null,null,null,null,"Page 1 of 2",null,null,null,null,null,null,null,null,null,"Page 2 of 2"]
[null,null,null,"NEWFOUNDLAND AND LABRADOR HYDRO",null,null,null,null,null,null,null,null,null,null,null,null,null,null,null,null,null,null,null,null,"NEWFOUNDLAND & LABRADOR HYDRO"]
[null,null,null,{"$f":"RunName","v":"2019 Test Year Cost of Service Study"},null,null,null,null,null,null,null,null,null,null,null,null,null,null,null,null,null,null,null,null,{"$f":"RunName","v":"2019 Test Year Cost of Service Study"}]
[null,null,null,{"$f":"$B$1","v":"L'Anse au Loup"},null,null,null,null,null,null,null,null,null,null,null,null,null,null,null,null,null,null,null,null,{"$f":"$B$1","v":"L'Anse au Loup"}]
[null,null,null,"Functional Classification of Plant in Service for the Allocation of O&M Expense",null,null,null,null,null,null,null,null,null,null,null,null,null,null,null,null,null,null,null,null,{"$f":"+D8&\" (CONT'D.)\"","v":"Functional Classification of Plant in Service for the Allocation of O&M Expense (CONT'D.)"}]
[]
[null,null,null,null,{"$f":"MAX(D10)+NoOne","v":1},2,3,4,5,6,7,8,9,10,11,12,13,14,15,16,17]
[null,null,null,null,null,null,null,null,"","Distribution",null,null,null,null,null,null,null,null,null,null,"Specifically",null,null,null,null,null,{"$f":"MAX(Z11)+NoOne","v":1},null,{"$f":"MAX(U10)+NoOne","v":18}]
["Check","Alloc","Code","Line",null,"Total","Production","Production","Transmission","Substations","Primary Lines",null,"Line Transformers",null,"Secondary Lines",null,"Services","Meters","Street Lighting","Accounting","Assigned"]
["Column","Factor","Reference","No.","Description ","Amount","Demand","Energy","Demand","Demand","Demand","Customer","Demand","Customer","Demand","Customer","Customer","Customer","Customer","Customer","Customer",null,null,null,null,null,"Description ",null,"Basis of Functional Classification"]
[{"$f":"ROUND(SUM(A15:A479),2)","v":0},null,null,null,null,"($)","($)","($)","($)","($)","($)","($)","($)","($)","($)","($)","($)","($)","($)","($)","($)"]
[null,null,null,null," ",null,null,null,null,null,null,null,null,null,null,null,null,null,null,null,null,null,null,null,null,null,{"$f":"+E15","v":" "}]
[null,null,null,null,"Production",null,null,null,null,null,null,null,null,null,null,null,null,null,null,null,null,null,null,null,null,null,{"$f":"IF(ISBLANK(E16),\"\",E16)","v":"Production"}]
[null,null,null,null,null," ",null,null,null,null,null,null,null,null,null,null,null,null,null,null,null,null,null,null,null,null,""]
[null,null,"P03",{"$f":"MAX(D15:D17)+NoOne","v":1},"Diesel",11936008.469999984,{"$f":"$F18*'Schedule 4.1'!$D$20","v":11936008.469999984},{"$f":"$F18*'Schedule 4.1'!$E$20","v":0},0,0,0,0,0,0,0,0,0,0,0,0,0,null,null,null,null,null,"Diesel",null,{"$f":"\"Production - Demand, Energy ratios Sch.4.1 L.\"&'Schedule 4.1'!$A$20","v":"Production - Demand, Energy ratios Sch.4.1 L.8"}]
[{"$f":"SUM(G19:U19)-F19","v":0},null," ",{"$f":"MAX(D16:D18)+NoOne","v":2},"Subtotal Production",{"$f":"SUM(F18:F18)","v":11936008.469999984},{"$f":"SUM(G18:G18)","v":11936008.469999984},{"$f":"SUM(H18:H18)","v":0},0,0,0,0,0,0,0,0,0,0,0,0,0,null,null,null,null,null,"Subtotal Production"]
[null,null,null,null,null,null,null,null,null,null,null,null,null,null,null,null,null,null,null,null,null,null,null,null,null,null,""]
[null,null,null,null,"Transmission",null,null,null,null,null,null,null,null,null,null,null,null,null,null,null,null,null,null,null,null,null,"Transmission"]
[null,null," ",{"$f":"MAX(D19:D21)+NoOne","v":3},"Lines",{"$f":"SUM(G22:U22)","v":0},0,0,0,0,0,0,0,0,0,0,0,0,0,0,0,null,null,null,null,null,"Lines",null,"Production, Transmission - Demand; Distribution - Primary Demand; Spec Assigned - Custmr"]
[null,null," ",{"$f":"MAX(D20:D22)+NoOne","v":4},"Terminal Stations ",{"$f":"SUM(G23:U23)","v":0},0,0,0,0,0,0,0,0,0,0,0,0,0,0,0,null,null,null,null,null,"Terminal Stations ",null,"Production, Transmission - Demand; Spec Assigned - Custmr"]
[{"$f":"SUM(G24:U24)-F24","v":0},null," ",{"$f":"MAX(D21:D23)+NoOne","v":5},"Subtotal Transmission",{"$f":"SUM(F22:F23)","v":0},{"$f":"SUM(G22:G23)","v":0},0,0,0,0,0,0,0,0,0,0,0,0,0,0,null,null,null,null,null,"Subtotal Transmission"]
[null,null,null,null,null,null,null,null,null,null,null,null,null,null,null,null,null,null,null,null,null,null,null,null,null,null,""]
[null,null,null,null,"Distribution",null,null,null,null,null,null,null,null,null,null,null,null,null,null,null,null,null,null,null,null,null,"Distribution"]
[null,null,{"$f":"+SPLTDetails!C118","v":"SPLT14"},{"$f":"MAX(D24:D26)+NoOne","v":6},"Substation Structures & Equipment",{"$f":"SUM(G27:U27)","v":2105416.34},{"$f":"SPLTDetails!E118","v":66298.609999999986},0,0,{"$f":"SPLTDetails!K118","v":2039117.7299999997},0,0,0,0,0,0,0,0,0,0,0,null,null,null,null,null,"Substation Structures & Equipment",null,"Production - Demand; Dist Substns - Demand"]
[null,null,"D11",7,"Land & Land Improvements",{"$f":"DistnDetails!F13+DistnDetails!F22","v":313985.30981589353},{"$f":"$F28*'Schedule 4.1'!D$62","v":0},{"$f":"$F28*'Schedule 4.1'!E$62","v":0},{"$f":"$F28*'Schedule 4.1'!G$62","v":0},{"$f":"$F28*'Schedule 4.1'!J$62","v":0},{"$f":"$F28*'Schedule 4.1'!K$62","v":236729.22433569294},{"$f":"$F28*'Schedule 4.1'!L$62","v":30158.289007816573},{"$f":"$F28*'Schedule 4.1'!M$62","v":0},{"$f":"$F28*'Schedule 4.1'!N$62","v":0},{"$f":"$F28*'Schedule 4.1'!O$62","v":27458.015343399886},{"$f":"$F28*'Schedule 4.1'!P$62","v":19639.781128984137},{"$f":"$F28*'Schedule 4.1'!Q$62","v":0},{"$f":"$F28*'Schedule 4.1'!R$62","v":0},{"$f":"$F28*'Schedule 4.1'!S$62","v":0},{"$f":"$F28*'Schedule 4.1'!T$62","v":0},{"$f":"$F28*'Schedule 4.1'!U$62","v":0},null,null,null,null,null,"Land & Land Improvements",null,{"$f":"\"Primary, Secondary - Demand, Customer - zero intercept ratios Sch.4.1 L.\"&'Schedule 4.1'!$A$62","v":"Primary, Secondary - Demand, Customer - zero intercept ratios Sch.4.1 L.32"}]
[null,null,"D11",8,"Poles",{"$f":"DistnDetails!F14+DistnDetails!F16","v":8204817.4801841062},{"$f":"$F29*'Schedule 4.1'!D$67","v":0},{"$f":"$F29*'Schedule 4.1'!E$67","v":0},{"$f":"$F29*'Schedule 4.1'!G$67","v":0},{"$f":"$F29*'Schedule 4.1'!J$67","v":0},{"$f":"$F29*'Schedule 4.1'!K$67","v":4745239.7800295176},{"$f":"$F29*'Schedule 4.1'!L$67","v":1621698.5845933491},{"$f":"$F29*'Schedule 4.1'!M$67","v":0},{"$f":"$F29*'Schedule 4.1'!N$67","v":0},{"$f":"$F29*'Schedule 4.1'!O$67","v":839910.75581148651},{"$f":"$F29*'Schedule 4.1'!P$67","v":997968.35974975338},{"$f":"$F29*'Schedule 4.1'!Q$67","v":0},{"$f":"$F29*'Schedule 4.1'!R$67","v":0},{"$f":"$F29*'Schedule 4.1'!S$67","v":0},{"$f":"$F29*'Schedule 4.1'!T$67","v":0},{"$f":"$F29*'Schedule 4.1'!U$67","v":0},null,null,null,null,null,"Poles",null,{"$f":"\"Primary, Secondary - Demand, Customer - zero intercept ratios Sch.4.1 L.\"&'Schedule 4.1'!$A$67","v":"Primary, Secondary - Demand, Customer - zero intercept ratios Sch.4.1 L.37"}]
[null,null,"D11",9,"Primary Conductor & Equipment",{"$f":"DistnDetails!F17","v":1247975.4399999997},{"$f":"$F30*'Schedule 4.1'!D$68","v":0},{"$f":"$F30*'Schedule 4.1'!E$68","v":0},{"$f":"$F30*'Schedule 4.1'!G$68","v":0},{"$f":"$F30*'Schedule 4.1'!J$68","v":0},{"$f":"$F30*'Schedule 4.1'!K$68","v":1106954.2152799997},{"$f":"$F30*'Schedule 4.1'!L$68","v":141021.22471999997},{"$f":"$F30*'Schedule 4.1'!M$68","v":0},{"$f":"$F30*'Schedule 4.1'!N$68","v":0},{"$f":"$F30*'Schedule 4.1'!O$68","v":0},{"$f":"$F30*'Schedule 4.1'!P$68","v":0},{"$f":"$F30*'Schedule 4.1'!Q$68","v":0},{"$f":"$F30*'Schedule 4.1'!R$68","v":0},{"$f":"$F30*'Schedule 4.1'!S$68","v":0},{"$f":"$F30*'Schedule 4.1'!T$68","v":0},{"$f":"$F30*'Schedule 4.1'!U$68","v":0},null,null,null,null,null,"Primary Conductor & Equipment",null,{"$f":"\"Primary - Demand, Customer - zero intercept ratios Sch.4.1 L.\"&'Schedule 4.1'!$A$68","v":"Primary - Demand, Customer - zero intercept ratios Sch.4.1 L.38"}]
[null,null,"D05",10,"Submarine Conductor",0,{"$f":"$F31*'Schedule 4.1'!D$69","v":0},{"$f":"$F31*'Schedule 4.1'!E$69","v":0},{"$f":"$F31*'Schedule 4.1'!G$69","v":0},{"$f":"$F31*'Schedule 4.1'!J$69","v":0},{"$f":"$F31*'Schedule 4.1'!K$69","v":0},{"$f":"$F31*'Schedule 4.1'!L$69","v":0},{"$f":"$F31*'Schedule 4.1'!M$69","v":0},{"$f":"$F31*'Schedule 4.1'!N$69","v":0},{"$f":"$F31*'Schedule 4.1'!O$69","v":0},{"$f":"$F31*'Schedule 4.1'!P$69","v":0},{"$f":"$F31*'Schedule 4.1'!Q$69","v":0},{"$f":"$F31*'Schedule 4.1'!R$69","v":0},{"$f":"$F31*'Schedule 4.1'!S$69","v":0},{"$f":"$F31*'Schedule 4.1'!T$69","v":0},{"$f":"$F31*'Schedule 4.1'!U$69","v":0},null,null,null,null,null,"Submarine Conductor",null,{"$f":"\"Primary - Demand, Customer - zero intercept ratios Sch.4.1 L.\"&'Schedule 4.1'!$A$69","v":"Primary - Demand, Customer - zero intercept ratios Sch.4.1 L.39"}]
[null,null,"D11",11,"Transformers",{"$f":"DistnDetails!F18","v":955575.09999999928},{"$f":"$F32*'Schedule 4.1'!D$70","v":0},{"$f":"$F32*'Schedule 4.1'!E$70","v":0},{"$f":"$F32*'Schedule 4.1'!G$70","v":0},{"$f":"$F32*'Schedule 4.1'!J$70","v":0},{"$f":"$F32*'Schedule 4.1'!K$70","v":0},{"$f":"$F32*'Schedule 4.1'!L$70","v":0},{"$f":"$F32*'Schedule 4.1'!M$70","v":344962.61109999975},{"$f":"$F32*'Schedule 4.1'!N$70","v":610612.48889999953},{"$f":"$F32*'Schedule 4.1'!O$70","v":0},{"$f":"$F32*'Schedule 4.1'!P$70","v":0},{"$f":"$F32*'Schedule 4.1'!Q$70","v":0},{"$f":"$F32*'Schedule 4.1'!R$70","v":0},{"$f":"$F32*'Schedule 4.1'!S$70","v":0},{"$f":"$F32*'Schedule 4.1'!T$70","v":0},{"$f":"$F32*'Schedule 4.1'!U$70","v":0},null,null,null,null,null,"Transformers",null,{"$f":"+\"Transformers - Demand, Customer - zero intercept ratios Sch.4.1 L.\"&'Schedule 4.1'!$A$70","v":"Transformers - Demand, Customer - zero intercept ratios Sch.4.1 L.40"}]
[null,null,"D11",12,"Secondary Conductors & Equipment",{"$f":"DistnDetails!F19","v":225531.84999999989},{"$f":"$F33*'Schedule 4.1'!D$71","v":0},{"$f":"$F33*'Schedule 4.1'!E$71","v":0},{"$f":"$F33*'Schedule 4.1'!G$71","v":0},{"$f":"$F33*'Schedule 4.1'!J$71","v":0},{"$f":"$F33*'Schedule 4.1'!K$71","v":0},{"$f":"$F33*'Schedule 4.1'!L$71","v":0},{"$f":"$F33*'Schedule 4.1'!M$71","v":0},{"$f":"$F33*'Schedule 4.1'!N$71","v":0},{"$f":"$F33*'Schedule 4.1'!O$71","v":131485.06854999994},{"$f":"$F33*'Schedule 4.1'!P$71","v":94046.781449999951},{"$f":"$F33*'Schedule 4.1'!Q$71","v":0},{"$f":"$F33*'Schedule 4.1'!R$71","v":0},{"$f":"$F33*'Schedule 4.1'!S$71","v":0},{"$f":"$F33*'Schedule 4.1'!T$71","v":0},{"$f":"$F33*'Schedule 4.1'!U$71","v":0},null,null,null,null,null,"Secondary Conductors & Equipment",null,{"$f":"\"Secondary - Demand, Customer - zero intercept ratios Sch. 4.1 L.\"&'Schedule 4.1'!$A$71","v":"Secondary - Demand, Customer - zero intercept ratios Sch. 4.1 L.41"}]
[null,null,"D11",13,"Services",{"$f":"DistnDetails!F20","v":379470.02999999985},{"$f":"$F34*'Schedule 4.1'!D$72","v":0},{"$f":"$F34*'Schedule 4.1'!E$72","v":0},{"$f":"$F34*'Schedule 4.1'!G$72","v":0},{"$f":"$F34*'Schedule 4.1'!J$72","v":0},{"$f":"$F34*'Schedule 4.1'!K$72","v":0},{"$f":"$F34*'Schedule 4.1'!L$72","v":0},{"$f":"$F34*'Schedule 4.1'!M$72","v":0},{"$f":"$F34*'Schedule 4.1'!N$72","v":0},{"$f":"$F34*'Schedule 4.1'!O$72","v":0},{"$f":"$F34*'Schedule 4.1'!P$72","v":0},{"$f":"$F34*'Schedule 4.1'!Q$72","v":379470.02999999985},{"$f":"$F34*'Schedule 4.1'!R$72","v":0},{"$f":"$F34*'Schedule 4.1'!S$72","v":0},{"$f":"$F34*'Schedule 4.1'!T$72","v":0},{"$f":"$F34*'Schedule 4.1'!U$72","v":0},null,null,null,null,null,"Services",null,"Services Customer"]
[null,null,{"$f":"+SystemizedPlant!C21","v":"SMET01"},14,"Meters",{"$f":"SUM((IF(VLOOKUP($C35,AllocatedMeters,6,FALSE)=\"\",0,VLOOKUP($C35,AllocatedMeters,6,FALSE))))","v":276153.82845817663},{"$f":"$F35*'Schedule 4.1'!D$73","v":0},{"$f":"$F35*'Schedule 4.1'!E$73","v":0},{"$f":"$F35*'Schedule 4.1'!G$73","v":0},{"$f":"$F35*'Schedule 4.1'!J$73","v":0},{"$f":"$F35*'Schedule 4.1'!K$73","v":0},{"$f":"$F35*'Schedule 4.1'!L$73","v":0},{"$f":"$F35*'Schedule 4.1'!M$73","v":0},{"$f":"$F35*'Schedule 4.1'!N$73","v":0},{"$f":"$F35*'Schedule 4.1'!O$73","v":0},{"$f":"$F35*'Schedule 4.1'!P$73","v":0},{"$f":"$F35*'Schedule 4.1'!Q$73","v":0},{"$f":"$F35*'Schedule 4.1'!R$73","v":276153.82845817663},{"$f":"$F35*'Schedule 4.1'!S$73","v":0},{"$f":"$F35*'Schedule 4.1'!T$73","v":0},{"$f":"$F35*'Schedule 4.1'!U$73","v":0},null,null,null,null,null,"Meters",null,"Meters - Customer"]
[null,null,"D11",15,"Street Lighting",{"$f":"DistnDetails!F21","v":116577.61000000002},{"$f":"$F36*'Schedule 4.1'!D$74","v":0},{"$f":"$F36*'Schedule 4.1'!E$74","v":0},{"$f":"$F36*'Schedule 4.1'!G$74","v":0},{"$f":"$F36*'Schedule 4.1'!J$74","v":0},{"$f":"$F36*'Schedule 4.1'!K$74","v":0},{"$f":"$F36*'Schedule 4.1'!L$74","v":0},{"$f":"$F36*'Schedule 4.1'!M$74","v":0},{"$f":"$F36*'Schedule 4.1'!N$74","v":0},{"$f":"$F36*'Schedule 4.1'!O$74","v":0},{"$f":"$F36*'Schedule 4.1'!P$74","v":0},{"$f":"$F36*'Schedule 4.1'!Q$74","v":0},{"$f":"$F36*'Schedule 4.1'!R$74","v":0},{"$f":"$F36*'Schedule 4.1'!S$74","v":116577.61000000002},{"$f":"$F36*'Schedule 4.1'!T$74","v":0},{"$f":"$F36*'Schedule 4.1'!U$74","v":0},null,null,null,null,null,"Street Lighting",null,"Street Lighting - Customer"]
[{"$f":"SUM(G37:U37)-F37","v":0},null," ",16,"Subtotal Distribution",{"$f":"SUM(F27:F36)","v":13825502.988458173},{"$f":"SUM(G27:G36)","v":66298.609999999986},0,0,2039117.7299999997,6088923.2196452096,1792878.0983211657,344962.61109999975,610612.48889999953,998853.83970488631,1111654.9223287376,379470.02999999985,276153.82845817663,116577.61000000002,0,0,null,null,null,null,null,"Subtotal Distribution"]
[null,null,null,null,null,null,null,null,null,null,null,null,null,null,null,null,null,null,null,null,null,null,null,null,null,null,""]
[{"$f":"SUM(G39:U39)-F39","v":0},null," ",{"$f":"MAX(D36:D38)+NoOne","v":17},"Subttl Prod, Trans, & Dist",{"$f":"SUM(F37,F24,F19)","v":25761511.458458155},{"$f":"SUM(G37,G24,G19)","v":12002307.079999983},0,0,2039117.7299999997,6088923.2196452096,1792878.0983211657,344962.61109999975,610612.48889999953,998853.83970488631,1111654.9223287376,379470.02999999985,276153.82845817663,116577.61000000002,0,0,null,null,null,null,null,"Subttl Prod, Trans, & Dist"]
[null,null,null,null," ",null,null,null,null,null,null,null,null,null,null,null,null,null,null,null,null,null,null,null,null,null," "]
[null,{"$f":"IF(OverheadAlloc=\"Expenses\",\"E-GTDC\",\"L-GTDC\")","v":"E-GTDC"},{"$f":"+SystemizedPlant!C99","v":"SGPLT01"},{"$f":"MAX(D38:D40)+NoOne","v":18},"General",{"$f":"SystemizedPlant!H99","v":1968821.2414547601},{"$f":"$F41*VLOOKUP($B41,RatiosLAL,G$435,FALSE)","v":985700.4803758628},0,0,116598.98840665465,348171.30833167839,102518.73617944297,19725.340474764147,34915.491865302734,57115.558146656171,63565.647776898622,21698.512536911188,21070.186228450351,6666.0356078927862,191074.95552424536,0,null,null,null,null,null,"General",null,{"$f":"+\"Prorated on Subtotal Production, Transmission, Distribution, Accounting Expenses - Sch.2.4 L.\"&$D$218&\", \"&$D$220","v":"Prorated on Subtotal Production, Transmission, Distribution, Accounting Expenses - Sch.2.4 L.11, 12"}]
[null,null,null,{"$f":"MAX(D39:D41)+NoOne","v":19},"Telecontrol - Specific",0,0,0,0,0,0,0,0,0,0,0,0,0,0,0,0,null,null,null,null,null,"Telecontrol - Specific",null,"Specifically Assigned - Customer"]
[null,null,{"$f":"+SPLTDetails!C125","v":"SPLT15"},{"$f":"MAX(D40:D42)+NoOne","v":20},"Feasibility Studies",{"$f":"SUM(G43:U43)","v":0},{"$f":"+SPLTDetails!E125","v":0},0,0,0,0,0,0,0,0,0,0,0,0,0,0,null,null,null,null,null,"Feasibility Studies",null,"Production, Transmission - Demand"]
[null,null,{"$f":"+SystemizedPlant!C62","v":"SCS2_01"},{"$f":"MAX(D41:D43)+NoOne","v":21},"Software - General",{"$f":"SystemizedPlant!H62","v":13997.154551137321},{"$f":"$F44*(G$39/SUM($G$39:$U$39))","v":6521.284569807779},0,0,1107.9259095802506,3308.3307046178875,974.13507254874764,187.43057796576832,331.76769894771729,542.71317080488632,604.00205090680538,206.17969819044967,150.04429468552257,63.340803081508071,0,0,null,null,null,null,null,"Software - General",null,{"$f":"+\"Prorated on subtotal Production, Transmission, & Distribution plant - L.\"&$D$39","v":"Prorated on subtotal Production, Transmission, & Distribution plant - L.17"}]
[null,null,{"$f":"+SystemizedPlant!C47","v":"SCS1_01"},{"$f":"MAX(D42:D44)+NoOne","v":22},"Software - Cust Acctng",{"$f":"SUM(G45:U45)","v":0},0,0,0,0,0,0,0,0,0,0,0,0,0,{"$f":"+SystemizedPlant!H47","v":0},0,null,null,null,null,null,"Software - Cust Acctng",null,"Customer Accounting"]
[null,null,null,null,null,null,null,null,null,null,null,null,null,null,null,null,null,null,null,null,null,null,null,null,null,null,""]
[{"$f":"SUM(G47:U47)-F47","v":0},null," ",{"$f":"MAX(D44:D46)+NoOne","v":23},"Total Plant",{"$f":"SUM(F39:F45)","v":27744329.854464054},{"$f":"SUM(G39:G45)","v":12994528.844945654},0,0,2156824.6443162346,6440402.8586815065,1896370.9695731574,364875.38215272961,645859.74846425001,1056512.1110223474,1175824.5721565431,401374.72223510151,297374.0589813125,123306.98641097431,191074.95552424536,0,null,null,null,null,null,"Total Plant"]
[null,null,null,null,null,null,null,null,null,null,null,null,null,null,null,null,null,null,null,null,null,null,null,null,null,null,""]
[]
[null,null,null,null,null,null,null,null,null,null,null,null,null,null,null,null,null,null,null,null,"Schedule 2.3D"]
[null,null,null,null,null,null,null,null,null,null,null,null,null,null,null,null,null,null,null,null,"Page 1 of 1"]
[]
[null,null,null,{"$f":"D5","v":"NEWFOUNDLAND AND LABRADOR HYDRO"}]
[null,null,null,{"$f":"D6","v":"2019 Test Year Cost of Service Study"}]
[null,null,null,{"$f":"$B$1","v":"L'Anse au Loup"}]
[null,null,null,"Functional Classification of Net Book Value"]
[]
[]
[null,null,null,null,{"$f":"MAX(D59)+NoOne","v":1},2,3,4,5,6,7,8,9,10,11,12,13,14,15,16,17]
[null,null,null,null,null,null,null,null,"","Distribution",null,null,null,null,null,null,null,null,null,null,"Specifically"]
[null,null,null,"Line",null,"Total","Production","Production","Transmission","Substations","Primary Lines",null,"Line Transformers",null,"Secondary Lines",null,"Services","Meters","Street Lighting","Accounting","Assigned"]
[null,null,null,"No.","Description ","Amount","Demand","Energy","Demand","Demand","Demand","Customer","Demand","Customer","Demand","Customer","Customer","Customer","Customer","Customer","Customer"]
[null,null,null,null,null,"($)","($)","($)","($)","($)","($)","($)","($)","($)","($)","($)","($)","($)","($)","($)","($)"]
[]
[null,null,null,null,"Production"]
[]
[null,null,"P03",{"$f":"MAX(D64:D66)+NoOne","v":1},"Diesel",7183633.732044002,{"$f":"$F67*'Schedule 4.1'!$D$20","v":7183633.732044002},{"$f":"$F67*'Schedule 4.1'!$E$20","v":0},0,0,0,0,0,0,0,0,0,0,0,0,0]
[{"$f":"SUM(G68:U68)-F68","v":0},null," ",{"$f":"MAX(D65:D67)+NoOne","v":2},"Subtotal Production",{"$f":"SUM(F67:F67)","v":7183633.732044002},{"$f":"SUM(G67:G67)","v":7183633.732044002},{"$f":"SUM(H67:H67)","v":0},0,0,0,0,0,0,0,0,0,0,0,0,0]
[]
[null,null,null,null,"Transmission"]
[null,null," ",{"$f":"MAX(D68:D70)+NoOne","v":3},"Lines",{"$f":"SUM(G71:U71)","v":0},0,0,0,0,0,0,0,0,0,0,0,0,0,0,0]
[null,null," ",{"$f":"MAX(D69:D71)+NoOne","v":4},"Terminal Stations ",{"$f":"SUM(G72:U72)","v":0},0,0,0,0,0,0,0,0,0,0,0,0,0,0,0]
[{"$f":"SUM(G73:U73)-F73","v":0},null," ",{"$f":"MAX(D70:D72)+NoOne","v":5},"Subtotal Transmission",{"$f":"SUM(F71:F72)","v":0},{"$f":"SUM(G71:G72)","v":0},0,0,0,0,0,0,0,0,0,0,0,0,0,0]
[]
[null,null,null,null,"Distribution"]
[null,null,{"$f":"+SNBVDetails!C114","v":"SNBV14"},{"$f":"MAX(D73:D75)+NoOne","v":6},"Substation Structures & Equipment",{"$f":"SUM(G76:U76)","v":1847644.6997530002},{"$f":"+SNBVDetails!E114","v":11825.234311500006},0,0,{"$f":"+SNBVDetails!K114","v":1835819.4654415001},0,0,0,0,0,0,0,0,0,0,0]
[null,null,"D11",7,"Land & Land Improvements",{"$f":"DistnDetails!F29+DistnDetails!F38","v":233813.54144613299},{"$f":"$F77*'Schedule 4.1'!D$62","v":0},{"$f":"$F77*'Schedule 4.1'!E$62","v":0},{"$f":"$F77*'Schedule 4.1'!G$62","v":0},{"$f":"$F77*'Schedule 4.1'!J$62","v":0},{"$f":"$F77*'Schedule 4.1'!K$62","v":176283.71957331197},{"$f":"$F77*'Schedule 4.1'!L$62","v":22457.790655901073},{"$f":"$F77*'Schedule 4.1'!M$62","v":0},{"$f":"$F77*'Schedule 4.1'!N$62","v":0},{"$f":"$F77*'Schedule 4.1'!O$62","v":20446.994199464327},{"$f":"$F77*'Schedule 4.1'!P$62","v":14625.037017455617},{"$f":"$F77*'Schedule 4.1'!Q$62","v":0},{"$f":"$F77*'Schedule 4.1'!R$62","v":0},{"$f":"$F77*'Schedule 4.1'!S$62","v":0},{"$f":"$F77*'Schedule 4.1'!T$62","v":0},{"$f":"$F77*'Schedule 4.1'!U$62","v":0}]
[null,null,"D11",8,"Poles",{"$f":"DistnDetails!F30+DistnDetails!F32","v":3788883.4861603677},{"$f":"$F78*'Schedule 4.1'!D$67","v":0},{"$f":"$F78*'Schedule 4.1'!E$67","v":0},{"$f":"$F78*'Schedule 4.1'!G$67","v":0},{"$f":"$F78*'Schedule 4.1'!J$67","v":0},{"$f":"$F78*'Schedule 4.1'!K$67","v":2191293.1864538761},{"$f":"$F78*'Schedule 4.1'!L$67","v":748880.39880656905},{"$f":"$F78*'Schedule 4.1'!M$67","v":0},{"$f":"$F78*'Schedule 4.1'!N$67","v":0},{"$f":"$F78*'Schedule 4.1'!O$67","v":387860.4247112645},{"$f":"$F78*'Schedule 4.1'!P$67","v":460849.47618865792},{"$f":"$F78*'Schedule 4.1'!Q$67","v":0},{"$f":"$F78*'Schedule 4.1'!R$67","v":0},{"$f":"$F78*'Schedule 4.1'!S$67","v":0},{"$f":"$F78*'Schedule 4.1'!T$67","v":0},{"$f":"$F78*'Schedule 4.1'!U$67","v":0}]
[null,null,"D11",9,"Primary Conductor & Equipment",{"$f":"DistnDetails!F33","v":382353.0614605},{"$f":"$F79*'Schedule 4.1'!D$68","v":0},{"$f":"$F79*'Schedule 4.1'!E$68","v":0},{"$f":"$F79*'Schedule 4.1'!G$68","v":0},{"$f":"$F79*'Schedule 4.1'!J$68","v":0},{"$f":"$F79*'Schedule 4.1'!K$68","v":339147.16551546351},{"$f":"$F79*'Schedule 4.1'!L$68","v":43205.8959450365},{"$f":"$F79*'Schedule 4.1'!M$68","v":0},{"$f":"$F79*'Schedule 4.1'!N$68","v":0},{"$f":"$F79*'Schedule 4.1'!O$68","v":0},{"$f":"$F79*'Schedule 4.1'!P$68","v":0},{"$f":"$F79*'Schedule 4.1'!Q$68","v":0},{"$f":"$F79*'Schedule 4.1'!R$68","v":0},{"$f":"$F79*'Schedule 4.1'!S$68","v":0},{"$f":"$F79*'Schedule 4.1'!T$68","v":0},{"$f":"$F79*'Schedule 4.1'!U$68","v":0}]
[null,null,"D05",10,"Submarine Conductor",0,{"$f":"$F80*'Schedule 4.1'!D$69","v":0},{"$f":"$F80*'Schedule 4.1'!E$69","v":0},{"$f":"$F80*'Schedule 4.1'!G$69","v":0},{"$f":"$F80*'Schedule 4.1'!J$69","v":0},{"$f":"$F80*'Schedule 4.1'!K$69","v":0},{"$f":"$F80*'Schedule 4.1'!L$69","v":0},{"$f":"$F80*'Schedule 4.1'!M$69","v":0},{"$f":"$F80*'Schedule 4.1'!N$69","v":0},{"$f":"$F80*'Schedule 4.1'!O$69","v":0},{"$f":"$F80*'Schedule 4.1'!P$69","v":0},{"$f":"$F80*'Schedule 4.1'!Q$69","v":0},{"$f":"$F80*'Schedule 4.1'!R$69","v":0},{"$f":"$F80*'Schedule 4.1'!S$69","v":0},{"$f":"$F80*'Schedule 4.1'!T$69","v":0},{"$f":"$F80*'Schedule 4.1'!U$69","v":0}]
[null,null,"D11",11,"Transformers",{"$f":"DistnDetails!F34","v":540115.47110049997},{"$f":"$F81*'Schedule 4.1'!D$70","v":0},{"$f":"$F81*'Schedule 4.1'!E$70","v":0},{"$f":"$F81*'Schedule 4.1'!G$70","v":0},{"$f":"$F81*'Schedule 4.1'!J$70","v":0},{"$f":"$F81*'Schedule 4.1'!K$70","v":0},{"$f":"$F81*'Schedule 4.1'!L$70","v":0},{"$f":"$F81*'Schedule 4.1'!M$70","v":194981.68506728049},{"$f":"$F81*'Schedule 4.1'!N$70","v":345133.78603321948},{"$f":"$F81*'Schedule 4.1'!O$70","v":0},{"$f":"$F81*'Schedule 4.1'!P$70","v":0},{"$f":"$F81*'Schedule 4.1'!Q$70","v":0},{"$f":"$F81*'Schedule 4.1'!R$70","v":0},{"$f":"$F81*'Schedule 4.1'!S$70","v":0},{"$f":"$F81*'Schedule 4.1'!T$70","v":0},{"$f":"$F81*'Schedule 4.1'!U$70","v":0}]
[null,null,"D11",12,"Secondary Conductors & Equipment",{"$f":"DistnDetails!F35","v":50440.507144999996},{"$f":"$F82*'Schedule 4.1'!D$71","v":0},{"$f":"$F82*'Schedule 4.1'!E$71","v":0},{"$f":"$F82*'Schedule 4.1'!G$71","v":0},{"$f":"$F82*'Schedule 4.1'!J$71","v":0},{"$f":"$F82*'Schedule 4.1'!K$71","v":0},{"$f":"$F82*'Schedule 4.1'!L$71","v":0},{"$f":"$F82*'Schedule 4.1'!M$71","v":0},{"$f":"$F82*'Schedule 4.1'!N$71","v":0},{"$f":"$F82*'Schedule 4.1'!O$71","v":29406.815665534996},{"$f":"$F82*'Schedule 4.1'!P$71","v":21033.691479464997},{"$f":"$F82*'Schedule 4.1'!Q$71","v":0},{"$f":"$F82*'Schedule 4.1'!R$71","v":0},{"$f":"$F82*'Schedule 4.1'!S$71","v":0},{"$f":"$F82*'Schedule 4.1'!T$71","v":0},{"$f":"$F82*'Schedule 4.1'!U$71","v":0}]
[null,null,"D11",13,"Services",{"$f":"DistnDetails!F36","v":229556.92935200001},{"$f":"$F83*'Schedule 4.1'!D$72","v":0},{"$f":"$F83*'Schedule 4.1'!E$72","v":0},{"$f":"$F83*'Schedule 4.1'!G$72","v":0},{"$f":"$F83*'Schedule 4.1'!J$72","v":0},{"$f":"$F83*'Schedule 4.1'!K$72","v":0},{"$f":"$F83*'Schedule 4.1'!L$72","v":0},{"$f":"$F83*'Schedule 4.1'!M$72","v":0},{"$f":"$F83*'Schedule 4.1'!N$72","v":0},{"$f":"$F83*'Schedule 4.1'!O$72","v":0},{"$f":"$F83*'Schedule 4.1'!P$72","v":0},{"$f":"$F83*'Schedule 4.1'!Q$72","v":229556.92935200001},{"$f":"$F83*'Schedule 4.1'!R$72","v":0},{"$f":"$F83*'Schedule 4.1'!S$72","v":0},{"$f":"$F83*'Schedule 4.1'!T$72","v":0},{"$f":"$F83*'Schedule 4.1'!U$72","v":0}]
[null,null,{"$f":"+SystemizedPlant!C$31","v":"SMET02"},14,"Meters",{"$f":"SUM((IF(VLOOKUP($C84,AllocatedMeters,6,FALSE)=\"\",0,VLOOKUP($C84,AllocatedMeters,6,FALSE))))","v":174491.45398894718},{"$f":"$F84*'Schedule 4.1'!D$73","v":0},{"$f":"$F84*'Schedule 4.1'!E$73","v":0},{"$f":"$F84*'Schedule 4.1'!G$73","v":0},{"$f":"$F84*'Schedule 4.1'!J$73","v":0},{"$f":"$F84*'Schedule 4.1'!K$73","v":0},{"$f":"$F84*'Schedule 4.1'!L$73","v":0},{"$f":"$F84*'Schedule 4.1'!M$73","v":0},{"$f":"$F84*'Schedule 4.1'!N$73","v":0},{"$f":"$F84*'Schedule 4.1'!O$73","v":0},{"$f":"$F84*'Schedule 4.1'!P$73","v":0},{"$f":"$F84*'Schedule 4.1'!Q$73","v":0},{"$f":"$F84*'Schedule 4.1'!R$73","v":174491.45398894718},{"$f":"$F84*'Schedule 4.1'!S$73","v":0},{"$f":"$F84*'Schedule 4.1'!T$73","v":0},{"$f":"$F84*'Schedule 4.1'!U$73","v":0}]
[null,null,"D11",15,"Street Lighting",{"$f":"DistnDetails!F37","v":43260.595059500003},{"$f":"$F85*'Schedule 4.1'!D$74","v":0},{"$f":"$F85*'Schedule 4.1'!E$74","v":0},{"$f":"$F85*'Schedule 4.1'!G$74","v":0},{"$f":"$F85*'Schedule 4.1'!J$74","v":0},{"$f":"$F85*'Schedule 4.1'!K$74","v":0},{"$f":"$F85*'Schedule 4.1'!L$74","v":0},{"$f":"$F85*'Schedule 4.1'!M$74","v":0},{"$f":"$F85*'Schedule 4.1'!N$74","v":0},{"$f":"$F85*'Schedule 4.1'!O$74","v":0},{"$f":"$F85*'Schedule 4.1'!P$74","v":0},{"$f":"$F85*'Schedule 4.1'!Q$74","v":0},{"$f":"$F85*'Schedule 4.1'!R$74","v":0},{"$f":"$F85*'Schedule 4.1'!S$74","v":43260.595059500003},{"$f":"$F85*'Schedule 4.1'!T$74","v":0},{"$f":"$F85*'Schedule 4.1'!U$74","v":0}]
[{"$f":"SUM(G86:U86)-F86","v":0},null," ",16,"Subtotal Distribution",{"$f":"SUM(F76:F85)","v":7290559.7454659473},{"$f":"SUM(G76:G85)","v":11825.234311500006},0,0,1835819.4654415001,2706724.0715426514,814544.08540750667,194981.68506728049,345133.78603321948,437714.23457626381,496508.20468557853,229556.92935200001,174491.45398894718,43260.595059500003,0,0]
[]
[{"$f":"SUM(G88:U88)-F88","v":0},null," ",{"$f":"MAX(D85:D87)+NoOne","v":17},"Subttl Prod, Trans, & Dist",{"$f":"SUM(F86,F73,F68)","v":14474193.477509949},{"$f":"SUM(G86,G73,G68)","v":7195458.9663555017},0,0,1835819.4654415001,2706724.0715426514,814544.08540750667,194981.68506728049,345133.78603321948,437714.23457626381,496508.20468557853,229556.92935200001,174491.45398894718,43260.595059500003,0,0]
[]
[null,{"$f":"IF(OverheadAlloc=\"Expenses\",\"E-GTDC\",\"L-GTDC\")","v":"E-GTDC"},{"$f":"+SystemizedPlant!C109","v":"SGPLT02"},{"$f":"MAX(D87:D89)+NoOne","v":18},"General",{"$f":"+SystemizedPlant!H109","v":727218.28858331288},{"$f":"$F90*VLOOKUP($B90,RatiosLAL,G$435,FALSE)","v":364085.57633451128},0,0,43067.859597542505,128603.11421248657,37867.074116414537,7285.8967791214518,12896.642775231599,21096.622472541727,23479.07499964266,8014.7221188230451,7782.6388940539264,2462.2159210479072,70576.850361895704,0]
[null,null,null,{"$f":"MAX(D88:D90)+NoOne","v":19},"Telecontrol - Specific",0,{"$f":"$F91*'Schedule 4.1'!D35","v":0},{"$f":"$F91*'Schedule 4.1'!E35","v":0},{"$f":"$F91*'Schedule 4.1'!G35","v":0},{"$f":"$F91*'Schedule 4.1'!J35","v":0},{"$f":"$F91*'Schedule 4.1'!K35","v":0},{"$f":"$F91*'Schedule 4.1'!L35","v":0},{"$f":"$F91*'Schedule 4.1'!M35","v":0},{"$f":"$F91*'Schedule 4.1'!N35","v":0},{"$f":"$F91*'Schedule 4.1'!O35","v":0},{"$f":"$F91*'Schedule 4.1'!P35","v":0},{"$f":"$F91*'Schedule 4.1'!Q35","v":0},{"$f":"$F91*'Schedule 4.1'!R35","v":0},{"$f":"$F91*'Schedule 4.1'!S35","v":0},{"$f":"$F91*'Schedule 4.1'!T35","v":0},{"$f":"$F91*'Schedule 4.1'!U35","v":0}]
[null,null,{"$f":"+SNBVDetails!C121","v":"SNBV15"},{"$f":"MAX(D89:D91)+NoOne","v":20},"Feasibility Studies",{"$f":"SUM(G92:U92)","v":0},{"$f":"+SNBVDetails!E121","v":0},0,0,0,0,0,0,0,0,0,0,0,0,0,0]
[null,null,{"$f":"+SystemizedPlant!C68","v":"SCS2_02"},{"$f":"MAX(D90:D92)+NoOne","v":21},"Software - General",{"$f":"+SystemizedPlant!H68","v":11784.225118861175},{"$f":"$F93*(G$88/SUM($G$88:$U$88))","v":5858.2129929942475},0,0,1494.640091136308,2203.6907163953711,663.16447176096869,158.74515388079567,280.99211448705938,356.36687363557843,404.23423014675808,186.89473353259726,142.06294660342652,35.220794288065797,0,0]
[null,null,{"$f":"+SystemizedPlant!C51","v":"SCS1_02"},{"$f":"MAX(D91:D93)+NoOne","v":22},"Software - Cust Acctng",{"$f":"SUM(G94:U94)","v":0},0,0,0,0,0,0,0,0,0,0,0,0,0,{"$f":"+SystemizedPlant!H51","v":0},0]
[]
[{"$f":"SUM(G96:U96)-F96","v":0},null," ",{"$f":"MAX(D93:D95)+NoOne","v":23},"Total Net Book Value",{"$f":"SUM(F88:F94)","v":15213195.991212122},{"$f":"SUM(G88:G94)","v":7565402.7556830067},0,0,1880381.965130179,2837530.876471533,853074.32399568218,202426.32700028273,358311.42092293815,459167.22392244113,520391.51391536795,237758.54620435563,182416.15582960454,45758.031774835974,70576.850361895704,0]
[]
[]
[]
[]
[null,null,null,null,null,null,null,null,null,null,null,null,null,null,null,null,null,null,null,null,"Schedule 2.5D"]
[null,null,null,null,null,null,null,null,null,null,null,null,null,null,null,null,null,null,null,null,"Page 1 of 1"]
[]
[null,null,null,{"$f":"D5","v":"NEWFOUNDLAND AND LABRADOR HYDRO"}]
[null,null,null,{"$f":"D6","v":"2019 Test Year Cost of Service Study"}]
[null,null,null,{"$f":"$B$1","v":"L'Anse au Loup"}]
[null,null,null,"Functional Classification of Depreciation Expense"]
[]
[null,null,null,null,{"$f":"MAX(D109)+NoOne","v":1},2,3,4,5,6,7,8,9,10,11,12,13,14,15,16,17]
[null,null,null,null,null,null,null,null,"","Distribution",null,null,null,null,null,null,null,null,null,null,"Specifically"]
[null,null,null,"Line",null,"Total","Production","Production","Transmission","Substations","Primary Lines",null,"Line Transformers",null,"Secondary Lines",null,"Services","Meters","Street Lighting","Accounting","Assigned"]
[null,null,null,"No.","Description ","Amount","Demand","Energy","Demand","Demand","Demand","Customer","Demand","Customer","Demand","Customer","Customer","Customer","Customer","Customer","Customer"]
[null,null,null,null,null,"($)","($)","($)","($)","($)","($)","($)","($)","($)","($)","($)","($)","($)","($)","($)","($)"]
[null,null,null,null," "]
[null,null,null,null,"Production"]
[]
[null,null,"P03",{"$f":"MAX(D114:D116)+NoOne","v":1},"Diesel",418489.74530399981,{"$f":"$F117*'Schedule 4.1'!$D$20","v":418489.74530399981},{"$f":"$F117*'Schedule 4.1'!$E$20","v":0},0,0,0,0,0,0,0,0,0,0,0,0,0]
[{"$f":"SUM(G118:U118)-F118","v":0},null," ",{"$f":"MAX(D115:D117)+NoOne","v":2},"Subtotal Production",{"$f":"SUM(F117:F117)","v":418489.74530399981},{"$f":"SUM(G117:G117)","v":418489.74530399981},{"$f":"SUM(H117:H117)","v":0},0,0,0,0,0,0,0,0,0,0,0,0,0]
[]
[null,null,null,null,"Transmission"]
[null,null," ",{"$f":"MAX(D118:D120)+NoOne","v":3},"Lines",{"$f":"SUM(G121:U121)","v":0},0,0,0,0,0,0,0,0,0,0,0,0,0,0,0]
[null,null," ",{"$f":"MAX(D119:D121)+NoOne","v":4},"Terminal Stations",{"$f":"SUM(G122:U122)","v":0},0,0,0,0,0,0,0,0,0,0,0,0,0,0,0]
[{"$f":"SUM(G123:U123)-F123","v":0},null," ",{"$f":"MAX(D120:D122)+NoOne","v":5},"Subtotal Transmission",{"$f":"SUM(F121:F122)","v":0},{"$f":"SUM(G121:G122)","v":0},0,0,0,0,0,0,0,0,0,0,0,0,0,0]
[]
[null,null,null,null,"Distribution"]
[null,null,{"$f":"+SDEPDetails!C116","v":"SDEP14"},{"$f":"MAX(D123:D125)+NoOne","v":6},"Substation Structures & Equipment",{"$f":"SUM(G126:U126)","v":117022.71349800001},{"$f":"+SDEPDetails!E116","v":354.01045900000003},0,0,{"$f":"+SDEPDetails!K116","v":116668.70303900001},0,0,0,0,0,0,0,0,0,0,0]
[null,null,"D11",7,"Land & Land Improvements",{"$f":"DistnDetails!F45+DistnDetails!F54","v":6480.3293716974767},{"$f":"$F127*'Schedule 4.1'!D$62","v":0},{"$f":"$F127*'Schedule 4.1'!E$62","v":0},{"$f":"$F127*'Schedule 4.1'!G$62","v":0},{"$f":"$F127*'Schedule 4.1'!J$62","v":0},{"$f":"$F127*'Schedule 4.1'!K$62","v":4885.8443297913127},{"$f":"$F127*'Schedule 4.1'!L$62","v":622.43563615154267},{"$f":"$F127*'Schedule 4.1'!M$62","v":0},{"$f":"$F127*'Schedule 4.1'!N$62","v":0},{"$f":"$F127*'Schedule 4.1'!O$62","v":566.70480355494431},{"$f":"$F127*'Schedule 4.1'!P$62","v":405.34460219967713},{"$f":"$F127*'Schedule 4.1'!Q$62","v":0},{"$f":"$F127*'Schedule 4.1'!R$62","v":0},{"$f":"$F127*'Schedule 4.1'!S$62","v":0},{"$f":"$F127*'Schedule 4.1'!T$62","v":0},{"$f":"$F127*'Schedule 4.1'!U$62","v":0}]
[null,null,"D11",8,"Poles",{"$f":"DistnDetails!F46+DistnDetails!F48","v":220609.74805730252},{"$f":"$F128*'Schedule 4.1'!D$67","v":0},{"$f":"$F128*'Schedule 4.1'!E$67","v":0},{"$f":"$F128*'Schedule 4.1'!G$67","v":0},{"$f":"$F128*'Schedule 4.1'!J$67","v":0},{"$f":"$F128*'Schedule 4.1'!K$67","v":127589.2065694448},{"$f":"$F128*'Schedule 4.1'!L$67","v":43603.957923021961},{"$f":"$F128*'Schedule 4.1'!M$67","v":0},{"$f":"$F128*'Schedule 4.1'!N$67","v":0},{"$f":"$F128*'Schedule 4.1'!O$67","v":22583.378689129942},{"$f":"$F128*'Schedule 4.1'!P$67","v":26833.204875705826},{"$f":"$F128*'Schedule 4.1'!Q$67","v":0},{"$f":"$F128*'Schedule 4.1'!R$67","v":0},{"$f":"$F128*'Schedule 4.1'!S$67","v":0},{"$f":"$F128*'Schedule 4.1'!T$67","v":0},{"$f":"$F128*'Schedule 4.1'!U$67","v":0}]
[null,null,"D11",9,"Primary Conductor & Equipment",{"$f":"DistnDetails!F49","v":15563.863192999999},{"$f":"$F129*'Schedule 4.1'!D$68","v":0},{"$f":"$F129*'Schedule 4.1'!E$68","v":0},{"$f":"$F129*'Schedule 4.1'!G$68","v":0},{"$f":"$F129*'Schedule 4.1'!J$68","v":0},{"$f":"$F129*'Schedule 4.1'!K$68","v":13805.146652190999},{"$f":"$F129*'Schedule 4.1'!L$68","v":1758.716540809},{"$f":"$F129*'Schedule 4.1'!M$68","v":0},{"$f":"$F129*'Schedule 4.1'!N$68","v":0},{"$f":"$F129*'Schedule 4.1'!O$68","v":0},{"$f":"$F129*'Schedule 4.1'!P$68","v":0},{"$f":"$F129*'Schedule 4.1'!Q$68","v":0},{"$f":"$F129*'Schedule 4.1'!R$68","v":0},{"$f":"$F129*'Schedule 4.1'!S$68","v":0},{"$f":"$F129*'Schedule 4.1'!T$68","v":0},{"$f":"$F129*'Schedule 4.1'!U$68","v":0}]
[null,null,"D05",10,"Submarine Conductor",0,{"$f":"$F130*'Schedule 4.1'!D$69","v":0},{"$f":"$F130*'Schedule 4.1'!E$69","v":0},{"$f":"$F130*'Schedule 4.1'!G$69","v":0},{"$f":"$F130*'Schedule 4.1'!J$69","v":0},{"$f":"$F130*'Schedule 4.1'!K$69","v":0},{"$f":"$F130*'Schedule 4.1'!L$69","v":0},{"$f":"$F130*'Schedule 4.1'!M$69","v":0},{"$f":"$F130*'Schedule 4.1'!N$69","v":0},{"$f":"$F130*'Schedule 4.1'!O$69","v":0},{"$f":"$F130*'Schedule 4.1'!P$69","v":0},{"$f":"$F130*'Schedule 4.1'!Q$69","v":0},{"$f":"$F130*'Schedule 4.1'!R$69","v":0},{"$f":"$F130*'Schedule 4.1'!S$69","v":0},{"$f":"$F130*'Schedule 4.1'!T$69","v":0},{"$f":"$F130*'Schedule 4.1'!U$69","v":0}]
[null,null,"D11",11,"Transformers",{"$f":"DistnDetails!F50","v":32117.345933000022},{"$f":"$F131*'Schedule 4.1'!D$70","v":0},{"$f":"$F131*'Schedule 4.1'!E$70","v":0},{"$f":"$F131*'Schedule 4.1'!G$70","v":0},{"$f":"$F131*'Schedule 4.1'!J$70","v":0},{"$f":"$F131*'Schedule 4.1'!K$70","v":0},{"$f":"$F131*'Schedule 4.1'!L$70","v":0},{"$f":"$F131*'Schedule 4.1'!M$70","v":11594.361881813007},{"$f":"$F131*'Schedule 4.1'!N$70","v":20522.984051187013},{"$f":"$F131*'Schedule 4.1'!O$70","v":0},{"$f":"$F131*'Schedule 4.1'!P$70","v":0},{"$f":"$F131*'Schedule 4.1'!Q$70","v":0},{"$f":"$F131*'Schedule 4.1'!R$70","v":0},{"$f":"$F131*'Schedule 4.1'!S$70","v":0},{"$f":"$F131*'Schedule 4.1'!T$70","v":0},{"$f":"$F131*'Schedule 4.1'!U$70","v":0}]
[null,null,"D11",12,"Secondary Conductors & Equipment",{"$f":"DistnDetails!F51","v":2431.2685699999988},{"$f":"$F132*'Schedule 4.1'!D$71","v":0},{"$f":"$F132*'Schedule 4.1'!E$71","v":0},{"$f":"$F132*'Schedule 4.1'!G$71","v":0},{"$f":"$F132*'Schedule 4.1'!J$71","v":0},{"$f":"$F132*'Schedule 4.1'!K$71","v":0},{"$f":"$F132*'Schedule 4.1'!L$71","v":0},{"$f":"$F132*'Schedule 4.1'!M$71","v":0},{"$f":"$F132*'Schedule 4.1'!N$71","v":0},{"$f":"$F132*'Schedule 4.1'!O$71","v":1417.4295763099992},{"$f":"$F132*'Schedule 4.1'!P$71","v":1013.8389936899995},{"$f":"$F132*'Schedule 4.1'!Q$71","v":0},{"$f":"$F132*'Schedule 4.1'!R$71","v":0},{"$f":"$F132*'Schedule 4.1'!S$71","v":0},{"$f":"$F132*'Schedule 4.1'!T$71","v":0},{"$f":"$F132*'Schedule 4.1'!U$71","v":0}]
[null,null,"D11",13,"Services",{"$f":"DistnDetails!F52","v":5394.3779320000003},{"$f":"$F133*'Schedule 4.1'!D$72","v":0},{"$f":"$F133*'Schedule 4.1'!E$72","v":0},{"$f":"$F133*'Schedule 4.1'!G$72","v":0},{"$f":"$F133*'Schedule 4.1'!J$72","v":0},{"$f":"$F133*'Schedule 4.1'!K$72","v":0},{"$f":"$F133*'Schedule 4.1'!L$72","v":0},{"$f":"$F133*'Schedule 4.1'!M$72","v":0},{"$f":"$F133*'Schedule 4.1'!N$72","v":0},{"$f":"$F133*'Schedule 4.1'!O$72","v":0},{"$f":"$F133*'Schedule 4.1'!P$72","v":0},{"$f":"$F133*'Schedule 4.1'!Q$72","v":5394.3779320000003},{"$f":"$F133*'Schedule 4.1'!R$72","v":0},{"$f":"$F133*'Schedule 4.1'!S$72","v":0},{"$f":"$F133*'Schedule 4.1'!T$72","v":0},{"$f":"$F133*'Schedule 4.1'!U$72","v":0}]
[null,null,{"$f":"+SystemizedPlant!C40","v":"SMET03"},14,"Meters",{"$f":"SUM((IF(VLOOKUP($C134,AllocatedMeters,6,FALSE)=\"\",0,VLOOKUP($C134,AllocatedMeters,6,FALSE))))","v":12184.254391548144},{"$f":"$F134*'Schedule 4.1'!D$73","v":0},{"$f":"$F134*'Schedule 4.1'!E$73","v":0},{"$f":"$F134*'Schedule 4.1'!G$73","v":0},{"$f":"$F134*'Schedule 4.1'!J$73","v":0},{"$f":"$F134*'Schedule 4.1'!K$73","v":0},{"$f":"$F134*'Schedule 4.1'!L$73","v":0},{"$f":"$F134*'Schedule 4.1'!M$73","v":0},{"$f":"$F134*'Schedule 4.1'!N$73","v":0},{"$f":"$F134*'Schedule 4.1'!O$73","v":0},{"$f":"$F134*'Schedule 4.1'!P$73","v":0},{"$f":"$F134*'Schedule 4.1'!Q$73","v":0},{"$f":"$F134*'Schedule 4.1'!R$73","v":12184.254391548144},{"$f":"$F134*'Schedule 4.1'!S$73","v":0},{"$f":"$F134*'Schedule 4.1'!T$73","v":0},{"$f":"$F134*'Schedule 4.1'!U$73","v":0}]
[null,null,"D11",15,"Street Lighting",{"$f":"DistnDetails!F53","v":5481.9766269999982},{"$f":"$F135*'Schedule 4.1'!D$74","v":0},{"$f":"$F135*'Schedule 4.1'!E$74","v":0},{"$f":"$F135*'Schedule 4.1'!G$74","v":0},{"$f":"$F135*'Schedule 4.1'!J$74","v":0},{"$f":"$F135*'Schedule 4.1'!K$74","v":0},{"$f":"$F135*'Schedule 4.1'!L$74","v":0},{"$f":"$F135*'Schedule 4.1'!M$74","v":0},{"$f":"$F135*'Schedule 4.1'!N$74","v":0},{"$f":"$F135*'Schedule 4.1'!O$74","v":0},{"$f":"$F135*'Schedule 4.1'!P$74","v":0},{"$f":"$F135*'Schedule 4.1'!Q$74","v":0},{"$f":"$F135*'Schedule 4.1'!R$74","v":0},{"$f":"$F135*'Schedule 4.1'!S$74","v":5481.9766269999982},{"$f":"$F135*'Schedule 4.1'!T$74","v":0},{"$f":"$F135*'Schedule 4.1'!U$74","v":0}]
[{"$f":"SUM(G136:U136)-F136","v":0},null," ",16,"Subtotal Distribution",{"$f":"SUM(F126:F135)","v":417285.87757354823},{"$f":"SUM(G126:G135)","v":354.01045900000003},0,0,116668.70303900001,146280.19755142712,45985.110099982507,11594.361881813007,20522.984051187013,24567.513068994886,28252.388471595503,5394.3779320000003,12184.254391548144,5481.9766269999982,0,0]
[]
[{"$f":"SUM(G138:U138)-F138","v":0},null," ",{"$f":"MAX(D135:D137)+NoOne","v":17},"Subtotal Prod Tran & Dist",{"$f":"SUM(F136,F123,F118)","v":835775.62287754798},{"$f":"SUM(G136,G123,G118)","v":418843.75576299982},0,0,116668.70303900001,146280.19755142712,45985.110099982507,11594.361881813007,20522.984051187013,24567.513068994886,28252.388471595503,5394.3779320000003,12184.254391548144,5481.9766269999982,0,0]
[]
[null,{"$f":"IF(OverheadAlloc=\"Expenses\",\"E-GTDC\",\"L-GTDC\")","v":"E-GTDC"},{"$f":"+SystemizedPlant!C119","v":"SGPLT03"},{"$f":"MAX(D137:D139)+NoOne","v":18},"General",{"$f":"+SystemizedPlant!H119","v":80340.077823847852},{"$f":"$F140*VLOOKUP($B140,RatiosLAL,G$435,FALSE)","v":40222.673159441685},0,0,4757.9595371750856,14207.541760738728,4183.3982027607217,804.91583261946528,1424.7679142488594,2330.667858431018,2593.8713895355354,885.43345082415397,859.79385315137847,272.0154619618641,7797.0394029593654,0]
[null,null,null,{"$f":"MAX(D138:D140)+NoOne","v":19},"Telecontrol - Specific",0,0,0,0,0,0,0,0,0,0,0,0,0,0,0,0]
[null,null,{"$f":"+SDEPDetails!C123","v":"SDEP15"},{"$f":"MAX(D139:D141)+NoOne","v":20},"Feasibility Studies",{"$f":"SUM(G142:U142)","v":0},{"$f":"+SDEPDetails!E123","v":0},0,0,0,0,0,0,0,0,0,0,0,0,0,0]
[null,null,{"$f":"+SystemizedPlant!C74","v":"SCS2_03"},{"$f":"MAX(D140:D142)+NoOne","v":21},"Software - General",{"$f":"+SystemizedPlant!H74","v":9012.6300771216156},{"$f":"$F143*G$138/SUM($G$138:$U$138)","v":4516.6235141046491},0,0,1258.1030521658549,1577.420149681061,495.88283630470664,125.02840686030666,221.31067031505808,264.92506020140564,304.66110654549686,58.170556147492967,131.38954354577635,59.115181249808565,0,0]
[null,null,{"$f":"+SystemizedPlant!C55","v":"SCS1_03"},{"$f":"MAX(D141:D143)+NoOne","v":22},"Software - Cust Acctng",{"$f":"SUM(G144:U144)","v":0},0,0,0,0,0,0,0,0,0,0,0,0,0,{"$f":"+SystemizedPlant!H55","v":0},0]
[]
[{"$f":"SUM(G146:U146)-F146","v":0},null," ",{"$f":"MAX(D143:D145)+NoOne","v":23},"Total Depreciation Expense",{"$f":"SUM(F138:F144)","v":925128.33077851753},{"$f":"SUM(G138:G144)","v":463583.05243654613},0,0,122684.76562834096,162065.15946184692,50664.391139047933,12524.306121292779,22169.062635750932,27163.10598762731,31150.920967676535,6337.9819389716467,13175.437788245299,5813.1072702116708,7797.0394029593654,0]
[]
[]
[]
[null,null,null,null,null,null,null,null,null,null,null,null,null,null,null,null,null,null,null,null,"Schedule 2.6D",null,null,null,null,null,null,null,null,null,"Schedule 2.6D"]
[null,null,null,null,null,null,null,null,null,null,null,null,null,null,null,null,null,null,null,null,"Page 1 of 2",null,null,null,null,null,null,null,null,null,"Page 2 of 2"]
[]
[null,null,null,{"$f":"D5","v":"NEWFOUNDLAND AND LABRADOR HYDRO"},null,null,null,null,null,null,null,null,null,null,null,null,null,null,null,null,null,null,null,null,"NEWFOUNDLAND & LABRADOR HYDRO"]
[null,null,null,{"$f":"D6","v":"2019 Test Year Cost of Service Study"},null,null,null,null,null,null,null,null,null,null,null,null,null,null,null,null,null,null,null,null,{"$f":"RunName","v":"2019 Test Year Cost of Service Study"}]
[null,null,null,{"$f":"$B$1","v":"L'Anse au Loup"},null,null,null,null,null,null,null,null,null,null,null,null,null,null,null,null,null,null,null,null,{"$f":"$B$1","v":"L'Anse au Loup"}]
[null,null,null,"Functional Classification of Rate Base",null,null,null,null,null,null,null,null,null,null,null,null,null,null,null,null,null,null,null,null,{"$f":"+D156&\" (CONT'D.)\"","v":"Functional Classification of Rate Base (CONT'D.)"}]
[]
[null,null,null,null,{"$f":"MAX(D158)+NoOne","v":1},2,3,4,5,6,7,8,9,10,11,12,13,14,15,16,17,null,null,null,null,null,{"$f":"MAX(Z158)+NoOne","v":1},null,{"$f":"MAX(U158)+NoOne","v":18}]
[null,null,null,null,null,null,null,null,"","Distribution",null,null,null,null,null,null,null,null,null,null,"Specifically"]
[null,null,null,"Line",null,"Total","Production","Production","Transmission","Substations","Primary Lines",null,"Line Transformers",null,"Secondary Lines",null,"Services","Meters","Street Lighting","Accounting","Assigned",null,null,null,null,null,"Description ",null,"Basis of Functional Classification"]
[null,null,null,"No.","Description ","Amount","Demand","Energy","Demand","Demand","Demand","Customer","Demand","Customer","Demand","Customer","Customer","Customer","Customer","Customer","Customer"]
[null,null,null,null,null,"($)","($)","($)","($)","($)","($)","($)","($)","($)","($)","($)","($)","($)","($)","($)","($)",null,null,null,null,null,{"$f":"IF(ISBLANK(E162),\"\",E162)","v":""}]
[null,null,null,null," ",null,null,null,null,null,null,null,null,null,null,null,null,null,null,null,null,null,null,null,null,null," "]
[null,null,null,{"$f":"MAX(D161:D163)+NoOne","v":1},"Average Net Book Value",{"$f":"SUM(G164:U164)","v":15213195.99121212},{"$f":"G96","v":7565402.7556830067},{"$f":"H96","v":0},0,1880381.965130179,2837530.876471533,853074.32399568218,202426.32700028273,358311.42092293815,459167.22392244113,520391.51391536795,237758.54620435563,182416.15582960454,45758.031774835974,70576.850361895704,0,null,null,null,null,null,"Average Net Book Value",null,{"$f":"+\"Sch. 2.3 , L. \"&D96","v":"Sch. 2.3 , L. 23"}]
[null,null,null,null,null," ",null,null,null,null,null,null,null,null,null,null,null,null,null,null,null,null,null,null,null,null,""]
[{"$f":"F166-SUM(G166:U166)","v":0},null,null,{"$f":"MAX(D163:D165)+NoOne","v":2},"Cash Working Capital",{"$f":"'Rate Base'!H15","v":15743.804614958914},{"$f":"IF(SUM($G$164:$U$164)<>0,$F166*(G$164/SUM($G$164:$U$164)),0)","v":7829.2702524668512},0,0,1945.9662701777418,2936.4987957748344,882.82800581707897,209.48658934369715,370.80867199618422,475.18214208269222,538.54182402559377,246.05113213162599,188.77849977428511,47.353988750571574,73.038442617759685,0,null,null,null,null,null,"Cash Working Capital",null,"Prorated on Average Net Book Value, L. 1"]
[null,null,null,null,null," ",null,null,null,null,null,null,null,null,null,null,null,null,null,null,null,null,null,null,null,null,""]
[null,null,null,{"$f":"MAX(D165:D167)+NoOne","v":3},"Fuel Inventory - No. 6 Fuel",0,0,0,0,0,0,0,0,0,0,0,0,0,0,0,0,null,null,null,null,null,{"$f":"IF(ISBLANK(E168),\"\",E168)","v":"Fuel Inventory - No. 6 Fuel"}]
[{"$f":"F169-SUM(G169:U169)","v":0},null,null,{"$f":"MAX(D166:D168)+NoOne","v":4},"Fuel Inventory - Diesel",{"$f":"'Rate Base'!H17","v":35265.224146958004},{"$f":"$F169*(G255/$F255)","v":0},35265.224146958004,0,0,0,0,0,0,0,0,0,0,0,0,0,null,null,null,null,null,"Fuel Inventory - Diesel",null,"Production - Energy"]
[null,null,null,{"$f":"MAX(D167:D169)+NoOne","v":5},"Fuel Inventory - Gas Turbine",{"$f":"'Rate Base'!H18","v":0},0,0,0,0,0,0,0,0,0,0,0,0,0,0,0,null,null,null,null,null,{"$f":"IF(ISBLANK(E170),\"\",E170)","v":"Fuel Inventory - Gas Turbine"}]
[null,null,null,null,null,null,null,null,null,null,null,null,null,null,null,null,null,null,null,null,null,null,null,null,null,null,""]
[{"$f":"F172-SUM(G172:U172)","v":0},null,null,{"$f":"MAX(D169:D171)+NoOne","v":6},"Inventory/Supplies",{"$f":"'Rate Base'!H19","v":271557.39495659713},{"$f":"IF(SUM($G$47:$U$47)<>0,$F172*(G$47/SUM($G$47:$U$47)),0)","v":127188.52537914242},0,0,21110.680447538954,63037.710117664523,18561.398421585727,3571.3462455553022,6321.5796424095242,10340.984198007616,11508.796911503352,3928.5963850395337,2910.6532833281376,1206.9105357873684,1870.213389034624,0,null,null,null,null,null,"Inventory/Supplies",null,{"$f":"+\"Prorated on Total Plant in Service, Sch. 2.2, L. \"&D47","v":"Prorated on Total Plant in Service, Sch. 2.2, L. 23"}]
[null,null,null,null,null," ",null,null,null,null,null,null,null,null,null,null,null,null,null,null,null,null,null,null,null,null,""]
[{"$f":"F174-SUM(G174:U174)","v":0},null,null,{"$f":"MAX(D171:D173)+NoOne","v":7},"Deferred Charges: \nForeign Exchange Loss and Regulatory Costs",{"$f":"'Rate Base'!H21","v":530318.36405456718},{"$f":"IF(SUM($G$164:$U$164)<>0,$F174*(G$164/SUM($G$164:$U$164)),0)","v":263723.15292100975},0,0,65548.428359273123,98913.780722600815,29737.405616786553,7056.4001567044552,12490.414681812043,16006.15749371048,18140.381316778734,8288.0496206004627,6358.8635413991778,1595.0839368141528,2460.2456870775122,0,null,null,null,null,null,"Deferred Charges: \nForeign Exchange Loss and Regulatory Costs",null,"Prorated on Average Net Book Value, L. 1 "]
[null,null,null,null,null," ",null,null,null,null,null,null,null,null,null,null,null,null,null,null,null,null,null,null,null,null,""]
[{"$f":"SUM(F164:F174)-F176","v":0},null,null,{"$f":"MAX(D173:D175)+NoOne","v":8},"Total Rate Base",{"$f":"SUM(G176:U176)","v":16066080.778985204},{"$f":"SUM(G164:G174)","v":7964143.7042356264},35265.224146958004,0,1968987.0402071688,3002418.8661075733,902255.95603987155,213263.55999188617,377494.22391915589,485989.54775624193,550579.23396767559,250221.24334212727,191874.45115410615,48607.380236188066,74980.347880625603,0,null,null,null,null,null,"Total Rate Base"]
[null,null,null,null,null," ",null,null,null,null,null,null,null,null,null,null,null,null,null,null,null,null,null,null,null,null,""]
[null,null,null,{"$f":"MAX(D175:D177)+NoOne","v":9},"Less:  Rural Portion",{"$f":"SUM(G178:U178)","v":0},{"$f":"IF(RuralMarginSwitch=1,-G176,0)","v":0},0,0,0,0,0,0,0,0,0,0,0,0,0,0,null,null,null,null,null,"Less:  Rural Portion"]
[]
[null,null,null,{"$f":"MAX(D177:D179)+NoOne","v":10},"Rate Base Available for Equity Return",{"$f":"SUM(F176,F178)","v":16066080.778985204},{"$f":"SUM(G176,G178)","v":7964143.7042356264},35265.224146958004,0,1968987.0402071688,3002418.8661075733,902255.95603987155,213263.55999188617,377494.22391915589,485989.54775624193,550579.23396767559,250221.24334212727,191874.45115410615,48607.380236188066,74980.347880625603,0,null,null,null,null,null,"Rate Base Available for Equity Return"]
[]
[{"$f":"('Rate Base'!H41*F$176)-F182","v":0},null,null,{"$f":"MAX(D179:D181)+NoOne","v":11},"Return on Debt",{"$f":"SUM(G182:U182)","v":649543.80686815968},{"$f":"G176*'Rate Base'!$H41","v":321986.44406548585},{"$f":"H176*'Rate Base'!$H41","v":1425.7558055126938},{"$f":"I176*'Rate Base'!$H41","v":0},{"$f":"J176*'Rate Base'!$H41","v":79605.185319566022},{"$f":"K176*'Rate Base'!$H41","v":121386.32980454112},{"$f":"L176*'Rate Base'!$H41","v":36477.768070367361},{"$f":"M176*'Rate Base'!$H41","v":8622.1416740651821},{"$f":"N176*'Rate Base'!$H41","v":15261.907284564133},{"$f":"O176*'Rate Base'!$H41","v":19648.320289826388},{"$f":"P176*'Rate Base'!$H41","v":22259.649788497347},{"$f":"Q176*'Rate Base'!$H41","v":10116.322779375167},{"$f":"R176*'Rate Base'!$H41","v":7757.3904400130286},{"$f":"S176*'Rate Base'!$H41","v":1965.172666242252},{"$f":"T176*'Rate Base'!$H41","v":3031.4188801033019},{"$f":"U176*'Rate Base'!$H41","v":0},null,null,null,null,null,"Return on Debt",null,{"$f":"+\"L.\"&D176&\" x Sch.1.1,p2,L.\"&'Rate Base'!$B$32","v":"L.8 x Sch.1.1,p2,L.12"}]
[null,null,null,null,null," ",null,null,null,null,null,null,null,null,null,null,null,null,null,null,null,null,null,null,null,null,""]
[{"$f":"('Rate Base'!H42*F$176)-F184","v":0},null,null,{"$f":"MAX(D181:D183)+NoOne","v":12},"Return on Equity",{"$f":"SUM(G184:U184)","v":263811.46504256956},{"$f":"G180*'Rate Base'!$H42","v":130774.42142405729},{"$f":"H180*'Rate Base'!$H42","v":579.06906950403311},{"$f":"I180*'Rate Base'!$H42","v":0},{"$f":"J180*'Rate Base'!$H42","v":32331.553841452554},{"$f":"K180*'Rate Base'!$H42","v":49300.917294984494},{"$f":"L180*'Rate Base'!$H42","v":14815.403263601505},{"$f":"M180*'Rate Base'!$H42","v":3501.8728572088703},{"$f":"N180*'Rate Base'!$H42","v":6198.6059716245654},{"$f":"O180*'Rate Base'!$H42","v":7980.1425346156047},{"$f":"P180*'Rate Base'!$H42","v":9040.7309868015436},{"$f":"Q180*'Rate Base'!$H42","v":4108.7327829948481},{"$f":"R180*'Rate Base'!$H42","v":3150.6551448075675},{"$f":"S180*'Rate Base'!$H42","v":798.15260289012315},{"$f":"T180*'Rate Base'!$H42","v":1231.2072680266203},{"$f":"U180*'Rate Base'!$H42","v":0},null,null,null,null,null,"Return on Equity",null,{"$f":"+\"L.\"&D180&\" x Sch.1.1,p2,L.\"&'Rate Base'!$B$36","v":"L.10 x Sch.1.1,p2,L.15"}]
[null,null,null,null,null," ",null,null,null,null,null,null,null,null,null,null,null,null,null,null,null,null,null,null,null,null,""]
[null,null,null,{"$f":"MAX(D183:D185)+NoOne","v":13},"Return on Rate Base",{"$f":"SUM(G186:U186)","v":913355.27191072947},{"$f":"SUM(G182:G184)","v":452760.86548954312},{"$f":"SUM(H182:H184)","v":2004.8248750167268},0,111936.73916101857,170687.24709952562,51293.171333968865,12124.014531274053,21460.5132561887,27628.462824441995,31300.380775298891,14225.055562370015,10908.045584820597,2763.3252691323751,4262.6261481299225,0,null,null,null,null,null,"Return on Rate Base"]
[null,null,null,null,null,null,null,null,null,null,null,null,null,null,null,null,null,null,null,null,null,null,null,null,null,null,""]
[null,null,null,null,null,null,null,null,null,null,null,null,null,null,null,null,null,null,null,null,null,null,null,null,null,null,""]
[null,null,null,null,null,null,null,null,null,null,null,null,null,null,null,null,null,null,null,null,"Schedule 2.4D",null,null,null,null,null,"",null,null,null,"Schedule 2.4D"]
[null,null,null,null,null,null,null,null,null,null,null,null,null,null,null,null,null,null,null,null,"Page 1 of 2",null,null,null,null,null,"",null,null,null,"Page 2 of 2"]
[null,null,null,{"$f":"D5","v":"NEWFOUNDLAND AND LABRADOR HYDRO"},null,null,null,null,null,null,null,null,null,null,null,null,null,null,null,null,null,null,null,null,"NEWFOUNDLAND & LABRADOR HYDRO"]
[null,null,null,{"$f":"D6","v":"2019 Test Year Cost of Service Study"},null,null,null,null,null,null,null,null,null,null,null,null,null,null,null,null,null,null,null,null,{"$f":"RunName","v":"2019 Test Year Cost of Service Study"}]
[null,null,null,{"$f":"$B$1","v":"L'Anse au Loup"},null,null,null,null,null,null,null,null,null,null,null,null,null,null,null,null,null,null,null,null,{"$f":"$B$1","v":"L'Anse au Loup"}]
[null,null,null,"Functional Classification of Operating & Maintenance Expense",null,null,null,null,null,null,null,null,null,null,null,null,null,null,null,null,null,null,null,null,{"$f":"+D194&\" (CONT'D.)\"","v":"Functional Classification of Operating & Maintenance Expense (CONT'D.)"}]
[null,null,null,null,null,null,null,null,null,null,null,null,null,null,null,null,null,null,null,null,null,null,null,null,null,null,""]
[null,null,null,null,{"$f":"MAX(D196)+NoOne","v":1},2,3,4,5,6,7,8,9,10,11,12,13,14,15,16,17,null,null,null,null,null,{"$f":"MAX(Z196)+NoOne","v":1},null,{"$f":"MAX(U196)+NoOne","v":18},{"$f":"MAX(AC196)+NoOne","v":19},{"$f":"MAX(AD196)+NoOne","v":20}]
[null,null,null,null,null,null,null,null,"","Distribution",null,null,null,null,null,null,null,null,null,null,"Specifically",null,null,null,null,null,"",null,"Revenue Related"]
[null,null,null,"Line",null,"Total","Production","Production","Transmission","Substations","Primary Lines",null,"Line Transformers",null,"Secondary Lines",null,"Services","Meters","Street Lighting","Accounting","Assigned",null,null,null,null,null,"",null,"Municipal","PUB "]
[null,null,null,"No.","Description ","Amount","Demand","Energy","Demand","Demand","Demand","Customer","Demand","Customer","Demand","Customer","Customer","Customer","Customer","Customer","Customer",null,null,null,null,null,"Description ",null,"Tax","Assessment","Basis of Functional Classification"]
[null,null,null,null,null,"($)","($)","($)","($)","($)","($)","($)","($)","($)","($)","($)","($)","($)","($)","($)","($)",null,null,null,null,null,""]
[null,null,null,null,null,null,null,null,null,null,null,null,null,null,null,null,null,null,null,null,null,null,null,null,null,null,{"$f":"IF(ISBLANK(E201),\"\",E201)","v":""}]
[null,null,null,null,"Production",null,null,null,null,null,null,null,null,null,null,null,null,null,null,null,null,null,null,null,null,null,{"$f":"IF(ISBLANK(E202),\"\",E202)","v":"Production"}]
[null,null,null,{"$f":"MAX(D200:D202)+NoOne","v":1},"Diesel",{"$f":"+'O&M Summary'!I19","v":381331.73},{"$f":"$F203*'Schedule 4.1'!$D$20","v":381331.73},{"$f":"$F203*'Schedule 4.1'!$E$20","v":0},0,0,0,0,0,0,0,0,0,0,0,0,0,null,null,null,null,null,"Diesel",null,0,0,{"$f":"\"Production - Demand, Energy ratios Sch.4.1 L\"&'Schedule 4.1'!$A$20","v":"Production - Demand, Energy ratios Sch.4.1 L8"}]
[null,null,null,{"$f":"MAX(D201:D203)+NoOne","v":2},"Other",{"$f":"'O&M Summary'!I21","v":52755.251667999997},{"$f":"$F204*'Schedule 4.1'!$D$20","v":52755.251667999997},{"$f":"$F204*'Schedule 4.1'!$E$20","v":0},0,0,0,0,0,0,0,0,0,0,0,0,0,null,null,null,null,null,{"$f":"IF(ISBLANK(E204),\"\",E204)","v":"Other"},null,0,0,{"$f":"\"Production - Demand, Energy ratios Sch.4.1 L\"&'Schedule 4.1'!$A$20","v":"Production - Demand, Energy ratios Sch.4.1 L8"}]
[{"$f":"SUM(G205:AD205)-F205","v":0},null,null,{"$f":"MAX(D202:D204)+NoOne","v":3},"Subtotal Production",{"$f":"SUM(F203:F204)","v":434086.98166799999},{"$f":"SUM(G203:G204)","v":434086.98166799999},0,0,0,0,0,0,0,0,0,0,0,0,0,0,null,null,null,null,null,"Subtotal Production",null,{"$f":"SUM(AC203:AC204)","v":0},{"$f":"SUM(AD203:AD204)","v":0}]
[null,null,null,null,null,null,null,null,null,null,null,null,null,null,null,null,null,null,null,null,null,null,null,null,null,null,""]
[null,null,null,null,"Transmission",null,null,null,null,null,null,null,null,null,null,null,null,null,null,null,null,null,null,null,null,null,"Transmission"]
[null,null,null,{"$f":"MAX(D205:D207)+NoOne","v":4},"Transmission Lines",{"$f":"+'O&M Summary'!I26","v":0},{"$f":"IF(SUM($G$22:$U$22)<>0,$F208*G22/SUM($G$22:$U$22),0)","v":0},0,0,0,0,0,0,0,0,0,0,0,0,0,0,null,null,null,null,null,"Transmission Lines",null,0,0,{"$f":"+\"Prorated on Transmission Lines Plant in Service - Sch.2.2  L.\"&D22","v":"Prorated on Transmission Lines Plant in Service - Sch.2.2  L.3"}]
[null,null,null,{"$f":"MAX(D206:D208)+NoOne","v":5},"Terminal Stations",{"$f":"+'O&M Summary'!I30","v":0},{"$f":"IF(SUM($G$23:$U$23)<>0,$F209*G23/SUM($G$23:$U$23),0)","v":0},0,0,0,0,0,0,0,0,0,0,0,0,0,0,null,null,null,null,null,"Terminal Stations",null,0,0,{"$f":"+\"Prorated on Transmission Terminal Stations Plant in Service - Sch.2.2  L.\"&D23","v":"Prorated on Transmission Terminal Stations Plant in Service - Sch.2.2  L.4"}]
[null,null,null,{"$f":"MAX(D207:D209)+NoOne","v":6},"Other",{"$f":"'O&M Summary'!I31+'O&M Summary'!I33","v":0},{"$f":"IF($G$24<>0,($F210*G24/$F$24),0)","v":0},0,0,0,0,0,0,0,0,0,0,0,0,0,0,null,null,null,null,null,{"$f":"IF(ISBLANK(E210),\"\",E210)","v":"Other"},null,0,0,{"$f":"+\"Prorated on Transmission Plant in Service - Sch.2.2 L.\"&$D$24","v":"Prorated on Transmission Plant in Service - Sch.2.2 L.5"}]
[{"$f":"SUM(G211:AD211)-F211","v":0},null,null,{"$f":"MAX(D208:D210)+NoOne","v":7},"Subtotal Transmission",{"$f":"SUM(F208:F209)","v":0},0,0,0,0,0,0,0,0,0,0,0,0,0,0,0,null,null,null,null,null,"Subtotal Transmission",null,{"$f":"SUM(AC208:AC209)","v":0},{"$f":"SUM(AD208:AD209)","v":0}]
[null,null,null,null,null,null,null,null,null,null,null,null,null,null,null,null,null,null,null,null,null,null,null,null,null,null,""]
[null,null,null,null,"Distribution",null,null,null,null,null,null,null,null,null,null,null,null,null,null,null,null,null,null,null,null,null,"Distribution"]
[null,"P-DisXMet",null,{"$f":"MAX(D211:D213)+NoOne","v":8},"Other",{"$f":"+'O&M Summary'!I39","v":342512.3508388889},{"$f":"$F214*VLOOKUP($B214,RatiosLAL,G$435,FALSE)","v":1675.9545052901026},0,0,51546.609294077629,153921.15011656971,45321.947568995944,8720.2679246168555,15435.598902576648,25249.904828769755,28101.38968833234,9592.5767734960118,0,2946.9512361639649,0,0,null,null,null,null,null,"Other",null,0,0,{"$f":"+\"Prorated on Distribution Plant, excluding Meters - Sch. 2.2 L. \"&D37&\", less L. \"&D35","v":"Prorated on Distribution Plant, excluding Meters - Sch. 2.2 L. 16, less L. 14"}]
[null,null,null,{"$f":"MAX(D212:D214)+NoOne","v":9},"Meters",{"$f":"+'O&M Summary'!I43","v":9314.8034310853309},{"$f":"$F215*'Schedule 4.1'!D$73","v":0},{"$f":"$F215*'Schedule 4.1'!E$73","v":0},{"$f":"$F215*'Schedule 4.1'!G$73","v":0},{"$f":"$F215*'Schedule 4.1'!J$73","v":0},{"$f":"$F215*'Schedule 4.1'!K$73","v":0},{"$f":"$F215*'Schedule 4.1'!L$73","v":0},{"$f":"$F215*'Schedule 4.1'!M$73","v":0},{"$f":"$F215*'Schedule 4.1'!N$73","v":0},{"$f":"$F215*'Schedule 4.1'!O$73","v":0},{"$f":"$F215*'Schedule 4.1'!P$73","v":0},{"$f":"$F215*'Schedule 4.1'!Q$73","v":0},{"$f":"$F215*'Schedule 4.1'!R$73","v":9314.8034310853309},{"$f":"$F215*'Schedule 4.1'!S$73","v":0},{"$f":"$F215*'Schedule 4.1'!T$73","v":0},{"$f":"$F215*'Schedule 4.1'!U$73","v":0},null,null,null,null,null,"Meters",null,0,0,"Meters - Customer"]
[{"$f":"SUM(G216:AD216)-F216","v":0},null,null,{"$f":"MAX(D213:D215)+NoOne","v":10},"Subtotal Distribution",{"$f":"SUM(F214:F215)","v":351827.15426997421},{"$f":"SUM(G214:G215)","v":1675.9545052901026},0,0,51546.609294077629,153921.15011656971,45321.947568995944,8720.2679246168555,15435.598902576648,25249.904828769755,28101.38968833234,9592.5767734960118,9314.8034310853309,2946.9512361639649,0,0,null,null,null,null,null,"Subtotal Distribution",null,{"$f":"SUM(AC214:AC215)","v":0},{"$f":"SUM(AD214:AD215)","v":0}]
[null,null,null,null,null,null,null,null,null,null,null,null,null,null,null,null,null,null,null,null,null,null,null,null,null,null,""]
[{"$f":"SUM(G218:AD218)-F218","v":0},null,null,{"$f":"MAX(D215:D217)+NoOne","v":11},"Subttl Prod, Trans, & Dist",{"$f":"SUM(F216,F211,F205)","v":785914.13593797421},{"$f":"SUM(G216,G211,G205)","v":435762.93617329007},0,0,51546.609294077629,153921.15011656971,45321.947568995944,8720.2679246168555,15435.598902576648,25249.904828769755,28101.38968833234,9592.5767734960118,9314.8034310853309,2946.9512361639649,0,0,null,null,null,null,null,"Subttl Prod, Trans, & Dist",null,{"$f":"SUM(AC216,AC211,AC205)","v":0},{"$f":"SUM(AD216,AD211,AD205)","v":0}]
[null,null,null,null,null,null,null,null,null,null,null,null,null,null,null,null,null,null,null,null,null,null,null,null,null,null,""]
[null,null,null,{"$f":"MAX(D217:D219)+NoOne","v":12},"Customer Accounting",{"$f":"+'O&M Summary'!I53","v":84471.282408908184},{"$f":"$F220*'Schedule 4.1'!D$75","v":0},{"$f":"$F220*'Schedule 4.1'!E$75","v":0},{"$f":"$F220*'Schedule 4.1'!G$75","v":0},{"$f":"$F220*'Schedule 4.1'!J$75","v":0},{"$f":"$F220*'Schedule 4.1'!K$75","v":0},{"$f":"$F220*'Schedule 4.1'!L$75","v":0},{"$f":"$F220*'Schedule 4.1'!M$75","v":0},{"$f":"$F220*'Schedule 4.1'!N$75","v":0},{"$f":"$F220*'Schedule 4.1'!O$75","v":0},{"$f":"$F220*'Schedule 4.1'!P$75","v":0},{"$f":"$F220*'Schedule 4.1'!Q$75","v":0},{"$f":"$F220*'Schedule 4.1'!R$75","v":0},{"$f":"$F220*'Schedule 4.1'!S$75","v":0},{"$f":"$F220*'Schedule 4.1'!T$75","v":84471.282408908184},{"$f":"$F220*'Schedule 4.1'!U$75","v":0},null,null,null,null,null,"Customer Accounting",null,0,0,"Accounting - Customer"]
[null,null,null,null,null,null,null,null,null,null,null,null,null,null,null,null,null,null,null,null,null,null,null,null,null,null,""]
[null,null,null,null,"Administrative & General:",null,null,null,null,null,null,null,null,null,null,null,null,null,null,null,null,null,null,null,null,null,"Administrative & General:"]
[null,null," "," ","Plant-Related:",null,null,null,null,null,null,null,null,null,null,null,null,null,null,null,null,null,null,null,null,null,"Plant-Related:"]
[null,null,null,{"$f":"MAX(D220:D223)+NoOne","v":13},"Production",{"$f":"+'O&M Summary'!I79","v":70043.24336600001},{"$f":"IF($F$19<>0,$F224*(G19/$F$19),0)","v":70043.24336600001},0,0,0,0,0,0,0,0,0,0,0,0,0,0,null,null,null,null,null,"Production",null,0,0,{"$f":"+\"Prorated on Production Plant in Service - Sch.2.2 L.\"&D19","v":"Prorated on Production Plant in Service - Sch.2.2 L.2"}]
[{"$f":"SUM(G225:AD225)-F225","v":0},null,null,{"$f":"MAX(D222:D224)+NoOne","v":14},"Transmission  ",{"$f":"+'O&M Summary'!I86","v":0},{"$f":"IF($F$24<>0,$F225*(G24/$F$24),0)","v":0},0,0,0,0,0,0,0,0,0,0,0,0,0,0,null,null,null,null,null,"Transmission  ",null,0,0,{"$f":"+\"Prorated on Transmission Plant in Service - Sch.2.2 L.\"&D24","v":"Prorated on Transmission Plant in Service - Sch.2.2 L.5"}]
[null,null,null,{"$f":"MAX(D223:D225)+NoOne","v":15},"Distribution  ",{"$f":"+'O&M Summary'!I87","v":90433.280934000009},{"$f":"IF($F$37<>0,$F226*(G37/$F$37),0)","v":433.66240119212711},0,0,13337.967283254349,39827.940044381627,11727.301992647079,2256.4170538587737,3994.0456992126224,6533.5510739425326,7271.3883882954415,2482.1317428864418,1806.3354925174401,762.53976181158771,0,0,null,null,null,null,null,"Distribution  ",null,0,0,{"$f":"+\"Prorated on Distribution Plant in Service - Sch.2.2 L.\"&D37","v":"Prorated on Distribution Plant in Service - Sch.2.2 L.16"}]
[null,null,null,{"$f":"MAX(D224:D226)+NoOne","v":16},"Prod, Trans, Distn Plant",{"$f":"+'O&M Summary'!I94","v":0},{"$f":"IF($F$39<>0,$F227*(G39/$F$39),0)","v":0},0,0,0,0,0,0,0,0,0,0,0,0,0,0,null,null,null,null,null,"Prod, Trans, Distn Plant",null,0,0,{"$f":"+\"Prorated on Production, Transmission & Distribution Plant in Service - Sch.2.2 L.\"&D39","v":"Prorated on Production, Transmission & Distribution Plant in Service - Sch.2.2 L.17"}]
[null,null,null,{"$f":"MAX(D225:D227)+NoOne","v":17},"Prod,Trans, Distn & General Plt",{"$f":"+'O&M Summary'!I92","v":1475.5535652310102},{"$f":"IF($F$47<>0,$F228*(G47/$F$47),0)","v":691.10061285447307},0,0,114.7084939586984,342.52618280929329,100.85653392359848,19.405520833434736,34.349384522340159,56.189506840005095,62.535017015473329,21.346700586906323,15.815532587697049,6.557954881989331,10.162124417101127,0,null,null,null,null,null,{"$f":"IF(ISBLANK(E228),\"\",E228)","v":"Prod,Trans, Distn & General Plt"},null,0,0,{"$f":"+\"Prorated on Production, Transmission, Distribution & General Plant in Service - Sch.2.2 L.\"&$D$47","v":"Prorated on Production, Transmission, Distribution & General Plant in Service - Sch.2.2 L.23"}]
[null,null,null,{"$f":"MAX(D226:D228)+NoOne","v":18},"Property Insurance",{"$f":"+'O&M Summary'!I98","v":18704.701645306846},{"$f":"IF(SUM($F$19,$F$23,$F$27,$F$41:$F$42)<>0,$F229*((SUM(G$19,G$23,G$27,G$41:G$42)/SUM($F$19,$F$23,$F$27,$F$41:$F$42))),0)","v":15173.833406623118},0,0,2518.5145762286793,406.76704298422953,119.77219882365067,23.045030491522901,40.791619069482351,66.727861083765589,74.263473074451397,25.350278930472516,24.616208005023548,7.7879007481772478,223.23204924427375,0,null,null,null,null,null,{"$f":"IF(ISBLANK(E229),\"\",E229)","v":"Property Insurance"},null,0,0,{"$f":"+\"Prorated on Prod., Trans. Terminal, Dist. Sub & General Plant in Service - Sch.2.2  L.\"&D19&\", \"&D23&\", \"&D27&\", \"&D41&\" - \"&D42","v":"Prorated on Prod., Trans. Terminal, Dist. Sub & General Plant in Service - Sch.2.2  L.2, 4, 6, 18 - 19"}]
[null,null,null,null,"Revenue Related:"," ",null,null,null,null,null,null,null,null,null,null,null,null,null,null,null,null,null,null,null,null,"Revenue Related:"]
[null,null,null,{"$f":"MAX(D228:D230)+NoOne","v":19},"Municipal Tax",{"$f":"+'O&M Summary'!I102","v":78095.196520088881},0,0,0,0,0,0,0,0,0,0,0,0,0,0,0,null,null,null,null,null,{"$f":"IF(ISBLANK(E231),\"\",E231)","v":"Municipal Tax"},null,{"$f":"+F231","v":78095.196520088881},0,"Revenue-related"]
[null,null,null,20,"PUB Assessment",{"$f":"+'O&M Summary'!I106","v":5546.7650953560014},0,0,0,0,0,0,0,0,0,0,0,0,0,0,0,null,null,null,null,null,{"$f":"IF(ISBLANK(E232),\"\",E232)","v":"PUB Assessment"},null,0,{"$f":"+F232","v":5546.7650953560014},"Revenue-related"]
[null,{"$f":"IF(OverheadAlloc=\"Expenses\",\"E-GTDC\",\"L-GTDC\")","v":"E-GTDC"},null,21,"All Expense-Related",{"$f":"+'O&M Summary'!I66","v":398565.74234117277},{"$f":"$F233*VLOOKUP($B233,RatiosLAL,G$435,FALSE)","v":199543.98876597235},0,0,23604.155314877509,70483.369970437925,20753.76643084508,3993.173582101158,7068.249082999002,11562.403103255789,12868.151287760917,4392.6200992138029,4265.4224967645632,1349.4640217155179,38680.978185229185,0,null,null,null,null,null,"All Expense-Related",null,0,0,{"$f":"+\"Prorated on Subtotal Production, Transmission, Distribution, Accounting Expenses - L.\"&$D$218&\", \"&$D$220","v":"Prorated on Subtotal Production, Transmission, Distribution, Accounting Expenses - L.11, 12"}]
[null,{"$f":"IF(OverheadAlloc=\"Expenses\",\"E-GTD\",\"L-GTD\")","v":"E-GTD"},null,22,"Prod, Trans, and Distn Expense-Related ",{"$f":"'O&M Summary'!I70","v":19223.140166598761},10658.584212218435,0,0,1260.8091014807239,3764.8487385502717,1108.5564069950869,213.29420726749063,377.5484721438408,617.60240403033947,687.34856411548117,234.63052697951048,227.83630398295838,72.081228834624596,0,0,null,null,null,null,null,"Prod, Trans, and Distn Expense-Related ",null,{"$f":"IF(SUM($F$218,$F$220)<>0,$F234*(SUM(AC219,AC221)/SUM($F$218,$F$220)),0)","v":0},{"$f":"IF(SUM($F$218,$F$220)<>0,$F234*(SUM(AD219,AD221)/SUM($F$218,$F$220)),0)","v":0},{"$f":"+\"Prorated on Subtotal Production, Transmission, Distribution Expenses - L.\"&D218","v":"Prorated on Subtotal Production, Transmission, Distribution Expenses - L.11"}]
[{"$f":"SUM(G235:AD235)-F235","v":0},null,null,23,"Subtotal Admin & General",{"$f":"SUM(F224:F234)","v":682087.62363375421},296544.41276486049,0,0,40836.154769799956,114825.45197916334,33810.253563234495,6505.3353945523795,11514.984257947288,18836.473949152431,20963.686730261765,7156.0793485971335,6340.0260338576827,2198.4308679918968,38914.372358890563,0,null,null,null,null,null,"Subtotal Admin & General",null,{"$f":"SUM(AC224:AC234)","v":78095.196520088881},{"$f":"SUM(AD224:AD234)","v":5546.7650953560014}]
[{"$f":"SUM(G236:AD236)-F236","v":0},null," ",24,"Total Operating & Maintenance Expenses",{"$f":"SUM(F235,F220,F218)","v":1552473.0419806368},732307.34893815056,0,0,92382.764063877577,268746.60209573305,79132.201132230432,15225.603319169235,26950.583160523936,44086.378777922189,49065.076418594108,16748.656122093147,15654.829464943014,5145.3821041558622,123385.65476779875,0,null,null,null,null,null,"Total Operating & Maintenance Expenses",null,{"$f":"SUM(AC235,AC220,AC218)","v":78095.196520088881},{"$f":"SUM(AD235,AD220,AD218)","v":5546.7650953560014}]
[null,null,null,null,null,null,null,null,null,null,null,null,null,null,null,null,null,null,null,null,null,null,null,null,null,null,""]
[null,null,null,null,null,null,null,null,null,null,null,null,null,null,null,null,null,null,null,null,"Schedule 2.1D",null,null,null,null,null,"",null,null,null,"Schedule 2.1D"]
[null,null,null,null,null,null,null,null,null,null,null,null,null,null,null,null,null,null,null,null,"Page 1 of 2",null,null,null,null,null,"",null,null,null,"Page 2 of 2"]
[null,null,null,null,null,null,null,null,null,null,null,null,null,null,null,null,null,null,null,null,null,null,null,null,null,null,""]
[null,null,null,{"$f":"D5","v":"NEWFOUNDLAND AND LABRADOR HYDRO"},null,null,null,null,null,null,null,null,null,null,null,null,null,null,null,null,null,null,null,null,"NEWFOUNDLAND & LABRADOR HYDRO"]
[null,null,null,{"$f":"D6","v":"2019 Test Year Cost of Service Study"},null,null,null,null,null,null,null,null,null,null,null,null,null,null,null,null,null,null,null,null,{"$f":"RunName","v":"2019 Test Year Cost of Service Study"}]
[null,null,null,{"$f":"$B$1","v":"L'Anse au Loup"},null,null,null,null,null,null,null,null,null,null,null,null,null,null,null,null,null,null,null,null,{"$f":"$B$1","v":"L'Anse au Loup"}]
[null,null,null,"Functional Classification of Revenue Requirement",null,null,null,null,null,null,null,null,null,null,null,null,null,null,null,null,null,null,null,null,{"$f":"+D244&\" (CONT'D.)\"","v":"Functional Classification of Revenue Requirement (CONT'D.)"}]
[null,null,null,null,null,null,null,null,null,null,null,null,null,null,null,null,null,null,null,null,null,null,null,null,null,null,""]
[null,null,null,null,{"$f":"MAX(D246)+NoOne","v":1},2,3,4,5,6,7,8,9,10,11,12,13,14,15,16,17,null,null,null,null,null,{"$f":"MAX(Z246)+NoOne","v":1},null,{"$f":"MAX(U246)+NoOne","v":18},{"$f":"MAX(AC246)+NoOne","v":19},{"$f":"MAX(AD246)+NoOne","v":20}]
[null,null,null,null,null,null,null,null,"","Distribution",null,null,null,null,null,null,null,null,null,null,"Specifically",null,null,null,null,null,"",null,"Revenue Related"]
[null,null,null,"Line",null,"Total","Production","Production","Transmission","Substations","Primary Lines",null,"Line Transformers",null,"Secondary Lines",null,"Services","Meters","Street Lighting","Accounting","Assigned",null,null,null,null,null,"",null,"Municipal","PUB "]
[null,null,null,"No.","Description ","Amount","Demand","Energy","Demand","Demand","Demand","Customer","Demand","Customer","Demand","Customer","Customer","Customer","Customer","Customer","Customer",null,null,null,null,null,"Description ",null,"Tax","Assessment","Basis of Functional Classification"]
[null,null,null,null,null,"($)","($)","($)","($)","($)","($)","($)","($)","($)","($)","($)","($)","($)","($)","($)","($)",null,null,null,null,null,"",null,"($)","($)"]
[null,null,null,null,null,null,null,null,null,null,null,null,null,null,null,null,null,null,null,null,null,null,null,null,null,null,""]
[null,null,null,null,"Expenses",null,null,null,null,null,null,null,null,null,null,null,null,null,null,null,null,null,null,null,null,null,"Expenses"]
[null,null,null,{"$f":"MAX(D250:D252)+NoOne","v":1},"Operating & Maintenance",{"$f":"SUM(G253:AD253)","v":1552473.0419806365},{"$f":"G$236","v":732307.34893815056},{"$f":"H$236","v":0},0,92382.764063877577,268746.60209573305,79132.201132230432,15225.603319169235,26950.583160523936,44086.378777922189,49065.076418594108,16748.656122093147,15654.829464943014,5145.3821041558622,123385.65476779875,0,null,null,null,null,null,"Operating & Maintenance",null,{"$f":"AC$236","v":78095.196520088881},{"$f":"AD$236","v":5546.7650953560014},{"$f":"+\"Carryforward from Sch.2.4 L.\"&D236","v":"Carryforward from Sch.2.4 L.24"}]
[null,null,"FUEL1",2,"Fuels",0,0,0,0,0,0,0,0,0,0,0,0,0,0,0,0,null,null,null,null,null,"Fuels",null,0,0,"Production - Energy"]
[null,null,"FUEL2",3,"Fuels-Diesel",708500,{"$f":"$F255*'Schedule 4.1'!D$28","v":0},{"$f":"$F255*'Schedule 4.1'!E$28","v":708500},0,0,0,0,0,0,0,0,0,0,0,0,0,null,null,null,null,null,"Fuels-Diesel",null,0,0,"Production - Energy"]
[null,null,"FUEL3",4,"Fuels-Gas Turbine",0,{"$f":"$F256*'Schedule 4.1'!D$28","v":0},{"$f":"$F256*'Schedule 4.1'!E$28","v":0},0,0,0,0,0,0,0,0,0,0,0,0,0,null,null,null,null,null,{"$f":"IF(ISBLANK(E256),\"\",E256)","v":"Fuels-Gas Turbine"},null,0,0,"Production - Energy"]
[null,null,null,5,"Power Purchases -CF(L)Co",{"$f":"SUM(G257:AD257)","v":0},{"$f":"'Schedules 4.2,4.3,4.4'!W37","v":0},0,{"$f":"'Schedules 4.2,4.3,4.4'!Z37","v":0},0,0,0,0,0,0,0,0,0,0,0,0,null,null,null,null,null,"Power Purchases -CF(L)Co",null,0,0]
[null,null,null,6,"Power Purchases-Other",{"$f":"SUM(G258:AD258)","v":3717396},{"$f":"'Schedules 4.2,4.3,4.4'!W$37","v":0},{"$f":"'Schedules 4.2,4.3,4.4'!X37","v":3717396},{"$f":"'Schedules 4.2,4.3,4.4'!Z$37","v":0},0,0,0,0,0,0,0,0,0,0,0,0,null,null,null,null,null,"Power Purchases-Other",null,0,0,{"$f":"+\"Carryforward from Sch.4.4 L.\"&'Schedules 4.2,4.3,4.4'!T37","v":"Carryforward from Sch.4.4 L.13"}]
[null,null,null,7,"Depreciation",{"$f":"SUM(G259:AD259)","v":925128.33077851753},{"$f":"G$146","v":463583.05243654613},0,0,122684.76562834096,162065.15946184692,50664.391139047933,12524.306121292779,22169.062635750932,27163.10598762731,31150.920967676535,6337.9819389716467,13175.437788245299,5813.1072702116708,7797.0394029593654,0,null,null,null,null,null,"Depreciation",null,{"$f":"AC$146","v":0},{"$f":"AD$146","v":0},{"$f":"+\"Carryforward from Sch.2.5 L.\"&D146","v":"Carryforward from Sch.2.5 L.23"}]
[null,null,null,null,null,null,null,null,null,null,null,null,null,null,null,null,null,null,null,null,null,null,null,null,null,null,""]
[null,null,null,null,"Expense Credits",null,null,null,null,null,null,null,null,null,null,null,null,null,null,null,null,null,null,null,null,null,"Expense Credits"]
[null,null,null,{"$f":"MAX(D259:D261)+NoOne","v":8},"Sundry ",{"$f":"-AllocMisc!I26","v":-4871.0445028887534},{"$f":"IF(SUM($G$236:$AD$236)<>0,$F262*(G$236/SUM($G$236:$AD$236)),0)","v":-2297.6899372882672},0,0,-289.86046320064361,-843.22021923056309,-248.2854535334636,-47.7719028578978,-84.560238022705519,-138.32556649389326,-153.94674452298179,-52.550638322332588,-49.118644219152024,-16.144167747824369,-387.13523464809504,0,null,null,null,null,null,"Sundry ",null,{"$f":"IF(SUM($G$236:$AD$236)<>0,$F262*(AC$236/SUM($G$236:$AD$236)),0)","v":-245.03174446486815},{"$f":"IF(SUM($G$236:$AD$236)<>0,$F262*(AD$236/SUM($G$236:$AD$236)),0)","v":-17.403548336065764},{"$f":"+\"Prorated on Total Operating & Maintenance Expenses - Sch 2.4 L.\"&$D$236","v":"Prorated on Total Operating & Maintenance Expenses - Sch 2.4 L.24"}]
[null,null,"EXPCR9",9,"Building Rental Income",0,{"$f":"$F263*(G39/SUM($G$39:$U$39))","v":0},0,0,0,0,0,0,0,0,0,0,0,0,0,0,null,null,null,null,null,"Building Rental Income",null,0,0,{"$f":"+\"Prorated on Production, Transmission & Distribution Plant - Sch.2.2 L.\"&D39","v":"Prorated on Production, Transmission & Distribution Plant - Sch.2.2 L.17"}]
[null,null,null,10,"Tax Refunds",{"$f":"-AllocMisc!I29","v":0},{"$f":"IF(SUM($G$236:$AD$236)<>0,$F264*(G$236/SUM($G$236:$AD$236)),0)","v":0},0,0,0,0,0,0,0,0,0,0,0,0,0,0,null,null,null,null,null,"Tax Refunds",null,{"$f":"IF(SUM($G$236:$AD$236)<>0,$F264*(AC$236/SUM($G$236:$AD$236)),0)","v":0},{"$f":"IF(SUM($G$236:$AD$236)<>0,$F264*(AD$236/SUM($G$236:$AD$236)),0)","v":0},{"$f":"+\"Prorated on Total Operating & Maintenance Expenses - Sch 2.4 L.\"&$D$236","v":"Prorated on Total Operating & Maintenance Expenses - Sch 2.4 L.24"}]
[null,null,null,11,"Suppliers' Discounts",{"$f":"-AllocMisc!I32","v":-423.01175946139176},-199.53623139608638,0,0,-25.172092856898001,-73.227019038443643,-21.561631491063945,-4.1486126166069148,-7.3433890914454798,-12.012483406048625,-13.369059392785262,-4.5636080648341464,-4.2655664716632025,-1.4019935149426428,-33.619638798387207,0,null,null,null,null,null,"Suppliers' Discounts",null,{"$f":"IF(SUM($G$236:$AD$236)<>0,$F265*(AC$236/SUM($G$236:$AD$236)),0)","v":-21.279072545633287},{"$f":"IF(SUM($G$236:$AD$236)<>0,$F265*(AD$236/SUM($G$236:$AD$236)),0)","v":-1.5113607765530797},{"$f":"+\"Prorated on Total Operating & Maintenance Expenses - Sch 2.4 L.\"&$D$236","v":"Prorated on Total Operating & Maintenance Expenses - Sch 2.4 L.24"}]
[null,null,"EXPCR5",12,"Pole Attachments",-68522,{"$f":"$F266*'Schedule 4.1'!D$67","v":0},{"$f":"$F266*'Schedule 4.1'!E67","v":0},{"$f":"$F266*'Schedule 4.1'!G67","v":0},{"$f":"$F266*'Schedule 4.1'!J67","v":0},{"$f":"$F266*'Schedule 4.1'!K67","v":-39629.561655999998},{"$f":"$F266*'Schedule 4.1'!L67","v":-13543.510344000002},{"$f":"$F266*'Schedule 4.1'!M67","v":0},{"$f":"$F266*'Schedule 4.1'!N67","v":0},{"$f":"$F266*'Schedule 4.1'!O67","v":-7014.4600959999989},{"$f":"$F266*'Schedule 4.1'!P67","v":-8334.467904000001},{"$f":"$F266*'Schedule 4.1'!Q67","v":0},{"$f":"$F266*'Schedule 4.1'!R67","v":0},{"$f":"$F266*'Schedule 4.1'!S67","v":0},{"$f":"$F266*'Schedule 4.1'!T67","v":0},{"$f":"$F266*'Schedule 4.1'!U67","v":0},null,null,null,null,null,"Pole Attachments",null,{"$f":"$F266*'Schedule 4.1'!AC67","v":0},{"$f":"$F266*'Schedule 4.1'!AD67","v":0},{"$f":"+\"Prorated on Distribution Poles - Sch.4.1 L.\"&'Schedule 4.1'!$A$67","v":"Prorated on Distribution Poles - Sch.4.1 L.37"}]
[null,null,"EXPCR6",13,"Secondary Energy Revenues",0,0,{"$f":"F267","v":0},0,0,0,0,0,0,0,0,0,0,0,0,0,null,null,null,null,null,"Secondary Energy Revenues",null,0,0,"Production - Energy"]
[null,null,"EXPCR7",14,"Wheeling Revenues",0,{"$f":"$F268*'Schedule 4.1'!D$36","v":0},{"$f":"$F268*'Schedule 4.1'!E$36","v":0},{"$f":"$F268*'Schedule 4.1'!G$36","v":0},{"$f":"$F268*'Schedule 4.1'!J$36","v":0},{"$f":"$F268*'Schedule 4.1'!K$36","v":0},{"$f":"$F268*'Schedule 4.1'!L$36","v":0},{"$f":"$F268*'Schedule 4.1'!M$36","v":0},{"$f":"$F268*'Schedule 4.1'!N$36","v":0},{"$f":"$F268*'Schedule 4.1'!O$36","v":0},{"$f":"$F268*'Schedule 4.1'!P$36","v":0},{"$f":"$F268*'Schedule 4.1'!Q$36","v":0},{"$f":"$F268*'Schedule 4.1'!R$36","v":0},{"$f":"$F268*'Schedule 4.1'!S$36","v":0},{"$f":"$F268*'Schedule 4.1'!T$36","v":0},{"$f":"$F268*'Schedule 4.1'!U$36","v":0},null,null,null,null,null,"Wheeling Revenues",null,0,0,{"$f":"+\"Transmission - Demand, Energy ratios Sch.4.1 L.\"&'Schedule 4.1'!A32","v":"Transmission - Demand, Energy ratios Sch.4.1 L.16"}]
[null,null,"EXPCR8",15,"Application Fees",-406,0,0,0,0,0,0,0,0,0,0,0,0,0,{"$f":"+F269","v":-406},0,null,null,null,null,null,"Application Fees",null,0,0,"Accounting - Customer"]
[null,null,null,16,"Meter Test Revenues",{"$f":"-AllocMisc!I38","v":0},0,0,0,0,0,0,0,0,0,0,0,{"$f":"+F270","v":0},0,0,0,null,null,null,null,null,{"$f":"IF(ISBLANK(E270),\"\",E270)","v":"Meter Test Revenues"},null,0,0,"Meters - Customer"]
[{"$f":"SUM(G271:AD271)-F271","v":0},null,null,17,"    Total Expense Credits",{"$f":"SUM(F262:F270)","v":-74222.056262350146},-2497.2261686843535,0,0,-315.03255605754163,-40546.008894269005,-13813.357429024529,-51.920515474504711,-91.903627114150993,-7164.7981458999411,-8501.7837079157689,-57.114246387166737,-53.384210690815223,-17.546161262767011,-826.75487344648218,0,null,null,null,null,null,"    Total Expense Credits",null,{"$f":"SUM(AC262:AC270)","v":-266.31081701050147},{"$f":"SUM(AD262:AD270)","v":-18.914909112618844}]
[null,null,null,null,null,null,null,null,null,null,null,null,null,null,null,null,null,null,null,null,null,null,null,null,null,null,""]
[{"$f":"SUM(G273:AD273)-F273","v":0},null,null,{"$f":"MAX(D270:D272)+NoOne","v":18},"Subtotal Expenses",{"$f":"SUM(F271,F253:F259)","v":6829275.3164968044},1193393.1752060123,4425896,0,214752.49713616099,390265.75266331097,115983.23484225383,27697.988924987509,49027.742169160716,64084.686619649554,71714.213678354878,23029.523814677628,28776.883042497495,10940.943213104765,130355.93929731163,0,null,null,null,null,null,"Subtotal Expenses",null,{"$f":"SUM(AC271,AC253:AC259)","v":77828.885703078384},{"$f":"SUM(AD271,AD253:AD259)","v":5527.8501862433823}]
[null,null,null,null,null,null,null,null,null,null,null,null,null,null,null,null,null,null,null,null,null,null,null,null,null,null,""]
[null,null,"DISGL",{"$f":"MAX(D272:D274)+NoOne","v":19},"Disposal Gain / Loss",0,{"$f":"IF(SUM($G$96:$U$96)<>0,$F275*(G$96/SUM($G$96:$U$96)),0)","v":0},0,0,0,0,0,0,0,0,0,0,0,0,0,0,null,null,null,null,null,"Disposal Gain / Loss",null,0,0,{"$f":"+\"Prorated on Total Net Book Value - Sch.2.3 L.\"&D96","v":"Prorated on Total Net Book Value - Sch.2.3 L.23"}]
[{"$f":"SUM(G276:AD276)-F276","v":0},null,null,{"$f":"MAX(D273:D275)+NoOne","v":20},"Subtotal Revenue Requirement  Ex. Return",{"$f":"SUM(F273,F275)","v":6829275.3164968044},{"$f":"SUM(G273,G275)","v":1193393.1752060123},4425896,0,214752.49713616099,390265.75266331097,115983.23484225383,27697.988924987509,49027.742169160716,64084.686619649554,71714.213678354878,23029.523814677628,28776.883042497495,10940.943213104765,130355.93929731163,0,null,null,null,null,null,"Subtotal Revenue Requirement  Ex. Return",null,{"$f":"SUM(AC273,AC275)","v":77828.885703078384},{"$f":"SUM(AD273,AD275)","v":5527.8501862433823}," "]
[null,null,null,null,null,null,null,null,null,null,null,null,null,null,null,null,null,null,null,null,null,null,null,null,null,null,""]
[null,null,null,{"$f":"MAX(D275:D277)+NoOne","v":21},"Return on Debt",{"$f":"SUM(G278:U278)","v":649543.80686815968},{"$f":"+G182","v":321986.44406548585},{"$f":"+H182","v":1425.7558055126938},0,79605.185319566022,121386.32980454112,36477.768070367361,8622.1416740651821,15261.907284564133,19648.320289826388,22259.649788497347,10116.322779375167,7757.3904400130286,1965.172666242252,3031.4188801033019,0,null,null,null,null,null,"Return on Debt",null,0,0,{"$f":"+\"Prorated on Rate Base - Sch.2.6 L.\"&D176","v":"Prorated on Rate Base - Sch.2.6 L.8"}]
[null,null,null,{"$f":"MAX(D276:D278)+NoOne","v":22},"Return on Equity",{"$f":"SUM(G279:U279)","v":263811.46504256956},{"$f":"+G184","v":130774.42142405729},{"$f":"+H184","v":579.06906950403311},0,32331.553841452554,49300.917294984494,14815.403263601505,3501.8728572088703,6198.6059716245654,7980.1425346156047,9040.7309868015436,4108.7327829948481,3150.6551448075675,798.15260289012315,1231.2072680266203,0,null,null,null,null,null,"Return on Equity",null,0,0,{"$f":"+\"Prorated on Rate Base - Sch.2.6 L.\"&D180","v":"Prorated on Rate Base - Sch.2.6 L.10"}]
[null,null,null,null,null,null,null,null,null,null,null,null,null,null,null,null,null,null,null,null,null,null,null,null,null,null,""]
[{"$f":"SUM(G281:AD281)-F281","v":0},null,null,{"$f":"MAX(D278:D280)+NoOne","v":23},"Total Revenue Requirement",{"$f":"SUM(F273,F278,F275,F279)","v":7742630.5884075342},1646154.0406955555,4427900.8248750167,0,326689.2362971796,560952.99976283661,167276.40617622269,39822.003456261562,70488.255425349416,91713.149444091541,103014.59445365377,37254.579377047645,39684.928627318091,13704.268482237139,134618.56544544158,0,null,null,null,null,null,"Total Revenue Requirement",null,{"$f":"SUM(AC273,AC278,AC275,AC279)","v":77828.885703078384},{"$f":"SUM(AD273,AD278,AD275,AD279)","v":5527.8501862433823}]
[null,null,null,null,null,null,null,null,null,null,null,null,null,null,null,null,null,null,null,null,null,null,null,null,null,null,""]
[]
[]
[]
[]
[]
[]
[]
[]
[]
[null,null,null,null,null,null,null,null,null,null,null,null,null,null,null,null,null,null,null,null,"Schedule 3.1D",null,null,null,null,null,null,null,null,null,"Schedule 3.1D"]
[null,null,null,null,null,null,null,null,null,null,null,null,null,null,null,null,null,null,null,null,"Page 1 of 2",null,null,null,null,null,null,null,null,null,"Page 2 of 2"]
[]
[null,null,null,{"$f":"D5","v":"NEWFOUNDLAND AND LABRADOR HYDRO"},null,null,null,null,null,null,null,null,null,null,null,null,null,null,null,null,null,null,null,null,"NEWFOUNDLAND & LABRADOR HYDRO"]
[null,null,null,{"$f":"D6","v":"2019 Test Year Cost of Service Study"},null,null,null,null,null,null,null,null,null,null,null,null,null,null,null,null,null,null,null,null,{"$f":"RunName","v":"2019 Test Year Cost of Service Study"}]
[null,null,null,{"$f":"$B$1","v":"L'Anse au Loup"},null,null,null,null,null,null,null,null,null,null,null,null,null,null,null,null,null,null,null,null,{"$f":"$B$1","v":"L'Anse au Loup"}]
[null,null,null,"Basis of Allocation to Classes of Service",null,null,null,null,null,null,null,null,null,null,null,null,null,null,null,null,null,null,null,null,{"$f":"+D298&\" (CONT'D.)\"","v":"Basis of Allocation to Classes of Service (CONT'D.)"}]
[]
[null,null,null,null,{"$f":"MAX(D300)+NoOne","v":1},2,3,4,5,6,7,8,9,10,11,12,13,14,15,16,17,null,null,null,null,null,{"$f":"MAX(Z300)+NoOne","v":1},null,{"$f":"MAX(U300)+NoOne","v":18},{"$f":"MAX(AC300)+NoOne","v":19}]
[null,null,null,null,null,null,null,null,"","Distribution",null,null,null,null,null,null,null,null,null,null,"Specifically",null,null,null,null,null,null,null,"Revenue Related"]
[null,null,null,"Line",null,"Total","Production","Production","Transmission","Substations","Primary Lines",null,"Line Transformers",null,"Secondary Lines",null,"Services","Meters","Street Lighting","Accounting","Assigned",null,null,null,null,null,null,null,"Municipal","PUB "]
[null,null,null,"No.","Description ","Amount","Demand","Energy","Demand","Demand","Demand","Customer","Demand","Customer","Demand","Customer","Customer","Customer","Customer","Customer","Customer",null,null,null,null,null,"Description",null,"Tax","Assessment"]
[null,null,null,null,null,null,null,null,null,null,null,null,null,null,null,null,null,null,null,null,null,null,null,null,null,null,null,null,"(Prior Year","(Prior Year"]
[null,null,null," ",null,null,{"$f":"IF(CP_AED_Switch=0,\"(AED kW)\",\"(CP kW)\")","v":"(CP kW)"},"(MWh @ Gen)","(CP kW)","(CP kW)","(CP kW)","(Rural Cust)","(CP kW)","(Rural Cust)","(CP kW)","(Rural Cust)","(Wtd Rural Cust)  ",null,null,"(Rural Cust)",null,null,null,null,null,null,null,null,"(Rural Revenues)","(Revenues + RSP)"]
[null,null,null," "]
[null,null,null,null,"Amounts",null,null,null,null,null,null,null,null,null,null,null,null,null,null,null,null,null,null,null,null,null,{"$f":"IF(ISBLANK(E307),\"\",E307)","v":"Amounts"}]
[" ",null,"LAL1.2",{"$f":"MAX(D305:D307)+NoOne","v":1},"1.1 Domestic Diesel","-",1360.7987485169856,4703.9863368182259,1360.7987485169856,1294.0885482427395,1294.0885482427395,{"$f":"Customers!$D110","v":389},1194.9637392840723,{"$f":"Customers!$D110","v":389},1194.9637392840723,{"$f":"Customers!$D110","v":389},{"$f":"Customers!F110","v":389},{"$f":"Customers!G110","v":389},0,{"$f":"Customers!$D110","v":389},0,null,null,null,null,null,"1.1 Domestic Diesel",null,579527.47630110662,579527.47630110662]
[" ",null,"LAL1.12",2,"1.12 Domestic All Electric ","-",3035.0098072239066,12255.518333195747,3035.0098072239066,2886.2250495256376,2886.2250495256376,{"$f":"Customers!$D111","v":427},2665.1455051355392,{"$f":"Customers!$D111","v":427},2665.1455051355392,{"$f":"Customers!$D111","v":427},{"$f":"Customers!F111","v":427},{"$f":"Customers!G111","v":427},0,{"$f":"Customers!$D111","v":427},0,null,null,null,null,null,"1.12 Domestic All Electric ",null,1362284.863361354,1362284.863361354]
[" ",null,"LAL2.1",3,"2.1 GS 0-10 kW","-",1374.1924369866408,6966.8445538907372,1374.1924369866408,1306.8256402530026,1306.8256402530026,{"$f":"Customers!$D112","v":76},1206.725193410884,{"$f":"Customers!$D112","v":76},1206.725193410884,{"$f":"Customers!$D112","v":76},{"$f":"Customers!F112","v":362.52951397136485},{"$f":"Customers!G112","v":362.52951397136485},0,{"$f":"Customers!$D112","v":76},0,null,null,null,null,null,"2.1 GS 0-10 kW",null,830777.48569587956,830777.48569587956]
[" ",null,"LAL2.2",4,"2.2 GS 10-100 kW","-",0,0,0,0,0,{"$f":"Customers!$D113","v":0},0,{"$f":"Customers!$D113","v":0},0,{"$f":"Customers!$D113","v":0},{"$f":"Customers!F113","v":0},{"$f":"Customers!G113","v":0},0,{"$f":"Customers!$D113","v":0},0,null,null,null,null,null,"2.2 GS 10-100 kW",null,0,0]
[" ",null,"LAL2.3",5,"2.3 GS 110-1,000 kVa","-",305.3760971081424,3043.1867732021019,305.3760971081424,290.40569783400059,290.40569783400059,{"$f":"Customers!$D114","v":7},268.16115409130754,{"$f":"Customers!$D114","v":7},268.16115409130754,{"$f":"Customers!$D114","v":7},{"$f":"Customers!F114","v":58.936020885473098},{"$f":"Customers!G114","v":58.936020885473098},0,{"$f":"Customers!$D114","v":7},0,null,null,null,null,null,"2.3 GS 110-1,000 kVa",null,329837.27856342023,329837.27856342023]
[" ",null,"LAL4.1",6,"4.1 Street and Area Lighting","-",14.804117605542984,56.972412214663152,14.804117605542984,14.078377924032001,14.078377924032001,{"$f":"Customers!$D115","v":34.5},13,{"$f":"Customers!$D115","v":34.5},13,{"$f":"Customers!$D115","v":34.5},{"$f":"Customers!F115","v":0},{"$f":"Customers!G115","v":0},1,{"$f":"Customers!$D115","v":34.5},0,null,null,null,null,null,"4.1 Street and Area Lighting",null,17348.108400000001,17348.108400000001]
[null,null,null,null,null,null,null,null,null,null,null,null,null,null,null,null,null,null,null,null,null,null,null,null,null,null,""]
[null,null,null,{"$f":"MAX(D312:D314)+NoOne","v":7},"      Total","-",{"$f":"SUM(G308:G313)","v":6090.1812074412192},27026.508409321472,6090.1812074412192,5791.6233137794115,5791.6233137794115,933.5,5347.9955919218028,933.5,5347.9955919218028,933.5,1237.4655348568378,1237.4655348568378,1,933.5,0,null,null,null,null,null,"      Total",null,{"$f":"SUM(AC308:AC313)","v":3119775.2123217601},{"$f":"SUM(AD308:AD313)","v":3119775.2123217601}]
[null,null,null,null,null,null,null,null,null,null,null,null,null,null,null,null,null,null,null,null,null,null,null,null,null,null,""]
[null,null,null,null,"Ratios",null,null,null,null,null,null,null,null,null,null,null,null,null,null,null,null,null,null,null,null,null,"Ratios"]
[null,null,null,{"$f":"MAX(D315:D317)+NoOne","v":8},"1.1 Domestic Diesel","-",{"$f":"IF(G$315<>0,G308/G$315,0)","v":0.22344142188319602},0.1740508342985147,0.22344142188319602,0.22344142188319607,0.22344142188319607,0.41671130155329406,0.22344142188319605,0.41671130155329406,0.22344142188319605,0.41671130155329406,0.31435218924703495,0.31435218924703495,0,0.41671130155329406,0,null,null,null,null,null,"1.1 Domestic Diesel",null,{"$f":"IF(AC$315<>0,AC308/AC$315,0)","v":0.18575936946105098},0.18575936946105098]
[null,null,null,9,"1.12 Domestic All Electric ","-",{"$f":"IF(G$315<>0,G309/G$315,0)","v":0.49834474605051393},0.4534628797617381,0.49834474605051393,0.49834474605051404,0.49834474605051404,0.45741831815747186,0.49834474605051404,0.45741831815747186,0.49834474605051404,0.45741831815747186,0.34506011518890467,0.34506011518890467,0,0.45741831815747186,0,null,null,null,null,null,"1.12 Domestic All Electric ",null,0.43666122417439535,0.43666122417439535]
[null,null,null,10,"2.1 GS 0-10 kW","-",{"$f":"IF(G$315<>0,G310/G$315,0)","v":0.22564064847653453},0.2577781949623898,0.22564064847653453,0.22564064847653459,0.22564064847653459,8.1414033208355649E-2,0.22564064847653459,8.1414033208355649E-2,0.22564064847653459,8.1414033208355649E-2,0.29296130175722901,0.29296130175722901,0,8.1414033208355649E-2,0,null,null,null,null,null,"2.1 GS 0-10 kW",null,0.26629402093287635,0.26629402093287635]
[null,null,null,11,"2.2 GS 10-100 kW","-",{"$f":"IF(G$315<>0,G311/G$315,0)","v":0},0,0,0,0,0,0,0,0,0,0,0,0,0,0,null,null,null,null,null,"2.2 GS 10-100 kW",null,0,0]
[null,null,null,12,"2.3 GS 110-1,000 kVa","-",{"$f":"IF(G$315<>0,G312/G$315,0)","v":5.014236632811879E-2},0.11260007127493034,5.014236632811879E-2,5.0142366328118804E-2,5.0142366328118804E-2,7.4986609534011782E-3,5.014236632811879E-2,7.4986609534011782E-3,5.014236632811879E-2,7.4986609534011782E-3,4.7626393806831473E-2,4.7626393806831473E-2,0,7.4986609534011782E-3,0,null,null,null,null,null,"2.3 GS 110-1,000 kVa",null,0.10572469364481964,0.10572469364481964]
[null,null,null,13,"4.1 Street and Area Lighting","-",{"$f":"IF(G$315<>0,G313/G$315,0)","v":2.4308172616366061E-3},{"$f":"IF(H$315<>0,H313/H$315,0)","v":2.108019702427166E-3},2.4308172616366061E-3,2.430817261636607E-3,2.430817261636607E-3,3.6957686127477234E-2,2.4308172616366065E-3,3.6957686127477234E-2,2.4308172616366065E-3,3.6957686127477234E-2,0,0,1,3.6957686127477234E-2,0,null,null,null,null,null,"4.1 Street and Area Lighting",null,5.5606917868577486E-3,5.5606917868577486E-3]
[null,null,null,null,null,null,null,null,null,null,null,null,null,null,null,null,null,null,null,null,null,null,null,null,null,null,""]
[null,null,null,{"$f":"MAX(D322:D324)+NoOne","v":14},"      Total","-",{"$f":"SUM(G318:G323)","v":0.99999999999999989},1,0.99999999999999989,1,1,0.99999999999999989,1,0.99999999999999989,1,0.99999999999999989,1.0000000000000002,1.0000000000000002,1,0.99999999999999989,0,null,null,null,null,null,"      Total",null,{"$f":"SUM(AC318:AC323)","v":1},{"$f":"SUM(AD318:AD323)","v":1}]
[]
[null,null,null,null,null,null,null,null,null,null,null,null,null,null,null,null,null,null,null,null,"Schedule 3.2D",null,null,null,null,null,null,null,null,null,"Schedule 3.2D"]
[null,null,null,null,null,null,null,null,null,null,null,null,null,null,null,null,null,null,null,null,"Page 1 of 4",null,null,null,null,null,null,null,null,null,"Page 2 of 4"]
[]
[null,null,null,{"$f":"D5","v":"NEWFOUNDLAND AND LABRADOR HYDRO"},null,null,null,null,null,null,null,null,null,null,null,null,null,null,null,null,null,null,null,null,"NEWFOUNDLAND & LABRADOR HYDRO"]
[null,null,null,{"$f":"D6","v":"2019 Test Year Cost of Service Study"},null,null,null,null,null,null,null,null,null,null,null,null,null,null,null,null,null,null,null,null,{"$f":"RunName","v":"2019 Test Year Cost of Service Study"}]
[null,null,null,{"$f":"$B$1","v":"L'Anse au Loup"},null,null,null,null,null,null,null,null,null,null,null,null,null,null,null,null,null,null,null,null,{"$f":"$B$1","v":"L'Anse au Loup"}]
[null,null,null,"Allocation of Functionalized Amounts to Classes of Service",null,null,null,null,null,null,null,null,null,null,null,null,null,null,null,null,null,null,null,null,{"$f":"+D333&\" (CONT'D.)\"","v":"Allocation of Functionalized Amounts to Classes of Service (CONT'D.)"}]
[]
[null,null,null,null,{"$f":"MAX(D335)+NoOne","v":1},2,3,4,5,6,7,8,9,10,11,12,13,14,15,16,17,null,null,null,null,null,{"$f":"MAX(Z335)+NoOne","v":1},null,{"$f":"MAX(U335)+NoOne","v":18},{"$f":"MAX(AC335)+NoOne","v":19}]
[null,null,null,null,null,null,null,null,null,"Distribution",null,null,null,null,null,null,null,null,null,null,"Specifically",null,null,null,null,null,null,null,"Revenue Related"]
[null,null,null,"Line",null,"Total","Production","Production","Transmsn","Substations","Primary Lines",null,"Line Transformers",null,"Secondary Lines",null,"Services","Meters","Street Lighting","Accounting","Assigned",null,null,null,null,null,null,null,"Municipal","PUB "]
[null,null,null,"No.","Description ","Amount","Demand","Energy","Demand","Demand","Demand","Customer","Demand","Customer","Demand","Customer","Customer","Customer","Customer","Customer","Customer",null,null,null,null,null,"Description",null,"Tax","Assessment","Basis of Proration"]
[null,null,null,null,null,"($)","($)","($)","($)","($)","($)","($)","($)","($)","($)","($)","($)","($)","($)","($)","($)",null,null,null,null,null,null,null,"($)","($)"]
[]
[null,null,null,null,"Allocated Revenue Requirement Excluding Return",null,null,null,null,null,null,null,null,null,null,null,null,null,null,null,null,null,null,null,null,null,{"$f":"IF(ISBLANK(E341),\"\",E341)","v":"Allocated Revenue Requirement Excluding Return"}]
[null,null,null,{"$f":"MAX(D339:D341)+NoOne","v":1},"1.1 Domestic Diesel",{"$f":"SUM(G342:AD342)","v":1377415.156344885},{"$f":"IF(G$315<>0,(G$276/G$315)*G$308,0)","v":266653.46793373348},770330.89131845906,0,47984.603313070809,87201.534687405918,48331.524749476957,6188.8780287042255,20430.414251530281,14319.173499233526,29884.123321778305,7239.3812284606402,9046.0761841149633,0,54320.793129784928,0,null,null,null,null,null,"1.1 Domestic Diesel",null,{"$f":"IF(AC$315<>0,(AC$276/AC$315)*AC$308,0)","v":14457.444734060047},{"$f":"IF(AD$315<>0,(AD$276/AD$315)*AD$308,0)","v":1026.849965071724}]
[null,null,null,2,"1.12 Domestic All Electric ",3171132.4568710956,{"$f":"IF(G$315<>0,(G$276/G$315)*G$309,0)","v":594721.21883645665},2006979.5456859577,0,107020.77864903391,194486.88740321042,53052.856216006847,13803.147256932849,22426.187366075657,31936.266879196031,32803.395008738655,7946.5701402382865,9929.7545774218233,0,59627.194515213792,0,null,null,null,null,null,"1.12 Domestic All Electric ",null,{"$f":"IF(AC$315<>0,(AC$276/AC$315)*AC$309,0)","v":33984.856507235309},{"$f":"IF(AD$315<>0,(AD$276/AD$315)*AD$309,0)","v":2413.7978293776946}]
[null,null,null,3,"2.1 GS 0-10 kW",1634664.3326368895,{"$f":"IF(G$315<>0,(G$276/G$315)*G$310,0)","v":269278.00994095521},1140899.4819712611,0,48456.892715758506,88059.817509132336,9442.6629330597661,6249.7921825300537,3991.5462290907494,14460.110246273225,5838.5433739206974,6746.7592755970645,8430.513116645594,0,10612.802770857723,0,null,null,null,null,null,"2.1 GS 0-10 kW",null,{"$f":"IF(AC$315<>0,(AC$276/AC$315)*AC$310,0)","v":20725.366918597996},{"$f":"IF(AD$315<>0,(AD$276/AD$315)*AD$310,0)","v":1472.0334532092995}]
[null,null,null,4,"2.2 GS 10-100 kW",0,{"$f":"IF(G$315<>0,(G$276/G$315)*G$311,0)","v":0},0,0,0,0,0,0,0,0,0,0,0,0,0,0,null,null,null,null,null,"2.2 GS 10-100 kW",null,{"$f":"IF(AC$315<>0,(AC$276/AC$315)*AC$311,0)","v":0},{"$f":"IF(AD$315<>0,(AD$276/AD$315)*AD$311,0)","v":0}]
[null,null,null,5,"2.3 GS 110-1,000 kVa",607167.84471245401,{"$f":"IF(G$315<>0,(G$276/G$315)*G$312,0)","v":59839.557764656711},498356.20505542908,0,10768.19838127967,19568.848335362742,869.71895436076795,1388.8427072289007,367.64241583730586,3213.3578325051608,537.76057391374843,1096.8131703816405,1370.5391643151163,0,977.49499205268512,0,null,null,null,null,null,"2.3 GS 110-1,000 kVa",null,{"$f":"IF(AC$315<>0,(AC$276/AC$315)*AC$312,0)","v":8228.435097675645},{"$f":"IF(AD$315<>0,(AD$276/AD$315)*AD$312,0)","v":584.43026745504073}]
[null,null,null,6,"4.1 Street and Area Lighting",38895.525931480501,{"$f":"IF(G$315<>0,(G$276/G$315)*G$313,0)","v":2900.9207302100936},9329.8759688935843,0,522.02407701814616,948.66472819957892,4286.4719893494994,67.328749591479195,1811.9519066267217,155.77816244161662,2650.3914000034742,0,0,10940.943213104765,4817.6538894025189,0,null,null,null,null,null,"4.1 Street and Area Lighting",null,{"$f":"IF(AC$315<>0,(AC$276/AC$315)*AC$313,0)","v":432.78244550939843},{"$f":"IF(AD$315<>0,(AD$276/AD$315)*AD$313,0)","v":30.738671129623651}]
[{"$f":"SUM(G348:AD348)-F348","v":0},null,null,7,"      Total",{"$f":"SUM(F342:F347)","v":6829275.3164968044},1193393.1752060121,4425896.0000000009,0,214752.49713616102,390265.75266331097,115983.23484225385,27697.988924987509,49027.742169160716,64084.686619649561,71714.213678354878,23029.523814677632,28776.883042497499,10940.943213104765,130355.93929731165,0,null,null,null,null,null,"      Total",null,{"$f":"SUM(AC342:AC347)","v":77828.885703078384},{"$f":"SUM(AD342:AD347)","v":5527.8501862433832}]
[null,null,null,null,null,null,null,null,null,null,null,null,null,null,null,null,null,null,null,null,null,null,null,null,null,null,""]
[null,null,null,null,"Allocated Return on Debt and Equity",null,null,null,null,null,null,null,null,null,null,null,null,null,null,null,null,null,null,null,null,null,"Allocated Return on Debt and Equity"]
[null,null,null,{"$f":"MAX(D348:D350)+NoOne","v":8},"1.1 Domestic Diesel",{"$f":"SUM(G351:AD351)","v":226584.16328102243},{"$f":"IF(G$315<>0,((G$278+G279)/G$315)*G$308,0)","v":101165.53155804997},348.94144211907678,0,25011.304159106428,38138.601189246438,21374.44418737428,2709.0070458004052,8942.8384109881135,6173.3430179403422,13043.222411988505,4471.6773581917259,3428.9680099948082,0,1776.2844902223244,0,null,null,null,null,null,"1.1 Domestic Diesel",null,{"$f":"IF(AC$315<>0,((AC$278+AC279)/AC$315)*AC$308,0)","v":0},{"$f":"IF(AD$315<>0,((AD$278+AD279)/AD$315)*AD$308,0)","v":0}]
[null,null,null,9,"1.12 Domestic All Electric ",445413.19872617873,{"$f":"IF(G$315<>0,((G$278+G279)/G$315)*G$309,0)","v":225630.99853399728},909.11366124305164,0,55783.085850920441,85061.092809874433,23462.436164547085,6041.9389427005099,9816.4318804419654,13768.499290012614,14317.367531925685,4908.4993109199668,3763.9314659840184,0,1949.8032836116518,0,null,null,null,null,null,"1.12 Domestic All Electric ",null,{"$f":"IF(AC$315<>0,((AC$278+AC279)/AC$315)*AC$309,0)","v":0},{"$f":"IF(AD$315<>0,((AD$278+AD279)/AD$315)*AD$309,0)","v":0}]
[null,null,null,10,"2.1 GS 0-10 kW",191600.81448448339,{"$f":"IF(G$315<>0,((G$278+G279)/G$315)*G$310,0)","v":102161.25529385755},516.80013749751049,0,25257.478412640936,38513.981122211459,4175.9839543456173,2735.670500975606,1747.1869389077035,6234.1042681169201,2548.2902398743609,4167.3907951208312,3195.6352341562365,0,347.03758677865466,0,null,null,null,null,null,"2.1 GS 0-10 kW",null,{"$f":"IF(AC$315<>0,((AC$278+AC279)/AC$315)*AC$310,0)","v":0},{"$f":"IF(AD$315<>0,((AD$278+AD279)/AD$315)*AD$310,0)","v":0}]
[null,null,null,11,"2.2 GS 10-100 kW",0,{"$f":"IF(G$315<>0,((G$278+G279)/G$315)*G$311,0)","v":0},0,0,0,0,0,0,0,0,0,0,0,0,0,0,null,null,null,null,null,"2.2 GS 10-100 kW",null,{"$f":"IF(AC$315<>0,((AC$278+AC279)/AC$315)*AC$311,0)","v":0},{"$f":"IF(AD$315<>0,((AD$278+AD279)/AD$315)*AD$311,0)","v":0}]
[null,null,null,12,"2.3 GS 110-1,000 kVa",41102.192452520976,{"$f":"IF(G$315<>0,((G$278+G279)/G$315)*G$312,0)","v":22702.501176412788},225.74342382063674,0,5612.7729805868757,8558.6624716025472,384.63010105814897,607.92677799457908,160.9251127941306,1385.3565040259823,234.71094314632271,677.4880981374929,519.5108746855351,0,31.963988255928715,0,null,null,null,null,null,"2.3 GS 110-1,000 kVa",null,{"$f":"IF(AC$315<>0,((AC$278+AC279)/AC$315)*AC$312,0)","v":0},{"$f":"IF(AD$315<>0,((AD$278+AD279)/AD$315)*AD$312,0)","v":0}]
[null,null,null,13,"4.1 Street and Area Lighting",8654.9029665240105,{"$f":"IF(G$315<>0,((G$278+G279)/G$315)*G$313,0)","v":1100.5789272255111},4.2262103364513406,0,272.09775776391837,414.90950659075975,1895.6769266437341,29.47126380295402,793.13091305678643,67.159744346138879,1156.7896483640191,0,0,2763.3252691323751,157.53679926136294,0,null,null,null,null,null,"4.1 Street and Area Lighting",null,{"$f":"IF(AC$315<>0,((AC$278+AC279)/AC$315)*AC$313,0)","v":0},{"$f":"IF(AD$315<>0,((AD$278+AD279)/AD$315)*AD$313,0)","v":0}]
[{"$f":"SUM(G357:AD357)-F357","v":0},null,null,14,"      Total",{"$f":"SUM(F351:F356)","v":913355.27191072947},452760.86548954307,2004.8248750167268,0,111936.73916101859,170687.24709952564,51293.171333968872,12124.014531274053,21460.5132561887,27628.462824441998,31300.380775298891,14225.055562370018,10908.045584820598,2763.3252691323751,4262.6261481299225,0,null,null,null,null,null,"      Total",null,{"$f":"SUM(AC351:AC356)","v":0},{"$f":"SUM(AD351:AD356)","v":0}]
[null,null,null,null,null,null,null,null,null,null,null,null,null,null,null,null,null,null,null,null,null,null,null,null,null,null,""]
[]
[]
[]
[null,null,null,null,null,null,null,null,null,null,null,null,null,null,null,null,null,null,null,null,"Schedule 3.2D",null,null,null,null,null,"",null,null,null,"Schedule 3.2D"]
[null,null,null,null,null,null,null,null,null,null,null,null,null,null,null,null,null,null,null,null,"Page 3 of 4",null,null,null,null,null,null,null,null,null,"Page 4 of 4"]
[]
[null,null,null,{"$f":"D5","v":"NEWFOUNDLAND AND LABRADOR HYDRO"},null,null,null,null,null,null,null,null,null,null,null,null,null,null,null,null,null,null,null,null,{"$f":"Y5","v":"NEWFOUNDLAND & LABRADOR HYDRO"}]
[null,null,null,{"$f":"D6","v":"2019 Test Year Cost of Service Study"},null,null,null,null,null,null,null,null,null,null,null,null,null,null,null,null,null,null,null,null,{"$f":"Y6","v":"2019 Test Year Cost of Service Study"}]
[null,null,null,{"$f":"$B$1","v":"L'Anse au Loup"},null,null,null,null,null,null,null,null,null,null,null,null,null,null,null,null,null,null,null,null,{"$f":"$B$1","v":"L'Anse au Loup"}]
[null,null,null,"Allocation of Functionalized Amounts to Classes of Service (CONT'D.)",null,null,null,null,null,null,null,null,null,null,null,null,null,null,null,null,null,null,null,null,{"$f":"+D368","v":"Allocation of Functionalized Amounts to Classes of Service (CONT'D.)"}]
[]
[null,null,null,null,{"$f":"MAX(D370)+NoOne","v":1},2,3,4,5,6,7,8,9,10,11,12,13,14,15,16,17,null,null,null,null,null,{"$f":"MAX(Z370)+NoOne","v":1},null,{"$f":"MAX(U370)+NoOne","v":18},{"$f":"MAX(AC370)+NoOne","v":19}]
[null,null,null,null,null,null,null,null,null,"Distribution",null,null,null,null,null,null,null,null,null,null,"Specifically",null,null,null,null,null,null,null,"Revenue Related"]
[null,null,null,"Line",null,"Total","Production","Production","Transmsn","Substations","Primary Lines",null,"Line Transformers",null,"Secondary Lines",null,"Services","Meters","Street Lighting","Accounting","Assigned",null,null,null,null,null,null,null,"Municipal","PUB "]
[null,null,null,"No.","Description ","Amount","Demand","Energy","Demand","Demand","Demand","Customer","Demand","Customer","Demand","Customer","Customer","Customer","Customer","Customer","Customer",null,null,null,null,null,"Description",null,"Tax","Assessment","Basis of Proration"]
[null,null,null,null,null,"($)","($)","($)","($)","($)","($)","($)","($)","($)","($)","($)","($)","($)","($)","($)","($)",null,null,null,null,null,null,null,"($)","($)"]
[]
[null,null,null," ","Total Revenue Requirement",null,null,null,null,null,null,null,null,null,null,null,null,null,null,null,null,null,null,null,null,null,{"$f":"IF(ISBLANK(E376),\"\",E376)","v":"Total Revenue Requirement"}]
[null,null,null,{"$f":"MAX(D374:D376)+NoOne","v":1},"1.1 Domestic Diesel",{"$f":"SUM(G377:AD377)","v":1603999.3196259073},{"$f":"SUM(G351,G342)","v":367818.99949178344},770679.83276057814,0,72995.907472177234,125340.13587665235,69705.968936851234,8897.8850745046311,29373.252662518396,20492.51651717387,42927.345733766808,11711.058586652365,12475.044194109771,0,56097.077620007251,0,null,null,null,null,null,{"$f":"IF(ISBLANK(E377),\"\",E377)","v":"1.1 Domestic Diesel"},null,{"$f":"SUM(AC351,AC342)","v":14457.444734060047},1026.849965071724]
[null,null,null,2,"1.12 Domestic All Electric ",3616545.6555972751,{"$f":"SUM(G352,G343)","v":820352.21737045399},2007888.6593472008,0,162803.86449995433,279547.98021308484,76515.292380553932,19845.086199633359,32242.619246517621,45704.766169208648,47120.762540664342,12855.069451158253,13693.686043405842,0,61576.997798825447,0,null,null,null,null,null,"1.12 Domestic All Electric ",null,33984.856507235309,2413.7978293776946]
[null,null,null,3,"2.1 GS 0-10 kW",1826265.1471213722,{"$f":"SUM(G353,G344)","v":371439.26523481274},1141416.2821087586,0,73714.371128399449,126573.79863134379,13618.646887405383,8985.4626835056588,5738.7331679984527,20694.214514390143,8386.8336137950573,10914.150070717897,11626.14835080183,0,10959.840357636378,0,null,null,null,null,null,"2.1 GS 0-10 kW",null,20725.366918597996,1472.0334532092995]
[null,null,null,4,"2.2 GS 10-100 kW",0,{"$f":"SUM(G354,G345)","v":0},0,0,0,0,0,0,0,0,0,0,0,0,0,0,null,null,null,null,null,"2.2 GS 10-100 kW",null,0,0]
[null,null,null,5,"2.3 GS 110-1,000 kVa",648270.03716497519,{"$f":"SUM(G355,G346)","v":82542.058941069496},498581.94847924972,0,16380.971361866545,28127.510806965289,1254.349055418917,1996.7694852234799,528.56752863143652,4598.7143365311431,772.47151706007116,1774.3012685191334,1890.0500390006514,0,1009.4589803086138,0,null,null,null,null,null,"2.3 GS 110-1,000 kVa",null,8228.435097675645,584.43026745504073]
[null,null,null,6,"4.1 Street and Area Lighting",47550.428898004517,{"$f":"SUM(G356,G347)","v":4001.4996574356046},9334.1021792300362,0,794.12183478206452,1363.5742347903388,6182.1489159932335,96.800013394433222,2605.0828196835082,222.93790678775548,3807.1810483674935,0,0,13704.268482237141,4975.1906886638817,0,null,null,null,null,null,"4.1 Street and Area Lighting",null,432.78244550939843,30.738671129623651]
[{"$f":"SUM(G383:AD383)-F383","v":0},null,null,7,"      Total",{"$f":"SUM(F377:F382)","v":7742630.5884075351},{"$f":"SUM(G377:G382,G360)","v":1646154.0406955553},4427900.8248750176,0,326689.23629717965,560952.99976283649,167276.40617622266,39822.003456261555,70488.255425349416,91713.14944409157,103014.59445365376,37254.579377047645,39684.928627318091,13704.268482237141,134618.56544544158,0,null,null,null,null,null,"      Total",null,{"$f":"SUM(AC377:AC382,AC360)","v":77828.885703078384},{"$f":"SUM(AD377:AD382,AD360)","v":5527.8501862433832}]
[]
[null,null,null," ","Re-classification of Revenue-Related",null,null,null,null,null,null,null,null,null,null,null,null,null,null,null,null,null,null,null,null,null,{"$f":"IF(ISBLANK(E385),\"\",E385)","v":"Re-classification of Revenue-Related"}]
[null,null,null,{"$f":"MAX(D383:D385)+NoOne","v":8},"1.1 Domestic Diesel",{"$f":"SUM(G386:AD386)","v":-3.637978807091713E-12},{"$f":"IF(SUM($G377:$U377)<>0,+G377/SUM($G377:$U377)*SUM($AC377,$AD377),0)","v":3585.3723097980205},{"$f":"IF(SUM($G377:$U377)<>0,+H377/SUM($G377:$U377)*SUM($AC377,$AD377),0)","v":7512.3202877432432},0,711.53884312919809,1221.7722659770043,679.46966089066939,86.733504266972091,286.3203012634126,199.75395882287765,418.44090963118356,114.15534606157205,121.60241335784202,0,546.81489818977445,0,null,null,null,null,null,"1.1 Domestic Diesel",null,{"$f":"-AC377","v":-14457.444734060047},{"$f":"-AD377","v":-1026.849965071724},"Re-classification to demand, energy and customer is based on rate class revenue"]
[null,null,null,9,"1.12 Domestic All Electric ",-1.1368683772161603E-11,{"$f":"IF(SUM($G378:$U378)<>0,+G378/SUM($G378:$U378)*SUM($AC378,$AD378),0)","v":8340.3605449236547},20413.811285472118,0,1655.1950482792961,2842.1096392666186,777.9160123436194,201.76110997855423,327.80440368727034,464.67141844816871,479.06757660825701,130.69497684343702,139.22102771548774,0,626.04129304651474,0,null,null,null,null,null,"1.12 Domestic All Electric ",null,-33984.856507235309,-2413.7978293776946,"requirements excluding revenue-related items."]
[null,null,null,10,"2.1 GS 0-10 kW",1.5234036254696548E-11,{"$f":"IF(SUM($G379:$U379)<>0,+G379/SUM($G379:$U379)*SUM($AC379,$AD379),0)","v":4570.2197708940057},14044.081354770206,0,906.98778471106755,1557.3745996305281,167.56496978933501,110.55788402130149,70.609852643585285,254.62334537248969,103.19230190360658,134.28861486726899,143.0491012267955,0,134.850791977114,0,null,null,null,null,null,"2.1 GS 0-10 kW",null,-20725.366918597996,-1472.0334532092995]
[null,null,null,11,"2.2 GS 10-100 kW",0,{"$f":"IF(SUM($G380:$U380)<>0,+G380/SUM($G380:$U380)*SUM($AC380,$AD380),0)","v":0},0,0,0,0,0,0,0,0,0,0,0,0,0,0,null,null,null,null,null,"2.2 GS 10-100 kW",null,0,0]
[null,null,null,12,"2.3 GS 110-1,000 kVa",-2.6147972675971687E-12,{"$f":"IF(SUM($G381:$U381)<>0,+G381/SUM($G381:$U381)*SUM($AC381,$AD381),0)","v":1137.5774398789904},6871.3524207802466,0,225.75913060113155,387.64748716530653,17.287177052329454,27.519060563424137,7.28460743210925,63.378521796031727,10.646041327658331,24.453050002751588,26.04827541489588,0,13.912153115809474,0,null,null,null,null,null,"2.3 GS 110-1,000 kVa",null,-8228.435097675645,-584.43026745504073]
[null,null,null,13,"4.1 Street and Area Lighting",-6.7501559897209518E-14,{"$f":"IF(SUM($G382:$U382)<>0,+G382/SUM($G382:$U382)*SUM($AC382,$AD382),0)","v":39.390558370436025},91.88442539120517,0,7.8172948054848268,13.422955163353242,60.856758359994473,0.95289439067852089,25.64430229998456,2.194589374508082,37.477695901802278,0,0,134.90411940198348,48.975523179591377,0,null,null,null,null,null,"4.1 Street and Area Lighting",null,-432.78244550939843,-30.738671129623651]
[{"$f":"(SUM(G392:AD392)-F392)*1000","v":-1.8463452988726203E-8},null,null,14,"      Total",{"$f":"SUM(F386:F391)","v":-2.4549251520511461E-12},17672.92062386511,48933.449774157016,0,3507.2981015261776,6022.3269472028105,1703.0945784359478,427.52445322093052,717.66346732636214,984.62183381407579,1048.8245253725077,403.59198777502962,429.92081771502114,134.90411940198348,{"$f":"SUM(T386:T391)","v":1370.5946595088042},{"$f":"SUM(U386:U391)","v":0},null,null,null,null,null,"      Total",null,{"$f":"SUM(AC386:AC391)","v":-77828.885703078384},{"$f":"SUM(AD386:AD391)","v":-5527.8501862433832}]
[]
[null,null,null," ","Total Allocated Revenue Requirement",null,null,null,null,null,null,null,null,null,null,null,null,null,null,null,null,null,null,null,null,null,{"$f":"IF(ISBLANK(E394),\"\",E394)","v":"Total Allocated Revenue Requirement"}]
[null,null,null,{"$f":"MAX(D392:D394)+NoOne","v":15},"1.1 Domestic Diesel",{"$f":"SUM(G395:AD395)","v":1603999.3196259073},{"$f":"SUM(G377,G386)","v":371404.37180158147},{"$f":"SUM(H377,H386)","v":778192.15304832137},0,73707.446315306428,126561.90814262936,70385.438597741901,8984.618578771604,29659.572963781808,20692.270475996749,43345.786643397994,11825.213932713938,12596.646607467612,0,56643.892518197026,0,null,null,null,null,null,"1.1 Domestic Diesel",null,{"$f":"SUM(AC377,AC386)","v":0},0]
[null,null,null,16,"1.12 Domestic All Electric ",3616545.6555972747,{"$f":"SUM(G378,G387)","v":828692.57791537768},2028302.4706326728,0,164459.05954823364,282390.08985235146,77293.208392897548,20046.847309611912,32570.423650204892,46169.437587656816,47599.830117272599,12985.76442800169,13832.90707112133,0,62203.039091871964,0,null,null,null,null,null,"1.12 Domestic All Electric ",null,0,0]
[null,null,null,17,"2.1 GS 0-10 kW",1826265.1471213726,{"$f":"SUM(G379,G388)","v":376009.48500570672},1155460.3634635287,0,74621.358913110511,128131.17323097431,13786.211857194718,9096.0205675269608,5809.343020642038,20948.837859762632,8490.0259156986631,11048.438685585166,11769.197452028626,0,11094.691149613493,0,null,null,null,null,null,"2.1 GS 0-10 kW",null,0,0]
[null,null,null,18,"2.2 GS 10-100 kW",0,{"$f":"SUM(G380,G389)","v":0},0,0,0,0,0,0,0,0,0,0,0,0,0,0,null,null,null,null,null,"2.2 GS 10-100 kW",null,0,0]
[null,null,null,19,"2.3 GS 110-1,000 kVa",648270.03716497507,{"$f":"SUM(G381,G390)","v":83679.63638094849},505453.30090002995,0,16606.730492467676,28515.158294130597,1271.6362324712466,2024.288545786904,535.8521360635458,4662.0928583271752,783.11755838772945,1798.7543185218849,1916.0983144155473,0,1023.3711334244233,0,null,null,null,null,null,"2.3 GS 110-1,000 kVa",null,0,0]
[null,null,null,20,"4.1 Street and Area Lighting",47550.428898004517,{"$f":"SUM(G382,G391)","v":4040.8902158060405},9425.986604621241,0,801.93912958754936,1376.997189953692,6243.0056743532277,97.752907785111745,2630.7271219834929,225.13249616226355,3844.6587442692958,0,0,13839.172601639124,5024.1662118434733,0,null,null,null,null,null,"4.1 Street and Area Lighting",null,0,0]
[{"$f":"SUM(G401:AD401)-F401","v":0},null,null,21,"      Total",{"$f":"SUM(F395:F400)","v":7742630.5884075342},1663826.9613194205,4476834.274649174,0,330196.53439870581,566975.3267100394,168979.50075465863,40249.527909482495,71205.918892675778,92697.771277905631,104063.41897902628,37658.171364822672,40114.849445033113,13839.172601639124,135989.16010495037,0,null,null,null,null,null,"      Total",null,{"$f":"SUM(AC395:AC400)","v":0},{"$f":"SUM(AD395:AD400)","v":0}]
[]
[]
[]
[]
[]
[]
[]
[]
[]
[]
[]
[]
[]
[]
[]
[]
[]
[]
[]
[]
[]
[]
[]
[]
[]
[]
[]
[]
[]
[]
[]
[]
[null,null,"RatiosLAL:"]
["LookupCol",null,{"$f":"MAX(B435)+NoOne","v":1},2,3,4,5,6,7,8,9,10,11,12,13,14,15,16,17,18,19]
[null,null,null,null,"Expense Ratios:"]
[{"$f":"(SUM(G437:AD437)-1)*1000","v":0},null,"E-GTDC",null,"GTDC",{"$f":"SUM(G437:U437)","v":1},{"$f":"IF(SUM($F$218,$F$220)<>0,(SUM(G218,G220)/SUM($F$218,$F$220)),0)","v":0.50065514309848147},0,0,5.9222739958097861E-2,0.17684251927026903,5.2071124600266902E-2,1.0018858014854163E-2,1.7734211278370663E-2,2.9010027393067711E-2,3.2286144845699666E-2,1.1021067875556938E-2,1.0701929552975369E-2,3.385800329423132E-3,9.7050433782937179E-2,0]
[{"$f":"(SUM(G438:AD438)-1)*1000","v":0},null,"E-GTD",null,"GTD",{"$f":"SUM(G438:U438)","v":1},{"$f":"IF($F$218<>0,G218/$F$218,0)","v":0.55446634211918699},0,0,6.5588092816981455E-2,0.19584983025259831,5.7667810637996766E-2,1.1095700568115338E-2,1.964031208594377E-2,3.2128070579408086E-2,3.5756310267652643E-2,1.2205629514536529E-2,1.1852189705136532E-2,3.749711452443634E-3,0,0]
[]
[]
[null,null,null,null,"Labour Ratios:"]
[null,null,null,null,"GTDC:"]
[null,null,null,null,"Hydraulic",{"$f":"+LabourRatios!H45","v":0}]
[null,null,null,null,"Holyrood",{"$f":"+LabourRatios!H46","v":0}]
[null,null,null,null,"Diesel",{"$f":"+LabourRatios!H47","v":0.47932105984866491},{"$f":"+G18/$F18*$F445","v":0.47932105984866491},{"$f":"+H18/$F18*$F445","v":0},{"$f":"+I18/$F18*$F445","v":0},{"$f":"+J18/$F18*$F445","v":0}]
[null,null,null,null,"Gas Turbines",{"$f":"+LabourRatios!H48","v":0}]
[null,null,null,null,"Production - General",{"$f":"+LabourRatios!H49","v":5.4903010756986087E-2},{"$f":"+G19/$F19*$F447","v":5.4903010756986087E-2},{"$f":"+H19/$F19*$F447","v":0},{"$f":"+I19/$F19*$F447","v":0},{"$f":"+J19/$F19*$F447","v":0}]
[null,null,null,null,"Transmission Lines",{"$f":"+LabourRatios!H50","v":0}]
[null,null,null,null,"Terminal Stations",{"$f":"+LabourRatios!H51","v":0}]
[null,null,null,null,"Transmission - General",{"$f":"+LabourRatios!H52","v":0}]
[null,null,null,null,"Distribution",{"$f":"+LabourRatios!H53","v":0.39616599563472948},{"$f":"SUM(G37,-G35)/SUM($F37,-$F35)*$F451","v":1.9384883015184349E-3},0,0,5.9621247942058322E-2,0.17803248710834521,5.2421509585860081E-2,1.0086274600306146E-2,1.7853544237107E-2,2.9205234969401209E-2,3.2503397314960943E-2,1.1095228300138562E-2,0,3.4085832750336484E-3,0,0]
[null,null,null,null,"Meters",{"$f":"+LabourRatios!H54","v":6.7666346784365956E-3},null,null,null,null,null,null,null,null,null,null,null,{"$f":"+F452","v":6.7666346784365956E-3}]
[null,null,null,null,"Customer-Related",{"$f":"+LabourRatios!H55","v":6.2843299081182899E-2},null,null,null,null,null,null,null,null,null,null,null,null,null,{"$f":"+F453","v":6.2843299081182899E-2}]
[{"$f":"(SUM(G454:AD454)-1)*1000","v":2.2204460492503131E-13},null,"L-GTDC",null,"Total",{"$f":"SUM(F443:F453)","v":1},{"$f":"SUM(G443:G453)","v":0.53616255890716946},{"$f":"SUM(H443:H453)","v":0},0,5.9621247942058322E-2,0.17803248710834521,5.2421509585860081E-2,1.0086274600306146E-2,1.7853544237107E-2,2.9205234969401209E-2,3.2503397314960943E-2,1.1095228300138562E-2,6.7666346784365956E-3,3.4085832750336484E-3,6.2843299081182899E-2,0]
[]
[null,null,null,null,"GTD:"]
[null,null,null,null,"Hydraulic",{"$f":"+LabourRatios!H62","v":0}]
[null,null,null,null,"Holyrood",{"$f":"+LabourRatios!H63","v":0}]
[null,null,null,null,"Diesel",{"$f":"+LabourRatios!H64","v":0.51146308763382242},{"$f":"+G18/$F18*$F459","v":0.51146308763382242},{"$f":"+H18/$F18*$F459","v":0},{"$f":"+I18/$F18*$F459","v":0},{"$f":"+J18/$F18*$F459","v":0}]
[null,null,null,null,"Gas Turbines",{"$f":"+LabourRatios!H65","v":0}]
[null,null,null,null,"Production - General",{"$f":"+LabourRatios!H66","v":5.8584664339653654E-2},{"$f":"+G19/$F19*$F461","v":5.8584664339653654E-2},{"$f":"+H19/$F19*$F461","v":0},{"$f":"+I19/$F19*$F461","v":0},{"$f":"+J19/$F19*$F461","v":0}]
[null,null,null,null,"Transmission Lines",{"$f":"+LabourRatios!H67","v":0}]
[null,null,null,null,"Terminal Stations",{"$f":"+LabourRatios!H68","v":0}]
[null,null,null,null,"Transmission - General",{"$f":"+LabourRatios!H69","v":0}]
[null,null,null,null,"Distribution",{"$f":"+LabourRatios!H70","v":0.42273186036691224},{"$f":"SUM(G37,-G35)/SUM($F37,-$F35)*$F465","v":2.0684783021002592E-3},0,0,6.3619294279818772E-2,0.18997088420089908,5.5936760132499111E-2,1.0762634029524897E-2,1.9050756633978972E-2,3.1163662321111833E-2,3.4682990884121745E-2,1.1839245549074623E-2,0,3.6371540337830051E-3,0,0]
[null,null,null,null,"Meters",{"$f":"+LabourRatios!H71","v":7.2203876596116535E-3},null,null,null,null,null,null,null,null,null,null,null,{"$f":"+F466","v":7.2203876596116535E-3}]
[null,null,null,null,"Customer-Related",{"$f":"+LabourRatios!H72","v":0},null,null,null,null,null,null,null,null,null,null,null,null,null,{"$f":"+F467","v":0}]
[{"$f":"(SUM(G468:AD468)-1)*1000","v":0},null,"L-GTD",null,"Total",{"$f":"SUM(F457:F467)","v":1},{"$f":"SUM(G457:G467)","v":0.57211623027557634},{"$f":"SUM(H457:H467)","v":0},0,6.3619294279818772E-2,0.18997088420089908,5.5936760132499111E-2,1.0762634029524897E-2,1.9050756633978972E-2,3.1163662321111833E-2,3.4682990884121745E-2,1.1839245549074623E-2,7.2203876596116535E-3,3.6371540337830051E-3,0,0]
[]
[{"$f":"(SUM(G470:AE470)-1)*1000","v":2.2204460492503131E-13},null,"P-DisxMet",null,"Plant - Distribution excl. Meters",{"$f":"SUM(G470:V470)","v":1.0000000000000002},{"$f":"SUM(G37,-G35)/SUM($F37,-$F35)","v":4.8931213755805227E-3},{"$f":"SUM(H37,-H35)/SUM($F37,-$F35)","v":0},0,0.15049562203473399,0.44938861252618362,0.13232208257013919,2.5459718177341578E-2,4.5065816939948107E-2,7.3719691470766305E-2,8.2044894496521914E-2,2.8006513487766668E-2,0,8.6039269210182526E-3,0,0]
[]
[null,null,"Insert rows before this line to extend the ratio range"]

{"sheet":"Schedule 4.1","index":24,"n_rows":75,"n_cols":21,"rows_kept":75,"cut":false,"hidden":false,"merged":[]}
[null,null,null,null,null,null,null,null,null,null,null,null,null,null,null,null,null,null,null,null,"Schedule 4.1"]
[null,null,null,null,null,null,null,null,null,null,null,null,null,null,null,null,null,null,null,null,"Page 1 of 2"]
["NEWFOUNDLAND AND LABRADOR HYDRO"]
[{"$f":"RunName","v":"2019 Test Year Cost of Service Study"}]
["Functionalization & Classification Ratios"]
[]
[null,{"$f":"MAX(A7)+NoOne","v":1},2,3,4,5,{"$f":"E7+1","v":5},null,{"$f":"MAX(G7)+NoOne","v":6},7,8,9,10,11,12,13,14,15,16,17,18]
[null,null,null,null,"Production","Transmission","Transmission",null,"Rural Prod &","Distribution",null,null,null,null,null,null,null,null,null,null,"Specifically"]
["Line ",null,"Total","Production"," & Transmission","Export","Network","Ancillary","Transmission","Substations","Primary Lines",null,"Line Transformers",null,"Secondary Lines",null,"Services","Meters","Street Lighting","Accounting","Assigned"]
["No.","Description ","Amount","Demand","Energy","Demand","Demand","Services","Demand","Demand","Demand","Customer","Demand","Customer","Demand","Customer","Customer","Customer","Customer","Customer","Customer"]
[null,null,"(%)","(%)","(%)","(%)","(%)","(%)","(%)","(%)","(%)","(%)","(%)","(%)","(%)","(%)","(%)","(%)","(%)","(%)","(%)"]
[null,"Generation"]
[{"$f":"MAX(A10:A12)+NoOne","v":1},"Hydraulic",{"$f":"MIN(SUM(D13:U13),1)","v":1},{"$f":"1-E13","v":0.45398813264500981},{"$f":"IF(MarginalCostSwitch,'Schedules 4.2,4.3,4.4'!$C$28,'Schedules 4.2,4.3,4.4'!$C$27)","v":0.54601186735499019}]
[2,"Hydraulic - GNP",{"$f":"MIN(SUM(D14:U14),1)","v":1},{"$f":"D13","v":0.45398813264500981},{"$f":"E13","v":0.54601186735499019}]
[3,"Holyrood",1,0.6956,{"$f":"'Schedules 4.2,4.3,4.4'!N20","v":0.3044},null,null,1]
[4,"Gas Tur Island Intercnctd",1,1,{"$f":"IF(RunOptions!B28=3,'Schedules 4.2,4.3,4.4'!C28,0)","v":0}]
[5,"Diesel Island Intercnctd - GNP",1,{"$f":"D16","v":1},{"$f":"E16","v":0}]
[6,"Dsl / Gas Tur Island Isolated",1,0.56391017078868544,{"$f":"+'Schedules 4.2,4.3,4.4'!D27","v":0.43608982921131456}]
[7,"Dsl / Gas Tur Labrador Isolated",1,0.40633085010067416,{"$f":"+'Schedules 4.2,4.3,4.4'!E27","v":0.59366914989932584}]
[8,"Dsl / Gas Tur L'Anse au Loup",1,1,0]
[9,"Dsl / Gas Tur Labrador Intercnctd",1,{"$f":"1-E21","v":1},0]
[]
[null,"Fuel"]
[{"$f":"MAX(A21:A23)+NoOne","v":10},"No. 6 Fuel",{"$f":"MIN(SUM(D24:U24),1)","v":1},{"$f":"1-E24","v":0},{"$f":"IF(MarginalCostSwitch=1,'Schedules 4.2,4.3,4.4'!$C$28,1)","v":1}]
[11,"Gas Tur Island Intercnctd",1,{"$f":"1-E25","v":1},{"$f":"IF(MarginalCostSwitch=1,'Schedules 4.2,4.3,4.4'!$C$28,0)","v":0}]
[12,"Diesel Island Intercnctd - GNP",1,{"$f":"D25","v":1},{"$f":"E25","v":0}]
[13,"Dsl / Gas Tur Island / Lab Isolated",1,{"$f":"1-E27","v":0},1]
[14,"Dsl / Gas Tur L'Anse au Loup",1,{"$f":"1-E28","v":0},1]
[15,"Dsl / Gas Tur Labrador Intercnctd",1,{"$f":"1-E29","v":1},0]
[]
[null,"Transmission Lines & Terminals"]
[{"$f":"MAX(A29:A31)+NoOne","v":16},"Lines Network",{"$f":"MIN(SUM(D32:U32),1)","v":1},null,0,null,1,{"$f":"MAX(F32:G32)","v":1}]
[17,"Lines Export",1,null,null,1,null,{"$f":"MAX(F33:G33)","v":1}]
[{"$f":"A32+1","v":17},"Lines - Hydraulic",1,{"$f":"1-E34","v":0.45398813264500981},{"$f":"IF(MarginalCostSwitch,'Schedules 4.2,4.3,4.4'!$C$28,'Schedules 4.2,4.3,4.4'!$C$27)","v":0.54601186735499019}]
[18,"Lines - Customer Specific",1,null,null,null,null,null,null,null,null,null,null,null,null,null,null,null,null,null,1]
[19,"Terminal Stations Network",1,null,0,null,1,{"$f":"MAX(F36:G36)","v":1}]
[20,"Terminal Stations Export",1,null,null,1,null,{"$f":"MAX(F37:G37)","v":1}]
[{"$f":"A36+1","v":20},"Term Stns - Hydraulic",1,{"$f":"1-E38","v":0.45398813264500981},{"$f":"IF(MarginalCostSwitch,'Schedules 4.2,4.3,4.4'!$C$28,'Schedules 4.2,4.3,4.4'!$C$27)","v":0.54601186735499019}]
[21,"Term Stns - Holyrood",1,{"$f":"1-E39","v":0.6956},{"$f":"'Schedules 4.2,4.3,4.4'!N20","v":0.3044}]
[22,"Term Stns - Gas Tur",1,1]
[23,"Term Stns - Diesel GNP",1,{"$f":"D40","v":1},{"$f":"E40","v":0}]
[24,"Terminal Stations - Distribution",1,null,null,null,null,null,null,1]
[25,"Term Stns - Custmr Specific",1,null,null,null,null,null,null,null,null,null,null,null,null,null,null,null,null,null,1]
[26,"Rural Lines",1,null,null,null,null,null,1]
[27,"Rural Terminal Stations",1,null,null,null,null,null,1]
[null,null,null,null,null,null,null,null,null,null,null,null,null,null,null,null,null,null,null,null,"Schedule 4.1"]
[null,null,null,null,null,null,null,null,null,null,null,null,null,null,null,null,null,null,null,null,"Page 2 of 2"]
[{"$f":"+A3","v":"NEWFOUNDLAND AND LABRADOR HYDRO"}]
[{"$f":"RunName","v":"2019 Test Year Cost of Service Study"}]
["Functionalization & Classification Ratios (CONT'D.)"]
[]
[null,{"$f":"MAX(A52)+NoOne","v":1},2,3,4,5,{"$f":"E52+1","v":5},{"$f":"MAX(G52)+NoOne","v":6},{"$f":"MAX(H52)+NoOne","v":7},8,9,10,11,12,13,14,15,16,17,18,19]
[null,null,null,null,"Production","Transmission","Transmission",null,"Rural Prod &","Distribution",null,null,null,null,null,null,null,null,null,null,"Specifically"]
["Line ",null,"Total","Production"," & Transmission","Export","Network","Ancillary","Transmission","Substations","Primary Lines",null,"Line Transformers",null,"Secondary Lines",null,"Services","Meters","Street Lighting","Accounting","Assigned"]
["No.","Description ","Amount","Demand","Energy","Demand","Demand","Services","Demand","Demand","Demand","Customer","Demand","Customer","Demand","Customer","Customer","Customer","Customer","Customer","Customer"]
[null,null,"(%)","(%)","(%)","(%)","(%)","(%)","(%)","(%)","(%)","(%)","(%)","(%)","(%)","(%)","(%)","(%)","(%)","(%)","(%)"]
[null,"Distribution"]
[{"$f":"MAX(A45:A57)+NoOne","v":28},"Substation Structures & Equipment",null,null,null,null,null,null,null,1]
[{"$f":"MAX(A56:A58)+NoOne","v":29},"Land & Land Improvements - by Sub-function:"]
[30,"Primary",0.85,null,null,null,null,null,null,null,{"$f":"K68","v":0.88700000000000001},{"$f":"L68","v":0.113}]
[31,"Secondary",0.15,null,null,null,null,null,null,null,null,null,null,null,{"$f":"O71","v":0.58299999999999996},{"$f":"P71","v":0.41699999999999998}]
[32,"Land & Land Improvements",{"$f":"SUM(D62:U62)","v":1},null,null,null,null,null,null,null,{"$f":"(K60*$C60)+(K61*$C61)","v":0.75395000000000001},{"$f":"(L60*$C60)+(L61*$C61)","v":9.6049999999999996E-2},null,null,{"$f":"(O60*$C60)+(O61*$C61)","v":8.7449999999999986E-2},{"$f":"(P60*$C60)+(P61*$C61)","v":6.2549999999999994E-2}]
[33,"Poles - by Subfunction:"]
[34,"     3 phase - Primary",0.41199999999999998,null,null,null,null,null,null,null,{"$f":"1-L64","v":1}]
[35,"     Other Primary",0.36399999999999999,null,null,null,null,null,null,null,{"$f":"1-L65","v":0.45699999999999996},0.54300000000000004]
[36,"    Secondary",0.224,null,null,null,null,null,null,null,null,null,null,null,{"$f":"1-P66","v":0.45699999999999996},{"$f":"+L65","v":0.54300000000000004}]
[37,"Poles",{"$f":"SUM(D67:U67)","v":1},null,null,null,null,null,null,null,{"$f":"(K64*$C64)+(K65*$C65)+(K66*$C66)","v":0.57834799999999997},{"$f":"(L64*$C64)+(L65*$C65)+(L66*$C66)","v":0.19765200000000002},null,null,{"$f":"(O64*$C64)+(O65*$C65)+(O66*$C66)","v":0.10236799999999999},{"$f":"(P64*$C64)+(P65*$C65)+(P66*$C66)","v":0.12163200000000002}]
[38,"Primary Condctr & Equip",1,null,null,null,null,null,null,null,{"$f":"1-L68","v":0.88700000000000001},0.113]
[39,"Submarine Conductor",1,null,null,null,null,null,null,null,1]
[40,"Transformers",1,null,null,null,null,null,null,null,null,null,{"$f":"1-N70","v":0.36099999999999999},0.63900000000000001]
[41,"Secondary Condctr & Equip",1,null,null,null,null,null,null,null,null,null,null,null,{"$f":"1-P71","v":0.58299999999999996},0.41699999999999998]
[42,"Services",1,null,null,null,null,null,null,null,null,null,null,null,null,null,1]
[43,"Meters",1,null,null,null,null,null,null,null,null,null,null,null,null,null,null,1]
[44,"Street Lighting",1,null,null,null,null,null,null,null,null,null,null,null,null,null,null,null,1]
[45,"Customer Accounting",1,null,null,null,null,null,null,null,null,null,null,null,null,null,null,null,null,1]

{"sheet":"Schedules 4.2,4.3,4.4","index":25,"n_rows":43,"n_cols":29,"rows_kept":43,"cut":false,"hidden":false,"merged":[]}
[null,null,null,null,null,null,"Schedule 4.2",null,null,null,null,null,null,null,null,"Schedule 4.3",null,null,null,null,null,null,null,null,null,null,null,null,"Schedule 4.4"]
[null,null,null,null,null,null,"Page 1 of 1",null,null,null,null,null,null,null,null,"Page 1 of 1",null,null,null,null,null,null,null,null,null,null,null,null,"Page 1 of 1"]
[]
["NEWFOUNDLAND AND LABRADOR HYDRO",null,null,null,null,null,null,null,{"$f":"+A4","v":"NEWFOUNDLAND AND LABRADOR HYDRO"}]
[{"$f":"RunName","v":"2019 Test Year Cost of Service Study"},null,null,null,null,null,null,null,{"$f":"RunName","v":"2019 Test Year Cost of Service Study"},null,null,null,null,null,null,null,null,null,null,{"$f":"+A4","v":"NEWFOUNDLAND AND LABRADOR HYDRO"}]
[null,null,null,null,null,null,null,null,"Holyrood Capacity Factor",null,null,null,null,null,null,null,null,null,null,{"$f":"RunName","v":"2019 Test Year Cost of Service Study"}]
["System Load Factor",null,null,null,null,null,null,null,null,null,null,null,null,null,null,null,null,null,null,"Total System"]
[null,null,null,null,null,null,null,null,null,{"$f":"MAX(I8)+NoOne","v":1},{"$f":"MAX(J8)+NoOne","v":2},{"$f":"MAX(K8)+NoOne","v":3},{"$f":"MAX(L8)+NoOne","v":4},{"$f":"MAX(M8)+NoOne","v":5},null,null,null,null,null,"Power Purchases"]
["Line"]
["No.",{"$f":"MAX(A10)+NoOne","v":1},2,3,4,5,6,null,"Line ","Year","Net Production","Net Capacity","Net Production","Net Capacity",null,null,null,null,null,null,{"$f":"MAX(T10)+NoOne","v":1},2,3,4,5,6,7,8," "]
[null,null,null,null,null,null,null,null,"No.",null,"(kWh)","(MW)","Hours","Factor"]
[null,null,"Island Interconnected","Island\nIsolated","Labrador\nIsolated","L'Anse\nau Loup","Labrador Interconnected",null,null,null,null,null,null,null,null,null,null,null,"REF","Line",null,null,"Production","Production & Transmission","Transmission Export","Transmission Network","Rural \nTransmission","Distribution"]
[null,null,null,null,null,null,null,null,null,null,null,null,null,null,null,null,null,null,null,"No.",null,"Total","Demand","Energy","Demand","Demand","Demand","Demand","Basis of Functional Classification"]
[{"$f":"MAX(A11:A13)+NoOne","v":1},"Sales+Losses for System Load Factor (MWh)",7234571.7021764824,7518.3179633507616,46128.879414912248,27026.508409321472,2571887.7335033165,null,{"$f":"MAX(I11:I13)+NoOne","v":1},"2012 Actual",855826207,466,8760,{"$f":"ROUND(+K14/(L14*1000*M14),4)","v":0.2097},null,null,null,null,null,null,null,"($)","($)","($)","($)","($)","($)","($)"]
[null,null,null,null,null,null,null,null,{"$f":"MAX(I12:I14)+NoOne","v":2},"2013 Actual",957442307,465.5,8760,{"$f":"ROUND(+K15/(L15*1000*M15),4)","v":0.23480000000000001},null,null,null,null,null,null,"Island Interconnected:"]
[{"$f":"MAX(A13:A15)+NoOne","v":2},"Hours in Year",{"$f":"+RunOptions!B24","v":8760},{"$f":"+RunOptions!B24","v":8760},{"$f":"+RunOptions!B24","v":8760},{"$f":"+RunOptions!B24","v":8760},{"$f":"+RunOptions!B24","v":8760},null,{"$f":"MAX(I13:I15)+NoOne","v":3},"2014 Actual",1315311289,465.5,8760,{"$f":"ROUND(+K16/(L16*1000*M16),4)","v":0.3226},null,null,null,null,"7320",{"$f":"MAX(T13:T15)+NoOne","v":1},"DLP Secondary",0,null,{"$f":"V16","v":0},null,null,null,null,"Production - Energy (Same as RSP Sec Load Var)"]
[null,null," ",null,null,null,null,null,{"$f":"MAX(I14:I16)+NoOne","v":4},"2015 Actual",1458455118,465.5,8760,{"$f":"ROUND(+K17/(L17*1000*M17),4)","v":0.35770000000000002},null,null,null,null,"PPSEC",2,"AP Secondary",0,null,{"$f":"V17","v":0},null,null,null,null,"Production - Energy (Secondary)"]
[{"$f":"MAX(A15:A17)+NoOne","v":3},"Average Demand (kW)",{"$f":"C14/(C16/1000)","v":825864.34956352541},{"$f":"D14/(D16/1000)","v":858.2554752683518},{"$f":"E14/(E16/1000)","v":5265.8538144876993},{"$f":"F14/(F16/1000)","v":3085.2178549453733},{"$f":"G14/(G16/1000)","v":293594.49012594938},null,{"$f":"MAX(I15:I17)+NoOne","v":5},"2016 Actual",1620931383,465.5,8760,{"$f":"ROUND(+K18/(L18*1000*M18),4)","v":0.39750000000000002},null,null,null,null,"PPWHEEL",3,"Wheeling",769061,null,null,null,null,{"$f":"+V18","v":769061},null,"Rural Transmission"]
[null,null,null,null,null,null,null,null,null,null,null,null,null,null,null,null,null,null,"PPCBPP",4,"Interruptible Demand",3130400,{"$f":"V19","v":3130400},null,null,null,null,null,"Production - Demand"]
[{"$f":"MAX(A17:A19)+NoOne","v":4},"Coincident Peak at Generation (kW)",1512539.1936336593,1968.0703785743874,8870.0142417383158,6090.1812074412192,411123.90579282423,null,{"$f":"MAX(I17:I19)+NoOne","v":6},"5-Year Average",{"$f":"SUM(K14:K18)/5","v":1241593260.8},{"$f":"SUM(L14:L18)/5","v":465.6},{"$f":"SUM(M14:M18)/5","v":8760},{"$f":"IF(RunOptions!$B$27=1,ROUND(+K20/(L20*1000*M20),4),IF(RunOptions!$B$27=2,0,C28))","v":0.3044},null,null,null,null,null,5,"Interruptible Energy",0,null,{"$f":"V20","v":0},null,null,null,null,"Production - Energy"]
[null,null,null,null,null,null,null,null,null,null,null,null,null,null,null,null,null,null,"PPNUGS",6,"Non-utility Generation excluding wind",43992714,{"$f":"+V21-X21","v":19972170.078845982},{"$f":"IF(MarginalCostSwitch=1,V21*$C$28,V21*$C$27)","v":24020543.921154018},null,null,null,null,"Energy:  System Load Factor"]
[null,null,null,null,null,null,null,null,null,null,null,null,null,null,null,null,null,null,null,7,"Wind Purchases",14162565,{"$f":"+V22-X22","v":0},{"$f":"V22","v":14162565},null,null,null,null,"Production - Energy"]
[null,null,null,null,null,null,null,null,null,null,null,null,null,null,null,null,null,null,"PPMF",8,"MF",0,{"$f":"+V23-X23","v":0},{"$f":"IF(MarginalCostSwitch=1,V23*$C$28,V23*$C$27)","v":0},null,null,null,null,"Energy:  System Load Factor"]
[null,null,null,null,null,null,null,null,null,null,null,null,null,null,null,null,null,null,"PPLTA",9,"LTA",0,{"$f":"+V24-X24","v":0},null,{"$f":"IF(MarginalCostSwitch=1,V24*$C$28,V24*$C$27)","v":0},null,null,null,"Energy:  System Load Factor"]
[null,null,null,null,null,null,null,null,null,null,null,null,null,null,null,null,null,null,"PPLIL",10,"LIL",0,{"$f":"+V25-X25","v":0},null,{"$f":"IF(MarginalCostSwitch=1,V25*$C$28,V25*$C$27)","v":0},null,null,null,"Energy:  System Load Factor"]
[null,null," ",null,null,null,null,null,null,null,null,null,null,null,null,null,null,null,null,{"$f":"T22+NoOne","v":8},"Subtotal",{"$f":"SUM(V16:V25)","v":62054740},23102570.078845982,{"$f":"SUM(X16:X25)","v":38183108.921154022},0,0,769061,{"$f":"SUM(AB16:AB22)","v":0}]
[{"$f":"MAX(A20:A26)+NoOne","v":5},"System Load Factors",{"$f":"C18/C20","v":0.54601186735499019},{"$f":"D18/D20","v":0.43608982921131456},{"$f":"E18/E20","v":0.59366914989932584},{"$f":"F18/F20","v":0.50658884355948797},{"$f":"G18/G20","v":0.71412653457787267}]
[6,"Marginal Cost Factors",0.54601186735499019]
[7,"Equivilent Peaker",0.8,"Data entery value only.",null,null,null,null,null,null,null,null,null,null,null,null,null,null,null,null,"Labrador Interconnected:"]
[8,"Wind capacity factor",null,null,null,null,null,null,null,null,null,null,null,null,null,null,null,null,"PPCFLCO",{"$f":"MAX(T26:T29)+NoOne","v":9},"CF(L)Co",1428356,{"$f":"V30-X30","v":408329.07957648812},{"$f":"V30*G27","v":1020026.9204235119},null,null,null,null,"Energy:  System Load Factor"]
[null,null,null,null,null,null,null,null,null,null,null,null,null,null,null,null,null,null,"PPWABUSH",{"$f":"MAX(T28:T30)+NoOne","v":10},"Other",0,null,null,null,null,null,{"$f":"+V31","v":0}]
[null,null,null,null,null,null,null,null,null,null,null,null,null,null,null,null,null,null,null,{"$f":"MAX(T29:T31)+NoOne","v":11},"Subtotal",{"$f":"SUM(V30:V31)","v":1428356},{"$f":"SUM(W30:W31)","v":408329.07957648812},{"$f":"SUM(X30:X31)","v":1020026.9204235119},0,0,0,0]
[]
[null,null,"INTTOT","ISLISOTOT","LABISOTOT","LALTOT","LINTTOT"]
[null,null,"INTTOTCPGen",null,null,null,null,null,null,null,null,null,null,null,null,null,null,null,null,null,"Isolated Systems:"]
[null,null,null,null,null,null,null,null,null,null,null,null,null,null,null,null,null,null,"PPLSO",{"$f":"MAX(T32:T35)+NoOne","v":12},"Mary's Harbour",0,null,{"$f":"V36","v":0},null,null,null,null,"Production - Energy"]
[null,null,null,null,null,null,null,null,null,null,null,null,null,null,null,null,null,null,"PPLAL",{"$f":"MAX(T34:T36)+NoOne","v":13},"L'Anse au Loup",3717396,null,{"$f":"V37","v":3717396},null,null,null,null,"Production - Energy"]
[null,null,null,null,null,null,null,null,null,null,null,null,null,null,null,null,null,null,"PPISO",{"$f":"MAX(T35:T37)+NoOne","v":14},"Ramea Wind",227200,{"$f":"+V38-X38","v":0},{"$f":"IF(C30<>0,V38*(1-C30),V38)","v":227200},null,null,null,null,"Production - Energy"]
[null,null,null,null,null,null,null,null,null,null,null,null,null,null,null,null,null,null,null,{"$f":"MAX(T36:T38)+NoOne","v":15},"Subtotal",{"$f":"SUM(V36:V38)","v":3944596},0,3944596,0,0,0,0]
[]
[null,null,null,null,null,null,null,null,null,null,null,null,null,null,null,null,null,null,null,{"$f":"MAX(T38:T40)+NoOne","v":16},"Total",{"$f":"SUM(V26,V32,V39)","v":67427692},{"$f":"SUM(W26,W32,W39)","v":23510899.15842247},{"$f":"SUM(X26,X32,X39)","v":43147731.841577537},0,0,769061,0]
[]
[null,null,null,null,null,null,null,null,null,null,null,null,null,null,null,null,null,null,null,null,"check",551408000]

{"sheet":"AED","index":26,"n_rows":147,"n_cols":23,"rows_kept":147,"cut":false,"hidden":false,"merged":[[13,19,13,20],[107,19,107,20],[48,19,48,20],[132,19,132,20],[13,7,13,8],[48,7,48,8],[107,7,107,8],[132,7,132,8],[78,7,78,8]]}
[]
[null,null,null,null,null,null,null,null,null,null,null,null,"BkpGenAED",null,null,null,null,null,null,null,null,null,"BkpTransAED"]
[null,null,null,null,null,null,null,null,null,null,null,null,"Page 1 of 5",null,null,null,null,null,null,null,null,null,"Page 1 of 5"]
[]
[]
[null,"NEWFOUNDLAND AND LABRADOR HYDRO",null,null,null,null,null,null,null,null,null,null,null,null,{"$f":"+B6","v":"NEWFOUNDLAND AND LABRADOR HYDRO"}]
[null,{"$f":"RunName","v":"2019 Test Year Cost of Service Study"},null,null,null,null,null,null,null,null,null,null,null,null,{"$f":"RunName","v":"2019 Test Year Cost of Service Study"}]
[null,"Island Interconnected",null,null,null,null,null,null,null,null,null,null,null,null,"Island Interconnected"]
[null,"Calculation of Generation AED Factors",null,null,null,null,null,null,null,null,null,null,null,null,"Calculation of Transmission AED Factors"]
[]
[null,null,{"$f":"MAX(B11)+NoOne","v":1},2,3,4,5,6,7,8,9,null,{"$f":"MAX(K11)+NoOne","v":10},null,{"$f":"MAX(N11)+NoOne","v":1},2,3,4,5,6,7,8,9]
[]
[null,"Line",null,"Sales + Losses","Class NCP",null,null,null,null,null,null,null,"Maximum","Line ",null,"Trans Output","Class NCP"]
[null,"No,",null,"for AED","at","Average Demand",null,"Excess Demand",null," Total",null," ","Peak","No.",null,"for AED","at"," Average Demand",null,"Excess Demand ",null,"Total "]
[null,null,null,"MWh","Generator","Amount","Weighted","Amount","Weighted","Weighted","Amount",null,"Load Factor",null,null,"MWh","Transmission","Amount","Weighted","Amount","Weighted","Weighted","Amount"]
[null,null,"Island Interconnected",null,null,null,null,null,null,null,null,null,null,null,"Island Interconnected"]
["ISLINTNP",{"$f":"MAX(B14:B16)+NoOne","v":1},"Newfoundland Power",6005327.8242558762,1342175.3954733906,{"$f":"D17/('Schedules 4.2,4.3,4.4'!$C$16/1000)","v":685539.70596528274},{"$f":"$G$35/$F$35*F17","v":0.43618916308011518},{"$f":"E17-F17","v":656635.68950810784},{"$f":"(1-$G$35)/$H$35*H17","v":0.41779837019328053},{"$f":"SUM(I17,G17)","v":0.85398753327339572},1262169.3385892976,null,{"$f":"IF(E17<>0,+D17/(E17*('Schedules 4.2,4.3,4.4'!$C$16/1000)),0)","v":0.51076760032804069},{"$f":"MAX(N14:N16)+NoOne","v":1},{"$f":"+C17","v":"Newfoundland Power"},5833600,1332341.5661769593,{"$f":"P17/('Schedules 4.2,4.3,4.4'!$C$16/1000)","v":665936.07305936073},{"$f":"$S$35/$R$35*R17","v":0.42846648055626735},{"$f":"Q17-R17","v":666405.49311759858},{"$f":"(1-$S$35)/$T$35*T17","v":0.44473829179342739},{"$f":"SUM(U17,S17)","v":0.87320477234969474},1277063.6147151755]
["ISLINTINDF",{"$f":"MAX(B15:B17)+NoOne","v":2},"Industrial",765181.04974105058,99801.603622736482,{"$f":"D18/('Schedules 4.2,4.3,4.4'!$C$16/1000)","v":87349.434901946413},{"$f":"$G$35/$F$35*F18","v":5.5577928709107514E-2},{"$f":"E18-F18","v":12452.168720790069},{"$f":"(1-$G$35)/$H$35*H18","v":7.9229561841438704E-3},{"$f":"SUM(I18,G18)","v":6.3500884893251383E-2},93852.505760047599,null,{"$f":"IF(E18<>0,+D18/(E18*('Schedules 4.2,4.3,4.4'!$C$16/1000)),0)","v":0.87523077517009706},{"$f":"MAX(N15:N17)+NoOne","v":2},{"$f":"+C18","v":"Industrial"},743300,96500,{"$f":"P18/('Schedules 4.2,4.3,4.4'!$C$16/1000)","v":84851.598173515988},{"$f":"$S$35/$R$35*R18","v":5.4593927420027694E-2},{"$f":"Q18-R18","v":11648.401826484012},{"$f":"(1-$S$35)/$T$35*T18","v":7.7737809545932925E-3},{"$f":"SUM(U18,S18)","v":6.2367708374620988E-2},91212.890286974667]
[null,null,"Rural",null,null,null,null,null,null,null,null,null,null," ","Rural"]
["ISLINT1.1",{"$f":"MAX(B17:B19)+NoOne","v":3},"1.1 Domestic",117404.27698408382,34873.121895744807,{"$f":"D20/('Schedules 4.2,4.3,4.4'!$C$16/1000)","v":13402.314724210482},{"$f":"$G$35/$F$35*F20","v":8.5275067104365904E-3},{"$f":"E20-F20","v":21470.807171534325},{"$f":"(1-$G$35)/$H$35*H20","v":1.3661255984610135E-2},{"$f":"SUM(I20,G20)","v":2.2188762695046726E-2},32794.361561196427,null,{"$f":"IF(E20<>0,+D20/(E20*('Schedules 4.2,4.3,4.4'!$C$16/1000)),0)","v":0.38431645908494994},{"$f":"MAX(N17:N19)+NoOne","v":3},{"$f":"+C20","v":"1.1 Domestic"},114046.99464499533,33719.460818089625,{"$f":"P20/('Schedules 4.2,4.3,4.4'!$C$16/1000)","v":13019.063315638736},{"$f":"$S$35/$R$35*R20","v":8.3765281153251187E-3},{"$f":"Q20-R20","v":20700.397502450891},{"$f":"(1-$S$35)/$T$35*T20","v":1.3814801228027002E-2},{"$f":"SUM(U20,S20)","v":2.219132934335212E-2},32454.860719894124]
["ISLINT1.12",4,"1.12 Domestic All Electric ",159835.50771633626,44552.010725845081,{"$f":"D21/('Schedules 4.2,4.3,4.4'!$C$16/1000)","v":18246.062524695921},1.1609443877431099E-2,26305.94820114916,1.673771691127866E-2,2.834716078870976E-2,41896.29917245642,null,{"$f":"IF(E21<>0,+D21/(E21*('Schedules 4.2,4.3,4.4'!$C$16/1000)),0)","v":0.40954520856476612},4,"1.12 Domestic All Electric ",155264.86564945444,43078.155851040901,{"$f":"P21/('Schedules 4.2,4.3,4.4'!$C$16/1000)","v":17724.299731672883},{"$f":"$S$35/$R$35*R21","v":1.1403899914094802E-2},{"$f":"Q21-R21","v":25353.856119368018},{"$f":"(1-$S$35)/$T$35*T21","v":1.692037472283299E-2},{"$f":"SUM(U21,S21)","v":2.8324274636927792E-2},41424.304696235107]
["ISLINT1.3",5,"1.3 Special",387.80328933791264,149.22071552063068,{"$f":"D22/('Schedules 4.2,4.3,4.4'!$C$16/1000)","v":44.269781887889572},2.8167586710718833E-5,104.95093363274111,6.6777255215703552E-5,9.4944841926422382E-5,140.32578189683417,null,{"$f":"IF(E22<>0,+D22/(E22*('Schedules 4.2,4.3,4.4'!$C$16/1000)),0)","v":0.2966731645363877},5,"1.3 Special",376.71370071490958,144.2842451928332,{"$f":"P22/('Schedules 4.2,4.3,4.4'!$C$16/1000)","v":43.003847113574153},{"$f":"$S$35/$R$35*R22","v":2.7668882597820268E-5},{"$f":"Q22-R22","v":101.28039807925904},{"$f":"(1-$S$35)/$T$35*T22","v":6.7591386474329885E-5},{"$f":"SUM(U22,S22)","v":9.5260269072150146E-5},139.318321901362]
["ISLINT2.1",6,"2.1 General Service 0-10 kW",82886.737231625317,20975.137673585425,{"$f":"D23/('Schedules 4.2,4.3,4.4'!$C$16/1000)","v":9461.9563049800599},6.0203701782065447E-3,11513.181368605365,7.3255055861284717E-3,1.3345875764335016E-2,19724.825632756609,null,{"$f":"IF(E23<>0,+D23/(E23*('Schedules 4.2,4.3,4.4'!$C$16/1000)),0)","v":0.45110341835304207},6,"2.1 General Service 0-10 kW",80516.515411766668,20281.245110573247,{"$f":"P23/('Schedules 4.2,4.3,4.4'!$C$16/1000)","v":9191.3830378729072},{"$f":"$S$35/$R$35*R23","v":5.9137801675010499E-3},{"$f":"Q23-R23","v":11089.86207270034},{"$f":"(1-$S$35)/$T$35*T23","v":7.4010289011334982E-3},{"$f":"SUM(U23,S23)","v":1.3314809068634548E-2},19472.93319604448]
["ISLINT2.2",7,"2.2 General Service 10-100 kW",0,0,{"$f":"D24/('Schedules 4.2,4.3,4.4'!$C$16/1000)","v":0},0,0,0,0,0,null,{"$f":"IF(E24<>0,+D24/(E24*('Schedules 4.2,4.3,4.4'!$C$16/1000)),0)","v":0},7,"2.2 General Service 10-100 kW",0,0,{"$f":"P24/('Schedules 4.2,4.3,4.4'!$C$16/1000)","v":0},{"$f":"$S$35/$R$35*R24","v":0},{"$f":"Q24-R24","v":0},{"$f":"(1-$S$35)/$T$35*T24","v":0},{"$f":"SUM(U24,S24)","v":0},0]
["ISLINT2.3",8,"2.3 General Service 110-1,000 kVa",62152.291871705624,14595.383475056929,{"$f":"D25/('Schedules 4.2,4.3,4.4'!$C$16/1000)","v":7095.0104876376281},4.5143507512663645E-3,7500.3729874193014,4.7722712305402308E-3,9.2866219818065962E-3,13725.363741057339,null,{"$f":"IF(E25<>0,+D25/(E25*('Schedules 4.2,4.3,4.4'!$C$16/1000)),0)","v":0.48611333164097997},8,"2.3 General Service 110-1,000 kVa",60374.990420728347,14112.543829126651,{"$f":"SUM(R26:R27)","v":0},{"$f":"SUM(S26:S27)","v":0},{"$f":"SUM(T26:T27)","v":0},{"$f":"SUM(U26:U27)","v":0},{"$f":"SUM(V26:V27)","v":0},0]
["ISLINT2.3S",9,"     Secondary",0,0,{"$f":"D26/('Schedules 4.2,4.3,4.4'!$C$16/1000)","v":0},0,0,0,0,0,null,{"$f":"IF(E26<>0,+D26/(E26*('Schedules 4.2,4.3,4.4'!$C$16/1000)),0)","v":0},9,"     Secondary",0,0,{"$f":"P26/('Schedules 4.2,4.3,4.4'!$C$16/1000)","v":0},{"$f":"$S$35/$R$35*R26","v":0},{"$f":"Q26-R26","v":0},{"$f":"(1-$S$35)/$T$35*T26","v":0},{"$f":"SUM(U26,S26)","v":0},0]
["ISLINT2.3P",10,"     Primary",0,0,{"$f":"D27/('Schedules 4.2,4.3,4.4'!$C$16/1000)","v":0},0,0,0,0,0,null,{"$f":"IF(E27<>0,+D27/(E27*('Schedules 4.2,4.3,4.4'!$C$16/1000)),0)","v":0},10,"     Primary",0,0,{"$f":"P27/('Schedules 4.2,4.3,4.4'!$C$16/1000)","v":0},{"$f":"$S$35/$R$35*R27","v":0},{"$f":"Q27-R27","v":0},{"$f":"(1-$S$35)/$T$35*T27","v":0},{"$f":"SUM(U27,S27)","v":0},0]
["ISLINT2.4",11,"2.4 General Service Over 1,000 kVa",38248.822071551076,13744.356078052278,{"$f":"D28/('Schedules 4.2,4.3,4.4'!$C$16/1000)","v":4366.3038894464698},2.7781533625530911E-3,9378.0521886058086,5.9669844064098119E-3,8.7451377689629038E-3,12925.065441430204,null,{"$f":"IF(E28<>0,+D28/(E28*('Schedules 4.2,4.3,4.4'!$C$16/1000)),0)","v":0.31767977085654941},11,"2.4 General Service Over 1,000 kVa",37155.062132556988,13289.669838830972,{"$f":"SUM(R29:R30)","v":0},{"$f":"SUM(S29:S30)","v":0},{"$f":"SUM(T29:T30)","v":0},{"$f":"SUM(U29:U30)","v":0},{"$f":"SUM(V29:V30)","v":0},0]
["ISLINT2.4S",12,"     Secondary",0,0,{"$f":"D29/('Schedules 4.2,4.3,4.4'!$C$16/1000)","v":0},0,0,0,0,0,null,{"$f":"IF(E29<>0,+D29/(E29*('Schedules 4.2,4.3,4.4'!$C$16/1000)),0)","v":0},12,"     Secondary",0,0,{"$f":"P29/('Schedules 4.2,4.3,4.4'!$C$16/1000)","v":0},{"$f":"$S$35/$R$35*R29","v":0},{"$f":"Q29-R29","v":0},{"$f":"(1-$S$35)/$T$35*T29","v":0},{"$f":"SUM(U29,S29)","v":0},0]
["ISLINT2.4P",13,"     Primary",0,0,{"$f":"D30/('Schedules 4.2,4.3,4.4'!$C$16/1000)","v":0},0,0,0,0,0,null,{"$f":"IF(E30<>0,+D30/(E30*('Schedules 4.2,4.3,4.4'!$C$16/1000)),0)","v":0},13,"     Primary",0,0,{"$f":"P30/('Schedules 4.2,4.3,4.4'!$C$16/1000)","v":0},{"$f":"$S$35/$R$35*R30","v":0},{"$f":"Q30-R30","v":0},{"$f":"(1-$S$35)/$T$35*T30","v":0},{"$f":"SUM(U30,S30)","v":0},0]
["ISLINT4.1",14,"4.1 Street and Area Lighting",3147.3890149163926,790.66599606812099,{"$f":"D31/('Schedules 4.2,4.3,4.4'!$C$16/1000)","v":359.29098343794436},2.2860650084061663E-4,431.37501263017663,2.7447149172474006E-4,5.0307799256535672E-4,743.5349959983181,null,{"$f":"IF(E31<>0,+D31/(E31*('Schedules 4.2,4.3,4.4'!$C$16/1000)),0)","v":0.45441562584536532},14,"4.1 Street and Area Lighting",3057.3865565268025,764.50944524894817,{"$f":"P31/('Schedules 4.2,4.3,4.4'!$C$16/1000)","v":349.01673019712359},{"$f":"$S$35/$R$35*R31","v":2.2455904717071524E-4},{"$f":"Q31-R31","v":415.49271505182458},{"$f":"(1-$S$35)/$T$35*T31","v":2.7728691052694129E-4},{"$f":"SUM(U31,S31)","v":5.0184595769765653E-4},733.95065288409762]
[]
[null,{"$f":"MAX(B30:B32)+NoOne","v":15},"Subtotal Rural",{"$f":"SUM(D20:D25,D28,D31:D31)","v":464062.82817955635},129679.89655987328,52975.208696296395,3.3706598967445024E-2,76704.687863576881,4.8804982865907752E-2,8.2511581833352776E-2,121949.77632679217,null,{"$f":"IF(E33<>0,+D33/(E33*('Schedules 4.2,4.3,4.4'!$C$16/1000)),0)","v":0.40850748729459163},{"$f":"MAX(N30:N32)+NoOne","v":15},"Subtotal Rural",{"$f":"SUM(P20:P25,P28,P31:P31)","v":450792.52851674351},125389.86913810317,40326.766662495225,2.5946436126689506E-2,57660.888807650328,3.848108314899476E-2,6.442751927568427E-2,94225.367586959168]
[]
["INTTOT",{"$f":"MAX(B32:B34)+NoOne","v":16},"Total Island Interconnected",{"$f":"SUM(D33,D17:D18)","v":7234571.7021764824},{"$f":"SUM(E33,E17:E18)","v":1571656.8956560004},{"$f":"SUM(F33,F17:F18)","v":825864.34956352564},0.52547369075666783,{"$f":"SUM(H33,H17:H18)","v":745792.54609247483},{"$f":"SUM(I33,I17:I18)","v":0.47452630924333211},{"$f":"SUM(J33,J17:J18)","v":0.99999999999999989},{"$f":"SUM(K33,K17:K18)","v":1477971.6206761373},null,{"$f":"IF(K35<>0,+D35/(K35*('Schedules 4.2,4.3,4.4'!$C$16/1000)),0)","v":0.55878227836723404},{"$f":"MAX(N32:N34)+NoOne","v":16},"Total Island Interconnected",{"$f":"SUM(P33,P17:P18)","v":7027692.5285167433},{"$f":"SUM(Q33,Q17:Q18)","v":1554231.4353150625},{"$f":"SUM(R33,R17:R18)","v":791114.43789537193},0.50900684410298458,{"$f":"SUM(T33,T17:T18)","v":735714.7837517329},{"$f":"SUM(U33,U17:U18)","v":0.49099315589701548},{"$f":"SUM(V33,V17:V18)","v":1},{"$f":"SUM(W33,W17:W18)","v":1462501.8725891092}]
[null,null,null,null,null," "," "]
[null,null,null,null,null,null,null,null,null,null,null,null,"BkpGenAED",null,null,null,null,null,null,null,null,null,"BkpTransAED"]
[null,null,null,null,null,null,null,null,null,null,null,null,"Page 2 of 5",null,null,null,null,null,null,null,null,null,"Page 2 of 5"]
[]
[]
[null,null,{"$f":"+B6","v":"NEWFOUNDLAND AND LABRADOR HYDRO"},null,null,null,null,null,null,null,null,null,null,null,{"$f":"+B6","v":"NEWFOUNDLAND AND LABRADOR HYDRO"}]
[null,null,{"$f":"RunName","v":"2019 Test Year Cost of Service Study"},null,null,null,null,null,null,null,null,null,null,null,{"$f":"RunName","v":"2019 Test Year Cost of Service Study"}]
[null,null,"Island Isolated",null,null,null,null,null,null,null,null,null,null,null,"Island Isolated"]
[null,null,"Calculation of Generation AED Factors",null,null,null,null,null,null,null,null,null,null,null,"Calculation of Transmission AED Factors"]
[]
[null,null,{"$f":"MAX(B46)+NoOne","v":1},2,3,4,5,6,7,8,9,null,{"$f":"MAX(K46)+NoOne","v":10},null,{"$f":"MAX(N46)+NoOne","v":1},2,3,4,5,6,7,8,9]
[]
[null,"Line ",null,"Sales + Losses","Class NCP",null,null,null,null,null,null,null,"Maximum",{"$f":"+B48","v":"Line "},null,"Trans Output","Class NCP"]
[null,"No.",null,"for AED","at","Average Demand",null,"Excess Demand",null," Total",null," ","Peak",{"$f":"+B49","v":"No."},null,"for AED","at"," ------ Average Demand ------",null," ------- Excess Demand ------",null," ---------- Total -----------"]
[null,null,null,"MWh","Generator","Amount","Weighted","Amount","Weighted","Weighted","Amount",null,"Load Factor",null,null,"MWh","Transmission","Amount","Weighted","Amount","Weighted","Weighted","Amount"]
[null,null,"Island Isolated",null,null,null,null,null,null,null,null,null,null,null,"Island Isolated"]
["ISLISO1.2",{"$f":"MAX(B49:B51)+NoOne","v":1},"1.2 Domestic Diesel",5467.6983966064618,2084.8184889705662,{"$f":"D52/('Schedules 4.2,4.3,4.4'!$C$16/1000)","v":624.16648363087461},{"$f":"$G$64/$F$64*F52","v":0.23676162992870806},{"$f":"E52-F52","v":1460.6520053396916},{"$f":"(1-$G$64)/$H$64*H52","v":0.55406106962221835},{"$f":"SUM(I52,G52)","v":0.79082269955092643},1556.3947296904107,null,{"$f":"IF(E52<>0,+D52/(E52*('Schedules 4.2,4.3,4.4'!$C$16/1000)),0)","v":0.29938648708889437},{"$f":"MAX(N49:N51)+NoOne","v":1},{"$f":"+C52","v":"1.2 Domestic Diesel"},5467.6983966064618,2084.8184889705662,{"$f":"P52/('Schedules 4.2,4.3,4.4'!$C$16/1000)","v":624.16648363087461},{"$f":"$S$64/$R$64*R52","v":0.23676162992870806},{"$f":"Q52-R52","v":1460.6520053396916},{"$f":"(1-$S$64)/$T$64*T52","v":0.55406106962221835},{"$f":"SUM(U52,S52)","v":0.79082269955092643},1556.3947296904107]
["ISLISO1.2G",2,"1.2G Government Domestic Diesel",0,0,{"$f":"D53/('Schedules 4.2,4.3,4.4'!$C$16/1000)","v":0},0,{"$f":"E53-F53","v":0},{"$f":"(1-$G$64)/$H$64*H53","v":0},{"$f":"SUM(I53,G53)","v":0},0,null,{"$f":"IF(E53<>0,+D53/(E53*('Schedules 4.2,4.3,4.4'!$C$16/1000)),0)","v":0},2,"1.2G Government Domestic Diesel",0,0,{"$f":"P53/('Schedules 4.2,4.3,4.4'!$C$16/1000)","v":0},{"$f":"$S$64/$R$64*R53","v":0},{"$f":"Q53-R53","v":0},{"$f":"(1-$S$64)/$T$64*T53","v":0},{"$f":"SUM(U53,S53)","v":0},0]
["ISLISO1.23",3,"1.23 Churches, Schools & Com Halls",296.12293057056274,72.711649044072672,{"$f":"D54/('Schedules 4.2,4.3,4.4'!$C$16/1000)","v":33.803987508055108},1.2822680150877806E-2,{"$f":"E54-F54","v":38.907661536017564},{"$f":"(1-$G$64)/$H$64*H54","v":1.4758628672906764E-2},{"$f":"SUM(I54,G54)","v":2.7581308823784571E-2},54.28195689840279,null,{"$f":"IF(E54<>0,+D54/(E54*('Schedules 4.2,4.3,4.4'!$C$16/1000)),0)","v":0.46490470168769682},3,"1.23 Churches, Schools & Com Halls",296.12293057056274,72.711649044072672,{"$f":"P54/('Schedules 4.2,4.3,4.4'!$C$16/1000)","v":33.803987508055108},1.2822680150877806E-2,38.907661536017564,1.4758628672906764E-2,2.7581308823784571E-2,54.28195689840279]
["ISLISO2.1",4,"2.1 General Service 0-10 kW",758.28621863961951,155.45249105974153,{"$f":"D55/('Schedules 4.2,4.3,4.4'!$C$16/1000)","v":86.562353725983968},3.283522024349781E-2,{"$f":"E55-F55","v":68.890137333757565},2.6131715862524361E-2,{"$f":"SUM(I55,G55)","v":5.8966936106022175E-2},116.05108026555078,null,{"$f":"IF(E55<>0,+D55/(E55*('Schedules 4.2,4.3,4.4'!$C$16/1000)),0)","v":0.55684121325992397},4,"2.1 General Service 0-10 kW",758.28621863961951,155.45249105974153,{"$f":"P55/('Schedules 4.2,4.3,4.4'!$C$16/1000)","v":86.562353725983968},3.283522024349781E-2,{"$f":"Q55-R55","v":68.890137333757565},2.6131715862524361E-2,{"$f":"SUM(U55,S55)","v":5.8966936106022175E-2},116.05108026555078]
["ISLISO2.2",5,"2.2 General Service 10-100 kW",884.13846413210865,292.10024529774023,{"$f":"D56/('Schedules 4.2,4.3,4.4'!$C$16/1000)","v":100.92904841690738},3.8284859307620871E-2,191.17119688083284,7.251591579482404E-2,0.1108007751024449,218.06372340220429,null,{"$f":"IF(E56<>0,+D56/(E56*('Schedules 4.2,4.3,4.4'!$C$16/1000)),0)","v":0.34552880403790681},5,"2.2 General Service 10-100 kW",884.13846413210865,292.10024529774023,{"$f":"P56/('Schedules 4.2,4.3,4.4'!$C$16/1000)","v":100.92904841690738},3.8284859307620871E-2,191.17119688083284,7.251591579482404E-2,0.1108007751024449,218.06372340220429]
["ISLISO2.3",6,"2.3 General Service 110-1,000 kVa",0,0,{"$f":"D57/('Schedules 4.2,4.3,4.4'!$C$16/1000)","v":0},0,0,0,0,0,null,{"$f":"IF(E57<>0,+D57/(E57*('Schedules 4.2,4.3,4.4'!$C$16/1000)),0)","v":0},6,"2.3 General Service 110-1,000 kVa",0,0,{"$f":"P57/('Schedules 4.2,4.3,4.4'!$C$16/1000)","v":0},0,0,0,0,0]
["ISLISO2.4",7,"2.4 General Service Over 1,000 kVa",0,0,{"$f":"D58/('Schedules 4.2,4.3,4.4'!$C$16/1000)","v":0},0,{"$f":"E58-F58","v":0},0,{"$f":"SUM(I58,G58)","v":0},0,null,{"$f":"IF(E58<>0,+D58/(E58*('Schedules 4.2,4.3,4.4'!$C$16/1000)),0)","v":0},7,{"$f":"+C58","v":"2.4 General Service Over 1,000 kVa"},0,0,{"$f":"P58/('Schedules 4.2,4.3,4.4'!$C$16/1000)","v":0},0,{"$f":"Q58-R58","v":0},0,{"$f":"SUM(U58,S58)","v":0},0]
["ISLISO2.5",8,"2.5 General Service Diesel",0,0,{"$f":"D59/('Schedules 4.2,4.3,4.4'!$C$16/1000)","v":0},0,0,0,0,0,null,{"$f":"IF(E59<>0,+D59/(E59*('Schedules 4.2,4.3,4.4'!$C$16/1000)),0)","v":0},8,"2.5 General Service Diesel",0,0,{"$f":"P59/('Schedules 4.2,4.3,4.4'!$C$16/1000)","v":0},0,0,0,0,0]
["ISLISO2.5G",9,"2.5G Government General Service Diesel",0,0,{"$f":"D60/('Schedules 4.2,4.3,4.4'!$C$16/1000)","v":0},0,0,0,0,0,null,{"$f":"IF(E60<>0,+D60/(E60*('Schedules 4.2,4.3,4.4'!$C$16/1000)),0)","v":0},9,"2.5G Government General Service Diesel",0,0,{"$f":"P60/('Schedules 4.2,4.3,4.4'!$C$16/1000)","v":0},0,0,0,0,0]
["ISLISO4.1",10,"4.1 Street and Area Lighting",107.88392909822537,30.08757891478869,{"$f":"D61/('Schedules 4.2,4.3,4.4'!$C$16/1000)","v":12.315517020345363},4.671577150682304E-3,17.772061894443326,6.7413782246768276E-3,1.1412955375359132E-2,22.461499406235635,null,{"$f":"IF(E61<>0,+D61/(E61*('Schedules 4.2,4.3,4.4'!$C$16/1000)),0)","v":0.40932230058205249},10,"4.1 Street and Area Lighting",107.88392909822537,30.08757891478869,{"$f":"P61/('Schedules 4.2,4.3,4.4'!$C$16/1000)","v":12.315517020345363},4.671577150682304E-3,17.772061894443326,6.7413782246768276E-3,1.1412955375359132E-2,22.461499406235635]
["ISLISO4.1G",11,"4.1G Government Street and Area Lighting",4.1880243037836724,1.0949070200765174,{"$f":"D62/('Schedules 4.2,4.3,4.4'!$C$16/1000)","v":0.47808496618535073},1.8134933356241467E-4,0.61682205389116662,2.3397570790041386E-4,4.1532504146282853E-4,0.81738891158317206,null,{"$f":"IF(E62<>0,+D62/(E62*('Schedules 4.2,4.3,4.4'!$C$16/1000)),0)","v":0.43664435191212841},11,"4.1G Government Street and Area Lighting",4.1880243037836724,1.0949070200765174,{"$f":"P62/('Schedules 4.2,4.3,4.4'!$C$16/1000)","v":0.47808496618535073},1.8134933356241467E-4,0.61682205389116662,2.3397570790041386E-4,4.1532504146282853E-4,0.81738891158317206]
[]
["ISLISOTOT",{"$f":"MAX(B61:B63)+NoOne","v":12},"Total Island Isolated",{"$f":"SUM(D52:D62)","v":7518.3179633507616},{"$f":"SUM(E52:E62)","v":2636.2653603069853},{"$f":"SUM(F52:F62)","v":858.2554752683518},0.32555731611494926,{"$f":"SUM(H52:H62)","v":1778.0098850386341},{"$f":"SUM(I52:I62)","v":0.6744426838850508},{"$f":"SUM(J52:J62)","v":1.0000000000000002},{"$f":"SUM(K52:K62)","v":1968.0703785743872},null,{"$f":"IF(K64<>0,+D64/(K64*('Schedules 4.2,4.3,4.4'!$C$16/1000)),0)","v":0.43608982921131462},{"$f":"MAX(N61:N63)+NoOne","v":12},"Total Island Isolated",{"$f":"SUM(P52:P62)","v":7518.3179633507616},{"$f":"SUM(Q52:Q62)","v":2636.2653603069853},{"$f":"SUM(R52:R62)","v":858.2554752683518},0.32555731611494926,{"$f":"SUM(T52:T62)","v":1778.0098850386341},{"$f":"SUM(U52:U62)","v":0.6744426838850508},{"$f":"SUM(V52:V62)","v":1.0000000000000002},{"$f":"SUM(W52:W62)","v":1968.0703785743872}]
[]
[]
[null,null,null,null,null,null,null,null,null,null,null,null,"BkpGenAED",null,null,null,null,null,null,null,null,null,"BkpTransAED"]
[null,null,null,null,null,null,null,null,null,null,null,null,"Page 3 of 5",null,null,null,null,null,null,null,null,null,"Page 3 of 5"]
[]
[]
[null,null,{"$f":"+B6","v":"NEWFOUNDLAND AND LABRADOR HYDRO"},null,null,null,null,null,null,null,null,null,null,null,{"$f":"+B6","v":"NEWFOUNDLAND AND LABRADOR HYDRO"}]
[null,null,{"$f":"RunName","v":"2019 Test Year Cost of Service Study"},null,null,null,null,null,null,null,null,null,null,null,{"$f":"RunName","v":"2019 Test Year Cost of Service Study"}]
[null,null,"Labrador Isolated",null,null,null,null,null,null,null,null,null,null,null,"Labrador Isolated"]
[null,null,"Calculation of Generation AED Factors",null,null,null,null,null,null,null,null,null,null,null,"Calculation of Transmission AED Factors"]
[]
[null,null,{"$f":"MAX(B76)+NoOne","v":1},2,3,4,5,6,7,8,9,null,{"$f":"MAX(K76)+NoOne","v":10},null,{"$f":"MAX(N76)+NoOne","v":1},2,3,4,5,6,7,8,9]
[]
[null,"Line ",null,"Sales + Losses","Class NCP",null,null,null,null,null,null,null,"Maximum","Line",null,"Trans Output","Class NCP"]
[null,"No.",null,"for AED","at","Average Demand",null,"Excess Demand",null," Total",null," ","Peak","No.",null,"for AED","at"," ------ Average Demand ------",null," ------- Excess Demand ------",null," ---------- Total -----------"]
[null,null,null,"MWh","Generator","Amount","Weighted","Amount","Weighted","Weighted","Amount",null,"Load Factor",null,null,"MWh","Transmission","Amount","Weighted","Amount","Weighted","Weighted","Amount"]
[null,null,"Labrador Isolated",null,null,null,null,null,null,null,null,null,null,null,"Labrador Isolated"]
["LABISO1.2",{"$f":"MAX(B79:B81)+NoOne","v":1},"1.2 Domestic Diesel",22767.782433199478,7813.2013370569139,{"$f":"D82/('Schedules 4.2,4.3,4.4'!$C$16/1000)","v":2599.0619215981142},{"$f":"$G$94/$F$94*F82","v":0.18687618658602204},{"$f":"E82-F82","v":5214.1394154587997},{"$f":"(1-$G$94)/$H$94*H82","v":0.37490391521325189},{"$f":"SUM(I82,G82)","v":0.56178010179927396},4982.9975036847609,null,{"$f":"IF(E82<>0,+D82/(E82*('Schedules 4.2,4.3,4.4'!$C$16/1000)),0)","v":0.3326500635880365},{"$f":"MAX(N79:N81)+NoOne","v":1},{"$f":"+C82","v":"1.2 Domestic Diesel"},22767.782433199478,7813.2013370569139,{"$f":"P82/('Schedules 4.2,4.3,4.4'!$C$16/1000)","v":2599.0619215981142},{"$f":"$S$94/$R$94*R82","v":0.18687618658602204},{"$f":"Q82-R82","v":5214.1394154587997},{"$f":"(1-$S$94)/$T$94*T82","v":0.37490391521325189},{"$f":"SUM(U82,S82)","v":0.56178010179927396},4982.9975036847609]
["LABISO1.2G",2,"1.2G Government Domestic Diesel",597.56009089978568,224.40980384079214,{"$f":"D83/('Schedules 4.2,4.3,4.4'!$C$16/1000)","v":68.21462224883399},4.9047267282611709E-3,{"$f":"E83-F83","v":156.19518159195815},1.1230651973489155E-2,{"$f":"SUM(I83,G83)","v":1.6135378701750327E-2},143.12103888036648,null,{"$f":"IF(E83<>0,+D83/(E83*('Schedules 4.2,4.3,4.4'!$C$16/1000)),0)","v":0.3039734498285509},2,"1.2G Government Domestic Diesel",597.56009089978568,224.40980384079214,{"$f":"P83/('Schedules 4.2,4.3,4.4'!$C$16/1000)","v":68.21462224883399},4.9047267282611709E-3,{"$f":"Q83-R83","v":156.19518159195815},1.1230651973489155E-2,{"$f":"SUM(U83,S83)","v":1.6135378701750327E-2},143.12103888036648]
["LABISO1.23",3,"1.23 Churches, Schools & Com Halls",1779.9436455398593,112.20490192039607,{"$f":"D84/('Schedules 4.2,4.3,4.4'!$C$16/1000)","v":203.18991387441318},1.4609638940131413E-2,{"$f":"E84-F84","v":-90.985011954017111},-6.5419495892562541E-3,{"$f":"SUM(I84,G84)","v":8.0676893508751582E-3},71.560519440183199,null,{"$f":"IF(E84<>0,+D84/(E84*('Schedules 4.2,4.3,4.4'!$C$16/1000)),0)","v":1.8108826833480638},3,"1.23 Churches, Schools & Com Halls",1779.9436455398593,112.20490192039607,{"$f":"P84/('Schedules 4.2,4.3,4.4'!$C$16/1000)","v":203.18991387441318},1.4609638940131413E-2,-90.985011954017111,-6.5419495892562541E-3,8.0676893508751582E-3,71.560519440183199]
["LABISO2.1",4,"2.1 General Service 0-10 kW",4595.7996333855635,1195.6055660184425,{"$f":"D85/('Schedules 4.2,4.3,4.4'!$C$16/1000)","v":524.63466134538396},3.7721965778633876E-2,{"$f":"E85-F85","v":670.9709046730585},4.8243746304580351E-2,{"$f":"SUM(I85,G85)","v":8.5965712083214227E-2},762.5170904792858,null,{"$f":"IF(E85<>0,+D85/(E85*('Schedules 4.2,4.3,4.4'!$C$16/1000)),0)","v":0.43880245814888696},4,{"$f":"+C85","v":"2.1 General Service 0-10 kW"},4595.7996333855635,1195.6055660184425,{"$f":"P85/('Schedules 4.2,4.3,4.4'!$C$16/1000)","v":524.63466134538396},3.7721965778633876E-2,{"$f":"Q85-R85","v":670.9709046730585},4.8243746304580351E-2,{"$f":"SUM(U85,S85)","v":8.5965712083214227E-2},762.5170904792858]
["LABISO2.2",5,"2.2 General Service 10-100 kW",11334.536786356683,2625.5947049372676,{"$f":"D86/('Schedules 4.2,4.3,4.4'!$C$16/1000)","v":1293.8968934197126},9.30329959699841E-2,1331.697811517555,9.575093484049467E-2,0.18878393081047878,1674.5161549002876,null,{"$f":"IF(E86<>0,+D86/(E86*('Schedules 4.2,4.3,4.4'!$C$16/1000)),0)","v":0.49280145598504599},5,"2.2 General Service 10-100 kW",11334.536786356683,2625.5947049372676,{"$f":"P86/('Schedules 4.2,4.3,4.4'!$C$16/1000)","v":1293.8968934197126},9.30329959699841E-2,1331.697811517555,9.575093484049467E-2,0.18878393081047878,1674.5161549002876]
["LABISO2.3",6,"2.3 General Service 110-1,000 kVa",2209.8048121729198,780.44742891297722,{"$f":"D87/('Schedules 4.2,4.3,4.4'!$C$16/1000)","v":252.26082330741093},1.813790594713989E-2,528.18660560556623,3.7977355537836252E-2,5.6115261484976142E-2,497.74316855060795,null,{"$f":"IF(E87<>0,+D87/(E87*('Schedules 4.2,4.3,4.4'!$C$16/1000)),0)","v":0.32322590088965358},6,"2.3 General Service 110-1,000 kVa",2209.8048121729198,780.44742891297722,{"$f":"P87/('Schedules 4.2,4.3,4.4'!$C$16/1000)","v":252.26082330741093},1.813790594713989E-2,528.18660560556623,3.7977355537836252E-2,5.6115261484976142E-2,497.74316855060795]
["LABISO2.4",7,"2.4 General Service Over 1,000 kVa",2522.9135631772483,1064.9014427677096,{"$f":"D88/('Schedules 4.2,4.3,4.4'!$C$16/1000)","v":288.00383141292792},2.0707878211504094E-2,{"$f":"E88-F88","v":776.8976113547817},5.5860024638620526E-2,{"$f":"SUM(I88,G88)","v":7.6567902850124617E-2},679.15838874064116,null,{"$f":"IF(E88<>0,+D88/(E88*('Schedules 4.2,4.3,4.4'!$C$16/1000)),0)","v":0.27045116087400317},7,{"$f":"+C88","v":"2.4 General Service Over 1,000 kVa"},2522.9135631772483,1064.9014427677096,{"$f":"P88/('Schedules 4.2,4.3,4.4'!$C$16/1000)","v":288.00383141292792},2.0707878211504094E-2,{"$f":"Q88-R88","v":776.8976113547817},5.5860024638620526E-2,{"$f":"SUM(U88,S88)","v":7.6567902850124617E-2},679.15838874064116]
["LABISO2.5",8,"2.5 General Service Diesel",0,0,{"$f":"D89/('Schedules 4.2,4.3,4.4'!$C$16/1000)","v":0},0,0,0,0,0,null,{"$f":"IF(E89<>0,+D89/(E89*('Schedules 4.2,4.3,4.4'!$C$16/1000)),0)","v":0},8,"2.5 General Service Diesel",0,0,{"$f":"P89/('Schedules 4.2,4.3,4.4'!$C$16/1000)","v":0},0,0,0,0,0]
["LABISO2.5G",9,"2.5G Government General Service Diesel",0,0,{"$f":"D90/('Schedules 4.2,4.3,4.4'!$C$16/1000)","v":0},0,0,0,0,0,null,{"$f":"IF(E90<>0,+D90/(E90*('Schedules 4.2,4.3,4.4'!$C$16/1000)),0)","v":0},9,"2.5G Government General Service Diesel",0,0,{"$f":"P90/('Schedules 4.2,4.3,4.4'!$C$16/1000)","v":0},0,0,0,0,0]
["LABISO4.1",10,"4.1 Street and Area Lighting",313.10875100432827,89.026549410892173,{"$f":"D91/('Schedules 4.2,4.3,4.4'!$C$16/1000)","v":35.743008105516928},2.5699722643642022E-3,53.283541305375245,3.8311611294065233E-3,6.4011333937707259E-3,56.778144366013059,null,{"$f":"IF(E91<>0,+D91/(E91*('Schedules 4.2,4.3,4.4'!$C$16/1000)),0)","v":0.40148706584761623},10,"4.1 Street and Area Lighting",313.10875100432827,89.026549410892173,{"$f":"P91/('Schedules 4.2,4.3,4.4'!$C$16/1000)","v":35.743008105516928},2.5699722643642022E-3,53.283541305375245,3.8311611294065233E-3,6.4011333937707259E-3,56.778144366013059]
["LABISO4.1G",11,"4.1G Government Street and Area Lighting",7.4296991763738909,2.543615697454062,{"$f":"D92/('Schedules 4.2,4.3,4.4'!$C$16/1000)","v":0.84813917538514738},6.0982392713726826E-5,1.6954765220689145,1.2190713282257962E-4,1.8288952553630644E-4,1.6222326961718014,null,{"$f":"IF(E92<>0,+D92/(E92*('Schedules 4.2,4.3,4.4'!$C$16/1000)),0)","v":0.3334384106192067},11,"4.1G Government Street and Area Lighting",7.4296991763738909,2.543615697454062,{"$f":"P92/('Schedules 4.2,4.3,4.4'!$C$16/1000)","v":0.84813917538514738},6.0982392713726826E-5,1.6954765220689145,1.2190713282257962E-4,1.8288952553630644E-4,1.6222326961718014]
[]
["LABISOTOT",{"$f":"MAX(B91:B93)+NoOne","v":12},"Total Labrador Isolated",{"$f":"SUM(D82:D92)","v":46128.879414912248},{"$f":"SUM(E82:E92)","v":13907.935350562846},{"$f":"SUM(F82:F92)","v":5265.8538144876984},0.37862225281875445,{"$f":"SUM(H82:H92)","v":8642.0815360751458},{"$f":"SUM(I82:I92)","v":0.62137774718124561},{"$f":"SUM(J82:J92)","v":1.0000000000000002},{"$f":"SUM(K82:K92)","v":8870.0142417383195},null,{"$f":"IF(K94<>0,+D94/(K94*('Schedules 4.2,4.3,4.4'!$C$16/1000)),0)","v":0.59366914989932562},{"$f":"MAX(N91:N93)+NoOne","v":12},"Total Labrador Isolated",{"$f":"SUM(P82:P92)","v":46128.879414912248},{"$f":"SUM(Q82:Q92)","v":13907.935350562846},{"$f":"SUM(R82:R92)","v":5265.8538144876984},0.37862225281875445,{"$f":"SUM(T82:T92)","v":8642.0815360751458},{"$f":"SUM(U82:U92)","v":0.62137774718124561},{"$f":"SUM(V82:V92)","v":1.0000000000000002},{"$f":"SUM(W82:W92)","v":8870.0142417383195}]
[]
[null,null,null,null,null,null,null,null,null,null,null,null,"BkpGenAED",null,null,null,null,null,null,null,null,null,"BkpTransAED"]
[null,null,null,null,null,null,null,null,null,null,null,null,"Page 4 of 5",null,null,null,null,null,null,null,null,null,"Page 4 of 5"]
[]
[]
[null,null,{"$f":"+B6","v":"NEWFOUNDLAND AND LABRADOR HYDRO"},null,null,null,null,null,null,null,null,null,null,null,{"$f":"+B6","v":"NEWFOUNDLAND AND LABRADOR HYDRO"}]
[null,null,{"$f":"RunName","v":"2019 Test Year Cost of Service Study"},null,null,null,null,null,null,null,null,null,null,null,{"$f":"RunName","v":"2019 Test Year Cost of Service Study"}]
[null,null,"L'Anse Au Loup",null,null,null,null,null,null,null,null,null,null,null,"L'Anse Au Loup"]
[null,null,"Calculation of Generation AED Factors",null,null,null,null,null,null,null,null,null,null,null,"Calculation of Transmission AED Factors"]
[]
[null,null,1,2,3,4,5,6,7,8,9,null,{"$f":"+K105+1","v":10},null,{"$f":"MAX(N105)+NoOne","v":1},2,3,4,5,6,7,8,9]
[]
[null,"Line",null,"Sales + Losses","Class NCP",null,null,null,null,null,null,null,"Maximum","Line",null,"Trans Output","Class NCP"]
[null,"No.",null,"for AED","at","Average Demand",null,"Excess Demand",null," Total",null," ","Peak","No.",null,"for AED","at"," Average Demand",null," Excess Demand",null," Total"]
[null,null,null,"MWh","Generator","Amount","Weighted","Amount","Weighted","Weighted","Amount",null,"Load Factor",null,null,"MWh","Transmission","Amount","Weighted","Amount","Weighted","Weighted","Amount"]
[null,null,"L'Anse Au Loup",null,null,null,null,null,null,null,null,null,null,null,"L'Anse au Loup"]
["LAL1.2",{"$f":"MAX(B108:B110)+NoOne","v":1},"1.1 Domestic",4703.9863368182259,1746.5369764430602,{"$f":"D111/('Schedules 4.2,4.3,4.4'!$C$16/1000)","v":536.98474164591619},{"$f":"$G$118/$F$118*F111","v":5.8037151365572012E-2},{"$f":"E111-F111","v":1209.5522347971441},{"$f":"(1-$G$118)/$H$118*H111","v":0.13072804623893103},{"$f":"SUM(I111,G111)","v":0.18876519760450305},1149.6142590698728,null,{"$f":"IF(E111<>0,+D111/(E111*('Schedules 4.2,4.3,4.4'!$C$16/1000)),0)","v":0.30745684110251231},{"$f":"MAX(N108:N110)+NoOne","v":1},{"$f":"+C111","v":"1.1 Domestic"},4703.9863368182259,1746.5369764430602,{"$f":"P111/('Schedules 4.2,4.3,4.4'!$C$16/1000)","v":536.98474164591619},{"$f":"$S$118/$R$118*R111","v":5.8037151365572012E-2},{"$f":"Q111-R111","v":1209.5522347971441},{"$f":"(1-$S$118)/$T$118*T111","v":0.13072804623893103},{"$f":"SUM(U111,S111)","v":0.18876519760450305},1149.6142590698728]
["LAL1.12",2,"1.12 Domestic All Electric ",12255.518333195747,4264.5504087382687,{"$f":"D112/('Schedules 4.2,4.3,4.4'!$C$16/1000)","v":1399.0317731958617},0.15120693846409655,2865.5186355424071,0.30970440292603957,0.46091134139013612,2807.0335896307311,null,{"$f":"IF(E112<>0,+D112/(E112*('Schedules 4.2,4.3,4.4'!$C$16/1000)),0)","v":0.32806078932240507},2,"1.12 Domestic All Electric ",12255.518333195747,4264.5504087382687,{"$f":"P112/('Schedules 4.2,4.3,4.4'!$C$16/1000)","v":1399.0317731958617},0.15120693846409655,2865.5186355424071,0.30970440292603957,0.46091134139013612,2807.0335896307311]
["LAL2.1",3,"2.1 General Service 0-10 kW",6966.8445538907372,1974.2296804272014,{"$f":"D113/('Schedules 4.2,4.3,4.4'!$C$16/1000)","v":795.30188971355449},8.5955991995516776E-2,1178.927790713647,0.12741816541938925,0.21337415741490601,1299.4872836418651,null,{"$f":"IF(E113<>0,+D113/(E113*('Schedules 4.2,4.3,4.4'!$C$16/1000)),0)","v":0.40284162354476405},3,"2.1 General Service 0-10 kW",6966.8445538907372,1974.2296804272014,{"$f":"P113/('Schedules 4.2,4.3,4.4'!$C$16/1000)","v":795.30188971355449},8.5955991995516776E-2,1178.927790713647,0.12741816541938925,0.21337415741490601,1299.4872836418651]
["LAL2.2",4,"2.2 General Service 10-100 kW",0,0,{"$f":"D114/('Schedules 4.2,4.3,4.4'!$C$16/1000)","v":0},0,0,0,0,0,null,{"$f":"IF(E114<>0,+D114/(E114*('Schedules 4.2,4.3,4.4'!$C$16/1000)),0)","v":0},4,"2.2 General Service 10-100 kW",0,0,{"$f":"P114/('Schedules 4.2,4.3,4.4'!$C$16/1000)","v":0},0,0,0,0,0]
["LAL2.3",5,"2.3 General Service 110-1,000 kVa",3043.1867732021019,1252.309871912777,{"$f":"D115/('Schedules 4.2,4.3,4.4'!$C$16/1000)","v":347.39575036553674},3.7546429505469464E-2,904.91412154724026,9.780284945174704E-2,0.13534927895721649,824.30163514595915,null,{"$f":"IF(E115<>0,+D115/(E115*('Schedules 4.2,4.3,4.4'!$C$16/1000)),0)","v":0.27740398615154632},5,"2.3 General Service 110-1,000 kVa",3043.1867732021019,1252.309871912777,{"$f":"P115/('Schedules 4.2,4.3,4.4'!$C$16/1000)","v":347.39575036553674},3.7546429505469464E-2,904.91412154724026,9.780284945174704E-2,0.13534927895721649,824.30163514595915]
["LAL4.1",6,"4.1 Street and Area Lighting",56.972412214663152,14.804117605542984,{"$f":"D116/('Schedules 4.2,4.3,4.4'!$C$16/1000)","v":6.5037000245049263},7.0291796672196448E-4,8.300417581038058,8.9710666651644235E-4,1.6000246332384068E-3,9.7444399527915735,null,{"$f":"IF(E116<>0,+D116/(E116*('Schedules 4.2,4.3,4.4'!$C$16/1000)),0)","v":0.43931696557650957},6,"4.1 Street and Area Lighting",56.972412214663152,14.804117605542984,{"$f":"P116/('Schedules 4.2,4.3,4.4'!$C$16/1000)","v":6.5037000245049263},7.0291796672196448E-4,8.300417581038058,8.9710666651644235E-4,1.6000246332384068E-3,9.7444399527915735]
[null,null,null,null,null,null,null,null,null,null,null,null,null," "]
["LALTOT",{"$f":"MAX(B115:B117)+NoOne","v":7},"Total L'Anse Au Loup",{"$f":"SUM(D111:D116)","v":27026.508409321472},{"$f":"SUM(E111:E116)","v":9252.43105512685},{"$f":"SUM(F111:F116)","v":3085.2178549453738},0.33344942929737675,{"$f":"SUM(H111:H116)","v":6167.2132001814762},{"$f":"SUM(I111:I116)","v":0.66655057070262325},{"$f":"SUM(J111:J116)","v":1.0000000000000002},{"$f":"SUM(K111:K116)","v":6090.1812074412192},null,{"$f":"IF(K118<>0,+D118/(K118*('Schedules 4.2,4.3,4.4'!$C$16/1000)),0)","v":0.50658884355948808},{"$f":"MAX(N115:N117)+NoOne","v":7},"Total L'Anse au Loup",{"$f":"SUM(P111:P116)","v":27026.508409321472},{"$f":"SUM(Q111:Q116)","v":9252.43105512685},{"$f":"SUM(R111:R116)","v":3085.2178549453738},0.33344942929737675,{"$f":"SUM(T111:T116)","v":6167.2132001814762},{"$f":"SUM(U111:U116)","v":0.66655057070262325},{"$f":"SUM(V111:V116)","v":1.0000000000000002},{"$f":"SUM(W111:W116)","v":6090.1812074412192}]
[]
[]
[null,null,null,null,null,null,null,null,null,null,null,null,"BkpGenAED",null,null,null,null,null,null,null,null,null,"BkpTransAED"]
[null,null,null,null,null,null,null,null,null,null,null,null,"Page 5 of 5",null,null,null,null,null,null,null,null,null,"Page 5 of 5"]
[]
[]
[null,null,{"$f":"+B6","v":"NEWFOUNDLAND AND LABRADOR HYDRO"},null,null,null,null,null,null,null,null,null,null,null,{"$f":"+B6","v":"NEWFOUNDLAND AND LABRADOR HYDRO"}]
[null,null,{"$f":"RunName","v":"2019 Test Year Cost of Service Study"},null,null,null,null,null,null,null,null,null,null,null,{"$f":"RunName","v":"2019 Test Year Cost of Service Study"}]
[null,null,"Labrador Interconnected",null,null,null,null,null,null,null,null,null,null,null,"Labrador Interconnected"]
[null,null,"Calculation of Generation AED Factors",null,null,null,null,null,null,null,null,null,null,null,"Calculation of Transmission AED Factors"]
[]
[null,null,{"$f":"MAX(B130)+NoOne","v":1},2,3,4,5,6,7,8,9,null,{"$f":"MAX(K130)+NoOne","v":10},null,{"$f":"MAX(N130)+NoOne","v":1},2,3,4,5,6,7,8,9]
[]
[null,"Line",null,"Sales + Losses","Class NCP",null,null,null,null,null,null,null,"Maximum","Line",null,"Trans Output","Class NCP"]
[null,"No.",null,"for AED","at","Average Demand",null,"Excess Demand",null," Total",null," ","Peak","No.",null,"for AED","at"," Average Demand",null,"Excess Demand",null," Total"]
[null,null,null,"MWh","Generator","Amount","Weighted","Amount","Weighted","Weighted","Amount",null,"Load Factor",null,null,"MWh","Transmission","Amount","Weighted","Amount","Weighted","Weighted","Amount"]
[null,null,"Labrador Interconnected",null,null,null,null,null,null,null,null,null,null,null,"Labrador Interconnected"]
["LINTIOCF",{"$f":"MAX(B133:B135)+NoOne","v":1},"Labrador Industrial Firm",1841096.6922695739,265406.28345845774,{"$f":"D136/('Schedules 4.2,4.3,4.4'!$C$16/1000)","v":210170.85528191485},{"$f":"$G$147/$F$147*F136","v":0.4501767478830947},{"$f":"E136-F136","v":55235.42817654289},{"$f":"(1-$G$147)/$H$147*H136","v":0.11831186294166456},{"$f":"SUM(I136,G136)","v":0.56848861082475921},233719.25808101182,null,{"$f":"IF(E136<>0,+D136/(E136*('Schedules 4.2,4.3,4.4'!$C$16/1000)),0)","v":0.79188349478097975},{"$f":"MAX(N133:N135)+NoOne","v":1},{"$f":"+C136","v":"Labrador Industrial Firm"},1733100,245000,{"$f":"P136/('Schedules 4.2,4.3,4.4'!$C$16/1000)","v":197842.46575342465},{"$f":"$S$147/$R$147*R136","v":0.45906607558493634},{"$f":"Q136-R136","v":47157.534246575349},{"$f":"(1-$S$147)/$T$147*T136","v":0.10942253523982304},{"$f":"SUM(U136,S136)","v":0.56848861082475932},215749.29381357555]
["LINTIOCNF",2,"Labrador Industrial Non-Firm",0,0,{"$f":"D137/('Schedules 4.2,4.3,4.4'!$C$16/1000)","v":0},0,0,0,0,0,null,{"$f":"IF(E137<>0,+D137/(E137*('Schedules 4.2,4.3,4.4'!$C$16/1000)),0)","v":0},2,"Labrador Industrial Non-Firm",0,0,{"$f":"P137/('Schedules 4.2,4.3,4.4'!$C$16/1000)","v":0},0,0,0,0,0]
["LINTCFB",3,"CFB - Goose Bay Secondary",0,0,{"$f":"D138/('Schedules 4.2,4.3,4.4'!$C$16/1000)","v":0},0,{"$f":"E138-F138","v":0},0,{"$f":"SUM(I138,G138)","v":0},0,null,{"$f":"IF(E138<>0,+D138/(E138*('Schedules 4.2,4.3,4.4'!$C$16/1000)),0)","v":0},3,"CFB - Goose Bay Secondary",0,0,{"$f":"P138/('Schedules 4.2,4.3,4.4'!$C$16/1000)","v":0},0,{"$f":"Q138-R138","v":0},0,{"$f":"SUM(U138,S138)","v":0},0]
["LINT1.1",4,"1.1 Domestic ",2370.4745439559733,945.55298660895392,{"$f":"D139/('Schedules 4.2,4.3,4.4'!$C$16/1000)","v":270.60211688995128},5.7961785799651644E-4,674.95086971900264,1.4457151402053263E-3,2.0253329982018427E-3,832.66281275183258,null,{"$f":"IF(E139<>0,+D139/(E139*('Schedules 4.2,4.3,4.4'!$C$16/1000)),0)","v":0.28618397987447997},4,"1.1 Domestic ",2231.4251333892262,872.85228782254489,{"$f":"P139/('Schedules 4.2,4.3,4.4'!$C$16/1000)","v":254.72889650561945},5.9106316943429999E-4,618.12339131692545,1.4342698287675435E-3,2.0253329982018436E-3,768.64189673990984]
["LINT1.1A",5,"1.1A Domestic All Electric ",350553.26615970291,112493.68855024107,{"$f":"D140/('Schedules 4.2,4.3,4.4'!$C$16/1000)","v":40017.496136952388},8.5715720408488599E-2,72476.192413288692,0.15524082326162217,0.24095654367011077,99062.995359995155,null,{"$f":"IF(E140<>0,+D140/(E140*('Schedules 4.2,4.3,4.4'!$C$16/1000)),0)","v":0.35573103391556121},5,"1.1A Domestic All Electric ",329990.19993482472,103844.39032741661,{"$f":"P140/('Schedules 4.2,4.3,4.4'!$C$16/1000)","v":37670.114147811044},8.7408289230609032E-2,66174.276179605571,0.15354825443950182,0.24095654367011085,91446.342365883407]
["LINT2.1",6,"2.1 General Service 0-10 kW",7353.4453124897627,2108.0408230134785,{"$f":"D141/('Schedules 4.2,4.3,4.4'!$C$16/1000)","v":839.43439640294093},1.798031635390134E-3,1268.6064266105377,2.7172992882818054E-3,4.515330923671939E-3,1856.3604852871283,null,{"$f":"IF(E141<>0,+D141/(E141*('Schedules 4.2,4.3,4.4'!$C$16/1000)),0)","v":0.39820594897349093},6,"2.1 General Service 0-10 kW",6922.1003571332203,1945.9599633749506,{"$f":"P141/('Schedules 4.2,4.3,4.4'!$C$16/1000)","v":790.19410469557306},1.8335361177971459E-3,1155.7658586793775,2.6817948058747943E-3,4.5153309236719407E-3,1713.6305628066818]
["LINT2.2",7,"2.2 General Service 10-100 kW",79546.509082105491,23487.353047479817,{"$f":"D142/('Schedules 4.2,4.3,4.4'!$C$16/1000)","v":9080.6517217015407},1.945035744966294E-2,14406.701325778276,3.0858521948071514E-2,5.0308879397734457E-2,20683.182994056737,null,{"$f":"IF(E142<>0,+D142/(E142*('Schedules 4.2,4.3,4.4'!$C$16/1000)),0)","v":0.38661877749037754},7,"2.2 General Service 10-100 kW",74880.398986677028,21681.481770695351,{"$f":"P142/('Schedules 4.2,4.3,4.4'!$C$16/1000)","v":8547.9907519037697},1.9834430154663935E-2,13133.491018791581,3.0474449243070537E-2,5.0308879397734471E-2,19092.915840242589]
["LINT2.3",8,"2.3 General Service 110-1,000 kVa",145286.92523683928,30744.381135304706,{"$f":"D143/('Schedules 4.2,4.3,4.4'!$C$16/1000)","v":16585.265437995353},3.552491066204036E-2,14159.115697309353,3.0328204398108519E-2,6.5853115060148876E-2,27073.789872152662,null,{"$f":"IF(E143<>0,+D143/(E143*('Schedules 4.2,4.3,4.4'!$C$16/1000)),0)","v":0.5394567991140985},8,"2.3 General Service 110-1,000 kVa",136764.55516172206,28380.538998537479,{"$f":"P143/('Schedules 4.2,4.3,4.4'!$C$16/1000)","v":15612.392141749095},3.6226396409446249E-2,12768.146856788384,2.9626718650702644E-2,6.585311506014889E-2,24992.168355033071]
["LINT2.4",9,"2.4 General Service Over 1,000 kVa",143658.67825442515,31169.52755887591,{"$f":"D144/('Schedules 4.2,4.3,4.4'!$C$16/1000)","v":16399.39249479739},3.5126778975436722E-2,14770.13506407852,3.1636981064867419E-2,6.676376004030414E-2,27448.177793184721,null,{"$f":"IF(E144<>0,+D144/(E144*('Schedules 4.2,4.3,4.4'!$C$16/1000)),0)","v":0.52613542068678099},9,"2.4 General Service Over 1,000 kVa",135231.81934340755,28772.997204189753,{"$f":"P144/('Schedules 4.2,4.3,4.4'!$C$16/1000)","v":15437.422299475747},3.5820403092833179E-2,13335.574904714005,3.0943356947470978E-2,6.6763760040304154E-2,25337.770725322138]
["LINT4.1",10,"4.1 Street and Area Lighting",2021.7426442237197,508.14630577114605,{"$f":"D145/('Schedules 4.2,4.3,4.4'!$C$16/1000)","v":230.79253929494519},4.9434748997959717E-4,277.35376647620086,5.9407959508897415E-4,1.0884270850685714E-3,447.47839438408965,null,{"$f":"IF(E145<>0,+D145/(E145*('Schedules 4.2,4.3,4.4'!$C$16/1000)),0)","v":0.45418521530861478},10,"4.1 Street and Area Lighting",1903.1494605450571,469.07647886722799,{"$f":"P145/('Schedules 4.2,4.3,4.4'!$C$16/1000)","v":217.25450462843119},5.0410902665974731E-4,251.8219742387968,5.8431805840882434E-4,1.0884270850685716E-3,413.0731390210737]
[]
["LINTTOT",{"$f":"MAX(B144:B146)+NoOne","v":11},"Total Labrador Interconnected",{"$f":"SUM(D136:D145)","v":2571887.7335033161},{"$f":"SUM(E136:E145)","v":466862.97386575275},{"$f":"SUM(F136:F145)","v":293594.49012594938},0.62886651236208968,{"$f":"SUM(H136:H145)","v":173268.48373980349},{"$f":"SUM(I136:I145)","v":0.37113348763791026},{"$f":"SUM(J136:J145)","v":0.99999999999999989},{"$f":"SUM(K136:K145)","v":411123.90579282417},null,{"$f":"IF(K147<>0,+D147/(K147*('Schedules 4.2,4.3,4.4'!$C$16/1000)),0)","v":0.71412653457787278},{"$f":"MAX(N144:N146)+NoOne","v":11},{"$f":"+C147","v":"Total Labrador Interconnected"},{"$f":"SUM(P136:P145)","v":2421023.6483776988},{"$f":"SUM(Q136:Q145)","v":430967.29703090392},{"$f":"SUM(R136:R145)","v":276372.56260019389},0.64128430278637982,{"$f":"SUM(T136:T145)","v":154594.73443071},{"$f":"SUM(U136:U145)","v":0.35871569721362012},{"$f":"SUM(V136:V145)","v":1},{"$f":"SUM(W136:W145)","v":379513.83669862442}]

{"sheet":"AllocDep","index":27,"n_rows":29,"n_cols":13,"rows_kept":29,"cut":false,"hidden":false,"merged":[]}
[null,null,null,null,null,null,null,null,null,null,null,"BkpAllocDep"]
[null,null,null,null,null,null,null,null,null,null,null,"Page 1 of 1"]
[]
[]
["NEWFOUNDLAND AND LABRADOR HYDRO"]
[{"$f":"RunName","v":"2019 Test Year Cost of Service Study"}]
["Depreciation Totals and Allocation Factors"]
[]
[null,{"$f":"MAX(A9)+NoOne","v":1},2,3,4,5,6,7,8,9,10,11]
[]
["Line ",null,null,null,"Island","Island","Labrador","L'Anse au","All Sys","All Sys","Labrador","Not in"]
["No",null,"Ref.","Total","Interconnected","Isolated","Isolated","Loup","G Plant","Meters","Interconnected","Operation"]
[null,null,null,null,5,6,9,7,3,4,8]
[]
[{"$f":"MAX(A12:A14)+NoOne","v":1},"Depreciation:"]
[2,"Total Deprecn, Input File","Grand Total",{"$f":"SUM(E16:L16)","v":91511670.888337567},76550143.138513789,857282.100224667,4496917.8876393326,872203.00135599985,2882062.601303116,347253.06224699994,5505809.0970536657]
[3,"Less assets not in operation","NIO",-1427219.9259282551,-1385556.7619162551,0,-27452.871957999996,0,-5284.5320510000001,0,-8925.7600029999994]
[4,"Less coding excluded",null,{"$f":"SUM(E18:L18)","v":0},{"$f":"IFERROR(-SUMIF(#REF!,\"=*missed*\",#REF!),0)","v":0},null,null,null,null,null,{"$f":"IFERROR(-SUMIF(#REF!,\"=*missed*\",#REF!),0)","v":0},null,"Note:  Delete this line for subsequent runs."]
[5,"Plus accretion",null,364000,364000]
[6,"Meters to be Allocated",null,-550586.4832299999,{"$f":"-SystemizedPlant!E36","v":-42304.518169999974},{"$f":"-SystemizedPlant!F36","v":-2.9399999999999999E-4},{"$f":"-SystemizedPlant!G36","v":0},{"$f":"-SystemizedPlant!H36","v":0},{"$f":"-SystemizedPlant!I36","v":0},{"$f":"-SystemizedPlant!J36","v":-347253.06224699994},{"$f":"-SystemizedPlant!K36","v":-161028.90251900002}]
[7,"Allocated Meters",null,550586.4832299999,{"$f":"+SystemizedPlant!E38","v":339056.72210774937},{"$f":"+SystemizedPlant!F38","v":9011.5750923285323},{"$f":"+SystemizedPlant!G38","v":35728.598561380313},{"$f":"+SystemizedPlant!H38","v":12184.254391548144},{"$f":"+SystemizedPlant!I38","v":0},{"$f":"+SystemizedPlant!J38","v":0},{"$f":"+SystemizedPlant!K38","v":154605.3330769935}]
[8,"Software Customer Services to be Allocated",null,0,{"$f":"-SystemizedPlant!E54","v":0}]
[9,"Allocated Software Customer Services",null,0,{"$f":"+SystemizedPlant!E55","v":0},{"$f":"+SystemizedPlant!F55","v":0},{"$f":"+SystemizedPlant!G55","v":0},{"$f":"+SystemizedPlant!H55","v":0},null,null,{"$f":"+SystemizedPlant!K55","v":0}]
[10,"Software General to be Allocated",null,-911461.08214233373,{"$f":"-SystemizedPlant!E73","v":-299754.05339600029},{"$f":"-SystemizedPlant!F73","v":-2.0340000000000002E-3},{"$f":"-SystemizedPlant!G73","v":0},{"$f":"-SystemizedPlant!H73","v":0},{"$f":"-SystemizedPlant!I73","v":-611818.91073833348},{"$f":"-SystemizedPlant!J73","v":0},{"$f":"-SystemizedPlant!K73","v":111.88402600000001}]
[11,"Allocated Software General",null,911461.08214233362,{"$f":"+SystemizedPlant!E74","v":790746.41222784808},{"$f":"+SystemizedPlant!F74","v":9264.5465242703685},{"$f":"+SystemizedPlant!G74","v":47229.716857462678},{"$f":"+SystemizedPlant!H74","v":9012.6300771216156},{"$f":"+SystemizedPlant!I74","v":0},{"$f":"+SystemizedPlant!J74","v":0},{"$f":"+SystemizedPlant!K74","v":55207.776455630861}]
[12,"General Plant to be Allocated",null,-3002178.158513783,{"$f":"+SystemizedPlant!E116","v":-737219},{"$f":"+SystemizedPlant!F116","v":0},{"$f":"+SystemizedPlant!G116","v":0},{"$f":"+SystemizedPlant!H116","v":0},{"$f":"+SystemizedPlant!I116","v":-2264959.158513783},{"$f":"+SystemizedPlant!J116","v":0},{"$f":"+SystemizedPlant!K116","v":0}]
[13,"Allocated General Plant",null,3002178.1585137835,{"$f":"+SystemizedPlant!E117","v":2237977.1816346506},{"$f":"+SystemizedPlant!F117","v":148250.01154967051},{"$f":"+SystemizedPlant!G117","v":351686.92931144551},{"$f":"+SystemizedPlant!H117","v":31728.444953847869},{"$f":"+SystemizedPlant!I117","v":0},{"$f":"+SystemizedPlant!J117","v":0},{"$f":"+SystemizedPlant!K117","v":232535.59106416901}]
[14,"Holyrood Impairment Inventory Allowance",null,2081000,2081000]
[{"$f":"MAX(A25:A28)+NoOne","v":15},"Total Deprecn, COS Schedules",null,{"$f":"SUM(D16:D28)","v":92529450.962409317},{"$f":"SUM(E16:E28)","v":79898089.121001795},1023808.2310629362,4904110.260411622,925128.33077851753,-4.6566128730773926E-10,0,5778315.0191544602,0]

{"sheet":"AllocMisc","index":28,"n_rows":49,"n_cols":11,"rows_kept":49,"cut":false,"hidden":false,"merged":[]}
[null,"                                     NEWFOUNDLAND & LABRADOR HYDRO",null,null,null,null,null,null,null,null,"BkpAllocMisc"]
[null,{"$f":"RunName","v":"2019 Test Year Cost of Service Study"}]
[null,"Miscellaneous Cost of Service-Dependent O&M Totals and Allocation Factors"]
[]
[null,{"$f":"MAX(A5)+NoOne","v":1},2,3,4,5,6,7,8,9,10]
[]
["Line",null,null,"Function",null,"Island","Island","Labrador","L'Anse au","Labrador"]
["No.",null,"Ref.","Code","Total","Interconnected","Isolated","Isolated","Loup","Interconnected","Notes"]
[]
[{"$f":"MAX(A7:A9)+NoOne","v":1},"Alloc Basis:  Customers",null,null,{"$f":"SUM(F10:J10)","v":40061.25},{"$f":"+Customers!J$4","v":23853},{"$f":"+Customers!K$4","v":826.5},{"$f":"+Customers!L$4","v":2789},{"$f":"+Customers!R$4","v":933.5},{"$f":"+Customers!S$4","v":11659.25}]
[{"$f":"MAX(A8:A10)+NoOne","v":2},"Customer Related",null,500,{"$f":"+'O&M Summary'!K51","v":3625093.9072350003}]
[{"$f":"MAX(A9:A11)+NoOne","v":3},"Allocation",null,null,{"$f":"SUM(F12:J12)","v":3625093.9072350003},{"$f":"F10/$E$10*$E11","v":2158429.029780061},{"$f":"G10/$E$10*$E11","v":74788.982229204717},{"$f":"H10/$E$10*$E11","v":252373.22617937322},{"$f":"I10/$E$10*$E11","v":84471.282408908184},{"$f":"J10/$E$10*$E11","v":1055031.3866374532},{"$f":"+\"To O&M Summary, L. \"&'O&M Summary'!C52","v":"To O&M Summary, L. 45"}]
[]
[{"$f":"MAX(A11:A13)+NoOne","v":4},"CDM",null,null,{"$f":"'O&M Summary'!K64","v":509565.1}]
[{"$f":"MAX(A12:A14)+NoOne","v":5},"Allocation",null,null,null,{"$f":"F$10/$E$10*$E$14","v":303401.82421417203},{"$f":"G$10/$E$10*$E$14","v":10512.791167275109},{"$f":"H$10/$E$10*$E$14","v":35475.105342444382},{"$f":"I$10/$E$10*$E$14","v":11873.793774532747},{"$f":"J$10/$E$10*$E$14","v":148301.5855015757},{"$f":"+\"To O&M Summary, L. \"&'O&M Summary'!C65","v":"To O&M Summary, L. 57"}]
[]
[{"$f":"MAX(A14:A16)+NoOne","v":6},"Alloc Basis:  Weighted Customers",null,null,{"$f":"SUM(F17:J17)","v":55919.03903678972},{"$f":"+Customers!J3","v":34435.509509791285},{"$f":"+Customers!K3","v":915.23972113273999},{"$f":"+Customers!L3","v":3628.6922373446932},{"$f":"+Customers!R3","v":1237.4655348568378},{"$f":"+Customers!S3","v":15702.13203366416}]
[{"$f":"MAX(A15:A17)+NoOne","v":7},"Rural Customer Metering",null,360,{"$f":"+'O&M Summary'!K41","v":420920.69799999997}]
[{"$f":"MAX(A16:A18)+NoOne","v":8},"Allocation",null,null,{"$f":"SUM(F19:J19)","v":420920.69799999997},{"$f":"F17/$E17*$E18","v":259207.22080561548},{"$f":"G17/$E17*$E18","v":6889.3054832909884},{"$f":"H17/$E17*$E18","v":27314.340440747255},{"$f":"I17/$E17*$E18","v":9314.8034310853309},{"$f":"J17/$E17*$E18","v":118195.0278392609}]
[]
[]
[null,"Expense Credits Systemized  based on Total O&M"]
[]
[{"$f":"MAX(A19:A23)+NoOne","v":9},"Alloc Basis:  Total O&M, By System",null,null,{"$f":"SUM(F24:J24)","v":145333861.5},{"$f":"+IslIntCos!F271","v":109154478.10200946},{"$f":"+IslIsoCos!$F$236","v":7201895.5445871726},{"$f":"+LabIsoCos!$F$236","v":15961567.781486383},{"$f":"+LALCos!$F$236","v":1552473.0419806368},{"$f":"+LabIntCos!F242","v":11463447.029936356}]
[{"$f":"MAX(A22:A24)+NoOne","v":10},"Sundry Revenue","EXPCR1",null,456000]
[{"$f":"MAX(A23:A25)+NoOne","v":11},"Allocation",null,null,{"$f":"SUM(F26:J26)","v":456000},{"$f":"+$E25*(F$24/$E$24)","v":342483.44811588392},{"$f":"+$E25*(G$24/$E$24)","v":22596.691056280444},{"$f":"+$E25*(H$24/$E$24)","v":50081.067366105803},{"$f":"+$E25*(I$24/$E$24)","v":4871.0445028887534},{"$f":"+$E25*(J$24/$E$24)","v":35967.748958841083}]
[]
[{"$f":"MAX(A25:A27)+NoOne","v":12},"Tax Refund","EXPCR3",null,0]
[{"$f":"MAX(A26:A28)+NoOne","v":13},"Allocation",null,null,{"$f":"SUM(F29:J29)","v":0},{"$f":"+$E28*(F$24/$E$24)","v":0},{"$f":"+$E28*(G$24/$E$24)","v":0},{"$f":"+$E28*(H$24/$E$24)","v":0},{"$f":"+$E28*(I$24/$E$24)","v":0},{"$f":"+$E28*(J$24/$E$24)","v":0}]
[]
[{"$f":"MAX(A28:A30)+NoOne","v":14},"Supplier's Discounts","EXPCR4",null,39600]
[{"$f":"MAX(A29:A31)+NoOne","v":15},"Allocation",null,null,{"$f":"SUM(F32:J32)","v":39600},{"$f":"+$E31*(F$24/$E$24)","v":29741.983652168867},{"$f":"+$E31*(G$24/$E$24)","v":1962.3442233085648},{"$f":"+$E31*(H$24/$E$24)","v":4349.1453238986614},{"$f":"+$E31*(I$24/$E$24)","v":423.01175946139176},{"$f":"+$E31*(J$24/$E$24)","v":3123.515041162515}]
[]
[null,"Expenses Credit:  Meter  Test Revenues "]
[]
[{"$f":"MAX(A32:A35)+NoOne","v":16},"Alloc Basis:  Weighted Customers",null,null,{"$f":"SUM(F36:J36)","v":55919.03903678972},{"$f":"+F17","v":34435.509509791285},{"$f":"+G17","v":915.23972113273999},{"$f":"+H17","v":3628.6922373446932},{"$f":"+I17","v":1237.4655348568378},{"$f":"+J17","v":15702.13203366416}]
[{"$f":"MAX(A34:A36)+NoOne","v":17},"Meter Test Revenues","EXPCR10",null,0]
[{"$f":"MAX(A35:A37)+NoOne","v":18},"Allocation",null,null,{"$f":"SUM(F38:J38)","v":0},{"$f":"+$E37*(F$36/$E$36)","v":0},{"$f":"+$E37*(G$36/$E$36)","v":0},{"$f":"+$E37*(H$36/$E$36)","v":0},{"$f":"+$E37*(I$36/$E$36)","v":0},{"$f":"+$E37*(J$36/$E$36)","v":0}]
[]
[]
[null,"Municipal Tax:"]
[{"$f":"MAX(A38:A41)+NoOne","v":19},"Allocation Basis:  Prior Year Rural Revenues:",null,null,{"$f":"SUM(F42:J42)","v":86495075.715387195},52482706.569903731,1607630.2753285989,9048569.555805197,3119775.2123217601,20236394.102027915]
[{"$f":"MAX(A40:A42)+NoOne","v":20},"Municipal Tax","MTAX",null,{"$f":"+'O&M Summary'!K100","v":2165172}]
[{"$f":"MAX(A41:A43)+NoOne","v":21},"Allocation",null,null,{"$f":"SUM(F44:J44)","v":2165172},{"$f":"+F42/$E$42*$E$43","v":1313763.6542834595},{"$f":"+G42/$E$42*$E$43","v":40242.707803937454},{"$f":"+H42/$E$42*$E$43","v":226506.64538116066},{"$f":"+I42/$E$42*$E$43","v":78095.196520088881},{"$f":"+J42/$E$42*$E$43","v":506563.79601135361},{"$f":"+\"To O&M Summary, L. \"&'O&M Summary'!C101","v":"To O&M Summary, L. 93"}]
[]
[null,"PUB Assessment:"]
[{"$f":"MAX(A44:A46)+NoOne","v":22},"Allocation Basis:  Prior Year Revenues + RSP Amortization",null,null,{"$f":"SUM(F47:J47)","v":618694441.63538718},584682072.48990369,1607630.2753285989,9048569.555805197,3119775.2123217601,20236394.102027915]
[{"$f":"MAX(A45:A47)+NoOne","v":23},"PUB Assessment","PUBASS",null,{"$f":"+'O&M Summary'!K104","v":1100000}]
[{"$f":"MAX(A46:A48)+NoOne","v":24},"Allocation",null,null,{"$f":"SUM(F49:J49)","v":1099999.9999999998},{"$f":"+F47/$E$47*$E$48","v":1039528.1361165345},{"$f":"+G47/$E$47*$E$48","v":2858.2660257737034},{"$f":"+H47/$E$47*$E$48","v":16087.790420544186},{"$f":"+I47/$E$47*$E$48","v":5546.7650953560014},{"$f":"+J47/$E$47*$E$48","v":35979.042341791595},{"$f":"+\"To O&M Summary, L. \"&'O&M Summary'!C105","v":"To O&M Summary, L. 97"}]

{"sheet":"AllocNBV","index":29,"n_rows":51,"n_cols":12,"rows_kept":51,"cut":false,"hidden":false,"merged":[]}
[null,null,null,null,null,null,null,null,null,null,null,"BkpAllocNBV"]
[null,null,null,null,null,null,null,null,null,null,null,"Page 1 of 1"]
["NEWFOUNDLAND AND LABRADOR HYDRO"]
[{"$f":"RunName","v":"2019 Test Year Cost of Service Study"}]
["Net Book Value Totals and Allocation Factors"]
[]
[null,{"$f":"MAX(A7)+NoOne","v":1},2,3,4,5,6,7,8,9,10,11]
[]
["Line ",null,null,null,"Island","Island","Labrador","L'Anse au","All Sys","All Sys","Labrador","Not in"]
["No","Description","Ref.","Total","Interconnected","Isolated","Isolated","Loup","G Plant","Meters","Interconnected","Operation"]
[null,null,null,null,{"$f":"AllocDep!E13","v":5},{"$f":"AllocDep!F13","v":6},{"$f":"AllocDep!G13","v":9},{"$f":"AllocDep!H13","v":7},{"$f":"AllocDep!I13","v":3},{"$f":"AllocDep!J13","v":4},{"$f":"AllocDep!K13","v":8}]
[]
[{"$f":"MAX(A10:A12)+NoOne","v":1},"Net Book Value:"]
[2,"Total NBV in Service, Input File","Grand Total",{"$f":"SUM(E14:L14)","v":2181428590.5062747},1906291830.7975483,15674372.072333502,84107704.185484558,14677882.494216003,27100344.329301365,4655600.5232961671,128920856.10409471]
[3,"Less assets not in operation","NIO",{"$f":"SUM(E15:L15)","v":-6415332.1291499464},-5905784.885167947,0,-327976.072063,0,-6004.2019234999998,0,-175566.96999550003]
[4,"Less coding excluded",null,{"$f":"SUM(E16:L16)","v":0}]
[5,"Meters to be Allocated",null,-7884982.7751549995,{"$f":"-SystemizedPlant!E27","v":-393897.62274499988},{"$f":"-SystemizedPlant!F27","v":-9.5589999999999998E-3},{"$f":"-SystemizedPlant!G27","v":0},{"$f":"-SystemizedPlant!H27","v":0},{"$f":"-SystemizedPlant!I27","v":0},{"$f":"-SystemizedPlant!J27","v":-4655600.5232961671},{"$f":"-SystemizedPlant!K27","v":-2835484.6195548326}]
[6,"Allocated Meters",null,7884982.7751549995,{"$f":"+SystemizedPlant!E29","v":4855652.1001684666},{"$f":"+SystemizedPlant!F29","v":129055.31927187466},{"$f":"+SystemizedPlant!G29","v":511671.4500221886},{"$f":"+SystemizedPlant!H29","v":174491.45398894718},{"$f":"+SystemizedPlant!I29","v":0},{"$f":"+SystemizedPlant!J29","v":0},{"$f":"+SystemizedPlant!K29","v":2214112.4517035224}]
[7,"Software Customer Services to be Allocated",null,0,{"$f":"-SystemizedPlant!E50","v":0}]
[8,"Allocated Software Customer Services",null,0,{"$f":"+SystemizedPlant!E51","v":0},{"$f":"+SystemizedPlant!F51","v":0},{"$f":"+SystemizedPlant!G51","v":0},{"$f":"+SystemizedPlant!H51","v":0},null,null,{"$f":"+SystemizedPlant!K51","v":0}]
[9,"Software General to be Allocated",null,-1690245.8804318346,{"$f":"-SystemizedPlant!E67","v":-421314.78113000112},{"$f":"-SystemizedPlant!F67","v":-6.9490000000000003E-3},{"$f":"-SystemizedPlant!G67","v":0},{"$f":"-SystemizedPlant!H67","v":0},{"$f":"-SystemizedPlant!I67","v":-1270823.1063138333},{"$f":"-SystemizedPlant!J67","v":0},{"$f":"-SystemizedPlant!K67","v":1892.0139610000001}]
[10,"Allocated Software General",null,1690245.8804318344,{"$f":"+SystemizedPlant!E68","v":1499144.7801275149},{"$f":"+SystemizedPlant!F68","v":12780.010302598268},{"$f":"+SystemizedPlant!G68","v":67113.755622755023},{"$f":"+SystemizedPlant!H68","v":11784.225118861175},{"$f":"+SystemizedPlant!I68","v":0},{"$f":"+SystemizedPlant!J68","v":0},{"$f":"+SystemizedPlant!K68","v":99423.109260105019}]
[11,"General Plant to be Allocated",null,-33026318.021064028,{"$f":"+SystemizedPlant!E106","v":-7202801},{"$f":"+SystemizedPlant!F106","v":0},{"$f":"+SystemizedPlant!G106","v":0},{"$f":"+SystemizedPlant!H106","v":0},{"$f":"+SystemizedPlant!I106","v":-25823517.021064028},{"$f":"+SystemizedPlant!J106","v":0},{"$f":"+SystemizedPlant!K106","v":0}]
[12,"Allocated General Plant",null,33026318.021064036,{"$f":"+SystemizedPlant!E107","v":24619506.978606652},{"$f":"+SystemizedPlant!F107","v":1630866.5807127368},{"$f":"+SystemizedPlant!G107","v":3868832.4802953028},{"$f":"+SystemizedPlant!H107","v":349037.81788831274},{"$f":"+SystemizedPlant!I107","v":0},{"$f":"+SystemizedPlant!J107","v":0},{"$f":"+SystemizedPlant!K107","v":2558074.1635610303}]
[13,"Gain or Loss on Disposal",null,3987167.453101167,{"$f":"SystemizedPlant!E108","v":3780503.7237921669},{"$f":"SystemizedPlant!F108","v":48098.662606666665},{"$f":"SystemizedPlant!G108","v":155908.65272133335},{"$f":"SystemizedPlant!H108","v":0},{"$f":"SystemizedPlant!I108","v":0},{"$f":"SystemizedPlant!J108","v":0},{"$f":"SystemizedPlant!K108","v":2656.4139810000001}]
[14,"Total NBV in Service, COS Schedules",null,{"$f":"SUM(D14:D25)","v":2179000425.8302259},{"$f":"SUM(E14:E25)","v":1927122840.0912001},17495172.628719378,88383254.452083141,15213195.991212122,3.7252902984619141E-9,0,130785962.66701105,0]
[]
[{"$f":"MAX(A24:A27)+NoOne","v":15},"Assets Not in Operation","NIO",{"$f":"SUM(E28:L28)","v":6415332.1291499464},null,null,null,null,null,null,null,{"$f":"-D15","v":6415332.1291499464}]
[{"$f":"MAX(A26:A28)+NoOne","v":16},"Total Net Book Value",null,{"$f":"SUM(D26:D28)","v":2185415757.9593759},1927122840.0912001,17495172.628719378,88383254.452083141,15213195.991212122,3.7252902984619141E-9,0,130785962.66701105,6415332.1291499464]
[]
[]
[{"$f":"MAX(A29:A31)+NoOne","v":17},"Total Net Book Value, Incl. Assets Not in Operation",null,{"$f":"SUM(E32:L32)","v":0.99999999999999989},{"$f":"E29/$D$29","v":0.88181062714155778},8.005420737450631E-3,4.044230674652529E-2,6.9612365225266747E-3,null,null,5.9844888639922676E-2,2.9355202120168841E-3]
[{"$f":"MAX(A30:A32)+NoOne","v":18},"Total Net Book Value in Service",null,{"$f":"SUM(E33:L33)","v":0.99999999999999989},{"$f":"E26/$D26","v":0.88440682124095626},8.0289899998773531E-3,4.0561375484086025E-2,6.9817315365671428E-3,null,null,6.0021081738513199E-2,0]
[]
[]
[null,"Net Interest Allocation:"]
[{"$f":"MAX(A33:A36)+NoOne","v":19},"Net Interest (Incl. Debt Guarantee Fee)",null,97889000]
[{"$f":"MAX(A35:A37)+NoOne","v":20},"Allocated Net Interest",null,{"$f":"SUM(E38:H38,K38:L38)","v":97889000.000000015},{"$f":"+AllocNBV!E32*AllocNBV!$D37","v":86319560.480259955},{"$f":"+AllocNBV!F32*AllocNBV!$D37","v":783642.6305683048},{"$f":"+AllocNBV!G32*AllocNBV!$D37","v":3958856.965110614},{"$f":"+AllocNBV!H32*AllocNBV!$D37","v":681428.48195361369},null,null,{"$f":"+AllocNBV!K32*AllocNBV!$D37","v":5858156.3040733906},{"$f":"+AllocNBV!L32*AllocNBV!$D37","v":287355.13803412078}]
[]
[null,"Gross Interest Allocation:"]
[{"$f":"MAX(A38:A40)+NoOne","v":21},"Gross Interest",null,94100000]
[{"$f":"MAX(A39:A41)+NoOne","v":22},"Allocated Gross Interest",null,{"$f":"SUM(E42:H42,K42:L42)","v":94100000},{"$f":"$D41*AllocNBV!E32","v":82978380.014020592},{"$f":"$D41*AllocNBV!F32","v":753310.09139410441},{"$f":"$D41*AllocNBV!G32","v":3805621.06484803},{"$f":"$D41*AllocNBV!H32","v":655052.35676976014},null,null,{"$f":"$D41*AllocNBV!K32","v":5631404.0210167235},{"$f":"$D41*AllocNBV!L32","v":276232.45195078879}]
[{"$f":"MAX(A40:A42)+NoOne","v":23},"Rural Portion of Gross Interest",null,{"$f":"SUM(E43:K43)","v":5213983.5130118942},{"$f":"-E47/E46*E42","v":0},{"$f":"+F42","v":753310.09139410441},{"$f":"+G42","v":3805621.06484803},{"$f":"+H42","v":655052.35676976014}]
[]
[null,"Margin Allocation:"]
[{"$f":"MAX(A43:A45)+NoOne","v":24},"Allocation Basis:  NBV",null,{"$f":"SUM(E46:H46,K46:L46)","v":2179000425.8302259},{"$f":"+AllocNBV!E$29","v":1927122840.0912001},{"$f":"+AllocNBV!F$29","v":17495172.628719378},{"$f":"+AllocNBV!G$29","v":88383254.452083141},{"$f":"+AllocNBV!H$29","v":15213195.991212122},null,null,{"$f":"+AllocNBV!K$29","v":130785962.66701105}]
[{"$f":"MAX(A44:A46)+NoOne","v":25},"Less:  Rural Portion",null,null,{"$f":"IF(RuralMarginSwitch=1,-SUM(IslIntCos!J116:U116),0)","v":0},{"$f":"-F46","v":-17495172.628719378},{"$f":"-G46","v":-88383254.452083141},{"$f":"-H46","v":-15213195.991212122},null,null,0]
[{"$f":"MAX(A45:A47)+NoOne","v":26},"Net Allocation Basis",null,{"$f":"SUM(E48:H48,K48:L48)","v":2057908802.7582111},{"$f":"SUM(E46:E47)","v":1927122840.0912001},0,0,0,null,null,130785962.66701105,0]
[]
[{"$f":"MAX(A47:A49)+NoOne","v":27},"Margin",null,{"$f":"IF(TestYrSwitch=0,+Reconciliation!H72,Coverage!D13-Coverage!D18)","v":36818077.173261136}]
[{"$f":"MAX(A48:A50)+NoOne","v":28},"Allocated Margin",null,{"$f":"SUM(E51:H51,K51:L51)","v":36818077.173261136},{"$f":"+E48/$D48*$D50","v":34478183.558831118},0,0,0,null,null,2339893.6144300182,0]

{"sheet":"AllocPlt","index":30,"n_rows":66,"n_cols":27,"rows_kept":66,"cut":false,"hidden":false,"merged":[]}
[null,null,null,null,null,null,null,null,null,null,null,null,"BkpAllocPlt",null,null,null,null,null,null,null,null,null,null,null,null,null,"BkpIndexPlt"]
[null,null,null,null,null,null,null,null,null,null,null,null,"Page 1 of 2",null,null,null,null,null,null,null,null,null,null,null,null,null,"Page 1 of 2"]
["NEWFOUNDLAND AND LABRADOR HYDRO",null,null,null,null,null,null,null,null,null,null,null,null,null,"NEWFOUNDLAND AND LABRADOR HYDRO"]
[{"$f":"RunName","v":"2019 Test Year Cost of Service Study"},null,null,null,null,null,null,null,null,null,null,null,null,null,{"$f":"RunName","v":"2019 Test Year Cost of Service Study"}]
["Plant Totals and Allocation Factors",null,null,null,null,null,null,null,null,null,null,null,null,null,"Plant Totals and Allocation Factors - Handy Whitman"]
[]
[null,{"$f":"MAX(A7)+NoOne","v":1},2,3,4,5,6,7,8,9,10,11,12,null,null,{"$f":"MAX(O7)+NoOne","v":1},{"$f":"MAX(P7)+NoOne","v":2},{"$f":"MAX(Q7)+NoOne","v":3},{"$f":"MAX(R7)+NoOne","v":4},{"$f":"MAX(S7)+NoOne","v":5},{"$f":"MAX(T7)+NoOne","v":6},{"$f":"MAX(U7)+NoOne","v":7},{"$f":"MAX(V7)+NoOne","v":8},{"$f":"MAX(W7)+NoOne","v":9},{"$f":"MAX(X7)+NoOne","v":10},{"$f":"MAX(Y7)+NoOne","v":11},{"$f":"MAX(Z7)+NoOne","v":12}]
[]
["Line ",null,null,null,null,"Island","Island","Labrador","L'Anse au","All Sys","All Sys","Labrador","Not In",null,"Line ",null,null,null,null,"Island","Island","Labrador","L'Anse au","All Sys","All Sys","Labrador","Not In"]
["No",null,null,"Ref.","Total","Interconnected","Isolated","Isolated","Loup","G Plant","Meters","Interconnected","Operation",null,"No",null,null,"Ref.","Total","Interconnected","Isolated","Isolated","Loup","G Plant","Meters","Interconnected","Operation"]
[null,null,null,null,null,{"$f":"AllocDep!E13","v":5},{"$f":"AllocDep!F13","v":6},{"$f":"AllocDep!G13","v":9},{"$f":"AllocDep!H13","v":7},{"$f":"AllocDep!I13","v":3},{"$f":"AllocDep!J13","v":4},{"$f":"AllocDep!K13","v":8},null,null,null,null,null,null,null,{"$f":"AllocDep!E13","v":5},{"$f":"AllocDep!F13","v":6},{"$f":"AllocDep!G13","v":9},{"$f":"AllocDep!H13","v":7},{"$f":"AllocDep!I13","v":3},{"$f":"AllocDep!J13","v":4},{"$f":"AllocDep!K13","v":8}]
[]
[null,"Plant:",null,null,null,null,null,null,null,null,null,null,null,null,null,"Plant:"]
[{"$f":"MAX(A11:A13)+NoOne","v":1},"Total Plant in Service, Input File",null,"Grand Total",{"$f":"SUM(F14:M14)","v":3422425383.0056348},2957808436.729115,16166005.706500001,130507439.07777002,26547816.349999979,74754245.879999831,7014039.4800000004,209627399.78224993,null,null,{"$f":"MAX(O11:O13)+NoOne","v":1},"Total Plant in Service, Input File",null,"Grand Total",{"$f":"SUM(T14:AA14)","v":8482101338.9838638},7706867625.5584984,61341561.514669098,189997148.95559689,45817480.600142315,96948616.131153971,8000907.9623981845,373127998.26140428]
[2,"Less assets not in operation",null,"NIO",{"$f":"SUM(F15:L15)","v":-22294545.65000001},-21418510.95000001,0,-595657.34000000008,0,-37683.46,0,-242693.9,null,null,2,"Less assets not in operation",null,"NIO",{"$f":"SUM(T15:Z15)","v":-55163276.338194028},-54163785.609948806,0,-698539.65931967308,0,-41096.704848949106,0,-259854.36407659439]
[3,"Less coding excluded",null,null,null,null,null,null,null,null,null,null,null,null,3,"Less coding excluded"]
[4,"Less Asset cost for software and feasibility studies",null,"CS01",{"$f":"SUM(F17:L17)","v":0},0,0,0,0,0,0,0,null,null,4,"Less Asset cost for software and feasibility studies",null,"CS01",{"$f":"SUM(T17:Z17)","v":0},0,0,0,0,0,0,0]
[5,"Less Asset cost for software and feasibility studies",null,"CS02",-37714607.090000004,-24955219.780000005,-64453.7,0,0,-12694933.609999996,0,0,null,null,5,"Less Asset cost for software and feasibility studies",null,"CS02",-45591088.89231132,-31825901.788343664,-78944.507096255242,0,0,-13686242.596871402,0,0]
[6,"Less Asset cost for software and feasibility studies",null,"G01",-42490.35,-15584.21,0,0,0,0,0,-26906.14,null,null,6,"Less Asset cost for software and feasibility studies",null,"G01",-50179.633963601627,-19714.645410661884,0,0,0,0,0,-30464.988552939743]
[7,"Less Asset cost for software and feasibility studies",null,"G02",-4396765.4399999995,-4396765.4399999995,0,0,0,0,0,0,null,null,7,"Less Asset cost for software and feasibility studies",null,"G02",-4908459.5389442854,-4908459.5389442854,0,0,0,0,0,0]
[8,"Less Asset cost for software and feasibility studies",null,"G03",0,0,0,0,0,0,0,0,null,null,8,"Less Asset cost for software and feasibility studies",null,"G03",0,0,0,0,0,0,0,0]
[9,"Plus NBV for software and feasibility studies",null,"CS01",0,0,0,0,0,0,0,0,null,null,9,"Plus NBV for software and feasibility studies",null,"CS01",0,0,0,0,0,0,0,0]
[10,"Plus NBV for software and feasibility studies",null,"CS02",1690245.8804318346,421314.78113000112,6.9490000000000003E-3,0,0,1270823.1063138333,0,-1892.0139610000001,null,null,10,"Plus NBV for software and feasibility studies",null,"CS02",1690245.8804318346,421314.78113000112,6.9490000000000003E-3,0,0,1270823.1063138333,0,-1892.0139610000001]
[11,"Plus NBV for software and feasibility studies",null,"G01",-2191.4567255000002,9.4495000000000013E-3,0,0,0,0,0,-2191.466175,null,null,11,"Plus NBV for software and feasibility studies",null,"G01",-2191.4567255000002,9.4495000000000013E-3,0,0,0,0,0,-2191.466175]
[12,"Plus NBV for software and feasibility studies",null,"G02",9794.4654045000498,9794.4654045000498,0,0,0,0,0,0,null,null,12,"Plus NBV for software and feasibility studies",null,"G02",9794.4654045000498,9794.4654045000498,0,0,0,0,0,0]
[13,"Plus NBV for software and feasibility studies",null,"G03",0,0,0,0,0,0,0,0,null,null,13,"Plus NBV for software and feasibility studies",null,"G03",0,0,0,0,0,0,0,0]
[14,"Meters to be Allocated",null,null,{"$f":"SUM(F27:M27)","v":-12478938.83},{"$f":"-SystemizedPlant!E17","v":-2261471.0099999998},{"$f":"-SystemizedPlant!F17","v":-2500},{"$f":"-SystemizedPlant!G17","v":0},{"$f":"-SystemizedPlant!H17","v":0},{"$f":"-SystemizedPlant!I17","v":0},{"$f":"-SystemizedPlant!J17","v":-7014039.4800000004},{"$f":"-SystemizedPlant!K17","v":-3200928.34},null,null,14,"Meters to be Allocated",null,null,{"$f":"SUM(T27:AA27)","v":-17768231.684148043},{"$f":"-SystemizedPlant!S17","v":-6108451.8986654924},{"$f":"-SystemizedPlant!T17","v":-9434.8015059731697},{"$f":"-SystemizedPlant!U17","v":0},{"$f":"-SystemizedPlant!V17","v":0},{"$f":"-SystemizedPlant!W17","v":0},{"$f":"-SystemizedPlant!X17","v":-8000907.9623981845},{"$f":"-SystemizedPlant!Y17","v":-3649437.0215783953}]
[15,"Allocated Meters",null,null,12478938.83,{"$f":"+SystemizedPlant!E19","v":7684656.677841913},{"$f":"+SystemizedPlant!F19","v":204245.65034616529},{"$f":"+SystemizedPlant!G19","v":809781.94981012854},{"$f":"+SystemizedPlant!H19","v":276153.82845817663},{"$f":"+SystemizedPlant!I19","v":0},{"$f":"+SystemizedPlant!J19","v":0},{"$f":"+SystemizedPlant!K19","v":3504100.723543616},null,null,15,"Allocated Meters",null,null,12478938.83,{"$f":"+SystemizedPlant!S19","v":7684656.677841913},{"$f":"+SystemizedPlant!T19","v":204245.65034616529},{"$f":"+SystemizedPlant!U19","v":809781.94981012854},{"$f":"+SystemizedPlant!V19","v":276153.82845817663},{"$f":"+SystemizedPlant!W19","v":0},{"$f":"+SystemizedPlant!X19","v":0},{"$f":"+SystemizedPlant!Y19","v":3504100.723543616}]
[16,"Software Customer Services to be Allocated",null,null,0,{"$f":"-SystemizedPlant!E46","v":0},null,null,null,null,null,null,null,null,16,"Software Customer Services to be Allocated",null,null,0,{"$f":"-SystemizedPlant!S46","v":0}]
[17,"Allocated Software Customer Services",null,null,0,{"$f":"SystemizedPlant!E47","v":0},{"$f":"SystemizedPlant!F47","v":0},{"$f":"SystemizedPlant!G47","v":0},{"$f":"SystemizedPlant!H47","v":0},{"$f":"SystemizedPlant!I47","v":0},{"$f":"SystemizedPlant!J47","v":0},{"$f":"SystemizedPlant!K47","v":0},null,null,17,"Allocated Software Customer Services",null,null,0,{"$f":"SystemizedPlant!S47","v":0},{"$f":"SystemizedPlant!T47","v":0},{"$f":"SystemizedPlant!U47","v":0},{"$f":"SystemizedPlant!V47","v":0},{"$f":"SystemizedPlant!W47","v":0},{"$f":"SystemizedPlant!X47","v":0},{"$f":"SystemizedPlant!Y47","v":0}]
[18,"Software General to be Allocated",null,null,-1690245.8804318346,{"$f":"-SystemizedPlant!E61","v":-421314.78113000112},{"$f":"-SystemizedPlant!F61","v":-6.9490000000000003E-3},{"$f":"-SystemizedPlant!G61","v":0},{"$f":"-SystemizedPlant!H61","v":0},{"$f":"-SystemizedPlant!I61","v":-1270823.1063138333},{"$f":"-SystemizedPlant!J61","v":0},{"$f":"-SystemizedPlant!K61","v":1892.0139610000001},null,null,18,"Software General to be Allocated",null,null,-1690245.8804318346,{"$f":"-SystemizedPlant!S61","v":-421314.78113000112},{"$f":"-SystemizedPlant!T61","v":-6.9490000000000003E-3},{"$f":"-SystemizedPlant!U61","v":0},{"$f":"-SystemizedPlant!V61","v":0},{"$f":"-SystemizedPlant!W61","v":-1270823.1063138333},{"$f":"-SystemizedPlant!X61","v":0},{"$f":"-SystemizedPlant!Y61","v":1892.0139610000001}]
[19,"Allocated Software General",null,null,1690245.8804318346,{"$f":"SystemizedPlant!E62","v":1491665.2647881461},{"$f":"SystemizedPlant!F62","v":8615.8967956415436},{"$f":"SystemizedPlant!G62","v":68902.114545817079},{"$f":"SystemizedPlant!H62","v":13997.154551137321},{"$f":"SystemizedPlant!I62","v":0},{"$f":"SystemizedPlant!J62","v":0},{"$f":"SystemizedPlant!K62","v":107065.44975109254},null,null,19,"Allocated Software General",null,null,1690245.8804318346,{"$f":"SystemizedPlant!S62","v":1491665.2647881461},{"$f":"SystemizedPlant!T62","v":8615.8967956415436},{"$f":"SystemizedPlant!U62","v":68902.114545817079},{"$f":"SystemizedPlant!V62","v":13997.154551137321},{"$f":"SystemizedPlant!W62","v":0},{"$f":"SystemizedPlant!X62","v":0},{"$f":"SystemizedPlant!Y62","v":107065.44975109254}]
[20,"General Plant to be Allocated",null,null,-85760955.809999853,{"$f":"SystemizedPlant!E97","v":-23739327},{"$f":"SystemizedPlant!F97","v":0},{"$f":"SystemizedPlant!G97","v":0},{"$f":"SystemizedPlant!H97","v":0},{"$f":"SystemizedPlant!I97","v":-62021628.809999846},{"$f":"SystemizedPlant!J97","v":0},{"$f":"SystemizedPlant!K97","v":0},null,null,20,"General Plant to be Allocated",null,null,-85760955.809999853,{"$f":"SystemizedPlant!S97","v":-23739327},{"$f":"SystemizedPlant!T97","v":0},{"$f":"SystemizedPlant!U97","v":0},{"$f":"SystemizedPlant!V97","v":0},{"$f":"SystemizedPlant!W97","v":-62021628.809999846},{"$f":"SystemizedPlant!X97","v":0},{"$f":"SystemizedPlant!Y97","v":0}]
[21,"Allocated General Plant",null,null,85760955.809999868,{"$f":"SystemizedPlant!E98","v":63930603.729717374},{"$f":"SystemizedPlant!F98","v":4234946.1018120628},{"$f":"SystemizedPlant!G98","v":10046374.868893363},{"$f":"SystemizedPlant!H98","v":906362.52145475976},{"$f":"SystemizedPlant!I98","v":0},{"$f":"SystemizedPlant!J98","v":0},{"$f":"SystemizedPlant!K98","v":6642668.588122312},null,null,21,"Allocated General Plant",null,null,85760955.809999868,{"$f":"SystemizedPlant!S98","v":63930603.729717374},{"$f":"SystemizedPlant!T98","v":4234946.1018120628},{"$f":"SystemizedPlant!U98","v":10046374.868893363},{"$f":"SystemizedPlant!V98","v":906362.52145475976},{"$f":"SystemizedPlant!W98","v":0},{"$f":"SystemizedPlant!X98","v":0},{"$f":"SystemizedPlant!Y98","v":6642668.588122312}]
[22,"Total Plant in Service, COS Schedules",null,null,{"$f":"SUM(E14:E34)","v":3359674823.3647451},2954138278.4863162,20546859.655453872,140836840.67101935,27744329.85446405,-7.4505805969238281E-9,0,216408514.69749194,0,null,22,"Total Plant in Service, COS Schedules",null,null,{"$f":"SUM(S14:S34)","v":8372796890.6154146},7659218705.2243872,65700989.855020739,200223668.22952652,47013994.10460639,21199648.019433774,0,379439885.18243837,0]
[]
[{"$f":"MAX(A34:A36)+NoOne","v":23},"Assets Not in Operation",null,"NIO",{"$f":"SUM(F37:M37)","v":22294545.65000001},null,null,null,null,null,null,null,{"$f":"-E15","v":22294545.65000001},null,{"$f":"MAX(O34:O36)+NoOne","v":23},"Assets Not in Operation",null,"NIO",{"$f":"SUM(T37:AA37)","v":55163276.338194028},null,null,null,null,null,null,null,{"$f":"-S15","v":55163276.338194028}]
[{"$f":"MAX(A35:A37)+NoOne","v":24},"Total Plant",null,null,{"$f":"SUM(E35:E37)","v":3381969369.0147452},2954138278.4863162,20546859.655453872,140836840.67101935,27744329.85446405,-7.4505805969238281E-9,0,216408514.69749194,22294545.65000001,null,{"$f":"MAX(O35:O37)+NoOne","v":24},"Total Plant",null,null,{"$f":"SUM(S35:S37)","v":8427960166.9536085},7659218705.2243872,65700989.855020739,200223668.22952652,47013994.10460639,21199648.019433774,0,379439885.18243837,55163276.338194028]
[]
[{"$f":"MAX(A37:A39)+NoOne","v":25},{"$f":"+\"Allocation, Total Plant in Service(L. \"&TEXT(A35,\"0\")&\")\"","v":"Allocation, Total Plant in Service(L. 22)"},null,null,{"$f":"SUM(F40:M40)","v":1},{"$f":"F35/$E35","v":0.87929291785677033},6.1157286748590757E-3,4.191978333485559E-2,8.2580402310119556E-3,-2.2176493228180945E-18,0,6.4413529902503139E-2,0,null,{"$f":"MAX(O37:O39)+NoOne","v":25},{"$f":"+\"Allocation, Total Plant in Service(L. \"&TEXT(O35,\"0\")&\")\"","v":"Allocation, Total Plant in Service(L. 22)"},null,null,{"$f":"SUM(T40:AA40)","v":0.99999999999999989},{"$f":"T35/$S35","v":0.91477421526959102},{"$f":"U35/$S35","v":7.84695851498096E-3},2.3913594327595083E-2,5.615088329361204E-3,2.5319673098956022E-3,0,4.5318176248575988E-2,0]
[]
[null,null,null,null,null,null,null,null,null,null,"BkpAllocPlt"]
[null,null,null,null,null,null,null,null,null,null,"Page 2 of 2"]
[{"$f":"+A3","v":"NEWFOUNDLAND AND LABRADOR HYDRO"}]
[{"$f":"RunName","v":"2019 Test Year Cost of Service Study"}]
["Plant Based Allocations of O&M Expenses"]
[null,1,2,3,4,5,6,7,8,9,10]
[]
[null,null,null,"Function",null,"Island","Island","Labrador","L'Anse au","Labrador"]
[null,null,"Ref.","Code","Total","Interconnected","Isolated","Isolated","Loup","Interconnected","Notes"]
[]
[{"$f":"MAX(A49:A51)+NoOne","v":1},"Alloc Basis:  All Systems - All Plant",null,null,{"$f":"+E35","v":3359674823.3647451},{"$f":"+F35","v":2954138278.4863162},{"$f":"+G35","v":20546859.655453872},{"$f":"+H35","v":140836840.67101935},{"$f":"+I35","v":27744329.85446405},{"$f":"+L35","v":216408514.69749194}]
[{"$f":"MAX(A50:A52)+NoOne","v":2},"Total Drafting to be allocated",null,850,{"$f":"+'O&M Summary'!K90","v":178680.84}]
[{"$f":"MAX(A51:A53)+NoOne","v":3},"Allocation",null,null,{"$f":"SUM(F54:J54)","v":178680.84},{"$f":"(F35/$E$35)*$E$53","v":157112.79716869871},{"$f":"(G35/$E$35)*$E$53","v":1092.7635368359065},{"$f":"(H35/$E$35)*$E$53","v":7490.262098889998},{"$f":"(I35/$E$35)*$E$53","v":1475.5535652310102},{"$f":"(L35/$E$35)*$E$53","v":11509.463630344379},{"$f":"+\"From O&M Summary, L.\"&TEXT('O&M Summary'!C90,\"0\")","v":"From O&M Summary, L.82"}]
[]
[{"$f":"MAX(A53:A55)+NoOne","v":4},"Alloc Basis:  All Systems - Transmission Plant",null,null,{"$f":"SUM(F56:J56)","v":1123768362.5428507},{"$f":"IslIntCos!F38","v":1037230400.4378507},{"$f":"IslIsoCos!F24","v":0},{"$f":"LabIsoCos!F24","v":0},{"$f":"LALCos!F24","v":0},{"$f":"LabIntCos!F26","v":86537962.104999989}]
[{"$f":"MAX(A54:A56)+NoOne","v":5},"Transmission",null,829,{"$f":"+'O&M Summary'!K83","v":0}]
[{"$f":"MAX(A55:A57)+NoOne","v":6},"Allocation",null,null,{"$f":"SUM(F58:J58)","v":0},{"$f":"F56/$E56*$E57","v":0},{"$f":"G56/$E56*$E57","v":0},{"$f":"H56/$E56*$E57","v":0},{"$f":"I56/$E56*$E57","v":0},{"$f":"J56/$E56*$E57","v":0},{"$f":"+\"From O&M Summary, L.\"&TEXT('O&M Summary'!C83,\"0\")","v":"From O&M Summary, L.75"}]
[]
[{"$f":"MAX(A57:A59)+NoOne","v":7},"Alloc Basis:  All Systems - Total Plant excluding Feasibility Studies"]
[{"$f":"MAX(A58:A60)+NoOne","v":8},"Allocation Basis: Total Plant",null,null,{"$f":"SUM(F61:J61)","v":3359674823.3647456},{"$f":"+IslIntCos!F58","v":2954138278.4863162},{"$f":"+IslIsoCos!F47","v":20546859.655453872},{"$f":"+LabIsoCos!F47","v":140836840.67101935},{"$f":"+LALCos!F47","v":27744329.854464054},{"$f":"+LabIntCos!F49","v":216408514.69749194}]
[{"$f":"MAX(A59:A61)+NoOne","v":9},"Less:     Feasibility Studies",null,null,{"$f":"SUM(F62:J62)","v":-7603.0086790000496},{"$f":"-IslIntCos!F55","v":-9794.4748540000492},{"$f":"-IslIsoCos!F43","v":0},{"$f":"-LabIsoCos!F43","v":0},{"$f":"-LALCos!F43","v":0},{"$f":"-LabIntCos!F45","v":2191.466175}]
[{"$f":"MAX(A60:A62)+NoOne","v":10},"Net Allocation Basis",null,null,{"$f":"SUM(F63:J63)","v":3359667220.3560662},{"$f":"SUM(F61:F62)","v":2954128484.0114622},{"$f":"SUM(G61:G62)","v":20546859.655453872},{"$f":"SUM(H61:H62)","v":140836840.67101935},{"$f":"SUM(I61:I62)","v":27744329.854464054},{"$f":"SUM(J61:J62)","v":216410706.16366693}]
[]
[{"$f":"MAX(A62:A64)+NoOne","v":11},"Insurance Costs, Manual Inputs",1000,"INS800",{"$f":"+'O&M Summary'!K96","v":2265024}]
[{"$f":"MAX(A63:A65)+NoOne","v":12},"Allocation",null,null,{"$f":"SUM(F66:J66)","v":2265024},{"$f":"F63/$E$63*$E$65","v":1991617.4658097329},{"$f":"G63/$E$63*$E$65","v":13852.303574073154},{"$f":"H63/$E$63*$E$65","v":94949.530200859168},{"$f":"I63/$E$63*$E$65","v":18704.701645306846},{"$f":"J63/$E$63*$E$65","v":145899.99877002803},{"$f":"+\"From O&M Summary, L.\"&TEXT('O&M Summary'!C98,\"0\")","v":"From O&M Summary, L.90"}]

{"sheet":"Average Costs","index":31,"n_rows":140,"n_cols":20,"rows_kept":140,"cut":false,"hidden":false,"merged":[]}
[null,null,null,null,null,null,null,null,null,null,null,null,null,null,null,null,null,null,null,"BkpAvgCost"]
[null,null,null,null,null,null,null,null,null,null,null,null,null,null,null,null,null,null,null,"Page 1 of 4"]
[null,null,null,"NEWFOUNDLAND AND LABRADOR HYDRO"]
[null,null,null,{"$f":"RunName","v":"2019 Test Year Cost of Service Study"}]
[null,null,null,"Average Cost / kWh"]
[]
[null,null,null,null,{"$f":"MAX(D7)+NoOne","v":1},{"$f":"MAX(E7)+NoOne","v":2},{"$f":"MAX(F7)+NoOne","v":3},{"$f":"MAX(G7)+NoOne","v":4},null,{"$f":"MAX(H7)+NoOne","v":5},{"$f":"MAX(J7)+NoOne","v":6},null,{"$f":"MAX(K7)+NoOne","v":7},{"$f":"MAX(M7)+NoOne","v":8}]
[null,null,null,null,null,null,"Proposed",null,null,null,null,null,"Revenue Requirement"]
[null,null,null,"Line",null,"Sales"," Revenues",null,null,"Revenue Requirement",null,null,"After Def and Rv Credit Alloc"]
[null,null,null,"No.","Rate Class","MWh","$","$ / kWh",null,"$","$ / kWh",null,"$","$ / kWh"]
[null,null,null,null,"Total System"]
[null,null,null,{"$f":"MAX(D9:D11)+NoOne","v":1},"Newfoundland Power",{"$f":"F39","v":5833600},{"$f":"G39","v":545410154},{"$f":"IF(F12<>0,G12/(F12*1000),0)","v":9.3494609503565557E-2},null,{"$f":"J39","v":475103607.91961205},{"$f":"K39","v":8.1442609695490276E-2},null,{"$f":"M39","v":545384915.25749695},{"$f":"IF(F12<>0,M12/(F12*1000),0)","v":9.3490283059773888E-2}]
[null,null,null,{"$f":"MAX(D10:D12)+NoOne","v":2},"Island Industrial",{"$f":"SUM(F41,F42)","v":743300},{"$f":"SUM(G41,G42)","v":49754122.895168297},{"$f":"IF(F13<>0,G13/(F13*1000),0)","v":6.6936799267009683E-2},null,{"$f":"SUM(J41,J42)","v":49773741.238407478},{"$f":"IF(F13<>0,J13/(F13*1000),0)","v":6.696319284058587E-2},null,{"$f":"SUM(M41,M42)","v":49773741.238407478},{"$f":"IF(F13<>0,M13/(F13*1000),0)","v":6.696319284058587E-2}]
[null,null,null,{"$f":"MAX(D11:D13)+NoOne","v":3},"Labrador Industrial",{"$f":"F126","v":1733100},6872119.5046644444,{"$f":"IF(F14<>0,G14/(F14*1000),0)","v":3.9652181089749258E-3},null,6860189.9829385635,3.9583347659907465E-3,null,{"$f":"M126","v":6860189.9829385635},{"$f":"IF(F14<>0,M14/(F14*1000),0)","v":3.9583347659907465E-3}]
[null,null,null,{"$f":"MAX(D12:D14)+NoOne","v":4},"CFB - Goose Bay Secondary",{"$f":"F128","v":0},{"$f":"G128","v":0},{"$f":"IF(F15<>0,G15/(F15*1000),0)","v":0},null,{"$f":"J128","v":0},{"$f":"K128","v":0},null,{"$f":"M128","v":0},{"$f":"IF(F15<>0,M15/(F15*1000),0)","v":0}]
[null,null,null,{"$f":"MAX(D13:D15)+NoOne","v":5},"Rural Labrador Interconnected",{"$f":"F138","v":655748.31000000006},22507619.990959194,{"$f":"IF(F16<>0,G16/(F16*1000),0)","v":3.4323565379770778E-2},null,19651556.790840652,2.9968139438804886E-2,null,{"$f":"M138","v":22558579.763224941},{"$f":"IF(F16<>0,M16/(F16*1000),0)","v":3.440127777565289E-2}]
[]
[null,null,null,null,"Rural"]
[null,null,null,{"$f":"MAX(D16:D18)+NoOne","v":6},"Island Interconnected",{"$f":"F53","v":413404.60000000009},{"$f":"G53","v":53526605.962164946},{"$f":"IF(F19<>0,G19/(F19*1000),0)","v":0.12947752870230503},null,{"$f":"J53","v":77757826.856888786},{"$f":"K53","v":0.1880913440655686},null,{"$f":"M53","v":53526605.962164946},{"$f":"IF(F19<>0,M19/(F19*1000),0)","v":0.12947752870230503}]
[null,null,null,{"$f":"MAX(D17:D19)+NoOne","v":7},"Island Isolated",{"$f":"F90","v":7108.97},{"$f":"G90","v":1740167.8632971486},{"$f":"IF(F20<>0,G20/(F20*1000),0)","v":0.24478480895223198},null,{"$f":"J90","v":11722941.244124537},{"$f":"K90","v":1.6490351266251704},null,{"$f":"M90","v":1740167.8632971481},{"$f":"IF(F20<>0,M20/(F20*1000),0)","v":0.24478480895223192}]
[null,null,null,{"$f":"MAX(D18:D20)+NoOne","v":8},"Labrador Isolated",{"$f":"F103","v":43461},{"$f":"G103","v":9656445.5691781491},{"$f":"IF(F21<>0,G21/(F21*1000),0)","v":0.22218645611417476},null,{"$f":"J103","v":41832724.86559172},{"$f":"K103","v":0.9625347982235043},null,{"$f":"M103","v":9656445.5691781472},{"$f":"IF(F21<>0,M21/(F21*1000),0)","v":0.2221864561141747}]
[null,null,null,{"$f":"MAX(D19:D21)+NoOne","v":9},"L'Anse au Loup",{"$f":"F122","v":25142.080000000002},{"$f":"G122","v":3238389.2780072386},{"$f":"IF(F22<>0,G22/(F22*1000),0)","v":0.12880355475788952},null,{"$f":"J122","v":7742630.5884075342},{"$f":"K122","v":0.30795505337694951},null,{"$f":"M122","v":3238389.2780072386},{"$f":"IF(F22<>0,M22/(F22*1000),0)","v":0.12880355475788952}]
[]
[null,null,null,{"$f":"MAX(D21:D23)+NoOne","v":10}," Subtotal ",{"$f":"SUM(F19:F22)","v":489116.65000000008},{"$f":"SUM(G19:G22)","v":68161608.672647476},{"$f":"IF(F24<>0,G24/(F24*1000),0)","v":0.13935654955243798},null,{"$f":"SUM(J19:J22)","v":139056123.55501258},{"$f":"IF(F24<>0,J24/(F24*1000),0)","v":0.28430053148878198},null,{"$f":"SUM(M19:M22)","v":68161608.672647476},{"$f":"IF(F24<>0,M24/(F24*1000),0)","v":0.13935654955243798}]
[null,null,null," "]
[null,null,null,{"$f":"MAX(D23:D25)+NoOne","v":11},"  Total",{"$f":"SUM(F24,F12:F16)","v":9454864.9600000009},{"$f":"SUM(G24,G12:G16)","v":692705625.06343937},{"$f":"IF(F26<>0,G26/(F26*1000),0)","v":7.3264465224412822E-2},null,{"$f":"SUM(J24,J12:J16)","v":690445219.48681128},{"$f":"IF(F26<>0,J26/(F26*1000),0)","v":7.3025391944552029E-2},null,{"$f":"SUM(M24,M12:M16)","v":692739034.91471541},{"$f":"IF(F26<>0,M26/(F26*1000),0)","v":7.3267998839267975E-2}]
[]
[null,null,null,null,null,null,null,null,null,null,null,null,null,null,null,null,null,null,null,"BkpAvgCost"]
[null,null,null,null,null,null,null,null,null,null,null,null,null,null,null,null,null,null,null,"Page 2 of 4"]
[null,null,null,{"$f":"+D3","v":"NEWFOUNDLAND AND LABRADOR HYDRO"}]
[null,null,null,{"$f":"RunName","v":"2019 Test Year Cost of Service Study"}]
[null,null,null,"Average Cost / kWh"]
[]
[null,null,null,null,{"$f":"MAX(D34)+NoOne","v":1},{"$f":"MAX(E34)+NoOne","v":2},{"$f":"MAX(F34)+NoOne","v":3},{"$f":"MAX(G34)+NoOne","v":4},null,{"$f":"MAX(H34)+NoOne","v":5},{"$f":"MAX(J34)+NoOne","v":6},null,{"$f":"MAX(K34)+NoOne","v":7},{"$f":"MAX(M34)+NoOne","v":8}]
[null,null,null,null,null,null,"Proposed",null,null,null,null,null,"Revenue Requirement"]
[null,null,null,"Line",null,"Sales"," Revenues",null,null,"Revenue Requirement",null,null,"After Def and Rv Credit Alloc"]
[null,null,null,"No.","Rate Class","MWh","$","$ / kWh",null,"$","$ / kWh",null,"$","$ / kWh"]
[null,null,null,null,"Island Interconnected"]
["ISLINTNP",null,null,{"$f":"MAX(D36:D38)+NoOne","v":1},"Newfoundland Power",5833600,{"$f":"'Rev to Cost'!C68","v":545410154},{"$f":"IF(F39<>0,G39/(F39*1000),0)","v":9.3494609503565557E-2},null,{"$f":"'Rev to Cost'!D68","v":475103607.91961205},{"$f":"IF(F39<>0,J39/(F39*1000),0)","v":8.1442609695490276E-2},null,{"$f":"'Rev to Cost'!H68","v":545384915.25749695},{"$f":"IF(F39<>0,M39/(F39*1000),0)","v":9.3490283059773888E-2}]
[null,null,null,null,"Industrial"]
["ISLINTINDF",null,null,{"$f":"MAX(D38:D40)+NoOne","v":2},"Firm",743300,{"$f":"'Rev to Cost'!C70","v":49754122.895168297},{"$f":"IF(F41<>0,G41/(F41*1000),0)","v":6.6936799267009683E-2},null,{"$f":"'Rev to Cost'!D70","v":49773741.238407478},{"$f":"IF(F41<>0,J41/(F41*1000),0)","v":6.696319284058587E-2},null,{"$f":"'Rev to Cost'!$H$70","v":49773741.238407478},{"$f":"IF(F41<>0,M41/(F41*1000),0)","v":6.696319284058587E-2}]
["ISLINTINDNF",null,null,{"$f":"MAX(D39:D41)+NoOne","v":3},"Non-Firm",0,{"$f":"'Rev to Cost'!C71","v":0},{"$f":"IF(F42<>0,G42/(F42*1000),0)","v":0},null,{"$f":"'Rev to Cost'!D71","v":0},{"$f":"IF(F42<>0,J42/(F42*1000),0)","v":0},null,{"$f":"'Rev to Cost'!$H$71","v":0},{"$f":"IF(F42<>0,M42/(F42*1000),0)","v":0}]
[null,null,null,null,"Rural"]
["ISLINT1.1",null,null,{"$f":"MAX(D41:D43)+NoOne","v":4},"1.1 Domestic",104445.93089620577,{"$f":"'Rev to Cost'!C78","v":14708835.44107319},{"$f":"IF(F44<>0,G44/(F44*1000),0)","v":0.14082727124803215},null,{"$f":"'Rev to Cost'!D78","v":24451582.191863324},{"$f":"IF(F44<>0,J44/(F44*1000),0)","v":0.23410756151105913},null,{"$f":"'Rev to Cost'!H78","v":14708835.44107319},{"$f":"IF(F44<>0,M44/(F44*1000),0)","v":0.14082727124803215}]
["ISLINT1.12",null,null,5,"1.12 Domestic All Electric ",142193.86910379425,{"$f":"'Rev to Cost'!C79","v":18533125.401324272},0.13033702168829825,null,{"$f":"'Rev to Cost'!D79","v":27851623.120448608},0.19587077344465778,null,{"$f":"'Rev to Cost'!H79","v":18533125.401324272},0.13033702168829825]
["ISLINT1.3",null,null,6,"1.3 Special",345,{"$f":"'Rev to Cost'!C80","v":21487.532051999999},6.2282701599999997E-2,null,{"$f":"'Rev to Cost'!D80","v":76406.72854940535},0.22146877840407347,null,{"$f":"'Rev to Cost'!H80","v":21487.532051999995},6.2282701599999983E-2]
["ISLINT2.1",null,null,7,"2.1 General Service 0-10 kW",73738.220203680787,{"$f":"'Rev to Cost'!C81","v":9613910.0404861346},{"$f":"IF(F47<>0,G47/(F47*1000),0)","v":0.13037892715515037},null,{"$f":"'Rev to Cost'!D81","v":12752792.762274554},0.17294684801245006,null,{"$f":"'Rev to Cost'!H81","v":9613910.0404861346},0.13037892715515037]
["ISLINT2.2",null,null,8,"2.2 General Service 10-100 kW",0,{"$f":"'Rev to Cost'!C82","v":0},{"$f":"IF(F48<>0,G48/(F48*1000),0)","v":0},null,{"$f":"'Rev to Cost'!D82","v":0},0,null,{"$f":"'Rev to Cost'!H82","v":0},0]
["ISLINT2.3",null,null,9,"2.3 General Service 110-1,000 kVa",55305.619347478445,{"$f":"'Rev to Cost'!C83","v":6160288.529852489},{"$f":"IF(F49<>0,G49/(F49*1000),0)","v":0.11138630400553241},null,{"$f":"'Rev to Cost'!D83","v":7392213.7042125827},0.1336611684568291,null,{"$f":"'Rev to Cost'!H83","v":6160288.529852489},0.11138630400553241]
["ISLINT2.4",null,null,10,"2.4 General Service Over 1,000 kVa",34575.960448840859,{"$f":"'Rev to Cost'!C84","v":3378237.7086544633},{"$f":"IF(F50<>0,G50/(F50*1000),0)","v":9.7704811805675154E-2},null,{"$f":"'Rev to Cost'!D84","v":3930235.7946861647},0.11366960580896673,null,{"$f":"'Rev to Cost'!H84","v":3378237.7086544633},9.7704811805675154E-2]
["ISLINT4.1",null,null,11,"4.1 Street and Area Lighting",2800,{"$f":"'Rev to Cost'!C85","v":1110721.3087224003},0.39668618168657155,null,{"$f":"'Rev to Cost'!D85","v":1302972.554854135},0.46534734101933395,null,{"$f":"'Rev to Cost'!H85","v":1110721.3087224003},0.39668618168657155]
[]
[null,null,null,{"$f":"MAX(D50:D52)+NoOne","v":12},"Subtotal Rural System",{"$f":"SUM(F44:F51)","v":413404.60000000009},{"$f":"SUM(G44:G51)","v":53526605.962164946},0.12947752870230503,null,{"$f":"SUM(J44:J51)","v":77757826.856888786},0.1880913440655686,null,{"$f":"SUM(M44:M51)","v":53526605.962164946},0.12947752870230503]
[]
[null,null,null,{"$f":"MAX(D52:D54)+NoOne","v":13},"Total Island Interconnected",{"$f":"SUM(F39:F42,F53)","v":6990304.5999999996},{"$f":"SUM(G39:G42,G53)","v":648690882.8573333},{"$f":"IF(F55<>0,G55/(F55*1000),0)","v":9.2798657565985515E-2},null,{"$f":"SUM(J39:J42,J53)","v":602635176.01490831},{"$f":"IF(F55<>0,J55/(F55*1000),0)","v":8.6210145408385827E-2},null,{"$f":"SUM(M39:M42,M53)","v":648685262.45806944},{"$f":"IF(F55<>0,M55/(F55*1000),0)","v":9.27978535381805E-2}]
[]
[null,null,null,null,null,null,null,null,null,null,null,null,null,null,null,null,null,null,null,"BkpAvgCost"]
[null,null,null,null,null,null,null,null,null,null,null,null,null,null,null,null,null,null,null,"Page 3 of 4"]
[null,null,null,{"$f":"+D3","v":"NEWFOUNDLAND AND LABRADOR HYDRO"}]
[null,null,null,{"$f":"RunName","v":"2019 Test Year Cost of Service Study"}]
[null,null,null,"Average Cost / kWh"]
[]
[null,null,null,null,{"$f":"MAX(D63)+NoOne","v":1},{"$f":"MAX(E63)+NoOne","v":2},{"$f":"MAX(F63)+NoOne","v":3},{"$f":"MAX(G63)+NoOne","v":4},null,{"$f":"MAX(H63)+NoOne","v":5},{"$f":"MAX(J63)+NoOne","v":6},null,{"$f":"MAX(K63)+NoOne","v":7},{"$f":"MAX(M63)+NoOne","v":8}]
[null,null,null,null,null,null,"Proposed",null,null,null,null,null,"Revenue Requirement"]
[null,null,null,"Line",null,"Sales"," Revenues",null,null,"Revenue Requirement",null,null,"After Def and Rv Credit Alloc"]
[null,null,null,"No.","Rate Class","MWh","$","$ / kWh",null,"$","$ / kWh",null,"$","$ / kWh"]
[null,null,null,null,"Isolated Systems"]
[null,null,null,{"$f":"MAX(D65:D67)+NoOne","v":1},"1.2 Domestic Diesel",{"$f":"SUM(F81,F94)","v":29141},{"$f":"SUM(G81,G94)","v":5212332.0173038561},{"$f":"IF(F68<>0,G68/(F68*1000),0)","v":0.17886592832448633},null,{"$f":"SUM(J81,J94)","v":32790426.53025315},{"$f":"IF(F68<>0,J68/(F68*1000),0)","v":1.1252334007155949},null,{"$f":"SUM(M81,M94)","v":5212332.0173038552},{"$f":"IF(F68<>0,M68/(F68*1000),0)","v":0.17886592832448631}]
[null,null,null,{"$f":"MAX(D66:D68)+NoOne","v":2},"2.1 General Service 0-10 kW",{"$f":"SUM(F82,F95)","v":5047},{"$f":"SUM(G82,G95)","v":1629932.4947624444},0.32295076179164739,null,{"$f":"SUM(J82,J95)","v":5326409.9893334173},1.0553615988376099,null,{"$f":"SUM(M82,M95)","v":1629932.4947624444},0.32295076179164739]
[]
[null,null,null,{"$f":"MAX(D68:D70)+NoOne","v":3},"2.2 GS 10-100 kW",{"$f":"SUM(F84,F97)","v":11515},3877863.442243726,0.33676625638243385,null,{"$f":"SUM(J84,J97)","v":11350455.893488787},0.98571045536159685,null,{"$f":"SUM(M84,M97)","v":3877863.4422437255},0.33676625638243385]
[null,null,null,{"$f":"MAX(D69:D71)+NoOne","v":4},"2.3 GS 110-1,000 kVa",2082,259744.19517038233,0.12475705819903089,null,{"$f":"SUM(J85,J98)","v":1605874.3566697568},0.77131333173379291,null,{"$f":"SUM(M85,M98)","v":259744.19517038227},0.12475705819903087]
[null,null,null,{"$f":"MAX(D70:D72)+NoOne","v":5},"2.4 General Service Over 1,000 kVa",2377,235104.00647968909,9.8907869785313046E-2,null,{"$f":"SUM(J86,J99)","v":1850536.26289166},0.77851756957999996,null,{"$f":"SUM(M86,M99)","v":235104.00647968915},9.890786978531306E-2]
[null,null,null,null,"Subtotal Demand Metered Classes",{"$f":"SUM(F71:F73)","v":15974},{"$f":"SUM(G71:G73)","v":4372711.6438937979},0.27373930411254527,null,{"$f":"SUM(J71:J73)","v":14806866.513050204},0.92693542713473165,null,{"$f":"SUM(M71:M73)","v":4372711.643893797},0.27373930411254521]
[]
[null,null,null,{"$f":"MAX(D73:D75)+NoOne","v":6},"4.1 Street and Area Lighting",{"$f":"SUM(F89,F102)","v":407.97},{"$f":"SUM(G89,G102)","v":181637.27651519998},0.44522214014559891,null,{"$f":"SUM(J89,J102)","v":631963.07707949146},1.5490430107103255,null,{"$f":"SUM(M89,M102)","v":181637.27651519998},0.44522214014559891]
[null,null,null,{"$f":"MAX(D74:D76)+NoOne","v":7},"Total Isolated Systems",{"$f":"SUM(F68:F69,F74,F76)","v":50569.97},{"$f":"SUM(G68:G69,G74,G76)","v":11396613.432475299},{"$f":"IF(F77<>0,G77/(F77*1000),0)","v":0.22536326267299148},null,{"$f":"SUM(J68:J69,J74,J76)","v":53555666.109716259},{"$f":"IF(F77<>0,J77/(F77*1000),0)","v":1.0590408914562588},null,{"$f":"SUM(M68:M69,M74,M76)","v":11396613.432475297},0.22536326267299145]
[]
[]
[null,null,null,null,"Island Isolated"]
["ISLISO1.2","ISLISO1.23",null,{"$f":"MAX(D77:D80)+NoOne","v":8},"1.2 Domestic Diesel",5450,{"$f":"'Rev to Cost'!C116+'Rev to Cost'!C118","v":917223.41272562509},{"$f":"IF(F81<>0,G81/(F81*1000),0)","v":0.16829787389461012},null,{"$f":"'Rev to Cost'!D116","v":9274095.4044387098},{"$f":"IF(F81<>0,J81/(F81*1000),0)","v":1.7016688815483871},null,{"$f":"'Rev to Cost'!H116+'Rev to Cost'!H118","v":917223.4127256244},{"$f":"IF(F81<>0,M81/(F81*1000),0)","v":0.16829787389460998}]
["ISLISO2.1",null,null,{"$f":"MAX(D79:D81)+NoOne","v":9},"2.1 General Service 0-10 kW",717,{"$f":"'Rev to Cost'!C119","v":232368.09529035405},{"$f":"IF(F82<>0,G82/(F82*1000),0)","v":0.32408381490983829},null,{"$f":"'Rev to Cost'!D119","v":980765.62617039459},{"$f":"IF(F82<>0,J82/(F82*1000),0)","v":1.367873955607245},null,{"$f":"'Rev to Cost'!H119","v":232368.0952903541},0.32408381490983834]
[]
["ISLISO2.2",null,null,{"$f":"MAX(D81:D83)+NoOne","v":10},"2.2 GS 10-100 kW",836,{"$f":"'Rev to Cost'!C120","v":541732.56168036966},0.64800545655546615,null,{"$f":"'Rev to Cost'!D120","v":1247182.0959655303},1.4918446123989597,null,{"$f":"'Rev to Cost'!H120","v":541732.56168036966},0.64800545655546615]
["ISLISO2.3",null,null,{"$f":"MAX(D82:D84)+NoOne","v":11},"2.3 GS 110-1,000 kVa",0,{"$f":"'Rev to Cost'!C121","v":0},0,null,{"$f":"'Rev to Cost'!D121","v":0},0,null,{"$f":"'Rev to Cost'!H121","v":0},0]
["ISLISO2.4",null,null,{"$f":"MAX(D83:D85)+NoOne","v":12},"2.4 General Service Over 1,000 kVa",0,{"$f":"'Rev to Cost'!C122","v":0},{"$f":"IF(F86<>0,G86/(F86*1000),0)","v":0},null,{"$f":"'Rev to Cost'!D122","v":0},{"$f":"IF(F86<>0,J86/(F86*1000),0)","v":0},null,{"$f":"'Rev to Cost'!H122","v":0},0]
[null,null,null,null,"Subtotal Demand Metered Classes",{"$f":"SUM(F84:F86)","v":836},{"$f":"SUM(G84:G86)","v":541732.56168036966},{"$f":"IF(F87<>0,G87/(F87*1000),0)","v":0.64800545655546615},null,{"$f":"SUM(J84:J86)","v":1247182.0959655303},{"$f":"IF(F87<>0,J87/(F87*1000),0)","v":1.4918446123989597},null,{"$f":"SUM(M84:M86)","v":541732.56168036966},0.64800545655546615]
[]
["ISLISO4.1","ISLISO4.1G",null,{"$f":"MAX(D86:D88)+NoOne","v":13},"4.1 Street and Area Lighting",105.97,{"$f":"'Rev to Cost'!C125+'Rev to Cost'!C126","v":48843.793600799982},0.46092095499480967,null,{"$f":"'Rev to Cost'!D125","v":220898.11754990235},2.0845344677729769,null,{"$f":"'Rev to Cost'!H125+'Rev to Cost'!H126","v":48843.793600799974},0.46092095499480962]
[null,null,null,{"$f":"MAX(D87:D89)+NoOne","v":14},"Total Island Isolated ",{"$f":"SUM(F81:F82,F87,F89)","v":7108.97},{"$f":"SUM(G81:G82,G87,G89)","v":1740167.8632971486},0.24478480895223198,null,{"$f":"SUM(J81:J82,J87,J89)","v":11722941.244124537},1.6490351266251704,null,{"$f":"SUM(M81:M82,M87,M89)","v":1740167.8632971481},0.24478480895223192]
[]
[]
[null,null,null,null,"Labrador Isolated"]
["LABISO1.2","LABISO1.23","LABISO1.2G",{"$f":"MAX(D90:D93)+NoOne","v":15},"1.2 Domestic Diesel",23691,{"$f":"'Rev to Cost'!C154+'Rev to Cost'!C156+'Rev to Cost'!C155","v":4295108.6045782305},{"$f":"IF(F94<>0,G94/(F94*1000),0)","v":0.18129705814774516},null,{"$f":"'Rev to Cost'!D154","v":23516331.125814438},{"$f":"IF(F94<>0,J94/(F94*1000),0)","v":0.99262720551325134},null,{"$f":"'Rev to Cost'!C154+'Rev to Cost'!C156+'Rev to Cost'!C155","v":4295108.6045782305},{"$f":"IF(F94<>0,M94/(F94*1000),0)","v":0.18129705814774516}]
["LABISO2.1",null,null,{"$f":"MAX(D92:D94)+NoOne","v":16},"2.1 General Service 0-10 kW",4330,{"$f":"'Rev to Cost'!C157","v":1397564.3994720904},{"$f":"IF(F95<>0,G95/(F95*1000),0)","v":0.32276314075567908},null,{"$f":"'Rev to Cost'!D157","v":4345644.3631630223},{"$f":"IF(F95<>0,J95/(F95*1000),0)","v":1.0036130168967718},null,{"$f":"'Rev to Cost'!H157","v":1397564.3994720904},0.32276314075567908]
[]
["LABISO2.2",null,null,{"$f":"MAX(D94:D96)+NoOne","v":17},"2.2 GS 10-100 kW",10679,{"$f":"'Rev to Cost'!C158","v":3336130.8805633564},{"$f":"IF(F97<>0,G97/(F97*1000),0)","v":0.31240105633143145},null,{"$f":"'Rev to Cost'!D158","v":10103273.797523256},{"$f":"IF(F97<>0,J97/(F97*1000),0)","v":0.94608800426287631},null,{"$f":"'Rev to Cost'!H158","v":3336130.880563356},0.31240105633143139]
["LABISO2.3",null,null,{"$f":"MAX(D95:D97)+NoOne","v":18},"2.3 GS 110-1,000 kVa",2082,{"$f":"'Rev to Cost'!C159","v":259744.19517038233},0.12475705819903089,null,{"$f":"'Rev to Cost'!D159","v":1605874.3566697568},0.77131333173379291,null,{"$f":"'Rev to Cost'!H159","v":259744.19517038227},0.12475705819903087]
["LABISO2.4",null,null,{"$f":"MAX(D96:D98)+NoOne","v":19},"2.4 General Service Over 1,000 kVa",2377,{"$f":"'Rev to Cost'!C160","v":235104.00647968909},9.8907869785313046E-2,null,{"$f":"'Rev to Cost'!D160","v":1850536.26289166},{"$f":"IF(F99<>0,J99/(F99*1000),0)","v":0.77851756957999996},null,{"$f":"'Rev to Cost'!H160","v":235104.00647968915},9.890786978531306E-2]
[null,null,null,null,"Subtotal Demand Metered Classes",{"$f":"SUM(F97:F99)","v":15138},{"$f":"SUM(G97:G99)","v":3830979.0822134279},0.25307035818558776,null,{"$f":"SUM(J97:J99)","v":13559684.417084673},{"$f":"IF(F100<>0,J100/(F100*1000),0)","v":0.89573816997520628},null,{"$f":"SUM(M97:M99)","v":3830979.0822134269},0.25307035818558771]
[]
["LABISO4.1","LABISO4.1G",null,{"$f":"MAX(D99:D101)+NoOne","v":20},"4.1 Street and Area Lighting",302,{"$f":"'Rev to Cost'!C163+'Rev to Cost'!C164","v":132793.4829144},0.43971351958410593,null,{"$f":"'Rev to Cost'!D163","v":411064.95952958916},1.3611422500979773,null,{"$f":"'Rev to Cost'!H163+'Rev to Cost'!H164","v":132793.4829144},0.43971351958410593]
[null,null,null,{"$f":"MAX(D100:D102)+NoOne","v":21},"Total Labrador Isolated ",{"$f":"SUM(F94:F95,F100,F102)","v":43461},{"$f":"SUM(G94:G95,G100,G102)","v":9656445.5691781491},0.22218645611417476,null,{"$f":"SUM(J94:J95,J100,J102)","v":41832724.86559172},0.9625347982235043,null,{"$f":"SUM(M94:M95,M100,M102)","v":9656445.5691781472},0.2221864561141747]
[null,null,null,null,null,null,null,null,null,null,null,null,null,null,null,null,null,null,null,"BkpAvgCost"]
[null,null,null,null,null,null,null,null,null,null,null,null,null,null,null,null,null,null,null,"Page 4 of 4"]
[null,null,null,{"$f":"+D3","v":"NEWFOUNDLAND AND LABRADOR HYDRO"}]
[null,null,null,{"$f":"RunName","v":"2019 Test Year Cost of Service Study"}]
[null,null,null,"Average Cost / kWh"]
[]
[null,null,null,null,{"$f":"MAX(D110)+NoOne","v":1},{"$f":"MAX(E110)+NoOne","v":2},{"$f":"MAX(F110)+NoOne","v":3},{"$f":"MAX(G110)+NoOne","v":4},null,{"$f":"MAX(H110)+NoOne","v":5},{"$f":"MAX(J110)+NoOne","v":6},null,{"$f":"MAX(K110)+NoOne","v":7},{"$f":"MAX(M110)+NoOne","v":8}]
[null,null,null,null,null,null,"Proposed",null,null,null,null,null,"Revenue Requirement"]
[null,null,null,"Line",null,"Sales"," Revenues",null,null,"Revenue Requirement",null,null,"After Def and Rv Credit Alloc"]
[null,null,null,"No.","Rate Class","MWh","$","$ / kWh",null,"$","$ / kWh",null,"$","$ / kWh"]
[null,null,null,null,"L'Anse au Loup"]
["LAL1.2",null,null,{"$f":"MAX(D112:D114)+NoOne","v":1},"1.1 Domestic",4376,{"$f":"'Rev to Cost'!C191","v":596496.26495162677},{"$f":"IF(F115<>0,G115/(F115*1000),0)","v":0.13631084665256554},null,{"$f":"'Rev to Cost'!D191","v":1603999.3196259073},{"$f":"IF(F115<>0,J115/(F115*1000),0)","v":0.36654463428379969},null,{"$f":"'Rev to Cost'!H191","v":596496.26495162677},{"$f":"IF(F115<>0,M115/(F115*1000),0)","v":0.13631084665256554}]
["LAL1.12",null,null,2,"1.12 Domestic All Electric ",11401,{"$f":"'Rev to Cost'!C192","v":1431038.465207919},{"$f":"IF(F116<>0,G116/(F116*1000),0)","v":0.12551867952003501},null,{"$f":"'Rev to Cost'!D192","v":3616545.6555972747},0.31721302127859613,null,{"$f":"'Rev to Cost'!H192","v":1431038.465207919},0.12551867952003501]
["LAL2.1",null,null,3,"2.1 General Service 0-10 kW",6481.08,{"$f":"'Rev to Cost'!C193","v":859548.49587483029},0.13262426877539396,null,{"$f":"'Rev to Cost'!D193","v":1826265.1471213726},0.28178407720956578,null,{"$f":"'Rev to Cost'!H193","v":859548.49587483029},0.13262426877539396]
["LAL2.2",null,null,4,"2.2 General Service 10-100 kW",0,{"$f":"'Rev to Cost'!C194","v":0},0,null,{"$f":"'Rev to Cost'!D194","v":0},0,null,{"$f":"'Rev to Cost'!H194","v":0},0]
["LAL2.3",null,null,5,"2.3 General Service 110-1,000 kVa",2831,{"$f":"'Rev to Cost'!C195","v":330152.37845126266},0.11662040920214152,null,{"$f":"'Rev to Cost'!D195","v":648270.03716497507},0.2289897693977305,null,{"$f":"'Rev to Cost'!H195","v":330152.37845126266},0.11662040920214152]
["LAL4.1",null,null,6,"4.1 Street and Area Lighting",53,{"$f":"'Rev to Cost'!C196","v":21153.673521600002},0.39912591550188681,null,{"$f":"'Rev to Cost'!D196","v":47550.428898004517},0.89717790373593431,null,{"$f":"'Rev to Cost'!H196","v":21153.673521600002},0.39912591550188681]
[]
[null,null,null,{"$f":"MAX(D119:D121)+NoOne","v":7},"Total L'Anse au Loup",{"$f":"SUM(F115:F120)","v":25142.080000000002},{"$f":"SUM(G115:G120)","v":3238389.2780072386},0.12880355475788952,null,{"$f":"SUM(J115:J120)","v":7742630.5884075342},0.30795505337694951,null,{"$f":"SUM(M115:M120)","v":3238389.2780072386},{"$f":"IF(F122<>0,M122/(F122*1000),0)","v":0.12880355475788952}]
[]
[]
["LINTIOCNF",null,null,null,"Labrador Interconnected"]
["LINTIOCF",null,null,{"$f":"MAX(D122:D125)+NoOne","v":8},"Labrador Industrial ",1733100,{"$f":"+'Rev to Cost'!C27","v":6872119.5046644444},{"$f":"IF(F126<>0,G126/(F126*1000),0)","v":3.9652181089749258E-3},null,{"$f":"'Rev to Cost'!D27","v":6860189.9829385635},{"$f":"IF(F126<>0,J126/(F126*1000),0)","v":3.9583347659907465E-3},null,{"$f":"'Rev to Cost'!H27","v":6860189.9829385635},{"$f":"IF(F126<>0,M126/(F126*1000),0)","v":3.9583347659907465E-3}]
["MFP",null,null,null,"MFP Construction"]
["LINTCFB",null,null,{"$f":"MAX(D125:D127)+NoOne","v":9},"CFB - Goose Bay Secondary",0,{"$f":"+'Rev to Cost'!C28","v":0},{"$f":"IF(F128<>0,G128/(F128*1000),0)","v":0},null,{"$f":"'Rev to Cost'!D28","v":0},{"$f":"IF(F128<>0,J128/(F128*1000),0)","v":0},null,{"$f":"'Rev to Cost'!H28","v":0},{"$f":"IF(F128<>0,M128/(F128*1000),0)","v":0}]
[null,null,null,null,"Rural"]
["LINT1.1",null,null,{"$f":"MAX(D127:D129)+NoOne","v":10},"1.1 Domestic ",2122.56,{"$f":"'Rev to Cost'!C228","v":109454.85680270228},{"$f":"IF(F130<>0,G130/(F130*1000),0)","v":5.1567379392197292E-2},null,{"$f":"'Rev to Cost'!D228","v":215092.65899860079},{"$f":"IF(F130<>0,J130/(F130*1000),0)","v":0.10133643289169719},null,{"$f":"'Rev to Cost'!H228","v":246910.96772371855},{"$f":"IF(F130<>0,M130/(F130*1000),0)","v":0.11632696730538526}]
["LINT1.1A",null,null,11,"1.1A Domestic All Electric ",313890.88,{"$f":"'Rev to Cost'!C229","v":12338690.184692886},{"$f":"IF(F131<>0,G131/(F131*1000),0)","v":3.9308852123046342E-2},null,{"$f":"'Rev to Cost'!D229","v":12011207.327792181},3.8265550524412113E-2,null,{"$f":"'Rev to Cost'!H229","v":13788005.776871629},4.3926111446346033E-2]
["LINT2.1",null,null,12,"2.1 General Service 0-10 kW",6584.39,{"$f":"'Rev to Cost'!C230","v":455136.11659505049},6.9123505229041787E-2,null,{"$f":"'Rev to Cost'!D230","v":394806.49354968488},5.9960982497951197E-2,null,{"$f":"'Rev to Cost'!H230","v":453209.57879178424},6.8830913538199326E-2]
["LINT2.2",null,null,13,"2.2 General Service 10-100 kW",71240.990000000005,{"$f":"'Rev to Cost'!C231","v":2508183.0379712135},3.5207021097983245E-2,null,{"$f":"'Rev to Cost'!D231","v":1867500.4616819066},2.6213847697539108E-2,null,{"$f":"'Rev to Cost'!H231","v":2143756.780752663},3.0091619736792863E-2]
["LINT2.3",null,null,14,"2.3 General Service 110-1,000 kVa",130158.2,{"$f":"'Rev to Cost'!C232","v":3890717.1723198113},{"$f":"IF(F134<>0,G134/(F134*1000),0)","v":2.9892217104414563E-2},null,{"$f":"'Rev to Cost'!D232","v":2586689.6382659478},{"$f":"IF(F134<>0,J134/(F134*1000),0)","v":1.98734281686897E-2},null,{"$f":"'Rev to Cost'!H232","v":2969334.4475755235},2.2813272214701214E-2]
["LINT2.4",null,null,15,"2.4 General Service Over 1,000 kVa",129940.99,{"$f":"'Rev to Cost'!C233","v":2844173.4625775311},{"$f":"IF(F135<>0,G135/(F135*1000),0)","v":2.1888192960339389E-2},null,{"$f":"'Rev to Cost'!D233","v":2272282.3225295786},{"$f":"IF(F135<>0,J135/(F135*1000),0)","v":1.7487032556313283E-2},null,{"$f":"'Rev to Cost'!H233","v":2608417.3667727392},2.0073860963909382E-2]
["LINT4.1",null,null,16,"4.1 Street and Area Lighting",1810.3,{"$f":"'Rev to Cost'!C234","v":361265.16},0.19956093465171518,null,{"$f":"'Rev to Cost'!D234","v":303977.88802275388},0.16791575320264812,null,{"$f":"'Rev to Cost'!H234","v":348944.84473688412},0.1927552586515407]
[]
[null,null,null,{"$f":"MAX(D135:D137)+NoOne","v":17},"Subtotal Rural",{"$f":"SUM(F130:F136)","v":655748.31000000006},{"$f":"SUM(G130:G136)","v":22507619.990959194},3.4323565379770778E-2,null,{"$f":"SUM(J130:J136)","v":19651556.790840652},2.9968139438804886E-2,null,{"$f":"SUM(M130:M136)","v":22558579.763224941},{"$f":"IF(F138<>0,M138/(F138*1000),0)","v":3.440127777565289E-2}]
[]
[null,null,null,{"$f":"MAX(D137:D139)+NoOne","v":18},"Total Labrador Interconnected",{"$f":"SUM(F138,F126,F128,F127)","v":2388848.31},{"$f":"SUM(G138,G126,G128,G127)","v":29379739.495623637},1.2298704514906448E-2,null,{"$f":"SUM(J138,J126,J128,J127)","v":26511746.773779213},{"$f":"IF(F140<>0,J140/(F140*1000),0)","v":1.109812902845188E-2},null,{"$f":"SUM(M138,M126,M128,M127)","v":29418769.746163502},{"$f":"IF(F140<>0,M140/(F140*1000),0)","v":1.2315043036852977E-2}]

{"sheet":"Coverage","index":32,"n_rows":46,"n_cols":10,"rows_kept":46,"cut":false,"hidden":false,"merged":[]}
[]
[]
["NEWFOUNDLAND AND LABRADOR HYDRO"]
[{"$f":"RunName","v":"2019 Test Year Cost of Service Study"}]
["Calculation of Gross Interest Coverage"]
[]
[null,null,null,null,"Island","Island","Labrador","L'Anse au","Labrador"]
[null,null,null,"Total","Interconnected","Isolated","Isolated","Loup","Interconnected","Basis of Allocation"]
[]
[null,"Rate Base Methodology"]
[{"$f":"MAX(A8:A10)+NoOne","v":1},null,"Return on Debt",{"$f":"SUM(E11:I11)","v":95594234.416873246},{"$f":"IslIntCos!$F215","v":84767028.678827539},{"$f":"IslIsoCos!$F182","v":746170.72392953723},{"$f":"LabIsoCos!$F182","v":3856595.2545063854},{"$f":"LALCos!$F182","v":649543.80686815968},{"$f":"LabIntCos!F186","v":5574895.9527416211}]
[{"$f":"MAX(A9:A11)+NoOne","v":2},null,"Return on Equity",{"$f":"SUM(E12:I12)","v":38825487.618353829},{"$f":"IslIntCos!$F217","v":34428030.544837445},{"$f":"IslIsoCos!$F184","v":303056.37552122946},{"$f":"LabIsoCos!$F184","v":1566351.6970058025},{"$f":"LALCos!$F184","v":263811.46504256956},{"$f":"LabIntCos!F188","v":2264237.5359467878}]
[{"$f":"MAX(A10:A12)+NoOne","v":3},null,"Return on Rate Base - by System",{"$f":"SUM(E13:I13)","v":134419722.03522703},{"$f":"IslIntCos!$F219","v":119195059.22366495},{"$f":"IslIsoCos!$F186","v":1049227.0994507666},{"$f":"LabIsoCos!$F186","v":5422946.9515121859},{"$f":"LALCos!$F186","v":913355.27191072947},{"$f":"LabIntCos!F190","v":7839133.4886884084}]
[]
[{"$f":"MAX(A12:A14)+NoOne","v":4},null,"Return on Rate Base - Total Check",{"$f":"'Rate Base'!D48","v":134419722.03522703},{"$f":"SUM(E11:E12)","v":119195059.22366498},{"$f":"SUM(F11:F12)","v":1049227.0994507666},{"$f":"SUM(G11:G12)","v":5422946.9515121877},{"$f":"SUM(H11:H12)","v":913355.27191072924},{"$f":"SUM(I11:I12)","v":7839133.4886884093}]
[]
[null,"Interest Coverage Methodology"]
[{"$f":"MAX(A15:A17)+NoOne","v":5},null,"Net Interest",{"$f":"SUM(E18:H18,I18)","v":97601644.861965895},{"$f":"AllocNBV!E38","v":86319560.480259955},{"$f":"AllocNBV!F38","v":783642.6305683048},{"$f":"AllocNBV!G38","v":3958856.965110614},{"$f":"AllocNBV!H38","v":681428.48195361369},{"$f":"AllocNBV!K38","v":5858156.3040733906},"Allocated on NBV"]
[{"$f":"MAX(A16:A18)+NoOne","v":6}," ","Margin",{"$f":"SUM(E19:H19,I19)","v":36818077.173261136},{"$f":"+AllocNBV!E51","v":34478183.558831118},{"$f":"+AllocNBV!F51","v":0},{"$f":"+AllocNBV!G51","v":0},{"$f":"+AllocNBV!H51","v":0},{"$f":"+AllocNBV!K51","v":2339893.6144300182},"Allocated on NBV"]
[{"$f":"MAX(A17:A19)+NoOne","v":7},null,"Return",{"$f":"SUM(D18:D19)","v":134419722.03522703},120797744.03909108,783642.6305683048,3958856.965110614,681428.48195361369,8198049.9185034093]
[]
[]
[]
[null,"Calculation of Interest Coverage"]
[]
[{"$f":"MAX(A20:A25)+NoOne","v":8},null,"Gross Interest",94100000]
[{"$f":"MAX(A24:A26)+NoOne","v":9},null,"Amount on NBV not in service",{"$f":"-AllocNBV!L42","v":-276232.45195078879}]
[{"$f":"MAX(A25:A27)+NoOne","v":10},null,"Amount on Rural NBV",{"$f":"-AllocNBV!D43","v":-5213983.5130118942}]
[{"$f":"MAX(A26:A28)+NoOne","v":11},null,"    Balance for coverage calculation",{"$f":"SUM(D26:D28)","v":88609784.035037324}]
[]
[{"$f":"MAX(A28:A30)+NoOne","v":12},null,"Gross Interest Coverage",{"$f":"D19/D29+1","v":1.4155080341771609}]
[]
[]
[null,null,"Revenue"]
[null,null,"  From sales"]
[{"$f":"MAX(A33:A35)+NoOne","v":1},null,"    Newfoundland Light & Power",{"$f":"'Rev to Cost'!C23","v":545410154}]
[2,null,"    Island Industrial  - Firm",{"$f":"'Rev to Cost'!C25","v":49754122.895168297}]
[3,null,"Unallocated RSP Hydraulic Variation",{"$f":"+'Rev to Cost'!C26","v":0}]
[{"$f":"MAX(A36:A37)+NoOne","v":3},null,"    Rural",{"$f":"SUM('Rev to Cost'!C29:C35)","v":90669228.663606673}]
[4,null,"    Labrador Industrial",{"$f":"'Rev to Cost'!C27","v":6872119.5046644444}]
[5,null,"CFB - Goose Bay Secondary",{"$f":"'Rev to Cost'!C28","v":0}]
[6,null,"  Total Revenue",{"$f":"SUM(D36:D41)","v":692705625.06343937}]
[7,null,"Adjustment for Labrador Industrial",0]
[8,null,"Adjustment for Labrador Rural",0]
[9,null,"Balance",{"$f":"SUM(D42:D44)","v":692705625.06343937}]
[10,null,"Adjusted margin",{"$f":"D45-'Revenue Requirement'!C36-'Revenue Requirement'!C38","v":38791723.684156746}]

{"sheet":"Customers","index":33,"n_rows":184,"n_cols":30,"rows_kept":184,"cut":false,"hidden":false,"merged":[[105,5,105,6],[128,5,128,6]]}
[null,null,"Weighting factors for meters & services",null,null,null,null,null,"Summary of ",100,200,300,400,500,"6",600,"8",700,99,"Total"]
[null,null,"Domestic",1,86.03,"Residential Meter ",null,null,"Weighted Customers",null,null,null,null,null," "]
[null,null,"GS (0 -10 kW)",{"$f":"+D9*E2/E2+E9*E3/E2+F9*E4/E2+G9*E5/E2","v":1.8774792798141444},155.30000000000001,"GS (0 -10 kW) Meter",null,null,"For Meter Analysis",{"$f":"G41","v":34435.509509791285},{"$f":"G69","v":915.23972113273999},{"$f":"G94","v":3628.6922373446932},{"$f":"G169","v":0},null,0,{"$f":"G182","v":0},0,{"$f":"G117","v":1237.4655348568378},{"$f":"G143","v":15702.13203366416},{"$f":"SUM(J3:R3)-P3-N3","v":40216.907003125561},"Excludes 5 and 7",{"$f":"SUM(J3:R3)","v":40216.907003125561}]
[null,null,"GS (10 -100 kW)",{"$f":"+D10*E2/E2+E10*E3/E2+F10*E4/E2+G10*E5/E2","v":4.7701251838337484},429.22,"GS (10 -100 kW) Meter",null,null,"Rural Customers",{"$f":"D41","v":23853},{"$f":"K5","v":826.5},{"$f":"L5","v":2789},{"$f":"+D167","v":0},null,0,{"$f":"+D182","v":0},0,933.5,{"$f":"+D143","v":11659.25},{"$f":"SUM(J4:R4)","v":28402}]
[null,null,"GS (over 100 kW)",{"$f":"+D11*E2/E2+E11*E3/E2+F11*E4/E2+G11*E5/E2","v":8.419431555067586},728.58,"GS (over 100 kW) Meter",null,null,"All Customers",{"$f":"D43","v":23859},{"$f":"D69","v":826.5},{"$f":"D94","v":2789},{"$f":"+D169","v":0},null,0,{"$f":"D184","v":0},0,{"$f":"D117","v":933.5},{"$f":"D145","v":11659.25},{"$f":"SUM(J5:R5)","v":28408},"All Systems"]
[null,null,null,null,null,null,null,null,null,{"$f":"J5/$T$5","v":0.83986905097155728},{"$f":"K5/$T$5","v":2.9093917206420728E-2},{"$f":"L5/$T$5","v":9.8176569980287245E-2},0,0,0,0,0,3.2860461841734724E-2,0.4104213601802309]
[null,null,null,"Me1-2","Me3","Me4","Me5-8"]
[null,null,"Domestic",0.98885890032638712,3.138337936228973E-3,8.7873462214411243E-4,7.1240271152397689E-3,{"$f":"SUM(D8:G8)","v":1},"System Number =>",100,200,300,400,500,"6",600,"8",700,"99"]
[null,null,"GS 0-10kW",0.72609656042915749,0.16724518775639002,1.5462290943515304E-2,9.1195960870937204E-2,{"$f":"SUM(D9:G9)","v":0.99999999999999989},"Number of Customers",23107.61065573771,4438.3096539162107,3237.4289617486338,3557,1043,0,3538,0,320.49544626593809,8138]
[null,null,"GS 10-100kW",8.0745341614906832E-3,0.45714285714285718,0.17018633540372671,0.36459627329192545,{"$f":"SUM(D10:G10)","v":1},"Percentage of Total",{"$f":"J9/SUM($J$9:$R$9)","v":0.58885128418373245},0.11310145294769688,8.2499408094619808E-2,9.0643037441062863E-2,2.6578770888678258E-2,0,9.015886040665741E-2,0,8.1671860375523118E-3,0.20738066873639852]
[null,null,"GS >100kW",0,0,1.4218009478672987E-2,0.98578199052132698,{"$f":"SUM(D11:G11)","v":1},null,null,null,null,null,null,null,null,0]
[null,null,"NB: Me 1-8  = Minor Asset Class 1-8",null,null,null,null,null,"Net Rev. for  Municipal Tax Distribution ",53526605.962164946,361265.16,0,0,0,0,0,0,0,1740167.8632971486,null,"ISLINTTOT","LEINT4.1",null,"LABISO2.5","LAL2.2",null,null,null,null,"ISLISOTOT"]
[null,null,null,null,null,null,null,null,"Note: allocating Municipal Taxes to 1, 2 and 4 only",{"$f":"J12","v":53526605.962164946},{"$f":"K12","v":361265.16},0,{"$f":"M12","v":0},0,0,0,0,0,0]
[null,null,null,null,null,null,null,null,null,{"$f":"J13/SUM($J13:$R13)","v":0.99329598381830675},{"$f":"K13/SUM($J13:$R13)","v":6.7040161816933575E-3},{"$f":"L13/SUM($J13:$R13)","v":0},{"$f":"M13/SUM($J13:$R13)","v":0},{"$f":"N13/SUM($J13:$R13)","v":0},0,{"$f":"P13/SUM($J13:$R13)","v":0},{"$f":"Q13/SUM($J13:$R13)","v":0},{"$f":"R13/SUM($J13:$R13)","v":0},{"$f":"M14","v":0}]
[]
[null,null,null,null,null,null,null,"BkpCustomers"]
[null,null,null,null,null,null,null,"Page 1 of 5"]
[]
[null,null,"NEWFOUNDLAND AND LABRADOR HYDRO"]
[null,null,{"$f":"RunName","v":"2019 Test Year Cost of Service Study"}]
[null,null,"Island Interconnected"]
[null,null,"Schedule of Customers and Weighted Customers"]
[]
[null,null,{"$f":"MAX(B24)+NoOne","v":1},{"$f":"MAX(C24)+NoOne","v":2},{"$f":"MAX(D24)+NoOne","v":3},{"$f":"MAX(E24)+NoOne","v":4},{"$f":"MAX(F24)+NoOne","v":5}]
[null,"Line ",null,"Average",null," Weighted Customers"]
[null,"No.",null,"Customers","Weights","Services","Meters"]
[]
[null,null,"Island Interconnected"]
["ISLINTNP",{"$f":"MAX(B26:B28)+NoOne","v":1},"Newfoundland Power",1]
["ISLINTINDF",{"$f":"MAX(B27:B29)+NoOne","v":2},"Industrial",5]
[null,null,"Rural"]
["ISLINT1.1",{"$f":"MAX(B29:B31)+NoOne","v":3},"1.1 Domestic",11410,{"$f":"D$2","v":1},{"$f":"D32*$E32","v":11410},{"$f":"D32*$E32","v":11410}]
["ISLINT1.12",4,"1.12 Domestic All Electric ",8528.5,{"$f":"D$2","v":1},8528.5,8528.5]
["ISLINT1.3",5,"1.3 Special",1,{"$f":"D$2","v":1},1,1]
["ISLINT2.1",6,"2.1 General Service 0-10 kW",2858,{"$f":"D$4","v":4.7701251838337484},13633.017775396853,13633.017775396853]
["ISLINT2.2",7,"2.2 General Service 10-100 kW",0,{"$f":"D$4","v":4.7701251838337484},0,0]
["ISLINT2.3",8,"2.3 General Service 110-1,000 kVa",93.5,{"$f":"D$5","v":8.419431555067586},787.21685039881925,787.21685039881925]
["ISLINT2.4",9,"2.4 General Service Over 1,000 kVa",9,{"$f":"D$5","v":8.419431555067586},75.774883995608278,75.774883995608278]
["ISLINT4.1",10,"4.1 Street and Area Lighting",953]
[]
[null,{"$f":"MAX(B38:B40)+NoOne","v":11},"Subtotal Rural",{"$f":"SUM(D32:D39)","v":23853},null,{"$f":"SUM(F32:F39)","v":34435.509509791285},{"$f":"SUM(G32:G39)","v":34435.509509791285}]
[]
[null,{"$f":"MAX(B40:B42)+NoOne","v":12},"Total Island Interconnected",{"$f":"SUM(D41,D29:D30)","v":23859},null,{"$f":"SUM(F41,F29:F30)","v":34435.509509791285},{"$f":"SUM(G41,G29:G30)","v":34435.509509791285}]
[]
[null,null,null,null,null,null,null,"BkpCustomers"]
[null,null,null,null,null,null,null,"Page 2 of 5"]
[null,null,{"$f":"+C19","v":"NEWFOUNDLAND AND LABRADOR HYDRO"}]
[null,null,{"$f":"RunName","v":"2019 Test Year Cost of Service Study"}]
[null,null,"Island Isolated"]
[null,null,"Schedule of Customers and Weighted Customers"]
[]
[null,null,{"$f":"MAX(B52)+NoOne","v":1},{"$f":"MAX(C52)+NoOne","v":2},{"$f":"MAX(D52)+NoOne","v":3},{"$f":"MAX(E52)+NoOne","v":4},{"$f":"MAX(F52)+NoOne","v":5}]
[null,"Line ",null,"Average",null," Weighted Customers"]
[null,"No.",null,"Customers","Weights","Services","Meters"]
[]
[null,null,"Island Isolated"]
["ISLISO1.2",{"$f":"MAX(B54:B56)+NoOne","v":1},"1.2 Domestic Diesel",680.5,{"$f":"$D$2","v":1},{"$f":"D57*E57","v":680.5},{"$f":"D57*E57","v":680.5}]
["ISLISO1.2G",2,"1.2G Government Domestic Diesel",0,{"$f":"$D$2","v":1},{"$f":"D58*E58","v":0},{"$f":"D58*E58","v":0}]
["ISLISO1.23",3,"1.23 Churches, Schools & Com Halls",0,{"$f":"$D$2","v":1},0,0]
["ISLISO2.1",4,"2.1 General Service 0-10 kW",92,{"$f":"+D3","v":1.8774792798141444},172.72809374290128,172.72809374290128]
["ISLISO2.2",5,"2.2 General Service 10-100 kW",13,{"$f":"$D$4","v":4.7701251838337484},62.011627389838729,62.011627389838729]
["ISLISO2.3",6,"2.3 General Service 110-1,000 kVa",0,{"$f":"$D$5","v":8.419431555067586},0,0]
["ISLISO2.4",7,"2.4 General Service Over 1,000 kVa",0,{"$f":"+D5","v":8.419431555067586},0,0]
["ISLISO2.5",8,"2.5 General Service Diesel",0,{"$f":"$D$3","v":1.8774792798141444},0,0]
["ISLISO2.5G",9,"2.5G Government General Service Diesel",0,{"$f":"$D$3","v":1.8774792798141444},{"$f":"D65*E65","v":0},{"$f":"D65*E65","v":0}]
["ISLISO4.1",10,"4.1 Street and Area Lighting",38," "]
["ISLISO4.1G",11,"4.1G Government Street and Area Lighting",3]
[]
[null,{"$f":"MAX(B66:B68)+NoOne","v":12},"Total Island Isolated",{"$f":"SUM(D57:D67)","v":826.5},null,{"$f":"SUM(F57:F67)","v":915.23972113273999},{"$f":"SUM(G57:G67)","v":915.23972113273999}]
[]
[null,null,null,null,null,null,null,"BkpCustomers"]
[null,null,null,null,null,null,null,"Page 3 of 5"]
[null,null,{"$f":"+C19","v":"NEWFOUNDLAND AND LABRADOR HYDRO"}]
[null,null,{"$f":"RunName","v":"2019 Test Year Cost of Service Study"}]
[null,null,"Labrador Isolated"]
[null,null,"Schedule of Customers and Weighted Customers"]
[]
[null,null,{"$f":"MAX(B78)+NoOne","v":1},{"$f":"MAX(C78)+NoOne","v":2},{"$f":"MAX(D78)+NoOne","v":3},{"$f":"MAX(E78)+NoOne","v":4},{"$f":"MAX(F78)+NoOne","v":5}]
[null,"Line ",null,"Average",null," Weighted Customers"]
[null,"No.",null,"Customers","Weights","Services","Meters"]
[]
[null,null,"Labrador Isolated"]
["LABISO1.2",{"$f":"MAX(B80:B82)+NoOne","v":1},"1.2 Domestic Diesel",2082.5,{"$f":"$D$2","v":1},{"$f":"D83*E83","v":2082.5},{"$f":"D83*E83","v":2082.5}]
["LABISO1.2G",2,"1.2G Government Domestic Diesel",26,{"$f":"$D$2","v":1},26,26]
["LABISO1.23",3,"1.23 Churches, Schools & Com Halls",0,{"$f":"$D$2","v":1},0,0]
["LABISO2.1",4,"2.1 General Service 0-10 kW",452.5,{"$f":"+D3","v":1.8774792798141444},849.55937411590037,849.55937411590037]
["LABISO2.2",5,"2.2 General Service 10-100 kW",130,{"$f":"$D$4","v":4.7701251838337484},620.11627389838725,620.11627389838725]
["LABISO2.3",6,"2.3 General Service 110-1,000 kVa",5,{"$f":"$D$5","v":8.419431555067586},42.097157775337934,42.097157775337934]
["LABISO2.4",7,"2.4 GS Over 1,000 kVa",1,{"$f":"$D$5","v":8.419431555067586},8.419431555067586,8.419431555067586]
["LABISO2.5",8,"2.5 General Service Diesel",0,{"$f":"$D$3","v":1.8774792798141444},0,0]
["LABISO2.5G",9,"2.5G Government General Service Diesel",0,{"$f":"$D$3","v":1.8774792798141444},0,0]
["LABISO4.1",10,"4.1 Street and Area Lighting",90,null,0,0]
["LABISO4.1G",11,"4.1G Government Street and Area Lighting",2]
[null,12,"Total Labrador Isolated",{"$f":"SUM(D83:D93)","v":2789},null,{"$f":"SUM(F83:F92)","v":3628.6922373446932},{"$f":"SUM(G83:G92)","v":3628.6922373446932}]
[]
[null,null,null,null,null,null,null,"BkpCustomers"]
[null,null,null,null,null,null,null,"Page 4 of 5"]
[null,null,{"$f":"+C19","v":"NEWFOUNDLAND AND LABRADOR HYDRO"}]
[null,null,{"$f":"RunName","v":"2019 Test Year Cost of Service Study"}]
[null,null,"L'Anse au Loup"]
[null,null,"Schedule of Customers and Weighted Customers"]
[]
[null,null,{"$f":"MAX(B103)+NoOne","v":1},{"$f":"MAX(C103)+NoOne","v":2},{"$f":"MAX(D103)+NoOne","v":3},{"$f":"MAX(E103)+NoOne","v":4},{"$f":"MAX(F103)+NoOne","v":5}]
[]
[]
[null,null,null,"Average",null," Weighted Customers"]
[null,"Line",null,"Customers","Weights","Services","Meters"]
[null,"No."]
[null,null,"L'Anse Au Loup"]
["LAL1.2",{"$f":"MAX(B107:B109)+NoOne","v":1},"1.1 Domestic",389,{"$f":"D2","v":1},{"$f":"D110*E110","v":389},{"$f":"D110*E110","v":389}]
["LAL1.12",2,"1.12 Domestic All Electric ",427,{"$f":"D2","v":1},{"$f":"D111*E111","v":427},{"$f":"D111*E111","v":427}]
["LAL2.1",3,"2.1 General Service 0-10 kW",76,{"$f":"D4","v":4.7701251838337484},{"$f":"D112*E112","v":362.52951397136485},{"$f":"D112*E112","v":362.52951397136485}]
["LAL2.2",4,"2.2 General Service 10-100 kW",0,{"$f":"D4","v":4.7701251838337484},{"$f":"D113*E113","v":0},{"$f":"D113*E113","v":0}]
["LAL2.3",5,"2.3 General Service 110-1,000 kVa",7,{"$f":"D5","v":8.419431555067586},{"$f":"D114*E114","v":58.936020885473098},{"$f":"D114*E114","v":58.936020885473098}]
["LAL4.1",6,"4.1 Street and Area Lighting",34.5]
[]
[null,{"$f":"MAX(B114:B116)+NoOne","v":7},"Total L'Anse au Loup",{"$f":"SUM(D110:D115)","v":933.5},null,{"$f":"SUM(F110:F115)","v":1237.4655348568378},{"$f":"SUM(G110:G115)","v":1237.4655348568378}]
[]
[null,null,null,null,null,null,null,"BkpCustomers"]
[null,null,null,null,null,null,null,"Page 5 of 5"]
[]
[null,null,{"$f":"+C19","v":"NEWFOUNDLAND AND LABRADOR HYDRO"}]
[null,null,{"$f":"RunName","v":"2019 Test Year Cost of Service Study"}]
[null,null,"Labrador Interconnected"]
[null,null,"Schedule of Customers and Weighted Customers"]
[]
[null,null,{"$f":"MAX(B127)+NoOne","v":1},{"$f":"MAX(C127)+NoOne","v":2},{"$f":"MAX(D127)+NoOne","v":3},{"$f":"MAX(E127)+NoOne","v":4},{"$f":"MAX(F127)+NoOne","v":5}]
[]
[null,"Line",null,"Average",null," Weighted Customers"]
[null,"No.",null,"Customers","Weights","Services","Meters"]
[null,null,"Labrador Interconnected"]
["LINTCFB",{"$f":"MAX(B129:B131)+NoOne","v":1},"CFB - Goose Bay Secondary",0]
["LINTIOCF",2,"Labrador Industrial Firm",0]
["LINTIOCNF",3,"Labrador Industrial Non-Firm",0]
["LINT1.1",4,"1.1 Domestic ",339.5,{"$f":"D2","v":1},{"$f":"D135*E135","v":339.5},{"$f":"D135*E135","v":339.5}]
["LINT1.1A",5,"1.1A Domestic All Electric ",9548.5,{"$f":"D2","v":1},9548.5,9548.5]
["LINT2.1",6,"2.1 General Service 0-10 kW",517.5,{"$f":"D3","v":1.8774792798141444},971.59552730381972,971.59552730381972]
["LINT2.2",7,"2.2 General Service 10-100 kW",678.5,{"$f":"D4","v":4.7701251838337484},3236.5299372311983,3236.5299372311983]
["LINT2.3",8,"2.3 General Service 110-1,000 kVa",184.75,{"$f":"D5","v":8.419431555067586},1555.4899797987366,1555.4899797987366]
["LINT2.4",9,"2.4 General Service Over 1,000 kVa",6,{"$f":"D5","v":8.419431555067586},50.516589330405516,50.516589330405516]
["LINT4.1",10,"4.1 Street and Area Lighting",384.5]
[]
[null,{"$f":"MAX(B140:B142)+NoOne","v":11},"Subtotal Rural",{"$f":"SUM(D135:D141)","v":11659.25},null,{"$f":"SUM(F135:F141)","v":15702.13203366416},{"$f":"SUM(G135:G141)","v":15702.13203366416}]
[]
[null,{"$f":"MAX(B142:B144)+NoOne","v":12},"Total Labrador Interconnected",{"$f":"SUM(D132:D142)","v":11659.25},null,{"$f":"+SUM(F132:F142)","v":15702.13203366416},{"$f":"+SUM(G132:G142)","v":15702.13203366416}]
[]
[null,null,null,null,null,null,null,"BkpCustomers"]
[null,null,null,null,null,null,null,"Page 6 of 6"]
[null,null,{"$f":"+C19","v":"NEWFOUNDLAND AND LABRADOR HYDRO"}]
[null,null,{"$f":"RunName","v":"2019 Test Year Cost of Service Study"}]
[null,null,"Happy Valley/Goose Bay, Wabush, Labrador City"]
[null,null,"Schedule of Customers and Weighted Customers"]
[]
[null,null,{"$f":"MAX(B154)+NoOne","v":1},{"$f":"MAX(C154)+NoOne","v":2},{"$f":"MAX(D154)+NoOne","v":3},{"$f":"MAX(E154)+NoOne","v":4},{"$f":"MAX(F154)+NoOne","v":5}]
[null,"Line ",null,"Average",null," Weighted Customers"]
[null,"No.",null,"Customers","Weights","Services","Meters"]
[null,null,"Happy Valley / Goose Bay"]
["LECFB",{"$f":"MAX(B155:B157)+NoOne","v":1},"CFB - Goose Bay Secondary"]
[]
["LE1.1",{"$f":"MAX(B157:B159)+NoOne","v":2},"1.1Domestic ",null,{"$f":"$D$2","v":1},{"$f":"D160*E160","v":0},{"$f":"D160*E160","v":0}]
["LE1.1A",3,"1.1A Domestic All Electric ",null,{"$f":"$D$2","v":1},0,0]
["LE2.1",4,"2.1General Service 0-10 kW",null,{"$f":"D3","v":1.8774792798141444},0,0]
["LE2.2",5,"2.2General Service 10-100 kW ",null,{"$f":"D4","v":4.7701251838337484},0,0]
["LE2.3",6,"2.3General Service 110-1,000 kVa",null,{"$f":"D5","v":8.419431555067586},0,0]
["LE2.4",7,"2.4General Service Over 1,000 kVa",null,{"$f":"D5","v":8.419431555067586},0,0]
["LE4.1",8,"4.1Street and Area Lighting"]
[null,9,"Subtotal Rural",{"$f":"SUM(D160:D166)","v":0},null,{"$f":"SUM(F160:F166)","v":0},{"$f":"SUM(G160:G166)","v":0}]
[]
[null,{"$f":"MAX(B166:B168)+NoOne","v":10},"Subtotal Happy Valley/Goose Bay",{"$f":"SUM(D158:D166)","v":0},null,{"$f":"SUM(F158:F166)","v":0},{"$f":"SUM(G158:G166)","v":0}]
[]
[null,null,"Labrador West"]
["LWIOCF",{"$f":"MAX(B169:B171)+NoOne","v":11},"Labrador Industrial Firm"]
["LWIOCNF",{"$f":"MAX(B170:B172)+NoOne","v":12},"Labrador Industrial Non-Firm"]
[]
["LW1.1",{"$f":"MAX(B172:B174)+NoOne","v":13},"1.1Domestic ",null,{"$f":"D2","v":1},{"$f":"D175*E175","v":0},{"$f":"D175*E175","v":0}]
["LW1.1A",14,"1.1A Domestic All Electric ",null,{"$f":"D2","v":1},0,0]
["LW2.1",15,"2.1General Service 0-10 kW",null,{"$f":"D3","v":1.8774792798141444},0,0]
["LW2.2",16,"2.2General Service 10-100 kW ",null,{"$f":"D4","v":4.7701251838337484},0,0]
["LW2.3",17,"2.3General Service 110-1,000 kVa",null,{"$f":"D5","v":8.419431555067586},0,0]
["LW2.4",18,"2.4General Service Over 1,000 kVa",null,{"$f":"D5","v":8.419431555067586},0,0]
["LW4.1",19,"4.1Street and Area Lighting"]
[null,20,"Subtotal Rural",{"$f":"SUM(D175:D181)","v":0},null,{"$f":"SUM(F175:F181)","v":0},{"$f":"SUM(G175:G181)","v":0}]
[]
[null,{"$f":"MAX(B181:B183)+NoOne","v":21},"Subtotal Labrador West",{"$f":"SUM(D172:D181)","v":0},null,{"$f":"SUM(F172:F181)","v":0},{"$f":"SUM(G172:G181)","v":0}]

{"sheet":"DistnDetails","index":34,"n_rows":56,"n_cols":25,"rows_kept":56,"cut":false,"hidden":false,"merged":[]}
["NEWFOUNDLAND AND LABRADOR HYDRO"]
[{"$f":"RunName","v":"2019 Test Year Cost of Service Study"}]
[]
[]
[]
[null,null,"Distribution Details",null,null,null,null,null,null,null,null,null,null,null,null,"Distribution Details"]
[null,null,"$",null,null,null,null,"%",null,null,null,null,null,null,null,"$",null,null,null,null,"%"]
[null,null,"Isl Int","IslIso","LabIso","LAL","LabInt","Isl Int","IslIso","LabIso","LAL","LabInt",null,null,null,"Isl Int","IslIso","LabIso","LAL","LabInt","Isl Int","IslIso","LabIso","LAL","LabInt"]
["Columns for Plant Lookups",null,{"$f":"AllocDep!E13","v":5},{"$f":"AllocDep!F13","v":6},{"$f":"AllocDep!G13","v":9},{"$f":"AllocDep!H13","v":7},{"$f":"AllocDep!K13","v":8},null,null,null,null,null,null,"Columns for Plant Lookups",null,{"$f":"AllocDep!E13","v":5},{"$f":"AllocDep!F13","v":6},{"$f":"AllocDep!G13","v":9},{"$f":"AllocDep!H13","v":7},{"$f":"AllocDep!K13","v":8}]
["Plant",null,1486748.9736730405,30846.900372465156,140985.22969339706,43060.050624980649,332998.18069498794,null,null,null,null,null,null,"Plant",null,1486748.9736730405,30846.900372465156,140985.22969339706,43060.050624980649,332998.18069498794]
[null,null,105138106.54632694,3549836.3696275349,11483419.860306602,7062374.1493750196,30428759.599305015,null,null,null,null,null,null,null,null,105138106.54632694,3549836.3696275349,11483419.860306602,7062374.1493750196,30428759.599305015]
[]
[null,"Land & Land Improvements",{"$f":"C10/SUM(C10:C11)*C15","v":1777963.1230630053},{"$f":"D10/SUM(D10:D11)*D15","v":47592.139609747384},{"$f":"E10/SUM(E10:E11)*E15","v":179447.50744411029},{"$f":"F10/SUM(F10:F11)*F15","v":50025.64981589355},{"$f":"G10/SUM(G10:G11)*G15","v":422849.81908502639},{"$f":"+C13/C$24","v":9.4206284490623033E-3},5.3748168757758773E-3,7.7937606824831918E-3,4.3713687071341581E-3,6.1192710808089532E-3,null,null,"Land & Land Improvements",{"$f":"P10/SUM(P10:P11)*P15","v":3113063.1404494545},{"$f":"Q10/SUM(Q10:Q11)*Q15","v":77163.171714158001},{"$f":"R10/SUM(R10:R11)*R15","v":308730.68598130485},{"$f":"S10/SUM(S10:S11)*S15","v":102324.57664624191},{"$f":"T10/SUM(T10:T11)*T15","v":648187.89097471547},{"$f":"+P13/P$24","v":9.2841681143184165E-3},{"$f":"+Q13/Q$24","v":5.5639950111264821E-3},{"$f":"+R13/R$24","v":8.0855598122872071E-3},{"$f":"+S13/S$24","v":4.3935493341116464E-3},{"$f":"+T13/T$24","v":5.9672781276879612E-3}]
[null,"Poles",{"$f":"C11/SUM(C10:C11)*C15","v":125731834.74693803},{"$f":"D11/SUM(D10:D11)*D15","v":5476864.9703902528},{"$f":"E11/SUM(E10:E11)*E15","v":14616219.552555885},{"$f":"F11/SUM(F10:F11)*F15","v":8204817.4801841062},{"$f":"G11/SUM(G10:G11)*G15","v":38639236.600915007},0.66619655042633341,0.61852958304842076,0.63481136571780772,0.71695785087491515,0.55916770551809092,null,null,"Poles",{"$f":"P11/SUM(P10:P11)*P15","v":220145814.75540784},{"$f":"Q11/SUM(Q10:Q11)*Q15","v":8879875.4506705217},{"$f":"R11/SUM(R10:R11)*R15","v":25146492.995002281},{"$f":"S11/SUM(S10:S11)*S15","v":16782480.151867829},{"$f":"T11/SUM(T10:T11)*T15","v":59230214.01644256},0.65654651436260891,0.6403000500028686,0.6585787626976104,0.72059574456777276,0.54527886978435047]
["D02",null,127509797.87000105,5524457.1100000003,14795667.059999997,8254843.1299999999,39062086.420000032,{"$f":"SUM(H13:H14)","v":0.67561717887539574},{"$f":"SUM(I13:I14)","v":0.62390439992419666},{"$f":"SUM(J13:J14)","v":0.64260512640029088},{"$f":"SUM(K13:K14)","v":0.72132921958204932},{"$f":"SUM(L13:L14)","v":0.56528697659889993},null,"D02",null,223258877.8958573,8957038.6223846804,25455223.680983588,16884804.728514072,59878401.907417275,{"$f":"SUM(U13:U14)","v":0.66583068247692734},{"$f":"SUM(V13:V14)","v":0.64586404501399508},{"$f":"SUM(W13:W14)","v":0.6666643225098976},{"$f":"SUM(X13:X14)","v":0.72498929390188438},{"$f":"SUM(Y13:Y14)","v":0.55124614791203841}]
["D02.1","Poles - Generation",1766612.0099999995,0,0,0,0,{"$f":"+C16/C$24","v":9.360483996535272E-3},{"$f":"+D16/D$24","v":0},{"$f":"+E16/E$24","v":0},{"$f":"+F16/F$24","v":0},{"$f":"+G16/G$24","v":0},null,"D02.1","Poles - Generation",1995570.3132533729,0,0,0,0,{"$f":"+P16/P$24","v":5.9514405703677692E-3},{"$f":"+Q16/Q$24","v":0},{"$f":"+R16/R$24","v":0},{"$f":"+S16/S$24","v":0},{"$f":"+T16/T$24","v":0}]
["D06","Primary Conductor&Eqpt",25104732.789999999,1701005.3199999991,3632324.080000001,1247975.4399999997,6962493.4399999995,{"$f":"+C17/C$24","v":0.13301870936453633},0.19210298538139353,0.15775902938946113,0.10905127281234774,0.1007577225642539,null,"D06","Primary Conductor&Eqpt",47771956.053746186,1976426.02976991,5504117.4384373426,2917311.3367125555,11902434.807932725,{"$f":"+P17/P$24","v":0.1424715308179636},{"$f":"+Q17/Q$24","v":0.14251390041659714},{"$f":"+R17/R$24","v":0.14415110898640349},{"$f":"+S17/S$24","v":0.12526170838822179},{"$f":"+T17/T$24","v":0.10957492400668646}]
["D07","Transformers",19578592,605353.77999999991,2064535.1499999978,955575.09999999928,16394541.52999993,0.10373817004147592,6.8365611196272658E-2,8.9666850818120022E-2,8.350058629582198E-2,0.23725360480165447,null,"D07","Transformers",31126185.088577565,1143022.0274884671,3190047.1773172924,1606855.4253652457,24680970.67103849,9.2828420781090562E-2,8.2419743995393716E-2,8.3546334807090908E-2,6.8994163626343696E-2,0.22721531596945721]
["D08","Secondary Condctr & Equip",3187147.6699999976,348841.72000000003,944735.50999999978,225531.84999999989,1215204.7999999993,1.6887264770508191E-2,3.9396429305453444E-2,4.1031734450125791E-2,1.9707547531723445E-2,1.7585836044557851E-2,null,"D08","Secondary Condctr & Equip",7437491.1830057502,661409.17443088128,1429373.7566490786,665081.70540894952,2738236.2898994903,2.2181020871236485E-2,4.7692147239347907E-2,3.7434850270114173E-2,2.8556866587697214E-2,2.5208458455753605E-2]
["D09","Services",6522244.4300000044,527648.65,1216914.0199999986,379470.02999999985,3681936.3400000008,3.4558445353547879E-2,5.9589984643588355E-2,5.2852986247203748E-2,3.3159057814182442E-2,5.3283141081848479E-2,null,"D09","Services",15442965.433156868,883284.58222093678,1899868.3274984849,696903.80676411244,5950610.8134944858,4.6055952223422118E-2,6.3690889056346234E-2,4.9756955479279032E-2,2.9923224278111799E-2,5.4781877674932138E-2]
["D10","Street Lighting",2443049.33,101710.08,267984.26000000018,116577.61000000002,899027.98000000033,1.2944621697783673E-2,1.1486624869215799E-2,1.1639087211968433E-2,1.0186848510353282E-2,1.3010283250815049E-2,null,"D10","Street Lighting",3872051.9410325456,149838.21567745137,495841.83591996948,210888.28882422272,1661552.1092052222,1.1547719897107169E-2,1.0804365165208276E-2,1.298594212953612E-2,9.0549908077204606E-3,1.5296403554167729E-2]
["D12","Land & Land Improvements",2618664.1700000009,45636.57,102348.21000000002,263959.65999999997,886047.46000000008,{"$f":"+C22/C$24","v":1.3875125900216955E-2},{"$f":"+D22/D$24","v":5.1539646798793946E-3},{"$f":"+E22/E$24","v":4.4451854828296972E-3},{"$f":"+F22/F$24","v":2.3065467453521806E-2},{"$f":"+G22/G$24","v":1.2822435657970527E-2},null,"D12","Land & Land Improvements",4403688.2009588256,97284.888892209143,208497.56497023749,307884.46102586464,1811503.7602037811,{"$f":"+P22/P$24","v":1.3133232361885011E-2},{"$f":"+Q22/Q$24","v":7.0149091131116465E-3},{"$f":"+R22/R$24","v":5.4604858176785769E-3},{"$f":"+S22/S$24","v":1.3219752410020762E-2},{"$f":"+T22/T$24","v":1.6676872426964525E-2}]
[]
[null,"    Totals",{"$f":"SUM(C15:C23)","v":188730840.27000105},{"$f":"SUM(D15:D23)","v":8854653.2300000004},23024508.289999999,11443932.819999998,69101337.969999954,0.99999999999999989,0.99999999999999989,0.99999999999999956,1,1.0000000000000002,null,null,"    Totals",{"$f":"SUM(P15:P23)","v":335308786.10958838},{"$f":"SUM(Q15:Q23)","v":13868303.540864535},38182969.781775996,23289729.75261502,108623710.35919146,1,1.0000000000000002,0.99999999999999989,1,1]
[]
["Net Book Value",null,976684.41444212757,28587.837446580812,118080.35655553099,13487.882097131274,159408.66058112562,null,null,null,null,null,null,"Net Book Value",null,976684.41444212757,28587.837446580812,118080.35655553099,13487.882097131274,159408.66058112562]
[null,null,65463805.83055786,2252618.8075534198,7325737.1334444685,3690888.6829028688,21235511.164418876,null,null,null,null,null,null,null,null,65463805.83055786,2252618.8075534198,7325737.1334444685,3690888.6829028688,21235511.164418876]
[]
[null,"Land & Land Improvements",{"$f":"C26/SUM(C26:C27)*C31","v":1071668.0035819109},{"$f":"D26/SUM(D26:D27)*D31","v":45864.452288877605},{"$f":"E26/SUM(E26:E27)*E31","v":126433.71053441695},{"$f":"F26/SUM(F26:F27)*F31","v":13845.991611132975},{"$f":"G26/SUM(G26:G27)*G31","v":179051.68494931026},{"$f":"+C29/C$40","v":9.9245748531448189E-3},7.5040959366304335E-3,9.447949789692895E-3,2.6281090292138245E-3,4.2451992976533237E-3,null,null,"Land & Land Improvements",{"$f":"P26/SUM(P26:P27)*P31","v":1071668.0035819109},{"$f":"Q26/SUM(Q26:Q27)*Q31","v":45864.452288877605},{"$f":"R26/SUM(R26:R27)*R31","v":126433.71053441695},{"$f":"S26/SUM(S26:S27)*S31","v":13845.991611132975},{"$f":"T26/SUM(T26:T27)*T31","v":179051.68494931026},{"$f":"+P29/P$40","v":9.9245748531448189E-3},{"$f":"+Q29/Q$40","v":7.5040959366304335E-3},{"$f":"+R29/R$40","v":9.447949789692895E-3},{"$f":"+S29/S$40","v":2.6281090292138245E-3},{"$f":"+T29/T$40","v":4.2451992976533237E-3}]
[null,"Poles",{"$f":"C27/SUM(C26:C27)*C31","v":71830229.973906055},{"$f":"D27/SUM(D26:D27)*D31","v":3613953.941675955},{"$f":"E27/SUM(E26:E27)*E31","v":7843981.4648219096},{"$f":"F27/SUM(F26:F27)*F31","v":3788883.4861603677},{"$f":"G27/SUM(G26:G27)*G31","v":23852242.662901375},0.66521020662361252,0.59129577996675864,0.58615335038154648,0.71916834707676203,0.5655212003655351,null,null,"Poles",{"$f":"P27/SUM(P26:P27)*P31","v":71830229.973906055},{"$f":"Q27/SUM(Q26:Q27)*Q31","v":3613953.941675955},{"$f":"R27/SUM(R26:R27)*R31","v":7843981.4648219096},{"$f":"S27/SUM(S26:S27)*S31","v":3788883.4861603677},{"$f":"T27/SUM(T26:T27)*T31","v":23852242.662901375},0.66521020662361252,0.59129577996675864,0.58615335038154648,0.71916834707676203,0.5655212003655351]
["D02",null,72901897.977487966,3659818.3939648322,7970415.1753563266,3802729.4777715006,24031294.347850688,{"$f":"SUM(H29:H30)","v":0.67513478147675732},{"$f":"SUM(I29:I30)","v":0.59879987590338912},{"$f":"SUM(J29:J30)","v":0.59560130017123936},{"$f":"SUM(K29:K30)","v":0.72179645610597587},{"$f":"SUM(L29:L30)","v":0.56976639966318843},null,"D02",null,72901897.977487966,3659818.3939648322,7970415.1753563266,3802729.4777715006,24031294.347850688,{"$f":"SUM(U29:U30)","v":0.67513478147675732},{"$f":"SUM(V29:V30)","v":0.59879987590338912},{"$f":"SUM(W29:W30)","v":0.59560130017123936},{"$f":"SUM(X29:X30)","v":0.72179645610597587},{"$f":"SUM(Y29:Y30)","v":0.56976639966318843}]
["D02.1",{"$f":"+$B$16","v":"Poles - Generation"},1352203.879242911,-4.6730000000000001E-2,0,0,0,{"$f":"+C32/C$40","v":1.252258028736913E-2},{"$f":"+D32/D$40","v":-7.6457122154226356E-9},{"$f":"+E32/E$40","v":0},{"$f":"+F32/F$40","v":0},{"$f":"+G32/G$40","v":0},null,"D02.1",{"$f":"+$B$16","v":"Poles - Generation"},1352203.879242911,-4.6730000000000001E-2,0,0,0,{"$f":"+P32/P$40","v":1.252258028736913E-2},{"$f":"+Q32/Q$40","v":-7.6457122154226356E-9},{"$f":"+R32/R$40","v":0},{"$f":"+S32/S$40","v":0},{"$f":"+T32/T$40","v":0}]
["D06","Primary Conductor&Eqpt",15543312.118279973,1506029.2554414982,2393450.2905586706,382353.0614605,4313897.2890748344,{"$f":"+C33/C$40","v":0.14394454632224346},0.24640843730179585,0.17885418432901704,7.257447219337608E-2,0.10227970625863472,null,"D06","Primary Conductor&Eqpt",15543312.118279973,1506029.2554414982,2393450.2905586706,382353.0614605,4313897.2890748344,{"$f":"+P33/P$40","v":0.14394454632224346},{"$f":"+Q33/Q$40","v":0.24640843730179585},{"$f":"+R33/R$40","v":0.17885418432901704},{"$f":"+S33/S$40","v":7.257447219337608E-2},{"$f":"+T33/T$40","v":0.10227970625863472}]
["D07","Transformers",11570802.268016692,320686.12841149996,1303897.2141674971,540115.47110049997,10156020.063067444,0.10715566092861546,5.2468946058472007E-2,9.743568671918014E-2,0.10251937068024489,0.24079264739057155,null,"D07","Transformers",11570802.268016692,320686.12841149996,1303897.2141674971,540115.47110049997,10156020.063067444,0.10715566092861546,5.2468946058472007E-2,9.743568671918014E-2,0.10251937068024489,0.24079264739057155]
["D08","Secondary Condctr & Equip",1326559.6206093247,184798.5276586668,705966.34220399964,50440.507144999996,509106.11241199984,1.2285092218758543E-2,3.0235744924288176E-2,5.2754400121325991E-2,9.5741176211106838E-3,1.2070575663414114E-2,null,"D08","Secondary Condctr & Equip",1326559.6206093247,184798.5276586668,705966.34220399964,50440.507144999996,509106.11241199984,1.2285092218758543E-2,3.0235744924288176E-2,5.2754400121325991E-2,9.5741176211106838E-3,1.2070575663414114E-2]
["D09","Services",2741583.4469324951,371537.3959660001,886601.1335184999,229556.92935200001,2502437.0361014996,2.5389439681208756E-2,6.0788957988948504E-2,6.6252607453827606E-2,4.3572223333105502E-2,5.9331158771765986E-2,null,"D09","Services",2741583.4469324951,371537.3959660001,886601.1335184999,229556.92935200001,2502437.0361014996,2.5389439681208756E-2,6.0788957988948504E-2,6.6252607453827606E-2,4.3572223333105502E-2,5.9331158771765986E-2]
["D10","Street Lighting",982628.94136499939,49453.793442500006,89748.231816500003,43260.595059500003,310260.5145045002,9.0999959398321249E-3,8.0913647040939465E-3,6.7065720394656192E-3,8.2112978021464892E-3,7.3560755300177182E-3,null,"D10","Street Lighting",982628.94136499939,49453.793442500006,89748.231816500003,43260.595059500003,310260.5145045002,9.0999959398321249E-3,8.0913647040939465E-3,6.7065720394656192E-3,8.2112978021464892E-3,7.3560755300177182E-3]
["D12","Land & Land Improvements",1562262.2741100003,19598.984099000005,32053.540339000006,219967.54983500001,354435.53977400012,{"$f":"+C38/C$40","v":1.4467903145214943E-2},{"$f":"+D38/D$40","v":3.2066807647249803E-3},{"$f":"+E38/E$40","v":2.3952491659440041E-3},{"$f":"+F38/F$40","v":4.1752062264040435E-2},{"$f":"+G38/G$40","v":8.4034367224074431E-3},null,"D12","Land & Land Improvements",1562262.2741100003,19598.984099000005,32053.540339000006,219967.54983500001,354435.53977400012,{"$f":"+P38/P$40","v":1.4467903145214943E-2},{"$f":"+Q38/Q$40","v":3.2066807647249803E-3},{"$f":"+R38/R$40","v":2.3952491659440041E-3},{"$f":"+S38/S$40","v":4.1752062264040435E-2},{"$f":"+T38/T$40","v":8.4034367224074431E-3}]
[]
[null,"    Totals",{"$f":"SUM(C31:C39)","v":107981250.52604438},{"$f":"SUM(D31:D39)","v":6111922.4322539959},13382131.927960496,5268423.5917240009,42177450.902784966,0.99999999999999978,1.0000000000000004,0.99999999999999978,1,0.99999999999999989,null,null,"    Totals",{"$f":"SUM(P31:P39)","v":107981250.52604438},{"$f":"SUM(Q31:Q39)","v":6111922.4322539959},13382131.927960496,5268423.5917240009,42177450.902784966,0.99999999999999978,1.0000000000000004,0.99999999999999978,1,0.99999999999999989]
[]
["Depreciation",null,19961.715791886869,761.74451677684442,2719.1538365737447,289.88061171149849,4381.0483067360337,null,null,null,null,null,null,"Depreciation",null,19961.715791886869,761.74451677684442,2719.1538365737447,289.88061171149849,4381.0483067360337]
[null,null,1829670.6442081132,74202.845483223151,232486.90616342623,108920.62938828852,598894.08169326396,null,null,null,null,null,null,null,null,1829670.6442081132,74202.845483223151,232486.90616342623,108920.62938828852,598894.08169326396]
[]
[null,"Land & Land Improvements",{"$f":"C42/SUM(C42:C43)*C47","v":44502.871294699762},{"$f":"D42/SUM(D42:D43)*D47","v":2073.9104488447274},{"$f":"E42/SUM(E42:E43)*E47","v":4695.477004011871},{"$f":"F42/SUM(F42:F43)*F47","v":587.12926169747766},{"$f":"G42/SUM(G42:G43)*G47","v":10082.96566096358},{"$f":"+C45/C$56","v":7.5624852896131068E-3},6.5502184101158293E-3,7.3117682290896498E-3,2.0380848509233543E-3,4.3321466616869581E-3,null,null,"Land & Land Improvements",{"$f":"P42/SUM(P42:P43)*P47","v":44502.871294699762},{"$f":"Q42/SUM(Q42:Q43)*Q47","v":2073.9104488447274},{"$f":"R42/SUM(R42:R43)*R47","v":4695.477004011871},{"$f":"S42/SUM(S42:S43)*S47","v":587.12926169747766},{"$f":"T42/SUM(T42:T43)*T47","v":10082.96566096358},{"$f":"+P45/P$56","v":7.5624852896131068E-3},{"$f":"+Q45/Q$56","v":6.5502184101158293E-3},{"$f":"+R45/R$56","v":7.3117682290896498E-3},{"$f":"+S45/S$56","v":2.0380848509233543E-3},{"$f":"+T45/T$56","v":4.3321466616869581E-3}]
[null,"Poles",{"$f":"C43/SUM(C42:C43)*C47","v":4079088.0924162962},{"$f":"D43/SUM(D42:D43)*D47","v":202023.18913015543},{"$f":"E43/SUM(E42:E43)*E47","v":401461.9941473208},{"$f":"F43/SUM(F42:F43)*F47","v":220609.74805730252},{"$f":"G43/SUM(G42:G43)*G47","v":1378352.4027760364},0.69316973931091486,0.63806805807251643,0.62515417528087502,0.76579624762983911,0.59220917348078739,null,null,"Poles",{"$f":"P43/SUM(P42:P43)*P47","v":4079088.0924162962},{"$f":"Q43/SUM(Q42:Q43)*Q47","v":202023.18913015543},{"$f":"R43/SUM(R42:R43)*R47","v":401461.9941473208},{"$f":"S43/SUM(S42:S43)*S47","v":220609.74805730252},{"$f":"T43/SUM(T42:T43)*T47","v":1378352.4027760364},0.69316973931091486,0.63806805807251643,0.62515417528087502,0.76579624762983911,0.59220917348078739]
["D02",null,4123590.9637109959,204097.09957900015,406157.47115133266,221196.87731900002,1388435.3684370001,{"$f":"SUM(H45:H46)","v":0.70073222460052798},{"$f":"SUM(I45:I46)","v":0.64461827648263226},{"$f":"SUM(J45:J46)","v":0.63246594350996466},{"$f":"SUM(K45:K46)","v":0.76783433248076249},{"$f":"SUM(L45:L46)","v":0.5965413201424743},null,"D02",null,4123590.9637109959,204097.09957900015,406157.47115133266,221196.87731900002,1388435.3684370001,{"$f":"SUM(U45:U46)","v":0.70073222460052798},{"$f":"SUM(V45:V46)","v":0.64461827648263226},{"$f":"SUM(W45:W46)","v":0.63246594350996466},{"$f":"SUM(X45:X46)","v":0.76783433248076249},{"$f":"SUM(Y45:Y46)","v":0.5965413201424743}]
["D02.1",{"$f":"+$B$16","v":"Poles - Generation"},56167.665698999997,-2.1800000000000001E-3,0,0,0,{"$f":"+C48/C$56","v":9.5447132565395481E-3},{"$f":"+D48/D$56","v":-6.8852906074160027E-9},{"$f":"+E48/E$56","v":0},{"$f":"+F48/F$56","v":0},{"$f":"+G48/G$56","v":0},null,"D02.1",{"$f":"+$B$16","v":"Poles - Generation"},56167.665698999997,-2.1800000000000001E-3,0,0,0,{"$f":"+P48/P$56","v":9.5447132565395481E-3},{"$f":"+Q48/Q$56","v":-6.8852906074160027E-9},{"$f":"+R48/R$56","v":0},{"$f":"+S48/S$56","v":0},{"$f":"+T48/T$56","v":0}]
["D06","Primary Conductor&Eqpt",688971.11568899825,75874.713039000082,83530.568238666834,15563.863192999999,170489.90950566661,{"$f":"+C49/C$56","v":0.11707860135278336},0.23964194909532649,0.1300732927631105,5.4026388846279437E-2,7.3250997489334099E-2,null,"D06","Primary Conductor&Eqpt",688971.11568899825,75874.713039000082,83530.568238666834,15563.863192999999,170489.90950566661,{"$f":"+P49/P$56","v":0.11707860135278336},{"$f":"+Q49/Q$56","v":0.23964194909532649},{"$f":"+R49/R$56","v":0.1300732927631105},{"$f":"+S49/S$56","v":5.4026388846279437E-2},{"$f":"+T49/T$56","v":7.3250997489334099E-2}]
["D07","Transformers",685733.04660000245,19071.661059000005,75120.690554999979,32117.345933000022,578115.05795499717,0.11652834809631094,6.0235747136401042E-2,0.11697748238954747,0.11148801544767797,0.24838716133754662,null,"D07","Transformers",685733.04660000245,19071.661059000005,75120.690554999979,32117.345933000022,578115.05795499717,0.11652834809631094,6.0235747136401042E-2,0.11697748238954747,0.11148801544767797,0.24838716133754662]
["D08","Secondary Condctr & Equip",44238.475149333077,3284.3643386666686,42694.389363999879,2431.2685699999988,23944.458392,7.5175557850261946E-3,1.0373304097409946E-2,6.6483443417006266E-2,8.4395923765016676E-3,1.0287737653456612E-2,null,"D08","Secondary Condctr & Equip",44238.475149333077,3284.3643386666686,42694.389363999879,2431.2685699999988,23944.458392,7.5175557850261946E-3,1.0373304097409946E-2,6.6483443417006266E-2,8.4395923765016676E-3,1.0287737653456612E-2]
["D09","Services",110743.35954500077,8061.5943560000105,21246.519321000014,5394.3779320000003,115842.83759900014,1.881889871634301E-2,2.5461660504662722E-2,3.3084950648740209E-2,1.8725348335694586E-2,4.9771880521994522E-2,null,"D09","Services",110743.35954500077,8061.5943560000105,21246.519321000014,5394.3779320000003,115842.83759900014,1.881889871634301E-2,2.5461660504662722E-2,3.3084950648740209E-2,1.8725348335694586E-2,4.9771880521994522E-2]
["D10","Street Lighting",131397.17908999973,5657.8577049999994,12489.878789000008,5481.9766269999982,41248.656996999998,2.2328654422869319E-2,1.786972225428108E-2,1.9449163277035202E-2,1.9029427155959792E-2,1.7722487382898305E-2,null,"D10","Street Lighting",131397.17908999973,5657.8577049999994,12489.878789000008,5481.9766269999982,41248.656996999998,2.2328654422869319E-2,1.786972225428108E-2,1.9449163277035202E-2,1.9029427155959792E-2,1.7722487382898305E-2]
["D12","Land & Land Improvements",43846.837260000015,569.70393399999989,941.25977399999988,5893.2001099999989,9399.3134840000002,{"$f":"+C54/C$56","v":7.4510037695995146E-3},{"$f":"+D54/D$56","v":1.799347314577131E-3},{"$f":"+E54/E$56","v":1.4657239945958648E-3},{"$f":"+F54/F$56","v":2.0456895357124121E-2},{"$f":"+G54/G$56","v":4.0384154722955265E-3},null,"D12","Land & Land Improvements",43846.837260000015,569.70393399999989,941.25977399999988,5893.2001099999989,9399.3134840000002,{"$f":"+P54/P$56","v":7.4510037695995146E-3},{"$f":"+Q54/Q$56","v":1.799347314577131E-3},{"$f":"+R54/R$56","v":1.4657239945958648E-3},{"$f":"+S54/S$56","v":2.0456895357124121E-2},{"$f":"+T54/T$56","v":4.0384154722955265E-3}]
[]
[null,"    Totals",{"$f":"SUM(C47:C55)","v":5884688.6427433314},{"$f":"SUM(D47:D55)","v":316616.9918306669},642180.77719299926,288078.90968400001,2327475.6023696638,0.99999999999999989,1.0000000000000002,1.0000000000000002,1,0.99999999999999989,null,null,"    Totals",{"$f":"SUM(P47:P55)","v":5884688.6427433314},{"$f":"SUM(Q47:Q55)","v":316616.9918306669},642180.77719299926,288078.90968400001,2327475.6023696638,0.99999999999999989,1.0000000000000002,1.0000000000000002,1,0.99999999999999989]

{"sheet":"LabourRatios","index":35,"n_rows":73,"n_cols":19,"rows_kept":73,"cut":false,"hidden":false,"merged":[]}
["Labour"]
[]
["A.  Query Results:"]
["Direct","Fun","Total","1000","IslInt","IslIso","LabIso","LAL","LabInt",null,"Direct","Fun","Total","1000","IslInt","IslIso","LabIso","LAL","LabInt"]
["D","110",4904121.8784677507,"",4904121.8784677507,"","","","",null,"D","110",4904121.8784677507,"",4904121.8784677507,"","","",""]
["D","120",6664477.2445212994,"",6664477.2445212994,"","","","",null,"D","120",6664477.2445212994,"",6664477.2445212994,"","","",""]
["D","125",4826005.7511100005,"",280851.43268999999,1713649.0987000002,2539536.8206600007,229639.67156000002,62328.727499999994,null,"D","125",4826005.7511100005,"",280851.43268999999,1713649.0987000002,2539536.8206600007,229639.67156000002,62328.727499999994]
["D","126",305798.23320000008,"",305798.23320000008,"","","","",null,"D","126",305798.23320000008,"",305798.23320000008,"","","",""]
["D","190",2968522.8473758912,"",2363805.7456357125,194893.84162201031,357608.48580370215,26303.683301272227,25911.091013193549,null,"D","190",2968522.8473758912,"",2363805.7456357125,194893.84162201031,357608.48580370215,26303.683301272227,25911.091013193549]
["D","205",1975470.0003619725,"",1975470.0003619725,"","","","",null,"D","205",1975470.0003619725,"",1975470.0003619725,"","","",""]
["D","210",2405093.361246,36623.49040000001,2324496.1738459999,"","","",43973.697,null,"D","210",2405093.361246,36623.49040000001,2324496.1738459999,"","","",43973.697]
["D","290",1276672.2289261133,"",1210454.996336841,"","","",66217.232589272404,null,"D","290",1276672.2289261133,"",1210454.996336841,"","","",66217.232589272404]
["D","300",6276296.8735699793,"",4326237.363869857,222029.93203168668,834120.83336809045,189800.60911474071,704108.13518559944,null,"D","300",6276296.8735699793,"",4326237.363869857,222029.93203168668,834120.83336809045,189800.60911474071,704108.13518559944]
["D","310",146493.96160000004,146493.96160000004,"","","","","",null,"D","310",146493.96160000004,146493.96160000004,"","","","",""]
["D","400",1452663.7443879999,1292080.452,65004.355787999986,"","","",95578.936599999972,null,"D","400",1452663.7443879999,1292080.452,65004.355787999986,"","","",95578.936599999972]
[null,null,{"$f":"SUM(C5:C15)","v":33201616.124767013},1475197.9040000001,24420717.424717434,2130572.8723536972,3731266.139831793,445743.96397601295,998117.81988806545]
[]
[]
["B.  Customer Weightings"]
[null,"Wgtd Cus",null,{"$f":"SUM(E20:I20)","v":55919.03903678972},{"$f":"+Customers!$J$3","v":34435.509509791285},{"$f":"+Customers!$K$3","v":915.23972113273999},{"$f":"+Customers!$L$3","v":3628.6922373446932},{"$f":"+Customers!$R$3","v":1237.4655348568378},{"$f":"+Customers!$S$3","v":15702.13203366416}]
[null,"Cus",null,{"$f":"SUM(E21:I21)","v":40061.25},{"$f":"+Customers!$J$4","v":23853},{"$f":"+Customers!$K$4","v":826.5},{"$f":"+Customers!$L$4","v":2789},{"$f":"+Customers!$R$4","v":933.5},{"$f":"+Customers!$S$4","v":11659.25}]
[null,"Term Stn ",null,{"$f":"SUM(E22:I22)","v":2368469.870846},{"$f":"+E11","v":2324496.1738459999},0,0,0,{"$f":"+I11","v":43973.697}]
[]
[]
["C.  Meters, Customer-Related and Term Stns Re-systemized"]
["Direct","Fun","Total","1000","IslInt","IslIso","LabIso","LAL","LabInt"]
[{"$f":"+A5","v":"D"},"110",{"$f":"IF(ISTEXT(+C5),0,C5)","v":4904121.8784677507},{"$f":"+D5","v":""},{"$f":"IF(ISTEXT(+E5),0,E5)","v":4904121.8784677507},0,0,0,0]
["D","120",6664477.2445212994,"",6664477.2445212994,0,0,0,0]
["D","125",4826005.7511100005,"",280851.43268999999,1713649.0987000002,2539536.8206600007,229639.67156000002,62328.727499999994]
[{"$f":"+A8","v":"D"},"126",305798.23320000008,"",{"$f":"IF(ISTEXT(+E8),0,E8)","v":305798.23320000008},0,0,0,0]
["D","190",2968522.8473758912,"",2363805.7456357125,194893.84162201031,357608.48580370215,26303.683301272227,25911.091013193549]
["D","205",1975470.0003619725,"",1975470.0003619725,0,0,0,0]
["D","210",2405093.361246,{"$f":"-D11","v":-36623.49040000001},{"$f":"IF(ISTEXT(+E11),0,E11)+(E22/$D22*-$D33)","v":2360439.7019252814},{"$f":"IF(ISTEXT(+F11),0,F11)+(F22/$D22*-$D33)","v":0},{"$f":"IF(ISTEXT(+G11),0,G11)+(G22/$D22*-$D33)","v":0},{"$f":"IF(ISTEXT(+H11),0,H11)+(H22/$D22*-$D33)","v":0},{"$f":"IF(ISTEXT(+I11),0,I11)+(I22/$D22*-$D33)","v":44653.659320718383}]
["D","290",1276672.2289261133,{"$f":"+D12","v":""},{"$f":"IF(ISTEXT(+E12),0,E12)","v":1210454.996336841},0,0,0,66217.232589272404]
[{"$f":"+A13","v":"D"},"300",6276296.8735699793,{"$f":"+D13","v":""},4326237.363869857,222029.93203168668,834120.83336809045,189800.60911474071,704108.13518559944]
["D","310",146493.96160000004,{"$f":"-D14","v":-146493.96160000004},{"$f":"IF(ISTEXT(+E14),0,E14)+(E20/$D20*-$D36)","v":90212.462422412325},2397.7002264685493,9506.2703228154314,3241.8516424320937,41135.676985871629]
["D","400",1452663.7443879999,{"$f":"-D15","v":-1292080.452},834326.20724186138,26656.794123448468,89952.569643433497,30107.824941608163,471620.34843764856]
[null,null,{"$f":"SUM(E38:I38)","v":33201616.124767005},null,{"$f":"SUM(E27:E37)","v":25316195.266672991},{"$f":"SUM(F27:F37)","v":2159627.3667036141},{"$f":"SUM(G27:G37)","v":3830724.9797980422},{"$f":"SUM(H27:H37)","v":479093.64056005323},{"$f":"SUM(I27:I37)","v":1415974.8710323039}]
[]
[]
["D.  Labour - GTDC"]
["Direct","Fun","Total","1000","IslInt","IslIso","LabIso","LAL","LabInt"]
["System","GTDC",{"$f":"SUM(E43:I43)","v":0.99999999999999989},null,{"$f":"+E38/$C38","v":0.76249888473917316},{"$f":"+F38/$C38","v":6.5045850737748365E-2},{"$f":"+G38/$C38","v":0.11537766611729731},{"$f":"+H38/$C38","v":1.4429828920366006E-2},{"$f":"+I38/$C38","v":4.2647769485415092E-2}]
[]
[{"$f":"+A5","v":"D"},"110",null,null,{"$f":"+E27/E$38","v":0.19371480693718957},0,0,0,0]
["D","120",null,null,0.26324955919796605,0,0,0,0]
["D","125",null,null,1.1093745712244578E-2,0.79349295397921316,0.66293895647760293,0.47932105984866491,4.4018244091125563E-2]
["D","126",null,null,1.2079154469256372E-2,0,0,0,0]
["D","190",null,null,9.3371287459909039E-2,9.0244198895983618E-2,9.335269111972519E-2,5.4903010756986087E-2,1.8299117832722058E-2]
["D","205",null,null,7.803186772550065E-2,0,0,0,0]
["D","210",null,null,9.3238327365590984E-2,0,0,0,3.1535629787104932E-2]
["D","290",null,null,4.7813464210805831E-2,0,0,0,4.6764412239178592E-2]
[{"$f":"+A13","v":"D"},"300",null,null,0.17088813379335271,0.10280937140122745,0.21774490149174472,0.39616599563472948,0.49726033250312957]
["D","310",null,null,3.563428922558942E-3,1.1102379343008242E-3,2.4815851758996821E-3,6.7666346784365956E-3,2.9051134894704754E-2]
["D","400",null,null,3.2956224205625155E-2,1.2343237789274982E-2,2.3481865735027484E-2,6.2843299081182899E-2,0.33307112865203459]
[null,null,null,null,{"$f":"SUM(E45:E55)","v":0.99999999999999989},{"$f":"SUM(F45:F55)","v":1},{"$f":"SUM(G45:G55)","v":1},{"$f":"SUM(H45:H55)","v":1},{"$f":"SUM(I45:I55)","v":1}]
[]
["E.  Labour - GTD"]
["Direct","Fun","Total","1000","IslInt","IslIso","LabIso","LAL","LabInt"]
["System","GTD",{"$f":"SUM(E60:I60)","v":0.99999999999999967},null,{"$f":"SUM(E27:E36)/SUM($C27:$C36)","v":0.7711079334561296},{"$f":"SUM(F27:F36)/SUM($C27:$C36)","v":6.7182392257400927E-2},{"$f":"SUM(G27:G36)/SUM($C27:$C36)","v":0.11782349116081139},{"$f":"SUM(H27:H36)/SUM($C27:$C36)","v":1.4141752151038538E-2},{"$f":"SUM(I27:I36)/SUM($C27:$C36)","v":2.9744430974619197E-2}]
[]
[{"$f":"+A5","v":"D"},"110",null,null,{"$f":"+E27/SUM(E$27:E$36)","v":0.20031648182427234},0,0,0,0]
["D","120",null,null,0.27222093330958114,0,0,0,0]
["D","125",null,null,1.1471813365565233E-2,0.80340963008555255,0.67888033331464825,0.51146308763382242,6.6001407319731031E-2]
["D","126",null,null,1.2490804213422493E-2,0,0,0,0]
["D","190",null,null,9.6553320332587345E-2,9.1372025534442958E-2,9.5597498749976598E-2,5.8584664339653654E-2,2.7437885236152301E-2]
["D","205",null,null,8.0691143129897752E-2,0,0,0,0]
["D","210",null,null,9.6415829044554563E-2,0,0,0,4.7284847218214722E-2]
["D","290",null,null,4.9442916037104552E-2,0,0,0,7.0119040047944767E-2]
[{"$f":"+A13","v":"D"},"300",null,null,0.17671189047566874,0.10409423125003844,0.2229809092645697,0.42273186036691224,0.74559725012067657]
["D","310",null,null,3.6848682673457835E-3,1.1241131299660413E-3,2.5412586708055116E-3,7.2203876596116535E-3,4.3559570057280561E-2]
["D","400"]
[null,null,null,null,{"$f":"SUM(E62:E72)","v":1},{"$f":"SUM(F62:F72)","v":1},{"$f":"SUM(G62:G72)","v":1},{"$f":"SUM(H62:H72)","v":1},{"$f":"SUM(I62:I72)","v":1}]

{"sheet":"O&M Summary","index":36,"n_rows":122,"n_cols":13,"rows_kept":122,"cut":false,"hidden":false,"merged":[[114,2,114,3],[115,2,115,3]]}
[null,null,"NEWFOUNDLAND AND LABRADOR HYDRO"]
[null,null,"              Operating and Maintenance Expense Summary"]
[]
[null,null,null,null,null,"Island","Island","Labrador","L'Anse","Labrador","Multiple"]
["Ck",null,null,null,"Total","Intercnctd","Isolated","Isolated","au Loup","Intercnctd","Systems",null,"Source / Notes"]
["Total"]
[{"$f":"SUM(A8:A111)","v":0},"Fun",null,null,"Total","INT","ISO","LSO","LAL","LIN","OTH"]
[null,null,{"$f":"MAX(C5:C7)+NoOne","v":1},"Hydraulic:"]
[null,"110",2,"Direct",{"$f":"SUM(F9:K9)","v":10952286.9816},10952286.9816,0,0,0,0,0]
[null,110,3,"Apprentices",{"$f":"SUM(F10:K10)","v":787327.39583333326},787327.39583333326,0,0,0,0]
[null,null,4,"Hydraulic Total",{"$f":"SUM(E9:E10)","v":11739614.377433334},11739614.377433334,0,0,0,0,0]
[null,null,5,"Holyrood:"]
[null,"120",6,"Direct",{"$f":"SUM(F13:K13)","v":19125009.59},19125009.59,0,0,0,0,0]
[null,120,7,"Apprentices",{"$f":"SUM(F14:K14)","v":383569.75694444444},383569.75694444444,0,0,0,0]
[null,null,8,"Holyrood Total",{"$f":"SUM(E13:E14)","v":19508579.346944444},19508579.346944444,0,0,0,0,0]
[null,null,9,"Diesel:"]
[null,"125",10,"Direct",{"$f":"SUM(F17:K17)","v":11433610.740499999},313536.86839999998,3068311.8025499997,7670430.3395499997,381331.73,0,0]
[null,125,11,"Apprentices",{"$f":"SUM(F18:K18)","v":0},0,0,0,0,0]
[null,null,12,"Diesel Total",{"$f":"SUM(E17:E18)","v":11433610.740499999},313536.86839999998,3068311.8025499997,7670430.3395499997,381331.73,0,0]
[null,"130",13,"Gas Turbines",{"$f":"SUM(F20:K20)","v":8260768.8120499998},7604640.9364999998,0,0,0,656127.87555,0]
[null,"190",14,"Generation General",{"$f":"SUM(F21:K21)","v":3721835.807511},2806837.8347749999,377119.03847500001,404203.90219300002,52755.251667999997,80919.780400000003,0]
[null,null,15,"TOTAL GENERATION",{"$f":"SUM(E11,E15,E19,E20,E21)","v":54664409.084438778},41973209.36405278,3445430.8410249995,8074634.2417429993,434086.98166799999,737047.65595000004,0]
[null,null,16,"Transmission Lines:"]
[null,"200",17,"Transmission Lines",{"$f":"SUM(F24:K24)","v":5261078.6963999998},2980558.2797499998,0,0,0,2280520.41665,0]
[null,200,18,"Apprentices",{"$f":"SUM(F25:K25)","v":318161.01944444445},318161.01944444445,0,0,0,0]
[null,null,19,"Transmission Lines Total",{"$f":"SUM(E24:E25)","v":5579239.715844444},3298719.299194444,0,0,0,2280520.41665,0]
[null,null,20,"Terminal Stations:"]
[null,"220",21,"Direct",{"$f":"SUM(F28:K28)","v":4571383.3284999998},4398209.9385000002,0,0,0,173173.39,0]
[null,220,22,"Apprentices",{"$f":"SUM(F29:K29)","v":121127.29166666666},121127.29166666666,0,0,0,0]
[null,null,23,"Terminal Stations Total",{"$f":"SUM(E28:E29)","v":4692510.6201666668},4519337.2301666671,0,0,0,173173.39,0]
[null,"290",24,"Transmission General",{"$f":"SUM(F31:K31)","v":2524893.2089679996},2335787.6037999997,0,0,0,189105.60516799998,0]
[null,null,25]
[null,900,26,"NLSO",{"$f":"SUM(F33:K33)","v":0},0,0,0,0,0,0]
[null,null,27]
[null,null,28,"TOTAL TRANSMISSION",{"$f":"SUM(E26,E30,E31,E33)","v":12796643.54497911},{"$f":"SUM(F26,F30,F31,F33)","v":10153844.133161111},0,0,0,2642799.411818,0]
[null,null,{"$f":"MAX(C30:C35)+NoOne","v":29},"Distribution:"]
[null,"300",{"$f":"MAX(C31:C36)+NoOne","v":30},"Direct",{"$f":"SUM(F37:K37)","v":9069878.2724360004},5931635.8832,488971.33925799996,739995.13061800005,331207.13695000001,1578068.78241,0]
[null,300,31,"Apprentices",{"$f":"SUM(F38:K38)","v":1296869.5361111111},854351.16388888878,0,350461.63055555557,11305.213888888889,80751.527777777766]
[null,null,32,"Distribution Total",{"$f":"SUM(E37:E38)","v":10366747.808547111},6785987.0470888885,488971.33925799996,1090456.7611735556,342512.3508388889,1658820.3101877777,0]
[null,null,33,"Meters:"]
[null,"360",34,"Meters",{"$f":"SUM(F41:K41)","v":420920.69799999997},0,0,0,0,0,420920.69799999997]
[null,null,35,"Systemized on Wgtd Customers",{"$f":"SUM(F42:K42)","v":0},{"$f":"+AllocMisc!F19","v":259207.22080561548},{"$f":"+AllocMisc!G19","v":6889.3054832909884},{"$f":"+AllocMisc!H19","v":27314.340440747255},{"$f":"+AllocMisc!I19","v":9314.8034310853309},{"$f":"+AllocMisc!J19","v":118195.0278392609},{"$f":"-K41","v":-420920.69799999997},null,"AllocMisc"]
[null,null,36,"Meters Total",{"$f":"SUM(E41:E42)","v":420920.69799999997},259207.22080561548,6889.3054832909884,27314.340440747255,9314.8034310853309,118195.0278392609,0]
[null,null,37,"TOTAL DISTRIBUTION",{"$f":"SUM(E39,E43)","v":10787668.506547112},7045194.2678945037,495860.64474129095,1117771.101614303,351827.15426997421,1777015.3380270386,0]
[null,null,38,"Generation, Transmission & Distn",{"$f":"SUM(E22,E35,E44)","v":78248721.135965005},59172247.765108399,3941291.4857662907,9192405.3433573022,785914.13593797421,5156862.4057950387,0]
[null,null,39,"Customer-Related:"]
[null,"500",40,"Customer-Related",{"$f":"SUM(F47:K47)","v":6340294.1026349999},62269.134899999997,50763.920699999995,202816.05859999999,0,167101.08120000002,5857343.9072350003]
[null,"ACIBD",41,"ACI Bad Debt",{"$f":"SUM(F48:K48)","v":0},null,null,null,null,null,0]
[null,"MunTax",42,"Municipal Tax",{"$f":"SUM(F49:K49)","v":-2165172},null,null,null,null,null,-2165172]
[null,"GenAdmin",43,"Generation Admin",{"$f":"SUM(F50:K50)","v":-67078},null,null,null,null,null,-67078]
[null,null,44,"Subtotal",{"$f":"SUM(E47:E50)","v":4108044.1026349999},62269.134899999997,50763.920699999995,202816.05859999999,0,167101.08120000002,3625093.9072350003]
[null,null,45,"Systemized on Customers",{"$f":"SUM(F52:K52)","v":0},{"$f":"+AllocMisc!F12","v":2158429.029780061},{"$f":"+AllocMisc!G12","v":74788.982229204717},{"$f":"+AllocMisc!H12","v":252373.22617937322},{"$f":"+AllocMisc!I12","v":84471.282408908184},{"$f":"+AllocMisc!J12","v":1055031.3866374532},{"$f":"-K51","v":-3625093.9072350003},null,"AllocMisc"]
[null,null,46,"TOTAL CUSTOMER-RELATED",{"$f":"SUM(E51:E52)","v":4108044.1026349999},2220698.1646800609,125552.90292920472,455189.28477937321,84471.282408908184,1222132.4678374534,0]
[null,null,47,"Generation, Tranmsn, Distn & Custmr",{"$f":"SUM(E45,E53)","v":82356765.238600001},61392945.929788463,4066844.3886954952,9647594.6281366758,870385.41834688233,6378994.8736324925,0]
[null,null,48,"Admin & General Expenses:"]
[null,null,49,"A&G Expense-Related GTDC:"]
[null,"800",50,"Expense-Related GTDC",{"$f":"SUM(F57:K57)","v":42861269.669399999},0,0,0,0,0,42861269.669399999]
[null,"ApprenticesGT",51,"Apprentices",{"$f":"SUM(F58:K58)","v":-2907055},null,null,null,null,null,-2907055]
[null,null,null,"ACI Bad Debt",{"$f":"SUM(F59:K59)","v":0},{"$f":"-K48","v":0}]
[null,"PubAss",{"$f":"MAX(C57:C59)+NoOne","v":52},"PUB Assessment",{"$f":"SUM(F60:K60)","v":-1100000},null,null,null,null,null,-1100000]
[null,"Ins",53,"Property Insurance",{"$f":"SUM(F61:K61)","v":-2265024},null,null,null,null,null,-2265024]
[null,null,54,"Subtotal",{"$f":"SUM(E57:E61)","v":36589190.669399999},0,0,0,0,0,36589190.669399999]
[null,null,55,"Systemized - Direct Expenses GTDC",{"$f":"SUM(F63:K63)","v":0},{"$f":"+F54/$E$54*$K$62","v":27275454.516374841},{"$f":"+G54/$E$54*$K$62","v":1806804.1445005215},{"$f":"+H54/$E$54*$K$62","v":4286201.3621744905},{"$f":"+I54/$E$54*$K$62","v":386691.94856664003},{"$f":"+J54/$E$54*$K$62","v":2834038.697783513},{"$f":"-K62","v":-36589190.669399999}]
[null,"810",56,"CDM",{"$f":"K64","v":509565.1},null,null,null,null,null,509565.1]
[null,810,57,"Systemized on Customers",null,{"$f":"AllocMisc!F15","v":303401.82421417203},{"$f":"AllocMisc!G15","v":10512.791167275109},{"$f":"AllocMisc!H15","v":35475.105342444382},{"$f":"AllocMisc!I15","v":11873.793774532747},{"$f":"AllocMisc!J15","v":148301.5855015757},{"$f":"-K64","v":-509565.1}]
[null,null,58,"A&G Expense-Related GTDC Total",{"$f":"SUM(E62:E65)","v":37098755.769400001},27578856.340589013,1817316.9356677965,4321676.4675169345,398565.74234117277,2982340.2832850888,{"$f":"SUM(K62:K63)","v":0}]
[null,null,59,"A&G Expense-Related GTD:"]
[null,"801",60,"Expense-Related GTD",{"$f":"SUM(F68:K68)","v":1913931.8985000001},0,0,0,0,0,1913931.8985000001]
[null,null,61,"Systemized - Direct Expenses GTD",{"$f":"SUM(F69:K69)","v":0},{"$f":"+F45/$E$45*$K$68","v":1447329.1174535644},{"$f":"+G45/$E$45*$K$68","v":96402.386983260876},{"$f":"+H45/$E$45*$K$68","v":224842.49653131934},{"$f":"+I45/$E$45*$K$68","v":19223.140166598761},{"$f":"+J45/$E$45*$K$68","v":126134.75736525666},{"$f":"-K68","v":-1913931.8985000001}]
[null,null,62,"A&G Expense-Related GTD Total",{"$f":"SUM(E68:E69)","v":1913931.8985000001},1447329.1174535644,96402.386983260876,224842.49653131934,19223.140166598761,126134.75736525666,0]
[null,null,63,"A&G Plant-Related - Generation:"]
[null,"811",64,"Hydraulic",{"$f":"SUM(F72:K72)","v":1722240.05},1722240.05,0,0,0,0,0]
[null,"812",65,"Holyrood",{"$f":"SUM(F73:K73)","v":4825956.33},4825956.33,0,0,0,0,0]
[null,"GenAdmin",66,"Generation Admin",{"$f":"SUM(F74:K74)","v":67078},67078]
[null,null,67,"A&G Plant-Related Production",{"$f":"SUM(E72:E74)","v":6615274.3799999999},6615274.3799999999,0,0,0,0,0]
[null,null,68,"A&G Plant-Related - Dsl & Gas Turbine:"]
[null,"813",69,"Diesel",{"$f":"SUM(F77:K77)","v":1465153.8392599998},273648.83052600001,472809.39753999992,619608.41415199998,70043.24336600001,29043.953675999997,0]
[null,"814",70,"Gas Turbines",{"$f":"SUM(F78:K78)","v":956695.51800799987},867822.72646399983,0,0,0,88872.791544000007,0]
[null,null,71,"A&G Plant-Related Diesel & Gas Turbines",{"$f":"SUM(E77:E78)","v":2421849.3572679996},1141471.55699,472809.39753999992,619608.41415199998,70043.24336600001,117916.74522000001,0]
[null,null,72,"A&G Plant-Related - Transmission:"]
[null,"821",73,"Transmission Lines",{"$f":"SUM(F81:K81)","v":2101184.688724},1989348.0131839998,0,0,0,111836.67554,0]
[null,"822",74,"Terminal Stations",{"$f":"SUM(F82:K82)","v":1488205.4558919999},1435831.9535339999,0,0,0,52373.502357999998,0]
[null,"829",75,"Transmission General",{"$f":"SUM(F83:K83)","v":185254.28192000001},185254.28192000001,0,0,0,0,0]
[null,null,76,"Systemized - Transmission Plant",{"$f":"SUM(F84:K84)","v":0},{"$f":"+AllocPlt!F58","v":0},{"$f":"+AllocPlt!G58","v":0},{"$f":"+AllocPlt!H58","v":0},{"$f":"+AllocPlt!I58","v":0},{"$f":"+AllocPlt!J58","v":0},{"$f":"-K83","v":0},null,"AllocPlt"]
[null,null,77,"A&G Plt-Related Transmsn General",{"$f":"SUM(E83:E84)","v":185254.28192000001},185254.28192000001,0,0,0,0,0]
[null,null,78,"A&G Plant-Related Transmsn Total",{"$f":"SUM(E81:E82,E85)","v":3774644.4265359999},3610434.2486379994,0,0,0,164210.17789799999,0]
[null,"830",79,"A&G Plant-Related - Distribution",{"$f":"SUM(F87:K87)","v":2824884.1012960002},1706806.9391720002,400642.01075999992,301508.30344799999,90433.280934000009,325493.56698200002,0]
[null,"840",80,"A&G Plant-Related - GTD",{"$f":"SUM(F88:K88)","v":289834.38400000002},0,289834.38400000002,0,0,0,0]
[null,null,81,"A&G Plant-Related - All Plant:"]
[null,"850",82,"A&G Plant-Related - All Plant",{"$f":"SUM(F90:K90)","v":1348388.4084000003},0,0,501303.24360000005,0,668404.32480000006,178680.84]
[null,null,83,"Systemized - All Plant",{"$f":"SUM(F91:K91)","v":0},{"$f":"+AllocPlt!F54","v":157112.79716869871},{"$f":"+AllocPlt!G54","v":1092.7635368359065},{"$f":"+AllocPlt!H54","v":7490.262098889998},{"$f":"+AllocPlt!I54","v":1475.5535652310102},{"$f":"+AllocPlt!J54","v":11509.463630344379},{"$f":"-K90","v":-178680.84},null,"AllocPlt"]
[null,null,{"$f":"MAX(C89:C91)+NoOne","v":84},"A&G Plant-Related - All Plant Total",{"$f":"SUM(E90:E91)","v":1348388.4084000003},157112.79716869871,1092.7635368359065,508793.50569889002,1475.5535652310102,679913.78843034443,0]
[null,"851",85,"A&G Plant-Related - GTD less Hyd & Hrd",{"$f":"SUM(F93:K93)","v":1159337.5360000001},1159337.5360000001]
[null,null,86,"Subtotal GTD Plant - Other than Island Interconnected",null,null,{"$f":"SUM(G88,G93)","v":289834.38400000002},{"$f":"SUM(H88,H93)","v":0},{"$f":"SUM(I88,I93)","v":0},{"$f":"SUM(J88,J93)","v":0},{"$f":"SUM(K88,K93)","v":0}]
[null,null,87,"Property Insurance:"]
[null,null,88,"Property Insurance",{"$f":"SUM(F96:K96)","v":2265024},null,null,null,null,null,2265024]
[null,null,89,"Systemized - Insurable Plant",{"$f":"SUM(F97:K97)","v":0},{"$f":"+AllocPlt!F66","v":1991617.4658097329},{"$f":"+AllocPlt!G66","v":13852.303574073154},{"$f":"+AllocPlt!H66","v":94949.530200859168},{"$f":"+AllocPlt!I66","v":18704.701645306846},{"$f":"+AllocPlt!J66","v":145899.99877002803},{"$f":"-K96","v":-2265024},null,"AllocPlt"]
[null,null,90,"Property Insurance",{"$f":"SUM(E96:E97)","v":2265024},1991617.4658097329,13852.303574073154,94949.530200859168,18704.701645306846,145899.99877002803,0]
[null,null,91,"Revenue-Related:"]
[null,null,92,"Municipal Tax",{"$f":"SUM(F100:K100)","v":2165172},null,null,null,null,null,2165172]
[null,null,93,"Systemized - Prior Yr Rural Revenues",{"$f":"SUM(F101:K101)","v":0},{"$f":"+AllocMisc!F44","v":1313763.6542834595},{"$f":"+AllocMisc!G44","v":40242.707803937454},{"$f":"+AllocMisc!H44","v":226506.64538116066},{"$f":"+AllocMisc!I44","v":78095.196520088881},{"$f":"+AllocMisc!J44","v":506563.79601135361},{"$f":"-K100","v":-2165172},null,"AllocMisc"]
[null,null,94,"Municipal Tax Total",{"$f":"SUM(E100:E101)","v":2165172},1313763.6542834595,40242.707803937454,226506.64538116066,78095.196520088881,506563.79601135361,0]
[null,null,95]
[null,null,96,"PUB Assessment",{"$f":"SUM(F104:K104)","v":1100000},null,null,null,null,null,1100000]
[null,null,97,"Systemized - Prior Yr Assessable Revenues",{"$f":"SUM(F105:K105)","v":0},{"$f":"+AllocMisc!F49","v":1039528.1361165345},{"$f":"+AllocMisc!G49","v":2858.2660257737034},{"$f":"+AllocMisc!H49","v":16087.790420544186},{"$f":"+AllocMisc!I49","v":5546.7650953560014},{"$f":"+AllocMisc!J49","v":35979.042341791595},{"$f":"-K104","v":-1100000},null,"AllocMisc"]
[null,null,98,"PUB Assessment Total",{"$f":"SUM(E104:E105)","v":1100000},1039528.1361165345,2858.2660257737034,16087.790420544186,5546.7650953560014,35979.042341791595,0]
[null,null,99,"TOTAL ADMIN & GENERAL EXPENSES",{"$f":"SUM(E66,E70,E75,E79,E86,E87,E88,E92,E93,E98,E102,E106)","v":62977096.261400007},47761532.172220998,3135051.1558916778,6313973.1533497088,682087.62363375432,5084452.156303864,0]
[{"$f":"+E108-SUM(F108:K108)","v":0},null,100,"TOTAL OPERATING AND MAINTENANCE",{"$f":"SUM(E54,E107)","v":145333861.5},109154478.10200946,7201895.5445871726,15961567.781486385,1552473.0419806368,11463447.029936356,0]
[]
[null,null,null,"NRA",{"$f":"-Reconciliation!D29","v":0}]
[null,null,null,"GL Total",{"$f":"SUM(E108:E110)","v":145333861.5}]
[null,null,null,null,-23211155.080000013]
[null,"RatiosSystem:"]
["LookupCol-->",1,2,3,4,5,6,7,8,9,10]
[null,null,{"$f":"+\"Direct Expenses - GTD\"","v":"Direct Expenses - GTD"},null,{"$f":"SUM(F115:K115)","v":78248721.135965005},{"$f":"+F45","v":59172247.765108399},{"$f":"+G45","v":3941291.4857662907},{"$f":"+H45","v":9192405.3433573022},{"$f":"+I45","v":785914.13593797421},{"$f":"+J45","v":5156862.4057950387},null,{"$f":"+L45","v":0}]
[null,null,{"$f":"+\"Direct Expenses - C \"","v":"Direct Expenses - C "},null,{"$f":"SUM(F116:K116)","v":4108044.1026349999},{"$f":"+F53","v":2220698.1646800609},125552.90292920472,455189.28477937321,84471.282408908184,1222132.4678374534,0]
[null,null,null,null,{"$f":"SUM(E115:E116)","v":82356765.238600001},61392945.929788463,4066844.3886954952,9647594.6281366758,870385.41834688233,6378994.8736324925,0]
[null,null,"Systemization Ratios - Expenses:"]
[null,"E-GTDC","Direct Expenses:  GTDC",null,1,{"$f":"+F117/$E117","v":0.74545115695017672},4.9380817433919755E-2,0.1171439237588574,1.0568475046649102E-2,7.745562681039718E-2,0]
[null,"E-GTD","Direct Expenses:  GTD",null,1,{"$f":"+F115/$E115","v":0.75620721854726136},5.0368765502478964E-2,0.1174767486280648,1.0043795279061105E-2,6.5903472043133751E-2,0]
[]
["w"]

{"sheet":"SDEPDetails","index":37,"n_rows":160,"n_cols":14,"rows_kept":160,"cut":false,"hidden":false,"merged":[]}
[]
["NEWFOUNDLAND AND LABRADOR HYDRO",null,null,null,null,null,null,null,null,null,null,null,null,"BkpSDEP"]
[{"$f":"RunName","v":"2019 Test Year Cost of Service Study"}]
["Supplemental Depreciation Details"]
[null,{"$f":"MAX(A5)+NoOne","v":1},2,3,4,5,6,7,8,{"$f":"MAX(I5)+NoOne","v":9},10,11,12,13]
["Line ",null,null,null,null,"Transmission","Transmission","Ancillary","Total","Rural Productn &",null,"Customer-","Specifically"]
["No","Description","Ref.","Total","Generation","Export","Network","Services","Transmission","Subtransmission","Distribution","Related","Assigned","Notes"]
[]
[null,"ISLAND INTERCONNECTED:"]
[{"$f":"MAX(A7:A9)+NoOne","v":1},"Dep'n:  Holyrood (Details):"]
[{"$f":"MAX(A8:A10)+NoOne","v":2},"Holyrood","P06",{"$f":"SUM(E11:M11)-I11","v":16574373.447862914},16372844.62911058,null,null,201528.81875233335,{"$f":"SUM(F11:H11)","v":201528.81875233335}]
[{"$f":"MAX(A9:A11)+NoOne","v":3},"Accretion",null,{"$f":"SUM(E12:M12)-I12","v":364000},{"$f":"AllocDep!E19","v":364000},null,null,null,{"$f":"SUM(F12:H12)","v":0}]
[{"$f":"MAX(A10:A12)+NoOne","v":4},"Holyrood Impairment Inventory Allowance",null,{"$f":"SUM(E13:M13)-I13","v":2081000},2081000]
[{"$f":"MAX(A11:A13)+NoOne","v":5},null,"SDEP1",{"$f":"SUM(D11:D13)","v":19019373.447862916},18817844.629110582,0,0,201528.81875233335,201528.81875233335,0,0,null,{"$f":"SUM(M11:M13)","v":0},{"$f":"+\"To Sch 2.5A, L.\"&IslIntCos!$D$141","v":"To Sch 2.5A, L.9"}]
[]
[{"$f":"MAX(A12:A15)+NoOne","v":6},"Dep'n:  Diesel (Details):"]
[{"$f":"MAX(A14:A16)+NoOne","v":7},"Diesel","P03",{"$f":"SUM(E17:M17)-I17","v":100419.76356500012},100419.76356500012,null,null,null,{"$f":"SUM(F17:H17)","v":0}]
[{"$f":"MAX(A15:A17)+NoOne","v":8},null,{"$f":"+\"SDEP\"&MID(C14,5,LEN(C14)-4)+1","v":"SDEP2"},{"$f":"SUM(D17:D17)","v":100419.76356500012},{"$f":"SUM(E17:E17)","v":100419.76356500012},null,{"$f":"SUM(G17:G17)","v":0},null,{"$f":"SUM(F18:G18)","v":0},{"$f":"SUM(J17:J17)","v":0},{"$f":"SUM(K17:K17)","v":0},null,{"$f":"SUM(M17:M17)","v":0},{"$f":"+\"To Sch 2.5A, L.\"&IslIntCos!$D$146","v":"To Sch 2.5A, L.14"}]
[]
[{"$f":"MAX(A17:A19)+NoOne","v":9},"Dep'n:  Transmission Lines (Details):"]
[10,"Transmission Network","T01",{"$f":"SUM(E21:M21)-I21","v":741491.17526300019},null,null,741491.17526300019,null,{"$f":"SUM(F21:H21)","v":741491.17526300019}]
[11,"Transmission Export","T03",9824191.676482005,null,9824191.676482005,0,null,9824191.676482005]
[12,"Transmission Export Prev Hydraulic","T09",0,0,0,null,null,0]
[13,"Transmission Hydraulic","T08",1610867.5425429996,1610867.5425429996,null,null,null,0]
[14,"Transmission Ancillary","T04",{"$f":"SUM(F25:M25)-I25","v":0},null,null,null,0,{"$f":"SUM(F25:H25)","v":0}]
[15,"Rural Subtransmission","T10",2184096.1897239946,null,null,null,null,0,2184096.1897239946]
[{"$f":"MAX(A23:A26)+NoOne","v":16},"Distribution",null,0,null,null,null,null,0,null,0]
[]
[{"$f":"MAX(A26:A28)+NoOne","v":17},"Specifically Assigned:"]
[{"$f":"MAX(A27:A29)+NoOne","v":18},"Vale","T02",{"$f":"SUM(E30:M30)-I30","v":5035.6069549999993},null,null,null,null,{"$f":"SUM(F30:H30)","v":0},null,null,null,5035.6069549999993]
[{"$f":"MAX(A28:A30)+NoOne","v":19},"Newfoundland Power","T06",{"$f":"SUM(E31:M31)-I31","v":680725.80339199991},null,null,null,null,{"$f":"SUM(F31:H31)","v":0},null,null,null,680725.80339199991]
[{"$f":"MAX(A29:A31)+NoOne","v":20},"NARL","T07",{"$f":"SUM(E32:M32)-I32","v":0},null,null,null,null,{"$f":"SUM(F32:H32)","v":0},null,null,null,0]
[{"$f":"MAX(A30:A32)+NoOne","v":21},"Teck Resources","T05",{"$f":"SUM(E33:M33)-I33","v":3.9520000000000007E-3},null,null,null,null,{"$f":"SUM(F33:H33)","v":0},null,null,null,3.9520000000000007E-3]
[]
[{"$f":"MAX(A32:A34)+NoOne","v":22},null,{"$f":"+\"SDEP\"&MID(C18,5,LEN(C18)-4)+1","v":"SDEP3"},{"$f":"SUM(D21:D34)","v":15046407.998311},1610867.5425429996,9824191.676482005,741491.17526300019,0,{"$f":"SUM(F35:H35)","v":10565682.851745006},2184096.1897239946,0,null,{"$f":"SUM(M21:M34)","v":685761.41429899994},{"$f":"+\"To Sch 2.5A, L.\"&IslIntCos!$D$149","v":"To Sch 2.5A, L.16"}]
[]
[{"$f":"MAX(A34:A36)+NoOne","v":23},"Dep'n:  Terminal Stations (Details):"]
[{"$f":"MAX(A35:A37)+NoOne","v":24},"Terminal Stations Network","T11",{"$f":"SUM(E38:M38)-I38","v":3217498.2686924152},null,null,3217498.2686924152,null,{"$f":"SUM(F38:H38)","v":3217498.2686924152}]
[{"$f":"MAX(A36:A38)+NoOne","v":25},"Terminal Stations Export","T13",{"$f":"SUM(E39:M39)-I39","v":1461895.1293823337},null,1461895.1293823337,0,null,{"$f":"SUM(F39:H39)","v":1461895.1293823337}]
[{"$f":"MAX(A37:A39)+NoOne","v":26},"Terminal Stations Ancillary","T14",{"$f":"SUM(E40:M40)-I40","v":48604.978257999996},null,null,null,48604.978257999996,{"$f":"SUM(F40:H40)","v":48604.978257999996}]
[{"$f":"MAX(A38:A40)+NoOne","v":27},"Rural Subtransmission","T26",{"$f":"SUM(E41:M41)-I41","v":549702.95890991739},null,null,null,null,{"$f":"SUM(F41:H41)","v":0},549702.95890991739]
[{"$f":"MAX(A38:A41)+NoOne","v":28},"Production",null,{"$f":"SUM(E42:M42)-I42","v":0},null,null,null,null,{"$f":"SUM(F42:H42)","v":0}]
[]
[{"$f":"MAX(A41:A43)+NoOne","v":29},"Specifically Assigned:"]
[30,"Vale","T22",{"$f":"SUM(E45:M45)-I45","v":21539.133212000004},null,null,null,null,{"$f":"SUM(F45:H45)","v":0},null,null,null,21539.133212000004]
[31,"Corner Brook Pulp & Paper (Deer Lake)","T16",578.89857599999993,null,null,null,null,0,null,null,null,578.89857599999993]
[32,"Corner Brook Pulp & Paper","T15",233810.17277,null,null,null,null,0,null,null,null,233810.17277]
[33,"Newfoundland Power","T20",352272.26665166626,null,null,null,null,0,null,null,null,352272.26665166626]
[34,"NARL","T21",51029.029752000002,null,null,null,null,0,null,null,null,51029.029752000002]
[35,"Teck Resources","T19",4.8990000000000006E-3,null,null,null,null,0,null,null,null,4.8990000000000006E-3]
[]
[{"$f":"MAX(A49:A51)+NoOne","v":36},null,{"$f":"+\"SDEP\"&MID(C35,5,LEN(C35)-4)+1","v":"SDEP4"},{"$f":"SUM(D38:D51)","v":5936930.8411033321},0,1461895.1293823337,3217498.2686924152,48604.978257999996,{"$f":"SUM(F52:H52)","v":4727998.3763327487},549702.95890991739,0,null,{"$f":"SUM(M38:M51)","v":659229.50586066628},{"$f":"+\"To Sch 2.5A, L.\"&IslIntCos!$D$150","v":"To Sch 2.5A, L.17"}]
[]
[{"$f":"MAX(A51:A53)+NoOne","v":37},"Dep'n:  Terminal Stations Production (Details):"]
[{"$f":"MAX(A52:A54)+NoOne","v":38},null,null,{"$f":"SUM(E55:M55)-I55","v":0},0,null,null,null,{"$f":"SUM(F55:H55)","v":0}]
[{"$f":"MAX(A53:A55)+NoOne","v":39},"Production Hydraulic","T25",{"$f":"SUM(E56:M56)-I56","v":1054104.6033237476},1054104.6033237476,null,null,null,{"$f":"SUM(F56:H56)","v":0}]
[]
[{"$f":"MAX(A55:A57)+NoOne","v":40},null,{"$f":"+\"SDEP\"&MID(C52,5,LEN(C52)-4)+1","v":"SDEP5"},{"$f":"SUM(D55:D57)","v":1054104.6033237476},{"$f":"SUM(E55:E57)","v":1054104.6033237476},null,{"$f":"SUM(G55:G57)","v":0},null,{"$f":"SUM(F58:H58)","v":0},{"$f":"SUM(J55:J57)","v":0},{"$f":"SUM(K55:K57)","v":0},null,{"$f":"SUM(M55:M57)","v":0}]
[]
[{"$f":"MAX(A57:A59)+NoOne","v":41},"Dep'n:  Term Stations Gas Tur/Dsl (Details):"]
[{"$f":"MAX(A58:A60)+NoOne","v":42},"Term Stations Gas Tur/Dsl GNP",null,{"$f":"SUM(E61:M61)-I61","v":0},null,null,null,null,{"$f":"SUM(F61:H61)","v":0}]
[{"$f":"MAX(A59:A61)+NoOne","v":43},"Term Stations Gas Tur/Dsl","T23",{"$f":"SUM(E62:M62)-I62","v":8214.0834809999997},8214.0834809999997,null,null,null,{"$f":"SUM(F62:H62)","v":0}]
[]
[{"$f":"MAX(A61:A63)+NoOne","v":44},null,{"$f":"+\"SDEP\"&MID(C58,5,LEN(C58)-4)+1","v":"SDEP6"},{"$f":"SUM(D61:D63)","v":8214.0834809999997},8214.0834809999997,null,0,null,{"$f":"SUM(F64:H64)","v":0},0,0,null,0]
[]
[{"$f":"MAX(A63:A65)+NoOne","v":45},"Dep'n:  Distribution Substations (Details):"]
[{"$f":"MAX(A64:A66)+NoOne","v":46},"Production","D04",{"$f":"SUM(E67:M67)-I67","v":0},0,null,null,null,{"$f":"SUM(F67:H67)","v":0}]
[{"$f":"MAX(A65:A67)+NoOne","v":47},"Distribution","D03",{"$f":"SUM(E68:M68)-I68","v":230092.47203999967},null,null,null,null,{"$f":"SUM(F68:H68)","v":0},null,230092.47203999967]
[]
[{"$f":"MAX(A67:A69)+NoOne","v":48},null,{"$f":"+\"SDEP\"&MID(C64,5,LEN(C64)-4)+1","v":"SDEP7"},{"$f":"SUM(D67:D69)","v":230092.47203999967},0,null,0,null,{"$f":"SUM(F70:H70)","v":0},0,230092.47203999967,null,0,{"$f":"+\"To Sch 2.5A, L.\"&IslIntCos!$D$158","v":"To Sch 2.5A, L.24"}]
[]
[{"$f":"MAX(A69:A71)+NoOne","v":49},"Dep'n:  Specifcally Assigned Telecontrol (Details):"]
[{"$f":"MAX(A70:A72)+NoOne","v":50},"Vale","G11",{"$f":"SUM(E73:M73)-I73","v":0},null,null,null,null,{"$f":"SUM(F73:H73)","v":0},null,null,null,0]
[{"$f":"MAX(A71:A73)+NoOne","v":51},"Customer-Related","G12",{"$f":"SUM(E74:M74)-I74","v":0},null,null,null,null,{"$f":"SUM(F74:H74)","v":0},null,null,0]
[{"$f":"MAX(A72:A74)+NoOne","v":52},null,{"$f":"+\"SDEP\"&MID(C70,5,LEN(C70)-4)+1","v":"SDEP8"},{"$f":"SUM(D73:D74)","v":0},{"$f":"SUM(E73:E74)","v":0},null,{"$f":"SUM(G73:G74)","v":0},null,{"$f":"SUM(F75:H75)","v":0},{"$f":"SUM(J73:J74)","v":0},{"$f":"SUM(K73:K74)","v":0},{"$f":"SUM(L73:L74)","v":0},{"$f":"SUM(M73:M74)","v":0},{"$f":"+\"To Sch 2.5A, L.\"&IslIntCos!$D$172","v":"To Sch 2.5A, L.38"}]
[]
[{"$f":"MAX(A74:A76)+NoOne","v":53},"Dep'n:  Feasibility Studies (Details):"]
[{"$f":"MAX(A75:A77)+NoOne","v":54},"Production","G02",{"$f":"SUM(E78:M78)-I78","v":118091.676397},118091.676397,null,null,null,{"$f":"SUM(F78:H78)","v":0}]
[{"$f":"MAX(A76:A78)+NoOne","v":55},"Transmission","G03",{"$f":"SUM(E79:M79)-I79","v":0},null,null,0,null,{"$f":"SUM(F79:H79)","v":0}]
[{"$f":"MAX(A77:A79)+NoOne","v":56},"Distribution","G01",{"$f":"SUM(E80:M80)-I80","v":3.6700000000000003E-4},null,null,null,null,{"$f":"SUM(F80:H80)","v":0},null,3.6700000000000003E-4]
[]
[{"$f":"MAX(A79:A81)+NoOne","v":57},null,{"$f":"+\"SDEP\"&MID(C75,5,LEN(C75)-4)+1","v":"SDEP9"},{"$f":"SUM(D78:D81)","v":118091.676764},{"$f":"SUM(E78:E81)","v":118091.676397},null,{"$f":"SUM(G78:G81)","v":0},null,{"$f":"SUM(F82:H82)","v":0},null,{"$f":"SUM(K78:K81)","v":3.6700000000000003E-4},null,{"$f":"SUM(M78:M81)","v":0},{"$f":"+\"To Sch 2.5A, L.\"&IslIntCos!$D$173","v":"To Sch 2.5A, L.39"}]
[]
[null,"ISLAND ISOLATED:"]
[{"$f":"MAX(A82:A84)+NoOne","v":58},"Dep'n:  Distribution Substations (Details):"]
[{"$f":"MAX(A83:A85)+NoOne","v":59},"Production","D04",{"$f":"SUM(E86:M86)-I86","v":5552.6183769999998},5552.6183769999998,null,null,null,{"$f":"SUM(F86:H86)","v":0}]
[{"$f":"MAX(A84:A86)+NoOne","v":60},"Distribution","D03",{"$f":"SUM(E87:M87)-I87","v":996.69518199999993},null,null,null,null,{"$f":"SUM(F87:H87)","v":0},null,996.69518199999993]
[]
[{"$f":"MAX(A86:A88)+NoOne","v":61},null,{"$f":"+\"SDEP\"&MID(C82,5,LEN(C82)-4)+1","v":"SDEP10"},{"$f":"SUM(D86:D88)","v":6549.3135590000002},{"$f":"SUM(E86:E88)","v":5552.6183769999998},null,{"$f":"SUM(G86:G88)","v":0},null,{"$f":"SUM(F89:H89)","v":0},null,{"$f":"SUM(K86:K88)","v":996.69518199999993},null,{"$f":"SUM(M86:M88)","v":0},{"$f":"+\"To Sch 2.5B, L.\"&IslIsoCos!D126","v":"To Sch 2.5B, L.6"}]
[]
[{"$f":"MAX(A88:A90)+NoOne","v":62},"Dep'n:  Feasibility Studies (Details):"]
[{"$f":"MAX(A89:A91)+NoOne","v":63},"Production","G02",{"$f":"SUM(E92:M92)-I92","v":0},0,null,null,null,{"$f":"SUM(F92:H92)","v":0}]
[{"$f":"MAX(A90:A92)+NoOne","v":64},"Transmission","G03",{"$f":"SUM(E93:M93)-I93","v":0},null,null,0,null,{"$f":"SUM(F93:H93)","v":0}]
[{"$f":"MAX(A91:A93)+NoOne","v":65},"Distribution","G01",{"$f":"SUM(E94:M94)-I94","v":0},null,null,null,null,{"$f":"SUM(F94:H94)","v":0},null,0]
[]
[{"$f":"MAX(A93:A95)+NoOne","v":66},null,{"$f":"+\"SDEP\"&MID(C89,5,LEN(C89)-4)+1","v":"SDEP11"},{"$f":"SUM(D92:D95)","v":0},{"$f":"SUM(E92:E95)","v":0},null,{"$f":"SUM(G92:G95)","v":0},null,{"$f":"SUM(F96:H96)","v":0},null,{"$f":"SUM(K92:K95)","v":0},null,{"$f":"SUM(M92:M95)","v":0},{"$f":"+\"To Sch 2.5B, L.\"&IslIsoCos!D142","v":"To Sch 2.5B, L.20"}]
[]
[null,"LABRADOR ISOLATED:"]
[{"$f":"MAX(A96:A98)+NoOne","v":67},"Dep'n:  Distribution Substations (Details):"]
[{"$f":"MAX(A97:A99)+NoOne","v":68},"Production","D04",{"$f":"SUM(E100:M100)-I100","v":40794.705657999992},40794.705657999992,null,null,null,{"$f":"SUM(F100:H100)","v":0}]
[{"$f":"MAX(A98:A100)+NoOne","v":69},"Distribution","D03",{"$f":"SUM(E101:M101)-I101","v":26949.235899000003},null,null,null,null,{"$f":"SUM(F101:H101)","v":0},null,26949.235899000003]
[]
[{"$f":"MAX(A100:A102)+NoOne","v":70},null,{"$f":"+\"SDEP\"&MID(C96,5,LEN(C96)-4)+1","v":"SDEP12"},{"$f":"SUM(D100:D102)","v":67743.941556999998},{"$f":"SUM(E100:E102)","v":40794.705657999992},null,{"$f":"SUM(G100:G102)","v":0},null,{"$f":"SUM(F103:H103)","v":0},null,{"$f":"SUM(K100:K102)","v":26949.235899000003},null,{"$f":"SUM(M100:M102)","v":0},{"$f":"+\"To Sch 2.5C, L.\"&LabIsoCos!$D$126","v":"To Sch 2.5C, L.6"}]
[]
[{"$f":"MAX(A102:A104)+NoOne","v":71},"Dep'n:  Feasibility Studies (Details):"]
[{"$f":"MAX(A103:A105)+NoOne","v":72},"Production","G02",{"$f":"SUM(E106:M106)-I106","v":0},0,null,null,null,{"$f":"SUM(F106:H106)","v":0}]
[{"$f":"MAX(A104:A106)+NoOne","v":73},"Transmission","G03",{"$f":"SUM(E107:M107)-I107","v":0},null,null,0,null,{"$f":"SUM(F107:H107)","v":0}]
[{"$f":"MAX(A105:A107)+NoOne","v":74},"Distribution","G01",{"$f":"SUM(E108:M108)-I108","v":0},null,null,null,null,{"$f":"SUM(F108:H108)","v":0},null,0]
[]
[{"$f":"MAX(A107:A109)+NoOne","v":75},null,{"$f":"+\"SDEP\"&MID(C103,5,LEN(C103)-4)+1","v":"SDEP13"},{"$f":"SUM(D106:D109)","v":0},{"$f":"SUM(E106:E109)","v":0},null,{"$f":"SUM(G106:G109)","v":0},null,{"$f":"SUM(F110:H110)","v":0},null,{"$f":"SUM(K106:K109)","v":0},null,{"$f":"SUM(M106:M109)","v":0},{"$f":"+\"To Sch 2.5C, L.\"&LabIsoCos!$D$142","v":"To Sch 2.5C, L.20"}]
[null,"L'ANSE AU LOUP"]
[{"$f":"MAX(A109:A111)+NoOne","v":76},"Dep'n:  Distribution Substations (Details):"]
[{"$f":"MAX(A110:A112)+NoOne","v":77},"Production","D04",{"$f":"SUM(E113:M113)-I113","v":354.01045900000003},354.01045900000003,null,null,null,{"$f":"SUM(F113:H113)","v":0}]
[{"$f":"MAX(A111:A113)+NoOne","v":78},"Distribution","D03",{"$f":"SUM(E114:M114)-I114","v":116668.70303900001},null,null,null,null,{"$f":"SUM(F114:H114)","v":0},null,116668.70303900001]
[]
[{"$f":"MAX(A113:A115)+NoOne","v":79},null,{"$f":"+\"SDEP\"&MID(C110,5,LEN(C110)-4)+1","v":"SDEP14"},{"$f":"SUM(D113:D115)","v":117022.71349800001},{"$f":"SUM(E113:E115)","v":354.01045900000003},null,{"$f":"SUM(G113:G115)","v":0},null,{"$f":"SUM(F116:H116)","v":0},null,{"$f":"SUM(K113:K115)","v":116668.70303900001},null,{"$f":"SUM(M113:M115)","v":0},{"$f":"+\"To Sch 2.5D, L.\"&LALCos!$D$126","v":"To Sch 2.5D, L.6"}]
[]
[{"$f":"MAX(A115:A117)+NoOne","v":80},"Dep'n:  Feasibility Studies (Details):"]
[{"$f":"MAX(A116:A118)+NoOne","v":81},"Production","G02",{"$f":"SUM(E119:M119)-I119","v":0},0,null,null,null,{"$f":"SUM(F119:H119)","v":0}]
[{"$f":"MAX(A117:A119)+NoOne","v":82},"Transmission","G03",{"$f":"SUM(E120:M120)-I120","v":0},null,null,0,null,{"$f":"SUM(F120:H120)","v":0}]
[{"$f":"MAX(A118:A120)+NoOne","v":83},"Distribution","G01",{"$f":"SUM(E121:M121)-I121","v":0},null,null,null,null,{"$f":"SUM(F121:H121)","v":0},null,0]
[]
[{"$f":"MAX(A120:A122)+NoOne","v":84},null,{"$f":"+\"SDEP\"&MID(C116,5,LEN(C116)-4)+1","v":"SDEP15"},{"$f":"SUM(D119:D122)","v":0},{"$f":"SUM(E119:E122)","v":0},null,{"$f":"SUM(G119:G122)","v":0},null,{"$f":"SUM(F123:H123)","v":0},null,{"$f":"SUM(K119:K122)","v":0},null,{"$f":"SUM(M119:M122)","v":0},{"$f":"+\"To Sch 2.5D, L.\"&LALCos!$D$142","v":"To Sch 2.5D, L.20"}]
[null,"LABRADOR INTERCONNECTED:"]
[{"$f":"MAX(A122:A124)+NoOne","v":85},"Dep'n:  Transmission Lines (Details):"]
[{"$f":"MAX(A123:A125)+NoOne","v":86},"Transmission","T01",{"$f":"SUM(E126:M126)-I126","v":626418.91622700018},null,null,626418.91622700018,null,{"$f":"SUM(F126:H126)","v":626418.91622700018}]
[{"$f":"MAX(A124:A126)+NoOne","v":87},"Transmission Export","T03",{"$f":"SUM(E127:M127)-I127","v":544388.16590000002},null,null,544388.16590000002,null,{"$f":"SUM(F127:H127)","v":544388.16590000002}]
[{"$f":"MAX(A125:A127)+NoOne","v":88},"Distribution","T09",{"$f":"SUM(E128:M128)-I128","v":0},null,null,null,null,{"$f":"SUM(F128:H128)","v":0},null,0]
[{"$f":"MAX(A126:A128)+NoOne","v":89},"Rural Subtransmission","T10",{"$f":"SUM(E129:M129)-I129","v":65270.446892000007},null,null,null,null,null,65270.446892000007]
[]
[{"$f":"MAX(A126:A130)+NoOne","v":90},"Specifically Assigned:"]
[{"$f":"MAX(A128:A131)+NoOne","v":91},"CFB - Goose Bay","T04",{"$f":"SUM(E132:M132)-I132","v":0},null,null,null,null,{"$f":"SUM(F132:H132)","v":0},null,null,null,0]
[{"$f":"MAX(A130:A132)+NoOne","v":92},"MFP Construction","XC",{"$f":"SUM(E133:M133)-I133","v":0},null,null,null,null,{"$f":"SUM(F133:H133)","v":0},null,null,null,0]
[]
[null,null,{"$f":"+\"SDEP\"&MID(C123,5,LEN(C123)-4)+1","v":"SDEP16"},{"$f":"SUM(D126:D134)","v":1236077.5290190002},{"$f":"SUM(E126:E134)","v":0},{"$f":"SUM(F126:F134)","v":0},{"$f":"SUM(G126:G134)","v":1170807.0821270002},{"$f":"SUM(H126:H134)","v":0},{"$f":"SUM(F135:H135)","v":1170807.0821270002},{"$f":"SUM(J126:J134)","v":65270.446892000007},{"$f":"SUM(K126:K134)","v":0},null,{"$f":"SUM(M126:M134)","v":0},{"$f":"+\"To Sch 2.5E, L.\"&LabIntCos!$D$124","v":"To Sch 2.5E, L.4"}]
[]
[{"$f":"MAX(A132:A136)+NoOne","v":93},"Dep'n:  Terminal Stations (Details):"]
[{"$f":"MAX(A135:A137)+NoOne","v":94},"Transmission","T11",{"$f":"SUM(E138:M138)-I138","v":478094.271374},null,null,478094.271374,null,{"$f":"SUM(F138:H138)","v":478094.271374}]
[{"$f":"MAX(A136:A138)+NoOne","v":95},"Rural Subtransmission","T26",{"$f":"SUM(E139:M139)-I139","v":58855.50392499999},null,null,58855.50392499999,null,{"$f":"SUM(F139:H139)","v":58855.50392499999}]
[{"$f":"MAX(A137:A139)+NoOne","v":96},"Distribution","T18",{"$f":"SUM(E140:M140)-I140","v":465644.17291199963},null,null,null,null,{"$f":"SUM(F140:H140)","v":0},null,465644.17291199963]
[{"$f":"MAX(A138:A140)+NoOne","v":97},"Production","T23",{"$f":"SUM(E141:M141)-I141","v":0},null,null,0,null,{"$f":"SUM(F141:H141)","v":0}]
[]
[{"$f":"MAX(A140:A142)+NoOne","v":98},"Specifically Assigned:"]
[{"$f":"MAX(A141:A143)+NoOne","v":99},"CFB - Goose Bay","T17",{"$f":"SUM(E144:M144)-I144","v":0},null,null,null,null,{"$f":"SUM(F144:H144)","v":0},null,null,null,0]
[{"$f":"MAX(A142:A144)+NoOne","v":100},"MFP Construction","XC",{"$f":"SUM(E145:M145)-I145","v":0},null,null,null,null,{"$f":"SUM(F145:H145)","v":0},null,null,null,0]
[]
[null,null,{"$f":"+\"SDEP\"&MID(C135,5,LEN(C135)-4)+1","v":"SDEP17"},{"$f":"SUM(D138:D146)","v":1002593.9482109996},{"$f":"SUM(E138:E146)","v":0},null,{"$f":"SUM(G138:G146)","v":536949.77529899997},null,{"$f":"SUM(F147:H147)","v":536949.77529899997},null,{"$f":"SUM(K138:K146)","v":465644.17291199963},null,{"$f":"SUM(M138:M146)","v":0},{"$f":"+\"To Sch 2.5E, L.\"&LabIntCos!$D$125","v":"To Sch 2.5E, L.5"}]
[]
[{"$f":"MAX(A144:A148)+NoOne","v":101},"Dep'n:  Distribution Substations (Details):"]
[{"$f":"MAX(A147:A149)+NoOne","v":102},"Production","D04",{"$f":"SUM(E150:M150)-I150","v":0},0,null,null,null,{"$f":"SUM(F150:H150)","v":0}]
[{"$f":"MAX(A148:A150)+NoOne","v":103},"Distribution","D03",{"$f":"SUM(E151:M151)-I151","v":141589.68520200058},null,null,null,null,{"$f":"SUM(F151:H151)","v":0},null,141589.68520200058]
[]
[{"$f":"MAX(A150:A152)+NoOne","v":104},null,{"$f":"+\"SDEP\"&MID(C147,5,LEN(C147)-4)+1","v":"SDEP18"},{"$f":"SUM(D150:D152)","v":141589.68520200058},{"$f":"SUM(E150:E152)","v":0},null,{"$f":"SUM(G150:G152)","v":0},null,{"$f":"SUM(F153:H153)","v":0},null,{"$f":"SUM(K150:K152)","v":141589.68520200058},null,{"$f":"SUM(M150:M152)","v":0},{"$f":"+\"To Sch 2.5E, L.\"&LabIntCos!$D$129","v":"To Sch 2.5E, L.7"}]
[]
[{"$f":"MAX(A152:A154)+NoOne","v":105},"Dep'n:  Feasibility Studies (Details):"]
[{"$f":"MAX(A153:A155)+NoOne","v":106},"Production","G02",{"$f":"SUM(E156:M156)-I156","v":0},0,null,null,null,{"$f":"SUM(F156:H156)","v":0}]
[{"$f":"MAX(A154:A156)+NoOne","v":107},"Transmission","G03",{"$f":"SUM(E157:M157)-I157","v":0},null,null,0,null,{"$f":"SUM(F157:H157)","v":0}]
[{"$f":"MAX(A155:A157)+NoOne","v":108},"Distribution","G01",{"$f":"SUM(E158:M158)-I158","v":1460.9774500000001},null,null,null,null,{"$f":"SUM(F158:H158)","v":0},null,1460.9774500000001]
[]
[{"$f":"MAX(A157:A159)+NoOne","v":109},null,{"$f":"+\"SDEP\"&MID(C153,5,LEN(C153)-4)+1","v":"SDEP19"},{"$f":"SUM(D156:D159)","v":1460.9774500000001},{"$f":"SUM(E156:E159)","v":0},null,{"$f":"SUM(G156:G159)","v":0},null,{"$f":"SUM(F160:H160)","v":0},null,{"$f":"SUM(K156:K159)","v":1460.9774500000001},null,{"$f":"SUM(M156:M159)","v":0},{"$f":"+\"To Sch 2.5E, L.\"&LabIntCos!$D$145","v":"To Sch 2.5E, L.21"}]

{"sheet":"SNBVDetails","index":38,"n_rows":159,"n_cols":14,"rows_kept":159,"cut":false,"hidden":false,"merged":[]}
[]
["NEWFOUNDLAND AND LABRADOR HYDRO",null,null,null,null,null,null,null,null,null,null,null,null,"BkpSNBV"]
[{"$f":"RunName","v":"2019 Test Year Cost of Service Study"}]
["Supplemental Net Book Value Details"]
[null,{"$f":"MAX(A5)+NoOne","v":1},2,3,4,5,6,{"$f":"MAX(G5)+NoOne","v":7},{"$f":"MAX(H5)+NoOne","v":8},9,10,11,12,13]
["Line ",null,null,null,null,"Transmission","Transmission","Ancillary","Total","Rural Productn &",null,"Customer-","Specifically"]
["No","Description","Ref.","Total","Generation","Export","Network","Services","Transmission","Subtransmission","Distribution","Related","Assigned","Notes"]
[null,"ISLAND INTERCONNECTED:"]
[{"$f":"IF(LEN(B9)<>0,INT(MAX(A$8:A8))+1,0)","v":1},"NBV:  Holyrood (Details):"]
[{"$f":"IF(LEN(B10)<>0,INT(MAX(A$8:A9))+1,0)","v":2},"Holyrood","P06",{"$f":"SUM(E10:M10)-I10","v":84528137.890363306},84528137.890363306,null,null,null,{"$f":"SUM(F10:H10)","v":0}]
[{"$f":"IF(LEN(B11)<>0,INT(MAX(A$8:A10))+1,0)","v":3},"Holyrood - Ancillary","P06.1",{"$f":"SUM(F11:M11)-I11","v":646115.38520483358},null,null,null,646115.38520483358,{"$f":"SUM(F11:H11)","v":646115.38520483358}]
[{"$f":"IF(LEN(B12)<>0,INT(MAX(A$8:A11))+1,0)","v":4},"Total","SNBV1",{"$f":"SUM(D10:D11)","v":85174253.275568143},84528137.890363306,null,0,646115.38520483358,{"$f":"SUM(F12:H12)","v":646115.38520483358},0,0,null,0,{"$f":"+\"To Sch 2.3A, L.\"&IslIntCos!$D$81","v":"To Sch 2.3A, L.9"}]
[]
[{"$f":"IF(LEN(B14)<>0,INT(MAX(A$8:A13))+1,0)","v":5},"NBV:  Diesel (Details):"]
[{"$f":"IF(LEN(B15)<>0,INT(MAX(A$8:A14))+1,0)","v":6},"Diesel GNP","P03",{"$f":"SUM(E15:M15)-I15","v":2474283.9408306614},2474283.9408306614,null,null,null,{"$f":"SUM(F15:H15)","v":0}]
[]
[{"$f":"IF(LEN(B17)<>0,INT(MAX(A$8:A16))+1,0)","v":7},"Total",{"$f":"+\"SNBV\"&MID(C12,5,LEN(C12)-4)+1","v":"SNBV2"},{"$f":"SUM(D15:D16)","v":2474283.9408306614},2474283.9408306614,null,0,0,{"$f":"SUM(F17:H17)","v":0},0,0,null,0,{"$f":"+\"To Sch 2.3A, L.\"&IslIntCos!$D$86","v":"To Sch 2.3A, L.14"}]
[]
[{"$f":"IF(LEN(B19)<>0,INT(MAX(A$8:A18))+1,0)","v":8},"NBV:  Transmission Lines (Details):"]
[{"$f":"IF(LEN(B20)<>0,INT(MAX(A$8:A19))+1,0)","v":9},"Transmission Network","T01",{"$f":"SUM(E20:M20)-I20","v":18289459.661755502},null,null,18289459.661755502,null,{"$f":"SUM(F20:H20)","v":18289459.661755502}]
[{"$f":"IF(LEN(B21)<>0,INT(MAX(A$8:A20))+1,0)","v":10},"Transmission Export","T03",360623212.4646281,null,360623212.4646281,0,null,360623212.4646281]
[{"$f":"IF(LEN(B22)<>0,INT(MAX(A$8:A21))+1,0)","v":11},"Transmission Export Prev Hydraulic","T09",0,0,0,null,null,0]
[{"$f":"IF(LEN(B23)<>0,INT(MAX(A$8:A22))+1,0)","v":12},"Transmission Ancillary","T04",{"$f":"SUM(E23:M23)-I23","v":0},0,null,null,0,{"$f":"SUM(G23:H23)","v":0}]
[{"$f":"IF(LEN(B24)<>0,INT(MAX(A$8:A23))+1,0)","v":13},"Transmission Hydraulic","T08",39234865.516185485,39234865.516185485,null,null,null,0]
[{"$f":"IF(LEN(B25)<>0,INT(MAX(A$8:A24))+1,0)","v":14},"Rural Subtransmission","T10",55647741.189842157,null,null,null,null,0,55647741.189842157]
[{"$f":"IF(LEN(B26)<>0,INT(MAX(A$8:A25))+1,0)","v":15},"Distribution",null,0,null,null,null,null,0,null,0]
[]
[{"$f":"IF(LEN(B28)<>0,INT(MAX(A$8:A27))+1,0)","v":16},"Specifically Assigned:"]
[{"$f":"IF(LEN(B29)<>0,INT(MAX(A$8:A28))+1,0)","v":17},"Vale","T02",{"$f":"SUM(E29:M29)-I29","v":130085.3195675},null,null,null,null,null,null,null,null,130085.3195675]
[{"$f":"IF(LEN(B30)<>0,INT(MAX(A$8:A29))+1,0)","v":18},"Newfoundland Power","T06",{"$f":"SUM(E30:M30)-I30","v":15108839.512111999},null,null,null,null,null,null,null,null,15108839.512111999]
[{"$f":"IF(LEN(B31)<>0,INT(MAX(A$8:A30))+1,0)","v":19},"NARL","T07",{"$f":"SUM(E31:M31)-I31","v":0},null,null,null,null,null,null,null,null,0]
[{"$f":"IF(LEN(B32)<>0,INT(MAX(A$8:A31))+1,0)","v":20},"Teck Resources","T05",{"$f":"SUM(E32:M32)-I32","v":0.104072},null,null,null,null,null,null,null,null,0.104072]
[]
[{"$f":"IF(LEN(B34)<>0,INT(MAX(A$8:A33))+1,0)","v":21},"Total",{"$f":"+\"SNBV\"&MID(C17,5,LEN(C17)-4)+1","v":"SNBV3"},{"$f":"SUM(D20:D33)","v":489034203.76816273},39234865.516185485,360623212.4646281,18289459.661755502,0,{"$f":"SUM(F34:H34)","v":378912672.1263836},55647741.189842157,0,null,{"$f":"SUM(M20:M33)","v":15238924.9357515},{"$f":"+\"To Sch 2.3A, L.\"&IslIntCos!$D$89","v":"To Sch 2.3A, L.16"}]
[]
[{"$f":"IF(LEN(B36)<>0,INT(MAX(A$8:A35))+1,0)","v":22},"NBV:  Terminal Stations (Details):"]
[{"$f":"IF(LEN(B37)<>0,INT(MAX(A$8:A36))+1,0)","v":23},"Terminal Stations Network","T11",{"$f":"SUM(E37:M37)-I37","v":106377346.90037735},null,null,106377346.90037735,null,{"$f":"SUM(F37:H37)","v":106377346.90037735}]
[{"$f":"IF(LEN(B38)<>0,INT(MAX(A$8:A37))+1,0)","v":24},"Termainal Stations Export","T13",{"$f":"SUM(E38:M38)-I38","v":62494211.480484113},null,62494211.480484113,0,null,{"$f":"SUM(F38:H38)","v":62494211.480484113}]
[{"$f":"IF(LEN(B39)<>0,INT(MAX(A$8:A38))+1,0)","v":25},"Terminals Stations Ancillary","T14",{"$f":"SUM(E39:M39)-I39","v":455768.41261300002},null,0,null,455768.41261300002,{"$f":"SUM(F39:H39)","v":455768.41261300002}]
[{"$f":"IF(LEN(B40)<>0,INT(MAX(A$8:A39))+1,0)","v":26},"Rural Subtransmission","T26",{"$f":"SUM(E40:M40)-I40","v":13842730.88722604},null,null,null,null,null,13842730.88722604]
[{"$f":"IF(LEN(B41)<>0,INT(MAX(A$8:A40))+1,0)","v":27},"Production",null,{"$f":"SUM(E41:M41)-I41","v":0}]
[]
[{"$f":"IF(LEN(B43)<>0,INT(MAX(A$8:A42))+1,0)","v":28},"Specifically Assigned:"]
[{"$f":"IF(LEN(B44)<>0,INT(MAX(A$8:A43))+1,0)","v":29},"Vale","T22",{"$f":"SUM(E44:M44)-I44","v":462463.92106799345},null,null,null,null,null,null,null,null,462463.92106799345]
[{"$f":"IF(LEN(B45)<>0,INT(MAX(A$8:A44))+1,0)","v":30},"Corner Brook Pulp & Paper (Deer Lake)","T16",8167.6421359999995,null,null,null,null,null,null,null,null,8167.6421359999995]
[{"$f":"IF(LEN(B46)<>0,INT(MAX(A$8:A45))+1,0)","v":31},"Corner Brook Pulp & Paper","T15",7728123.2085099192,null,null,null,null,null,null,null,null,7728123.2085099192]
[{"$f":"IF(LEN(B47)<>0,INT(MAX(A$8:A46))+1,0)","v":32},"Newfoundland Power","T20",12261755.127254019,null,null,null,null,null,null,null,null,12261755.127254019]
[{"$f":"IF(LEN(B48)<>0,INT(MAX(A$8:A47))+1,0)","v":33},"NARL","T21",1283615.305846672,null,null,null,null,null,null,null,null,1283615.305846672]
[{"$f":"IF(LEN(B49)<>0,INT(MAX(A$8:A48))+1,0)","v":34},"Teck Resources","T19",0.1626515,null,null,null,null,null,null,null,null,0.1626515]
[]
[{"$f":"IF(LEN(B51)<>0,INT(MAX(A$8:A50))+1,0)","v":35},"Total",{"$f":"+\"SNBV\"&MID(C34,5,LEN(C34)-4)+1","v":"SNBV4"},{"$f":"SUM(D37:D50)","v":204914183.0481666},0,62494211.480484113,106377346.90037735,455768.41261300002,{"$f":"SUM(F51:H51)","v":169327326.79347447},13842730.88722604,0,null,{"$f":"SUM(M37:M50)","v":21744125.367466103},{"$f":"+\"To Sch 2.3A, L.\"&IslIntCos!$D$90","v":"To Sch 2.3A, L.17"}]
[]
[{"$f":"IF(LEN(B53)<>0,INT(MAX(A$8:A52))+1,0)","v":36},"NBV:  Terminal Stations Production (Details):"]
[null,null,null,{"$f":"SUM(E54:M54)-I54","v":0},0,null,null,null,{"$f":"SUM(F54:H54)","v":0}]
[{"$f":"IF(LEN(B55)<>0,INT(MAX(A$8:A54))+1,0)","v":37},"Production Hydraulic","T25",{"$f":"SUM(E55:M55)-I55","v":30603676.655456185},30603676.655456185,null,null,null,{"$f":"SUM(F55:H55)","v":0}]
[{"$f":"IF(LEN(B56)<>0,INT(MAX(A$8:A55))+1,0)","v":38},"Total",{"$f":"+\"SNBV\"&MID(C51,5,LEN(C51)-4)+1","v":"SNBV5"},{"$f":"SUM(D54:D55)","v":30603676.655456185},{"$f":"SUM(E54:E55)","v":30603676.655456185},null,{"$f":"SUM(G54:G55)","v":0},{"$f":"SUM(H54:H55)","v":0},{"$f":"SUM(F56:H56)","v":0},{"$f":"SUM(J54:J55)","v":0},{"$f":"SUM(K54:K55)","v":0},null,{"$f":"SUM(M54:M55)","v":0}]
[]
[{"$f":"IF(LEN(B58)<>0,INT(MAX(A$8:A57))+1,0)","v":39},"NBV:  Term Stations Gas Tur/Dsl (Details):"]
[{"$f":"IF(LEN(B59)<>0,INT(MAX(A$8:A58))+1,0)","v":40},"Term Stations Gas Tur/Dsl ","T23",{"$f":"SUM(E59:M59)-I59","v":736251.99477849994},736251.99477849994,null,null,null,{"$f":"SUM(F59:H59)","v":0}]
[]
[{"$f":"IF(LEN(B61)<>0,INT(MAX(A$8:A60))+1,0)","v":41},"Total",{"$f":"+\"SNBV\"&MID(C56,5,LEN(C56)-4)+1","v":"SNBV6"},{"$f":"SUM(D59:D60)","v":736251.99477849994},{"$f":"SUM(E59:E60)","v":736251.99477849994},null,{"$f":"SUM(G59:G60)","v":0},{"$f":"SUM(H59:H60)","v":0},{"$f":"SUM(F61:H61)","v":0},{"$f":"SUM(J59:J60)","v":0},{"$f":"SUM(K59:K60)","v":0},null,{"$f":"SUM(M59:M60)","v":0}]
[]
[{"$f":"IF(LEN(B63)<>0,INT(MAX(A$8:A62))+1,0)","v":42},"NBV:  Distribution Substations (Details):"]
[{"$f":"IF(LEN(B64)<>0,INT(MAX(A$8:A63))+1,0)","v":43},"Production","D04",{"$f":"SUM(E64:M64)-I64","v":0},0,null,null,null,{"$f":"SUM(F64:H64)","v":0}]
[{"$f":"IF(LEN(B65)<>0,INT(MAX(A$8:A64))+1,0)","v":44},"Distribution","D03",{"$f":"SUM(E65:M65)-I65","v":5512206.5902733272},null,null,null,null,{"$f":"SUM(F65:H65)","v":0},null,5512206.5902733272]
[]
[{"$f":"IF(LEN(B67)<>0,INT(MAX(A$8:A66))+1,0)","v":45},"Total",{"$f":"+\"SNBV\"&MID(C61,5,LEN(C61)-4)+1","v":"SNBV7"},{"$f":"SUM(D64:D66)","v":5512206.5902733272},0,null,0,0,{"$f":"SUM(F67:H67)","v":0},0,5512206.5902733272,null,0,{"$f":"+\"To Sch 2.3A, L.\"&IslIntCos!$D$98","v":"To Sch 2.3A, L.24"}]
[]
[{"$f":"IF(LEN(B69)<>0,INT(MAX(A$8:A68))+1,0)","v":46},"NBV:  Specifcally Assigned Telecontrol (Details):"]
[{"$f":"IF(LEN(B70)<>0,INT(MAX(A$8:A69))+1,0)","v":47},"Vale","G11",{"$f":"SUM(E70:M70)-I70","v":0},null,null,null,null,{"$f":"SUM(F70:H70)","v":0},null,null,null,0]
[{"$f":"IF(LEN(B71)<>0,INT(MAX(A$8:A70))+1,0)","v":48},"Customer-Related","G12",{"$f":"SUM(E71:M71)-I71","v":0},null,null,null,null,{"$f":"SUM(F71:H71)","v":0},null,null,0]
[{"$f":"IF(LEN(B72)<>0,INT(MAX(A$8:A71))+1,0)","v":49},"Total",{"$f":"+\"SNBV\"&MID(C67,5,LEN(C67)-4)+1","v":"SNBV8"},{"$f":"SUM(D70:D71)","v":0},{"$f":"SUM(E70:E71)","v":0},null,{"$f":"SUM(G70:G71)","v":0},{"$f":"SUM(H70:H71)","v":0},{"$f":"SUM(F72:H72)","v":0},{"$f":"SUM(J70:J71)","v":0},{"$f":"SUM(K70:K71)","v":0},{"$f":"SUM(L70:L71)","v":0},{"$f":"SUM(M70:M71)","v":0},{"$f":"+\"To Sch 2.3A, L.\"&IslIntCos!$D$112","v":"To Sch 2.3A, L.38"}]
[]
[{"$f":"MAX(A71:A73)+NoOne","v":50},"NBV:  Feasibility Studies (Details):"]
[{"$f":"MAX(A72:A74)+NoOne","v":51},"Production","G02",{"$f":"SUM(E75:M75)-I75","v":9794.4654045000498},9794.4654045000498,null,null,null,{"$f":"SUM(F75:H75)","v":0}]
[{"$f":"MAX(A73:A75)+NoOne","v":52},"Transmission","G03",{"$f":"SUM(E76:M76)-I76","v":0},null,null,0,null,{"$f":"SUM(F76:H76)","v":0}]
[{"$f":"MAX(A74:A76)+NoOne","v":53},"Distribution","G01",{"$f":"SUM(E77:M77)-I77","v":9.4495000000000013E-3},null,null,null,null,{"$f":"SUM(F77:H77)","v":0},null,9.4495000000000013E-3]
[]
[{"$f":"IF(LEN(B79)<>0,INT(MAX(A$8:A78))+1,0)","v":54},"Total",{"$f":"+\"SNBV\"&MID(C72,5,LEN(C72)-4)+1","v":"SNBV9"},{"$f":"SUM(D75:D78)","v":9794.4748540000492},{"$f":"SUM(E75:E78)","v":9794.4654045000498},null,{"$f":"SUM(G75:G78)","v":0},{"$f":"SUM(H75:H78)","v":0},{"$f":"SUM(F79:H79)","v":0},null,{"$f":"SUM(K75:K78)","v":9.4495000000000013E-3},null,{"$f":"SUM(M75:M78)","v":0},{"$f":"+\"To Sch 2.3A, L.\"&IslIntCos!$D$113","v":"To Sch 2.3A, L.39"}]
[]
[null,"ISLAND ISOLATED:"]
[{"$f":"MAX(A79:A81)+NoOne","v":55},"NBV:  Distribution Substations (Details):"]
[{"$f":"MAX(A80:A82)+NoOne","v":56},"Production","D04",{"$f":"SUM(E83:M83)-I83","v":92667.852434500004},92667.852434500004,null,null,null,{"$f":"SUM(F83:H83)","v":0}]
[{"$f":"MAX(A81:A83)+NoOne","v":57},"Distribution","D03",{"$f":"SUM(E84:M84)-I84","v":27976.577227000002},null,null,null,null,{"$f":"SUM(F84:H84)","v":0},null,27976.577227000002]
[]
[{"$f":"IF(LEN(B86)<>0,INT(MAX(A$8:A85))+1,0)","v":58},"Total",{"$f":"+\"SNBV\"&MID(C79,5,LEN(C79)-4)+1","v":"SNBV10"},{"$f":"SUM(D83:D85)","v":120644.42966150001},{"$f":"SUM(E83:E85)","v":92667.852434500004},null,{"$f":"SUM(G83:G85)","v":0},{"$f":"SUM(H83:H85)","v":0},{"$f":"SUM(F86:H86)","v":0},null,{"$f":"SUM(K83:K85)","v":27976.577227000002},null,{"$f":"SUM(M83:M85)","v":0},{"$f":"+\"To Sch 2.3B, L.\"&IslIsoCos!D76","v":"To Sch 2.3B, L.6"}]
[]
[{"$f":"MAX(A85:A87)+NoOne","v":59},"NBV:  Feasibility Studies (Details):"]
[{"$f":"MAX(A86:A88)+NoOne","v":60},"Production","G02",{"$f":"SUM(E89:M89)-I89","v":0},0,null,null,null,{"$f":"SUM(F89:H89)","v":0}]
[{"$f":"MAX(A87:A89)+NoOne","v":61},"Transmission","G03",{"$f":"SUM(E90:M90)-I90","v":0},null,null,0,null,{"$f":"SUM(F90:H90)","v":0}]
[{"$f":"MAX(A88:A90)+NoOne","v":62},"Distribution","G01",{"$f":"SUM(E91:M91)-I91","v":0},null,null,null,null,{"$f":"SUM(F91:H91)","v":0},null,0]
[]
[{"$f":"IF(LEN(B93)<>0,INT(MAX(A$8:A92))+1,0)","v":63},"Total",{"$f":"+\"SNBV\"&MID(C86,5,LEN(C86)-4)+1","v":"SNBV11"},{"$f":"SUM(D89:D92)","v":0},{"$f":"SUM(E89:E92)","v":0},null,{"$f":"SUM(G89:G92)","v":0},{"$f":"SUM(H89:H92)","v":0},{"$f":"SUM(F93:H93)","v":0},null,{"$f":"SUM(K89:K92)","v":0},null,{"$f":"SUM(M89:M92)","v":0},{"$f":"+\"To Sch 2.3B, L.\"&IslIsoCos!D92","v":"To Sch 2.3B, L.20"}]
[]
[null,"LABRADOR ISOLATED:"]
[{"$f":"MAX(A93:A95)+NoOne","v":64},"NBV:  Distribution Substations (Details):"]
[{"$f":"MAX(A94:A96)+NoOne","v":65},"Production","D04",{"$f":"SUM(E97:M97)-I97","v":825187.50151300034},825187.50151300034,null,null,null,{"$f":"SUM(F97:H97)","v":0}]
[{"$f":"MAX(A95:A97)+NoOne","v":66},"Distribution","D03",{"$f":"SUM(E98:M98)-I98","v":822992.97115150001},null,null,null,null,{"$f":"SUM(F98:H98)","v":0},null,822992.97115150001]
[]
[{"$f":"IF(LEN(B100)<>0,INT(MAX(A$8:A99))+1,0)","v":67},"Total",{"$f":"+\"SNBV\"&MID(C93,5,LEN(C93)-4)+1","v":"SNBV12"},{"$f":"SUM(D97:D99)","v":1648180.4726645004},{"$f":"SUM(E97:E99)","v":825187.50151300034},null,{"$f":"SUM(G97:G99)","v":0},{"$f":"SUM(H97:H99)","v":0},{"$f":"SUM(F100:H100)","v":0},null,{"$f":"SUM(K97:K99)","v":822992.97115150001},null,{"$f":"SUM(M97:M99)","v":0},{"$f":"+\"To Sch 2.3C, L.\"&LabIsoCos!$D$76","v":"To Sch 2.3C, L.6"}]
[]
[{"$f":"MAX(A99:A101)+NoOne","v":68},"NBV:  Feasibility Studies (Details):"]
[{"$f":"MAX(A100:A102)+NoOne","v":69},"Production","G02",{"$f":"SUM(E103:M103)-I103","v":0},0,null,null,null,{"$f":"SUM(F103:H103)","v":0}]
[{"$f":"MAX(A101:A103)+NoOne","v":70},"Transmission","G03",{"$f":"SUM(E104:M104)-I104","v":0},null,null,0,null,{"$f":"SUM(F104:H104)","v":0}]
[{"$f":"MAX(A102:A104)+NoOne","v":71},"Distribution","G01",{"$f":"SUM(E105:M105)-I105","v":0},null,null,null,null,{"$f":"SUM(F105:H105)","v":0},null,0]
[]
[{"$f":"IF(LEN(B107)<>0,INT(MAX(A$8:A106))+1,0)","v":72},"Total",{"$f":"+\"SNBV\"&MID(C100,5,LEN(C100)-4)+1","v":"SNBV13"},{"$f":"SUM(D103:D106)","v":0},{"$f":"SUM(E103:E106)","v":0},null,{"$f":"SUM(G103:G106)","v":0},{"$f":"SUM(H103:H106)","v":0},{"$f":"SUM(F107:H107)","v":0},null,{"$f":"SUM(K103:K106)","v":0},null,{"$f":"SUM(M103:M106)","v":0},{"$f":"+\"To Sch 2.3C, L.\"&LabIsoCos!$D$92","v":"To Sch 2.3C, L.20"}]
[]
[null,"L'ANSE AU LOUP"]
[{"$f":"IF(LEN(B110)<>0,INT(MAX(A$8:A109))+1,0)","v":73},"NBV:  Distribution Substations (Details):"]
[{"$f":"IF(LEN(B111)<>0,INT(MAX(A$8:A110))+1,0)","v":74},"Production","D04",{"$f":"SUM(E111:M111)-I111","v":11825.234311500006},11825.234311500006,null,null,null,{"$f":"SUM(F111:H111)","v":0}]
[{"$f":"IF(LEN(B112)<>0,INT(MAX(A$8:A111))+1,0)","v":75},"Distribution","D03",{"$f":"SUM(E112:M112)-I112","v":1835819.4654415001},null,null,null,null,{"$f":"SUM(F112:H112)","v":0},null,1835819.4654415001]
[]
[{"$f":"IF(LEN(B114)<>0,INT(MAX(A$8:A113))+1,0)","v":76},"Total",{"$f":"+\"SNBV\"&MID(C107,5,LEN(C107)-4)+1","v":"SNBV14"},{"$f":"SUM(D111:D113)","v":1847644.6997530002},{"$f":"SUM(E111:E113)","v":11825.234311500006},null,{"$f":"SUM(G111:G113)","v":0},{"$f":"SUM(H111:H113)","v":0},{"$f":"SUM(F114:H114)","v":0},null,{"$f":"SUM(K111:K113)","v":1835819.4654415001},null,{"$f":"SUM(M111:M113)","v":0},{"$f":"+\"To Sch 2.3D, L.\"&LALCos!$D$76","v":"To Sch 2.3D, L.6"}]
[]
[{"$f":"IF(LEN(B116)<>0,INT(MAX(A$8:A115))+1,0)","v":77},"NBV:  Feasibility Studies (Details):"]
[{"$f":"IF(LEN(B117)<>0,INT(MAX(A$8:A116))+1,0)","v":78},"Production","G02",{"$f":"SUM(E117:M117)-I117","v":0},0,null,null,null,{"$f":"SUM(F117:H117)","v":0}]
[{"$f":"IF(LEN(B118)<>0,INT(MAX(A$8:A117))+1,0)","v":79},"Transmission","G03",{"$f":"SUM(E118:M118)-I118","v":0},null,null,0,null,{"$f":"SUM(F118:H118)","v":0}]
[{"$f":"IF(LEN(B119)<>0,INT(MAX(A$8:A118))+1,0)","v":80},"Distribution","G01",{"$f":"SUM(E119:M119)-I119","v":0},null,null,null,null,{"$f":"SUM(F119:H119)","v":0},null,0]
[]
[{"$f":"IF(LEN(B121)<>0,INT(MAX(A$8:A120))+1,0)","v":81},"Total",{"$f":"+\"SNBV\"&MID(C114,5,LEN(C114)-4)+1","v":"SNBV15"},{"$f":"SUM(D117:D120)","v":0},{"$f":"SUM(E117:E120)","v":0},null,{"$f":"SUM(G117:G120)","v":0},{"$f":"SUM(H117:H120)","v":0},{"$f":"SUM(F121:H121)","v":0},null,{"$f":"SUM(K117:K120)","v":0},null,{"$f":"SUM(M117:M120)","v":0},{"$f":"+\"To Sch 2.3D, L.\"&LALCos!$D$92","v":"To Sch 2.3D, L.20"}]
[]
[{"$f":"IF(LEN(B123)<>0,INT(MAX(A$8:A122))+1,0)","v":82},"LABRADOR INTERCONNECTED:"]
[{"$f":"IF(LEN(B124)<>0,INT(MAX(A$8:A123))+1,0)","v":83},"NBV:  Transmission Lines (Details):"]
[{"$f":"IF(LEN(B125)<>0,INT(MAX(A$8:A124))+1,0)","v":84},"Transmission","T01",{"$f":"SUM(E125:M125)-I125","v":6464829.2175011663},null,null,6464829.2175011663,null,{"$f":"SUM(F125:H125)","v":6464829.2175011663}]
[{"$f":"IF(LEN(B126)<>0,INT(MAX(A$8:A125))+1,0)","v":85},"Transmission Export","T03",{"$f":"SUM(E126:M126)-I126","v":24049222.467042763},null,null,24049222.467042763,null,{"$f":"SUM(F126:H126)","v":24049222.467042763}]
[{"$f":"IF(LEN(B127)<>0,INT(MAX(A$8:A125))+1,0)","v":85},"Rural Subtransmission","T10",{"$f":"SUM(E127:M127)-I127","v":2076929.3408457986},null,null,2076929.3408457986,null,{"$f":"SUM(F127:H127)","v":2076929.3408457986}]
[{"$f":"IF(LEN(B128)<>0,INT(MAX(A$8:A125))+1,0)","v":85},"Distribution","T09",{"$f":"SUM(E128:M128)-I128","v":0},null,null,null,null,{"$f":"SUM(F128:H128)","v":0},null,0]
[]
[{"$f":"IF(LEN(B130)<>0,INT(MAX(A$8:A129))+1,0)","v":86},"Specifically Assigned:"]
[{"$f":"IF(LEN(B131)<>0,INT(MAX(A$8:A130))+1,0)","v":87},"CFB - Goose Bay","T04",{"$f":"SUM(E131:M131)-I131","v":0},null,null,null,null,{"$f":"SUM(F131:H131)","v":0},null,null,null,0]
[{"$f":"IF(LEN(B132)<>0,INT(MAX(A$8:A131))+1,0)","v":88},"MFP Construction","XC",{"$f":"SUM(E132:M132)-I132","v":0},null,null,null,null,{"$f":"SUM(F132:H132)","v":0},null,null,null,0]
[]
[{"$f":"IF(LEN(B134)<>0,INT(MAX(A$8:A133))+1,0)","v":89},"Total",{"$f":"+\"SNBV\"&MID(C121,5,LEN(C121)-4)+1","v":"SNBV16"},{"$f":"SUM(D125:D133)","v":32590981.025389727},{"$f":"SUM(E125:E133)","v":0},null,{"$f":"SUM(G125:G133)","v":32590981.025389727},{"$f":"SUM(H125:H133)","v":0},{"$f":"SUM(F134:H134)","v":32590981.025389727},{"$f":"SUM(J125:J133)","v":0},{"$f":"SUM(K125:K133)","v":0},null,{"$f":"SUM(M125:M133)","v":0},{"$f":"+\"To Sch 2.3E, L.\"&LabIntCos!$D$74","v":"To Sch 2.3E, L.4"}]
[]
[{"$f":"IF(LEN(B136)<>0,INT(MAX(A$8:A135))+1,0)","v":90},"NBV:  Terminal Stations (Details):"]
[{"$f":"IF(LEN(B137)<>0,INT(MAX(A$8:A136))+1,0)","v":91},"Transmission","T11",{"$f":"SUM(E137:M137)-I137","v":17820860.672493696},null,null,17820860.672493696,null,{"$f":"SUM(F137:H137)","v":17820860.672493696}]
[{"$f":"IF(LEN(B138)<>0,INT(MAX(A$8:A137))+1,0)","v":92},"TS Subtransmission","T26",{"$f":"SUM(E138:M138)-I138","v":3692129.0191124994},null,null,3692129.0191124994,null,{"$f":"SUM(F138:H138)","v":3692129.0191124994}]
[{"$f":"IF(LEN(B139)<>0,INT(MAX(A$8:A138))+1,0)","v":93},"Distribution","T18",{"$f":"SUM(E139:M139)-I139","v":12854838.690631978},null,null,null,null,{"$f":"SUM(F139:H139)","v":0},null,12854838.690631978]
[{"$f":"IF(LEN(B140)<>0,INT(MAX(A$8:A139))+1,0)","v":94},"Production","T23",{"$f":"SUM(E140:M140)-I140","v":0},null,null,0,null,{"$f":"SUM(F140:H140)","v":0}]
[]
[{"$f":"IF(LEN(B142)<>0,INT(MAX(A$8:A141))+1,0)","v":95},"Specifically Assigned:"]
[{"$f":"IF(LEN(B143)<>0,INT(MAX(A$8:A142))+1,0)","v":96},"CFB - Goose Bay","T17",{"$f":"SUM(E143:M143)-I143","v":0},null,null,null,null,null,null,null,null,0]
[{"$f":"IF(LEN(B144)<>0,INT(MAX(A$8:A143))+1,0)","v":97},"MFP Construction","XC",{"$f":"SUM(E144:M144)-I144","v":0},null,null,null,null,null,null,null,null,0]
[]
[{"$f":"IF(LEN(B146)<>0,INT(MAX(A$8:A145))+1,0)","v":98},"Total",{"$f":"+\"SNBV\"&MID(C134,5,LEN(C134)-4)+1","v":"SNBV17"},{"$f":"SUM(D137:D145)","v":34367828.382238172},{"$f":"SUM(E137:E145)","v":0},null,{"$f":"SUM(G137:G145)","v":21512989.691606194},{"$f":"SUM(H137:H145)","v":0},{"$f":"SUM(F146:H146)","v":21512989.691606194},null,{"$f":"SUM(K137:K145)","v":12854838.690631978},null,{"$f":"SUM(M137:M145)","v":0},{"$f":"+\"To Sch 2.3E, L.\"&LabIntCos!$D$75","v":"To Sch 2.3E, L.5"}]
[]
[{"$f":"IF(LEN(B148)<>0,INT(MAX(A$8:A147))+1,0)","v":99},"NBV:  Distribution Substations (Details):"]
[{"$f":"IF(LEN(B149)<>0,INT(MAX(A$8:A148))+1,0)","v":100},"Production","D04",{"$f":"SUM(E149:M149)-I149","v":0},0,null,null,null,{"$f":"SUM(F149:H149)","v":0}]
[{"$f":"IF(LEN(B150)<>0,INT(MAX(A$8:A149))+1,0)","v":101},"Distribution","D03",{"$f":"SUM(E150:M150)-I150","v":4332146.1730303233},null,null,null,null,{"$f":"SUM(F150:H150)","v":0},null,4332146.1730303233]
[]
[{"$f":"IF(LEN(B152)<>0,INT(MAX(A$8:A151))+1,0)","v":102},"Total",{"$f":"+\"SNBV\"&MID(C146,5,LEN(C146)-4)+1","v":"SNBV18"},{"$f":"SUM(D149:D151)","v":4332146.1730303233},{"$f":"SUM(E149:E151)","v":0},null,{"$f":"SUM(G149:G151)","v":0},{"$f":"SUM(H149:H151)","v":0},{"$f":"SUM(F152:H152)","v":0},null,{"$f":"SUM(K149:K151)","v":4332146.1730303233},null,{"$f":"SUM(M149:M151)","v":0},{"$f":"+\"To Sch 2.3E, L.\"&LabIntCos!$D$79","v":"To Sch 2.3E, L.7"}]
[]
[{"$f":"IF(LEN(B154)<>0,INT(MAX(A$8:A153))+1,0)","v":103},"NBV:  Feasibility Studies (Details):"]
[{"$f":"IF(LEN(B155)<>0,INT(MAX(A$8:A154))+1,0)","v":104},"Production","G02",{"$f":"SUM(E155:M155)-I155","v":0},0,null,null,null,{"$f":"SUM(F155:H155)","v":0}]
[{"$f":"IF(LEN(B156)<>0,INT(MAX(A$8:A155))+1,0)","v":105},"Transmission","G03",{"$f":"SUM(E156:M156)-I156","v":0},null,null,0,null,{"$f":"SUM(F156:H156)","v":0}]
[{"$f":"IF(LEN(B157)<>0,INT(MAX(A$8:A156))+1,0)","v":106},"Distribution","G01",{"$f":"SUM(E157:M157)-I157","v":-2191.466175},null,null,null,null,{"$f":"SUM(F157:H157)","v":0},null,-2191.466175]
[]
[{"$f":"IF(LEN(B159)<>0,INT(MAX(A$8:A158))+1,0)","v":107},"Total",{"$f":"+\"SNBV\"&MID(C152,5,LEN(C152)-4)+1","v":"SNBV19"},{"$f":"SUM(D155:D158)","v":-2191.466175},{"$f":"SUM(E155:E158)","v":0},null,{"$f":"SUM(G155:G158)","v":0},{"$f":"SUM(H155:H158)","v":0},{"$f":"SUM(F159:H159)","v":0},null,{"$f":"SUM(K155:K158)","v":-2191.466175},null,{"$f":"SUM(M155:M158)","v":0},{"$f":"+\"To Sch 2.3E, L.\"&LabIntCos!$D$95","v":"To Sch 2.3E, L.21"}]

{"sheet":"SpecAssFuel","index":39,"n_rows":23,"n_cols":6,"rows_kept":23,"cut":false,"hidden":false,"merged":[]}
[null,null,null,null,null,"Not an Assigned Schedule"]
[null,null,null,null,null,"Page 1 of 1"]
[]
[]
["NEWFOUNDLAND AND LABRADOR HYDRO"]
[{"$f":"RunName","v":"2019 Test Year Cost of Service Study"}]
["Schedule of Specifically Assigned Fuel"]
[]
[null,{"$f":"MAX(A9)+NoOne","v":1},{"$f":"MAX(B9)+NoOne","v":2},{"$f":"MAX(C9)+NoOne","v":3},{"$f":"MAX(D9)+NoOne","v":4}]
[null,null,null,"Emergency"]
["Line ",null,"Emergency","Gas"]
["No","  Customer","Bunker C","Turbines","Total"]
[null,null,"($)","($)","($)"]
[]
[{"$f":"MAX(A12:A14)+NoOne","v":1},"Newfoundland Light & Power",null,null,{"$f":"SUM(C15:D15)","v":0}]
[]
[{"$f":"MAX(A14:A16)+NoOne","v":2},"Vale",0,null,{"$f":"SUM(C17:D17)","v":0}]
[3,"Abitibi Price - Grand Falls",0,0,0]
[4,"Corner Brook P& P  - CB",0,0,0]
[5,"Corner Brook P& P  - DL",0,0,0]
[6,"North Atlantic Refining Ltd.",null,null,0]
[7,"  Subtotal Industrial",{"$f":"SUM(C17:C21)","v":0},{"$f":"SUM(D17:D21)","v":0},0]
[8,"TOTAL ISLAND INTERCONNECTED",{"$f":"SUM(C22,C15)","v":0},{"$f":"SUM(D22,D15)","v":0},{"$f":"SUM(E22,E15)","v":0}]

{"sheet":"SPLTDetails","index":40,"n_rows":166,"n_cols":28,"rows_kept":166,"cut":false,"hidden":false,"merged":[]}
[]
["NEWFOUNDLAND AND LABRADOR HYDRO",null,null,null,null,null,null,null,null,null,null,null,null,"BkpSPLT",null,"NEWFOUNDLAND AND LABRADOR HYDRO",null,null,null,null,null,null,null,null,null,null,null,"BkpSPLT"]
[{"$f":"RunName","v":"2019 Test Year Cost of Service Study"},null,null,null,null,null,null,null,null,null,null,null,null,null,null,{"$f":"RunName","v":"2019 Test Year Cost of Service Study"}]
["Supplemental Plant Details",null,null,null,null,null,null,null,null,null,null,null,null,null,null,"Supplemental Plant Details - Indexed Plant"]
[null,{"$f":"MAX(A5)+NoOne","v":1},2,3,4,5,6,{"$f":"MAX(G5)+NoOne","v":7},8,9,10,11,12,13,null,null,{"$f":"MAX(P5)+NoOne","v":1},2,3,4,5,6,7,8,9,10,11,12]
["Line ",null,null,null,null,"Transmission","Transmission","Ancillary","Total","Rural Productn &",null,"Customer-","Specifically",null,null,"Line ",null,null,null,null,"Transmission","Transmission","Total","Rural Productn &",null,"Customer-","Specifically"]
["No","Description","Ref.","Total","Generation","Export","Network","Services","Transmission","Subtransmission","Distribution","Related","Assigned","Notes",null,"No","Description","Ref.","Total","Generation","Export","Network","Transmission","Subtransmission","Distribution","Related","Assigned","Notes"]
[]
[{"$f":"IF(LEN(B9)<>0,INT(MAX(A$8:A8))+1,0)","v":1},"ISLAND INTERCONNECTED:",null,null,null,null,null,null,null,null,null,null,null,null,null,{"$f":"IF(LEN(Q9)<>0,INT(MAX(P$8:P8))+1,0)","v":1},"ISLAND INTERCONNECTED:"]
[{"$f":"IF(LEN(B10)<>0,INT(MAX(A$8:A9))+1,0)","v":2},"Plant:  Holyrood (Details):",null,null,null,null,null,null,null,null,null,null,null,null,null,{"$f":"IF(LEN(Q10)<>0,INT(MAX(P$8:P9))+1,0)","v":2},"Plant:  Holyrood (Details):"]
[{"$f":"IF(LEN(B11)<>0,INT(MAX(A$8:A10))+1,0)","v":3},"Holyrood","P06",{"$f":"SUM(E11:M11)-I11","v":318170579.01000017},318170579.01000017,null,null,null,{"$f":"SUM(F11:H11)","v":0},null,null,null,null,null,null,{"$f":"IF(LEN(Q11)<>0,INT(MAX(P$8:P10))+1,0)","v":3},"Holyrood",{"$f":"$C11","v":"P06"},{"$f":"SUM(T11:AA11)-W11","v":1144870403.6162236},1144870403.6162236]
[{"$f":"IF(LEN(B12)<>0,INT(MAX(A$8:A11))+1,0)","v":4},"Holyrood Ancillary","P06.1",{"$f":"SUM(F12:M12)-I12","v":4000643.6599999997},null,null,null,4000643.6599999997,{"$f":"SUM(F12:H12)","v":4000643.6599999997}]
[{"$f":"IF(LEN(B13)<>0,INT(MAX(A$8:A12))+1,0)","v":5},"Total","SPLT1",{"$f":"SUM(D11:D12)","v":322171222.6700002},318170579.01000017,null,0,4000643.6599999997,4000643.6599999997,0,0,null,0,{"$f":"+\"To Sch 2.2A, L.\"&IslIntCos!$D$23","v":"To Sch 2.2A, L.9"},null,{"$f":"IF(LEN(Q13)<>0,INT(MAX(P$8:P12))+1,0)","v":4},"Total","SPLT1",{"$f":"SUM(S11:S12)","v":1144870403.6162236},{"$f":"SUM(T11:T12)","v":1144870403.6162236},null,{"$f":"SUM(V11:V12)","v":0},{"$f":"SUM(U13:V13)","v":0},{"$f":"SUM(X11:X12)","v":0},{"$f":"SUM(Y11:Y12)","v":0},null,{"$f":"SUM(AA11:AA12)","v":0},{"$f":"+\"To Sch 2.2A, L.\"&IslIntCos!$D$23","v":"To Sch 2.2A, L.9"}]
[]
[{"$f":"IF(LEN(B15)<>0,INT(MAX(A$8:A14))+1,0)","v":6},"Plant:  Diesel (Details):",null,null,null,null,null,null,null,null,null,null,null,null,null,{"$f":"IF(LEN(Q15)<>0,INT(MAX(P$8:P14))+1,0)","v":5},"Plant:  Diesel (Details):"]
[{"$f":"IF(LEN(B16)<>0,INT(MAX(A$8:A15))+1,0)","v":7},"Diesel GNP","P03",{"$f":"SUM(E16:M16)-I16","v":9249661.1099999975},9249661.1099999975,null,null,null,null,null,null,null,null,null,null,{"$f":"IF(LEN(Q16)<>0,INT(MAX(P$8:P15))+1,0)","v":6},"Diesel GNP",{"$f":"$C16","v":"P03"},{"$f":"SUM(T16:AA16)-W16","v":39123345.502399504},39123345.502399504]
[]
[{"$f":"IF(LEN(B18)<>0,INT(MAX(A$8:A17))+1,0)","v":8},"Total",{"$f":"+\"SPLT\"&MID(C13,5,LEN(C13)-4)+1","v":"SPLT2"},{"$f":"SUM(D16:D17)","v":9249661.1099999975},9249661.1099999975,null,0,0,{"$f":"SUM(F18:G18)","v":0},0,0,null,0,{"$f":"+\"To Sch 2.2A, L.\"&IslIntCos!$D$28","v":"To Sch 2.2A, L.14"},null,{"$f":"IF(LEN(Q18)<>0,INT(MAX(P$8:P17))+1,0)","v":7},"Total",{"$f":"+\"SPLT\"&MID(R13,5,LEN(R13)-4)+1","v":"SPLT2"},{"$f":"SUM(S16:S17)","v":39123345.502399504},{"$f":"SUM(T16:T17)","v":39123345.502399504},null,{"$f":"SUM(V16:V17)","v":0},{"$f":"SUM(U18:V18)","v":0},{"$f":"SUM(X16:X17)","v":0},{"$f":"SUM(Y16:Y17)","v":0},null,{"$f":"SUM(AA16:AA17)","v":0},{"$f":"+\"To Sch 2.2A, L.\"&IslIntCos!$D$28","v":"To Sch 2.2A, L.14"}]
[]
[{"$f":"IF(LEN(B20)<>0,INT(MAX(A$8:A19))+1,0)","v":9},"Plant:  Transmission Lines (Details):",null,null,null,null,null,null,null,null,null,null,null,null,null,{"$f":"IF(LEN(Q20)<>0,INT(MAX(P$8:P19))+1,0)","v":8},"Plant:  Transmission Lines (Details):"]
[{"$f":"IF(LEN(B21)<>0,INT(MAX(A$8:A20))+1,0)","v":10},"Transmission Network","T01",{"$f":"SUM(E21:M21)-I21","v":38381282.480000012},null,null,38381282.480000012,null,{"$f":"SUM(F21:H21)","v":38381282.480000012},null,null,null,null,null,null,{"$f":"IF(LEN(Q21)<>0,INT(MAX(P$8:P20))+1,0)","v":9},"Transmission Network",{"$f":"$C21","v":"T01"},{"$f":"SUM(T21:AA21)-W21","v":95455414.151901081},null,null,95455414.151901081,{"$f":"SUM(U21:V21)","v":95455414.151901081}]
[{"$f":"IF(LEN(B22)<>0,INT(MAX(A$8:A21))+1,0)","v":11},"Transmission Export","T03",435470929.27000028,null,435470929.27000028,0,null,{"$f":"SUM(F22:H22)","v":435470929.27000028},null,null,null,null,null,null,{"$f":"IF(LEN(Q22)<>0,INT(MAX(P$8:P21))+1,0)","v":10},"Transmission Export","T03",829305679.04777467,null,0,829305679.04777467,{"$f":"SUM(U22:V22)","v":829305679.04777467}]
[{"$f":"IF(LEN(B23)<>0,INT(MAX(A$8:A22))+1,0)","v":12},"Transmission Ancillary","T04",0,null,0,null,0,{"$f":"SUM(F23:H23)","v":0},null,null,null,null,null,null,{"$f":"IF(LEN(Q23)<>0,INT(MAX(P$8:P22))+1,0)","v":11},"Transmission Ancillary","T04",0,null,0,0,{"$f":"SUM(U23:V23)","v":0}]
[{"$f":"IF(LEN(B24)<>0,INT(MAX(A$8:A22))+1,0)","v":12},"Transmission Export Prev Hydraulic","T09",0,0,0,null,null,{"$f":"SUM(F24:G24)","v":0},null,null,null,null,null,null,{"$f":"IF(LEN(Q24)<>0,INT(MAX(P$8:P22))+1,0)","v":11},"Transmission Export Prev Hydraulic","T09",0,0,0,null,{"$f":"SUM(U24:V24)","v":0}]
[{"$f":"IF(LEN(B25)<>0,INT(MAX(A$8:A24))+1,0)","v":13},"Transmission Hydraulic","T08",55881539.999999993,55881539.999999993,null,null,null,{"$f":"SUM(F25:G25)","v":0},null,null,null,null,null,null,{"$f":"IF(LEN(Q25)<>0,INT(MAX(P$8:P24))+1,0)","v":12},"Transmission Hydraulic","T08",156020490.72416028,156020490.72416028,null,null,{"$f":"SUM(U25:V25)","v":0}]
[{"$f":"IF(LEN(B26)<>0,INT(MAX(A$8:A25))+1,0)","v":14},"Rural Subtransmission","T10",103774304.52000016,null,null,null,null,null,103774304.52000016,null,null,null,null,null,{"$f":"IF(LEN(Q26)<>0,INT(MAX(P$8:P25))+1,0)","v":13},"Rural Subtransmission","T10",253495878.25072291,null,null,null,null,253495878.25072291]
[{"$f":"IF(LEN(B27)<>0,INT(MAX(A$8:A26))+1,0)","v":15},"Distribution",null,0,null,null,null,null,null,null,0,null,null,null,null,{"$f":"IF(LEN(Q27)<>0,INT(MAX(P$8:P26))+1,0)","v":14},"Distribution",null,0,null,null,null,null,null,0]
[]
[{"$f":"IF(LEN(B29)<>0,INT(MAX(A$8:A28))+1,0)","v":16},"Specifically Assigned:",null,null,null,null,null,null,null,null,null,null,null,null,null,{"$f":"IF(LEN(Q29)<>0,INT(MAX(P$8:P28))+1,0)","v":15},"Specifically Assigned:"]
[{"$f":"IF(LEN(B30)<>0,INT(MAX(A$8:A29))+1,0)","v":17},"Vale","T02",{"$f":"SUM(E30:M30)-I30","v":6940628.8800000018},null,null,null,null,null,null,null,null,6940628.8800000018,null,null,{"$f":"IF(LEN(Q30)<>0,INT(MAX(P$8:P29))+1,0)","v":16},"Vale",{"$f":"$C30","v":"T02"},{"$f":"SUM(T30:AA30)-W30","v":11413143.24754063},null,null,null,null,null,null,null,11413143.24754063]
[{"$f":"IF(LEN(B31)<>0,INT(MAX(A$8:A30))+1,0)","v":18},"Newfoundland Power","T06",{"$f":"SUM(E31:M31)-I31","v":25451631.510000002},null,null,null,null,null,null,null,null,25451631.510000002,null,null,{"$f":"IF(LEN(Q31)<>0,INT(MAX(P$8:P30))+1,0)","v":17},"Newfoundland Power",{"$f":"$C31","v":"T06"},{"$f":"SUM(T31:AA31)-W31","v":75451166.626309603},null,null,null,null,null,null,null,75451166.626309603]
[{"$f":"IF(LEN(B32)<>0,INT(MAX(A$8:A31))+1,0)","v":19},"NARL","T07",{"$f":"SUM(E32:M32)-I32","v":0},null,null,null,null,null,null,null,null,0,null,null,{"$f":"IF(LEN(Q32)<>0,INT(MAX(P$8:P31))+1,0)","v":18},"NARL",{"$f":"$C32","v":"T07"},{"$f":"SUM(T32:AA32)-W32","v":0},null,null,null,null,null,null,null,0]
[{"$f":"IF(LEN(B33)<>0,INT(MAX(A$8:A32))+1,0)","v":20},"Teck Resources","T05",{"$f":"SUM(E33:M33)-I33","v":4534362.55},null,null,null,null,null,null,null,null,4534362.55,null,null,{"$f":"IF(LEN(Q33)<>0,INT(MAX(P$8:P32))+1,0)","v":19},"Teck Resources",{"$f":"$C33","v":"T05"},{"$f":"SUM(T33:AA33)-W33","v":6648237.1969332835},null,null,null,null,null,null,null,6648237.1969332835]
[]
[{"$f":"IF(LEN(B35)<>0,INT(MAX(A$8:A34))+1,0)","v":21},"Total",{"$f":"+\"SPLT\"&MID(C18,5,LEN(C18)-4)+1","v":"SPLT3"},{"$f":"SUM(D21:D34)","v":670434679.2100004},55881539.999999993,435470929.27000028,38381282.480000012,0,{"$f":"SUM(F35:G35)","v":473852211.7500003},103774304.52000016,0,null,{"$f":"SUM(M21:M34)","v":36926622.940000005},{"$f":"+\"To Sch 2.2A, L.\"&IslIntCos!$D$31","v":"To Sch 2.2A, L.16"},null,{"$f":"IF(LEN(Q35)<>0,INT(MAX(P$8:P34))+1,0)","v":20},"Total",{"$f":"+\"SPLT\"&MID(R18,5,LEN(R18)-4)+1","v":"SPLT3"},{"$f":"SUM(S21:S34)","v":1427790009.2453425},{"$f":"SUM(T21:T34)","v":156020490.72416028},{"$f":"SUM(U21:U34)","v":0},{"$f":"SUM(V21:V34)","v":924761093.1996758},{"$f":"SUM(U35:V35)","v":924761093.1996758},{"$f":"SUM(X21:X34)","v":253495878.25072291},{"$f":"SUM(Y21:Y34)","v":0},null,{"$f":"SUM(AA21:AA34)","v":93512547.070783511},{"$f":"+\"To Sch 2.2A, L.\"&IslIntCos!$D$31","v":"To Sch 2.2A, L.16"}]
[]
[{"$f":"IF(LEN(B37)<>0,INT(MAX(A$8:A36))+1,0)","v":22},"Plant:  Terminal Stations (Details):",null,null,null,null,null,null,null,null,null,null,null,null,null,{"$f":"IF(LEN(Q37)<>0,INT(MAX(P$8:P36))+1,0)","v":21},"Plant:  Terminal Stations (Details):"]
[{"$f":"IF(LEN(B38)<>0,INT(MAX(A$8:A37))+1,0)","v":23},"Terminal Station Network","T11",{"$f":"SUM(E38:M38)-I38","v":162349293.7817502},null,null,162349293.7817502,null,{"$f":"SUM(F38:H38)","v":162349293.7817502},null,null,null,null,null,null,{"$f":"IF(LEN(Q38)<>0,INT(MAX(P$8:P37))+1,0)","v":22},"Transmission Network",{"$f":"$C38","v":"T11"},{"$f":"SUM(T38:AA38)-W38","v":416961642.98748064},null,null,416961642.98748064,{"$f":"SUM(U38:V38)","v":416961642.98748064}]
[{"$f":"IF(LEN(B39)<>0,INT(MAX(A$8:A38))+1,0)","v":24},"Terminal Station Export","T13",{"$f":"SUM(E39:M39)-I39","v":64736612.380000025},null,64736612.380000025,0,null,{"$f":"SUM(F39:H39)","v":64736612.380000025},null,null,null,null,null,null,{"$f":"IF(LEN(Q39)<>0,INT(MAX(P$8:P38))+1,0)","v":23},"Transmission Export",{"$f":"$C39","v":"T13"},{"$f":"SUM(T39:AA39)-W39","v":66961354.489984192},null,0,66961354.489984192,{"$f":"SUM(U39:V39)","v":66961354.489984192}]
[{"$f":"IF(LEN(B40)<>0,INT(MAX(A$8:A39))+1,0)","v":25},"Terminal Station Ancillary","T14",{"$f":"SUM(E40:M40)-I40","v":945443.49000000011},null,0,null,945443.49000000011,{"$f":"SUM(F40:H40)","v":945443.49000000011},null,null,null,null,null,null,{"$f":"IF(LEN(Q40)<>0,INT(MAX(P$8:P39))+1,0)","v":24},"Transmission Ancillary",{"$f":"$C40","v":"T14"},{"$f":"SUM(T40:AA40)-W40","v":4252299.4224054981},null,0,4252299.4224054981,{"$f":"SUM(U40:V40)","v":4252299.4224054981}]
[{"$f":"IF(LEN(B41)<>0,INT(MAX(A$8:A40))+1,0)","v":26},"Rural Subtransmission","T26",{"$f":"SUM(E41:M41)-I41","v":23792646.75600002},null,null,null,null,{"$f":"SUM(F41:H41)","v":0},23792646.75600002,null,null,null,null,null,{"$f":"IF(LEN(Q41)<>0,INT(MAX(P$8:P39))+1,0)","v":24},"Rural Subtransmission",{"$f":"$C41","v":"T26"},{"$f":"SUM(T41:AA41)-W41","v":53041704.253882915},null,null,null,{"$f":"SUM(U41:V41)","v":0},53041704.253882915]
[{"$f":"IF(LEN(B42)<>0,INT(MAX(A$8:A41))+1,0)","v":27},"Production",null,{"$f":"SUM(E42:M42)-I42","v":0},null,null,null,null,{"$f":"SUM(F42:H42)","v":0},null,null,null,null,null,null,{"$f":"IF(LEN(Q42)<>0,INT(MAX(P$8:P41))+1,0)","v":25},"Production",null,{"$f":"SUM(T42:AA42)-W42","v":0},null,null,null,{"$f":"SUM(U42:V42)","v":0}]
[]
[{"$f":"IF(LEN(B44)<>0,INT(MAX(A$8:A43))+1,0)","v":28},"Specifically Assigned:",null,null,null,null,null,null,null,null,null,null,null,null,null,{"$f":"IF(LEN(Q44)<>0,INT(MAX(P$8:P43))+1,0)","v":26},"Specifically Assigned:"]
[{"$f":"IF(LEN(B45)<>0,INT(MAX(A$8:A44))+1,0)","v":29},"Vale","T22",{"$f":"SUM(E45:M45)-I45","v":4249524.0499999989},null,null,null,null,null,null,null,null,4249524.0499999989,null,null,{"$f":"IF(LEN(Q45)<>0,INT(MAX(P$8:P44))+1,0)","v":27},"Vale",{"$f":"$C45","v":"T22"},{"$f":"SUM(T45:AA45)-W45","v":4677548.673425328},null,null,null,null,null,null,null,4677548.673425328]
[{"$f":"IF(LEN(B46)<>0,INT(MAX(A$8:A45))+1,0)","v":30},"Corner Brook Pulp & Paper (Deer Lake)","T16",19788.34,null,null,null,null,null,null,null,null,19788.34,null,null,{"$f":"IF(LEN(Q46)<>0,INT(MAX(P$8:P45))+1,0)","v":28},"Corner Brook Pulp & Paper (Deer Lake)","T16",75526.918783026253,null,null,null,null,null,null,null,75526.918783026253]
[{"$f":"IF(LEN(B47)<>0,INT(MAX(A$8:A46))+1,0)","v":31},"Corner Brook Pulp & Paper","T15",10763452.359999992,null,null,null,null,null,null,null,null,10763452.359999992,null,null,{"$f":"IF(LEN(Q47)<>0,INT(MAX(P$8:P46))+1,0)","v":29},"Corner Brook Pulp & Paper","T15",18032281.138932798,null,null,null,null,null,null,null,18032281.138932798]
[{"$f":"IF(LEN(B48)<>0,INT(MAX(A$8:A47))+1,0)","v":32},"Newfoundland Power","T20",19489650.008149985,null,null,null,null,null,null,null,null,19489650.008149985,null,null,{"$f":"IF(LEN(Q48)<>0,INT(MAX(P$8:P47))+1,0)","v":30},"Newfoundland Power","T20",54896941.593671344,null,null,null,null,null,null,null,54896941.593671344]
[{"$f":"IF(LEN(B49)<>0,INT(MAX(A$8:A48))+1,0)","v":33},"NARL","T21",2230461.0499999998,null,null,null,null,null,null,null,null,2230461.0499999998,null,null,{"$f":"IF(LEN(Q49)<>0,INT(MAX(P$8:P48))+1,0)","v":31},"NARL","T21",7610736.5194723569,null,null,null,null,null,null,null,7610736.5194723569]
[{"$f":"IF(LEN(B50)<>0,INT(MAX(A$8:A49))+1,0)","v":34},"Teck Resources","T19",909952.68,null,null,null,null,null,null,null,null,909952.68,null,null,{"$f":"IF(LEN(Q50)<>0,INT(MAX(P$8:P49))+1,0)","v":32},"Teck Resources","T19",1422638.8316844802,null,null,null,null,null,null,null,1422638.8316844802]
[]
[{"$f":"IF(LEN(B52)<>0,INT(MAX(A$8:A51))+1,0)","v":35},"Total",{"$f":"+\"SPLT\"&MID(C35,5,LEN(C35)-4)+1","v":"SPLT4"},{"$f":"SUM(D38:D51)","v":289486824.89590025},{"$f":"SUM(E38:E51)","v":0},{"$f":"SUM(F38:F51)","v":64736612.380000025},{"$f":"SUM(G38:G51)","v":162349293.7817502},{"$f":"SUM(H38:H51)","v":945443.49000000011},{"$f":"SUM(F52:H52)","v":228031349.65175024},{"$f":"SUM(J38:J51)","v":23792646.75600002},{"$f":"SUM(K38:K51)","v":0},null,{"$f":"SUM(M38:M51)","v":37662828.488149971},{"$f":"+\"To Sch 2.2A, L.\"&IslIntCos!$D$32","v":"To Sch 2.2A, L.17"},null,{"$f":"IF(LEN(Q52)<>0,INT(MAX(P$8:P51))+1,0)","v":33},"Total",{"$f":"+\"SPLT\"&MID(R35,5,LEN(R35)-4)+1","v":"SPLT4"},{"$f":"SUM(S38:S51)","v":627932674.82972264},{"$f":"SUM(T38:T51)","v":0},{"$f":"SUM(U38:U51)","v":0},{"$f":"SUM(V38:V51)","v":488175296.89987034},{"$f":"SUM(U52:V52)","v":488175296.89987034},{"$f":"SUM(X38:X51)","v":53041704.253882915},{"$f":"SUM(Y38:Y51)","v":0},null,{"$f":"SUM(AA38:AA51)","v":86715673.675969347},{"$f":"+\"To Sch 2.2A, L.\"&IslIntCos!$D$32","v":"To Sch 2.2A, L.17"}]
[]
[{"$f":"IF(LEN(B54)<>0,INT(MAX(A$8:A53))+1,0)","v":36},"Plant:  Terminal Stations Production (Details):",null,null,null,null,null,null,null,null,null,null,null,null,null,{"$f":"IF(LEN(Q54)<>0,INT(MAX(P$8:P53))+1,0)","v":34},"Plant:  Terminal Stations Production (Details):"]
[]
[{"$f":"IF(LEN(B56)<>0,INT(MAX(A$8:A55))+1,0)","v":37},"Production Hydraulic","T25",{"$f":"SUM(E56:M56)-I56","v":47364963.839950003},47364963.839950003,null,null,null,null,null,null,null,null,null,null,{"$f":"IF(LEN(Q56)<>0,INT(MAX(P$8:P55))+1,0)","v":35},"Production Hydraulic",{"$f":"$C56","v":"T25"},{"$f":"SUM(T56:AA56)-W56","v":129537669.39153524},129537669.39153524]
[]
[]
[{"$f":"IF(LEN(B59)<>0,INT(MAX(A$8:A58))+1,0)","v":38},"Total",{"$f":"+\"SPLT\"&MID(C52,5,LEN(C52)-4)+1","v":"SPLT5"},{"$f":"SUM(D55:D58)","v":47364963.839950003},47364963.839950003,null,0,0,{"$f":"SUM(F59:G59)","v":0},0,0,null,0,null,null,{"$f":"IF(LEN(Q59)<>0,INT(MAX(P$8:P58))+1,0)","v":36},"Total",{"$f":"+\"SPLT\"&MID(R52,5,LEN(R52)-4)+1","v":"SPLT5"},{"$f":"SUM(S55:S58)","v":129537669.39153524},{"$f":"SUM(T55:T58)","v":129537669.39153524},null,{"$f":"SUM(V55:V58)","v":0},{"$f":"SUM(U59:V59)","v":0},{"$f":"SUM(X55:X58)","v":0},{"$f":"SUM(Y55:Y58)","v":0},null,{"$f":"SUM(AA55:AA58)","v":0}]
[]
[{"$f":"IF(LEN(B61)<>0,INT(MAX(A$8:A60))+1,0)","v":39},"Plant:  Term Stations Gas Tur/Dsl (Details):",null,null,null,null,null,null,null,null,null,null,null,null,null,{"$f":"IF(LEN(Q61)<>0,INT(MAX(P$8:P60))+1,0)","v":37},"Plant:  Term Stations Gas Tur/Dsl (Details):"]
[{"$f":"IF(LEN(B62)<>0,INT(MAX(A$8:A61))+1,0)","v":40},"Term Stations Gas Tur/Dsl","T23",{"$f":"SUM(E62:M62)-I62","v":763575.66999999993},763575.66999999993,null,null,null,null,null,null,null,null,null,null,{"$f":"IF(LEN(Q62)<>0,INT(MAX(P$8:P61))+1,0)","v":38},"Term Stations Gas Tur/Dsl",{"$f":"$C62","v":"T23"},{"$f":"SUM(T62:AA62)-W62","v":772974.6296814481},772974.6296814481]
[]
[]
[{"$f":"IF(LEN(B65)<>0,INT(MAX(A$8:A64))+1,0)","v":41},"Total",{"$f":"+\"SPLT\"&MID(C59,5,LEN(C59)-4)+1","v":"SPLT6"},{"$f":"SUM(D62:D64)","v":763575.66999999993},763575.66999999993,null,0,0,{"$f":"SUM(F65:G65)","v":0},0,0,null,0,null,null,{"$f":"IF(LEN(Q65)<>0,INT(MAX(P$8:P64))+1,0)","v":39},"Total",{"$f":"+\"SPLT\"&MID(R59,5,LEN(R59)-4)+1","v":"SPLT6"},{"$f":"SUM(S62:S64)","v":772974.6296814481},{"$f":"SUM(T62:T64)","v":772974.6296814481},null,{"$f":"SUM(V62:V64)","v":0},{"$f":"SUM(U65:V65)","v":0},{"$f":"SUM(X62:X64)","v":0},{"$f":"SUM(Y62:Y64)","v":0},null,{"$f":"SUM(AA62:AA64)","v":0}]
[]
[{"$f":"IF(LEN(B67)<>0,INT(MAX(A$8:A66))+1,0)","v":42},"Plant:  Distribution Substations (Details):",null,null,null,null,null,null,null,null,null,null,null,null,null,{"$f":"IF(LEN(Q67)<>0,INT(MAX(P$8:P66))+1,0)","v":40},"Plant:  Distribution Substations (Details):"]
[{"$f":"IF(LEN(B68)<>0,INT(MAX(A$8:A67))+1,0)","v":43},"Production","D04",{"$f":"SUM(E68:M68)-I68","v":0},0,null,null,null,null,null,null,null,null,null,null,{"$f":"IF(LEN(Q68)<>0,INT(MAX(P$8:P67))+1,0)","v":41},"Production",{"$f":"$C68","v":"D04"},{"$f":"SUM(T68:AA68)-W68","v":0},0]
[{"$f":"IF(LEN(B69)<>0,INT(MAX(A$8:A68))+1,0)","v":44},"Distribution","D03",{"$f":"SUM(E69:M69)-I69","v":11859169.179999996},null,null,null,null,null,null,11859169.179999996,null,null,null,null,{"$f":"IF(LEN(Q69)<>0,INT(MAX(P$8:P68))+1,0)","v":42},"Distribution",{"$f":"$C69","v":"D03"},{"$f":"SUM(T69:AA69)-W69","v":26863167.681740042},null,null,null,null,null,26863167.681740042]
[]
[{"$f":"IF(LEN(B71)<>0,INT(MAX(A$8:A70))+1,0)","v":45},"Total",{"$f":"+\"SPLT\"&MID(C65,5,LEN(C65)-4)+1","v":"SPLT7"},{"$f":"SUM(D68:D70)","v":11859169.179999996},0,null,0,0,{"$f":"SUM(F71:G71)","v":0},0,11859169.179999996,null,0,{"$f":"+\"To Sch 2.2A, L.\"&IslIntCos!$D$40","v":"To Sch 2.2A, L.24"},null,{"$f":"IF(LEN(Q71)<>0,INT(MAX(P$8:P70))+1,0)","v":43},"Total",{"$f":"+\"SPLT\"&MID(R65,5,LEN(R65)-4)+1","v":"SPLT7"},{"$f":"SUM(S68:S70)","v":26863167.681740042},{"$f":"SUM(T68:T70)","v":0},null,{"$f":"SUM(V68:V70)","v":0},{"$f":"SUM(U71:V71)","v":0},{"$f":"SUM(X68:X70)","v":0},{"$f":"SUM(Y68:Y70)","v":26863167.681740042},null,{"$f":"SUM(AA68:AA70)","v":0},{"$f":"+\"To Sch 2.2A, L.\"&IslIntCos!$D$40","v":"To Sch 2.2A, L.24"}]
[]
[{"$f":"IF(LEN(B73)<>0,INT(MAX(A$8:A72))+1,0)","v":46},"Plant:  Specifcally Assigned Telecontrol (Details):",null,null,null,null,null,null,null,null,null,null,null,null,null,{"$f":"IF(LEN(Q73)<>0,INT(MAX(P$8:P72))+1,0)","v":44},"Plant:  Specifcally Assigned Telecontrol (Details):"]
[{"$f":"IF(LEN(B74)<>0,INT(MAX(A$8:A73))+1,0)","v":47},"Vale","G11",{"$f":"SUM(E74:M74)-I74","v":0},null,null,null,null,null,null,null,null,0,null,null,{"$f":"IF(LEN(Q74)<>0,INT(MAX(P$8:P73))+1,0)","v":45},"Vale",{"$f":"$C74","v":"G11"},{"$f":"SUM(T74:AA74)-W74","v":0},null,null,null,null,null,null,null,0]
[{"$f":"IF(LEN(B75)<>0,INT(MAX(A$8:A74))+1,0)","v":48},"Customer-Related","G12",{"$f":"SUM(E75:M75)-I75","v":0},null,null,null,null,null,null,null,0,null,null,null,{"$f":"IF(LEN(Q75)<>0,INT(MAX(P$8:P74))+1,0)","v":46},"Customer-Related",{"$f":"$C75","v":"G12"},{"$f":"SUM(T75:AA75)-W75","v":0},null,null,null,null,null,null,0]
[{"$f":"IF(LEN(B76)<>0,INT(MAX(A$8:A75))+1,0)","v":49},"Total",{"$f":"+\"SPLT\"&MID(C71,5,LEN(C71)-4)+1","v":"SPLT8"},{"$f":"SUM(D74:D75)","v":0},{"$f":"SUM(E74:E75)","v":0},null,{"$f":"SUM(G74:G75)","v":0},{"$f":"SUM(H74:H75)","v":0},{"$f":"SUM(F76:G76)","v":0},{"$f":"SUM(J74:J75)","v":0},{"$f":"SUM(K74:K75)","v":0},{"$f":"SUM(L74:L75)","v":0},{"$f":"SUM(M74:M75)","v":0},{"$f":"+\"To Sch 2.2A, L.\"&IslIntCos!$D$54","v":"To Sch 2.2A, L.38"},null,{"$f":"IF(LEN(Q76)<>0,INT(MAX(P$8:P75))+1,0)","v":47},"Total",{"$f":"+\"SPLT\"&MID(R71,5,LEN(R71)-4)+1","v":"SPLT8"},{"$f":"SUM(S74:S75)","v":0},{"$f":"SUM(T74:T75)","v":0},null,{"$f":"SUM(V74:V75)","v":0},{"$f":"SUM(U76:V76)","v":0},{"$f":"SUM(X74:X75)","v":0},{"$f":"SUM(Y74:Y75)","v":0},{"$f":"SUM(Z74:Z75)","v":0},{"$f":"SUM(AA74:AA75)","v":0},{"$f":"+\"To Sch 2.2A, L.\"&IslIntCos!$D$54","v":"To Sch 2.2A, L.38"}]
[]
[{"$f":"IF(LEN(B78)<>0,INT(MAX(A$8:A77))+1,0)","v":50},"Plant:  Feasibility Studies (Details):",null,null,null,null,null,null,null,null,null,null,null,null,null,{"$f":"IF(LEN(Q78)<>0,INT(MAX(P$8:P77))+1,0)","v":48},"Plant:  Feasibility Studies (Details):"]
[{"$f":"IF(LEN(B79)<>0,INT(MAX(A$8:A78))+1,0)","v":51},"Production","G02",{"$f":"SUM(E79:M79)-I79","v":9794.4654045000498},9794.4654045000498,null,null,null,null,null,null,null,null,null,null,{"$f":"IF(LEN(Q79)<>0,INT(MAX(P$8:P78))+1,0)","v":49},"Production",{"$f":"$C79","v":"G02"},{"$f":"SUM(T79:AA79)-W79","v":9794.4654045000498},9794.4654045000498]
[{"$f":"IF(LEN(B80)<>0,INT(MAX(A$8:A79))+1,0)","v":52},"Transmission","G03",{"$f":"SUM(E80:M80)-I80","v":0},null,null,0,null,null,null,null,null,null,null,null,{"$f":"IF(LEN(Q80)<>0,INT(MAX(P$8:P79))+1,0)","v":50},"Transmission",{"$f":"$C80","v":"G03"},{"$f":"SUM(T80:AA80)-W80","v":0},null,null,0]
[{"$f":"IF(LEN(B81)<>0,INT(MAX(A$8:A80))+1,0)","v":53},"Distribution","G01",{"$f":"SUM(E81:M81)-I81","v":9.4495000000000013E-3},null,null,null,null,null,null,9.4495000000000013E-3,null,null,null,null,{"$f":"IF(LEN(Q81)<>0,INT(MAX(P$8:P80))+1,0)","v":51},"Distribution",{"$f":"$C81","v":"G01"},{"$f":"SUM(T81:AA81)-W81","v":9.4495000000000013E-3},null,null,null,null,null,9.4495000000000013E-3]
[]
[{"$f":"IF(LEN(B83)<>0,INT(MAX(A$8:A82))+1,0)","v":54},"Total",{"$f":"+\"SPLT\"&MID(C76,5,LEN(C76)-4)+1","v":"SPLT9"},{"$f":"SUM(D79:D82)","v":9794.4748540000492},{"$f":"SUM(E79:E82)","v":9794.4654045000498},null,{"$f":"SUM(G79:G82)","v":0},{"$f":"SUM(H79:H82)","v":0},{"$f":"SUM(F83:G83)","v":0},null,{"$f":"SUM(K79:K82)","v":9.4495000000000013E-3},null,{"$f":"SUM(M79:M82)","v":0},{"$f":"+\"To Sch 2.2A, L.\"&IslIntCos!$D$55","v":"To Sch 2.2A, L.39"},null,{"$f":"IF(LEN(Q83)<>0,INT(MAX(P$8:P82))+1,0)","v":52},"Total",{"$f":"+\"SPLT\"&MID(R76,5,LEN(R76)-4)+1","v":"SPLT9"},{"$f":"SUM(S79:S82)","v":9794.4748540000492},{"$f":"SUM(T79:T82)","v":9794.4654045000498},null,{"$f":"SUM(V79:V82)","v":0},{"$f":"SUM(U83:V83)","v":0},null,{"$f":"SUM(Y79:Y82)","v":9.4495000000000013E-3},null,{"$f":"SUM(AA79:AA82)","v":0},{"$f":"+\"To Sch 2.2A, L.\"&IslIntCos!$D$55","v":"To Sch 2.2A, L.39"}]
[]
[null,"ISLAND ISOLATED:",null,null,null,null,null,null,null,null,null,null,null,null,null,null,"ISLAND ISOLATED:"]
[{"$f":"IF(LEN(B86)<>0,INT(MAX(A$8:A85))+1,0)","v":55},"Plant:  Distribution Substations (Details):",null,null,null,null,null,null,null,null,null,null,null,null,null,{"$f":"IF(LEN(Q86)<>0,INT(MAX(P$8:P85))+1,0)","v":53},"Plant:  Distribution Substations (Details):"]
[{"$f":"IF(LEN(B87)<>0,INT(MAX(A$8:A86))+1,0)","v":56},"Production","D04",{"$f":"SUM(E87:M87)-I87","v":229567.16000000009},229567.16000000009,null,null,null,null,null,null,null,null,null,null,{"$f":"IF(LEN(Q87)<>0,INT(MAX(P$8:P86))+1,0)","v":54},"Production",{"$f":"$C87","v":"D04"},{"$f":"SUM(T87:AA87)-W87","v":617690.3487846927},617690.3487846927]
[{"$f":"IF(LEN(B88)<>0,INT(MAX(A$8:A87))+1,0)","v":57},"Distribution","D03",{"$f":"SUM(E88:M88)-I88","v":51972.59},null,null,null,null,null,null,51972.59,null,null,null,null,{"$f":"IF(LEN(Q88)<>0,INT(MAX(P$8:P87))+1,0)","v":55},"Distribution",{"$f":"$C88","v":"D03"},{"$f":"SUM(T88:AA88)-W88","v":106220.82168479127},null,null,null,null,null,106220.82168479127]
[]
[{"$f":"IF(LEN(B90)<>0,INT(MAX(A$8:A89))+1,0)","v":58},"Total",{"$f":"+\"SPLT\"&MID(C83,5,LEN(C83)-4)+1","v":"SPLT10"},{"$f":"SUM(D87:D89)","v":281539.75000000012},{"$f":"SUM(E87:E89)","v":229567.16000000009},null,{"$f":"SUM(G87:G89)","v":0},{"$f":"SUM(H87:H89)","v":0},{"$f":"SUM(F90:G90)","v":0},null,{"$f":"SUM(K87:K89)","v":51972.59},null,{"$f":"SUM(M87:M89)","v":0},{"$f":"+\"To Sch 2.2B, L.\"&IslIsoCos!D27","v":"To Sch 2.2B, L.6"},null,{"$f":"IF(LEN(Q90)<>0,INT(MAX(P$8:P89))+1,0)","v":56},"Total",{"$f":"+\"SPLT\"&MID(R83,5,LEN(R83)-4)+1","v":"SPLT10"},{"$f":"SUM(S87:S89)","v":723911.17046948394},{"$f":"SUM(T87:T89)","v":617690.3487846927},null,{"$f":"SUM(V87:V89)","v":0},{"$f":"SUM(U90:V90)","v":0},null,{"$f":"SUM(Y87:Y89)","v":106220.82168479127},null,{"$f":"SUM(AA87:AA89)","v":0},{"$f":"+\"To Sch 2.2B, L.\"&IslIsoCos!R27","v":"To Sch 2.2B, L.0"}]
[]
[{"$f":"IF(LEN(B92)<>0,INT(MAX(A$8:A91))+1,0)","v":59},"Plant:  Feasibility Studies (Details):",null,null,null,null,null,null,null,null,null,null,null,null,null,{"$f":"IF(LEN(Q92)<>0,INT(MAX(P$8:P91))+1,0)","v":57},"Plant:  Feasibility Studies (Details):"]
[{"$f":"IF(LEN(B93)<>0,INT(MAX(A$8:A92))+1,0)","v":60},"Production","G02",{"$f":"SUM(E93:M93)-I93","v":0},0,null,null,null,null,null,null,null,null,null,null,{"$f":"IF(LEN(Q93)<>0,INT(MAX(P$8:P92))+1,0)","v":58},"Production",{"$f":"$C93","v":"G02"},{"$f":"SUM(T93:AA93)-W93","v":0},0]
[{"$f":"IF(LEN(B94)<>0,INT(MAX(A$8:A93))+1,0)","v":61},"Transmission","G03",{"$f":"SUM(E94:M94)-I94","v":0},null,null,0,null,null,null,null,null,null,null,null,{"$f":"IF(LEN(Q94)<>0,INT(MAX(P$8:P93))+1,0)","v":59},"Transmission",{"$f":"$C94","v":"G03"},{"$f":"SUM(T94:AA94)-W94","v":0},null,null,0]
[{"$f":"IF(LEN(B95)<>0,INT(MAX(A$8:A94))+1,0)","v":62},"Distribution","G01",{"$f":"SUM(E95:M95)-I95","v":0},null,null,null,null,null,null,0,null,null,null,null,{"$f":"IF(LEN(Q95)<>0,INT(MAX(P$8:P94))+1,0)","v":60},"Distribution",{"$f":"$C95","v":"G01"},{"$f":"SUM(T95:AA95)-W95","v":0},null,null,null,null,null,0]
[]
[{"$f":"IF(LEN(B97)<>0,INT(MAX(A$8:A96))+1,0)","v":63},"Total",{"$f":"+\"SPLT\"&MID(C90,5,LEN(C90)-4)+1","v":"SPLT11"},{"$f":"SUM(D93:D96)","v":0},{"$f":"SUM(E93:E96)","v":0},null,{"$f":"SUM(G93:G96)","v":0},{"$f":"SUM(H93:H96)","v":0},{"$f":"SUM(F97:G97)","v":0},null,{"$f":"SUM(K93:K96)","v":0},null,{"$f":"SUM(M93:M96)","v":0},{"$f":"+\"To Sch 2.2B, L.\"&IslIsoCos!D43","v":"To Sch 2.2B, L.20"},null,{"$f":"IF(LEN(Q97)<>0,INT(MAX(P$8:P96))+1,0)","v":61},"Total",{"$f":"+\"SPLT\"&MID(R90,5,LEN(R90)-4)+1","v":"SPLT11"},{"$f":"SUM(S93:S96)","v":0},{"$f":"SUM(T93:T96)","v":0},null,{"$f":"SUM(V93:V96)","v":0},{"$f":"SUM(U97:V97)","v":0},null,{"$f":"SUM(Y93:Y96)","v":0},null,{"$f":"SUM(AA93:AA96)","v":0},{"$f":"+\"To Sch 2.2B, L.\"&IslIsoCos!R43","v":"To Sch 2.2B, L.0"}]
[]
[null,"LABRADOR ISOLATED:",null,null,null,null,null,null,null,null,null,null,null,null,null,null,"LABRADOR ISOLATED:"]
[{"$f":"IF(LEN(B100)<>0,INT(MAX(A$8:A99))+1,0)","v":64},"Plant:  Distribution Substations (Details):",null,null,null,null,null,null,null,null,null,null,null,null,null,{"$f":"IF(LEN(Q100)<>0,INT(MAX(P$8:P99))+1,0)","v":62},"Plant:  Distribution Substations (Details):"]
[{"$f":"IF(LEN(B101)<>0,INT(MAX(A$8:A100))+1,0)","v":65},"Production","D04",{"$f":"SUM(E101:M101)-I101","v":2096304.1899999995},2096304.1899999995,null,null,null,null,null,null,null,null,null,null,{"$f":"IF(LEN(Q101)<>0,INT(MAX(P$8:P100))+1,0)","v":63},"Production",{"$f":"$C101","v":"D04"},{"$f":"SUM(T101:AA101)-W101","v":5126910.9072772954},5126910.9072772954]
[{"$f":"IF(LEN(B102)<>0,INT(MAX(A$8:A101))+1,0)","v":66},"Distribution","D03",{"$f":"SUM(E102:M102)-I102","v":1333258.6699999997},null,null,null,null,null,null,1333258.6699999997,null,null,null,null,{"$f":"IF(LEN(Q102)<>0,INT(MAX(P$8:P101))+1,0)","v":64},"Distribution",{"$f":"$C102","v":"D03"},{"$f":"SUM(T102:AA102)-W102","v":2413858.8724978454},null,null,null,null,null,2413858.8724978454]
[]
[{"$f":"IF(LEN(B104)<>0,INT(MAX(A$8:A103))+1,0)","v":67},"Total",{"$f":"+\"SPLT\"&MID(C97,5,LEN(C97)-4)+1","v":"SPLT12"},{"$f":"SUM(D101:D103)","v":3429562.8599999994},{"$f":"SUM(E101:E103)","v":2096304.1899999995},null,{"$f":"SUM(G101:G103)","v":0},{"$f":"SUM(H101:H103)","v":0},{"$f":"SUM(F104:G104)","v":0},null,{"$f":"SUM(K101:K103)","v":1333258.6699999997},null,{"$f":"SUM(M101:M103)","v":0},{"$f":"+\"To Sch 2.2C, L.\"&LabIsoCos!$D$27","v":"To Sch 2.2C, L.6"},null,{"$f":"IF(LEN(Q104)<>0,INT(MAX(P$8:P103))+1,0)","v":65},"Total",{"$f":"+\"SPLT\"&MID(R97,5,LEN(R97)-4)+1","v":"SPLT12"},{"$f":"SUM(S101:S103)","v":7540769.7797751408},{"$f":"SUM(T101:T103)","v":5126910.9072772954},null,{"$f":"SUM(V101:V103)","v":0},{"$f":"SUM(U104:V104)","v":0},null,{"$f":"SUM(Y101:Y103)","v":2413858.8724978454},null,{"$f":"SUM(AA101:AA103)","v":0},{"$f":"+\"To Sch 2.2C, L.\"&LabIsoCos!$D$27","v":"To Sch 2.2C, L.6"}]
[]
[{"$f":"IF(LEN(B106)<>0,INT(MAX(A$8:A105))+1,0)","v":68},"Plant:  Feasibility Studies (Details):",null,null,null,null,null,null,null,null,null,null,null,null,null,{"$f":"IF(LEN(Q106)<>0,INT(MAX(P$8:P105))+1,0)","v":66},"Plant:  Feasibility Studies (Details):"]
[{"$f":"IF(LEN(B107)<>0,INT(MAX(A$8:A106))+1,0)","v":69},"Production","G02",{"$f":"SUM(E107:M107)-I107","v":0},0,null,null,null,null,null,null,null,null,null,null,{"$f":"IF(LEN(Q107)<>0,INT(MAX(P$8:P106))+1,0)","v":67},"Production",{"$f":"$C107","v":"G02"},{"$f":"SUM(T107:AA107)-W107","v":0},0]
[{"$f":"IF(LEN(B108)<>0,INT(MAX(A$8:A107))+1,0)","v":70},"Transmission","G03",{"$f":"SUM(E108:M108)-I108","v":0},null,null,0,null,null,null,null,null,null,null,null,{"$f":"IF(LEN(Q108)<>0,INT(MAX(P$8:P107))+1,0)","v":68},"Transmission",{"$f":"$C108","v":"G03"},{"$f":"SUM(T108:AA108)-W108","v":0},null,null,0]
[{"$f":"IF(LEN(B109)<>0,INT(MAX(A$8:A108))+1,0)","v":71},"Distribution","G01",{"$f":"SUM(E109:M109)-I109","v":0},null,null,null,null,null,null,0,null,null,null,null,{"$f":"IF(LEN(Q109)<>0,INT(MAX(P$8:P108))+1,0)","v":69},"Distribution",{"$f":"$C109","v":"G01"},{"$f":"SUM(T109:AA109)-W109","v":0},null,null,null,null,null,0]
[]
[{"$f":"IF(LEN(B111)<>0,INT(MAX(A$8:A110))+1,0)","v":72},"Total",{"$f":"+\"SPLT\"&MID(C104,5,LEN(C104)-4)+1","v":"SPLT13"},{"$f":"SUM(D107:D110)","v":0},{"$f":"SUM(E107:E110)","v":0},null,{"$f":"SUM(G107:G110)","v":0},{"$f":"SUM(H107:H110)","v":0},{"$f":"SUM(F111:G111)","v":0},null,{"$f":"SUM(K107:K110)","v":0},null,{"$f":"SUM(M107:M110)","v":0},{"$f":"+\"To Sch 2.2C, L.\"&LabIsoCos!$D$43","v":"To Sch 2.2C, L.20"},null,{"$f":"IF(LEN(Q111)<>0,INT(MAX(P$8:P110))+1,0)","v":70},"Total",{"$f":"+\"SPLT\"&MID(R104,5,LEN(R104)-4)+1","v":"SPLT13"},{"$f":"SUM(S107:S110)","v":0},{"$f":"SUM(T107:T110)","v":0},null,{"$f":"SUM(V107:V110)","v":0},{"$f":"SUM(U111:V111)","v":0},null,{"$f":"SUM(Y107:Y110)","v":0},null,{"$f":"SUM(AA107:AA110)","v":0},{"$f":"+\"To Sch 2.2C, L.\"&LabIsoCos!$D$43","v":"To Sch 2.2C, L.20"}]
[]
[null,"L'ANSE AU LOUP",null,null,null,null,null,null,null,null,null,null,null,null,null,null,"L'ANSE AU LOUP"]
[{"$f":"IF(LEN(B114)<>0,INT(MAX(A$8:A113))+1,0)","v":73},"Plant:  Distribution Substations (Details):",null,null,null,null,null,null,null,null,null,null,null,null,null,{"$f":"IF(LEN(Q114)<>0,INT(MAX(P$8:P113))+1,0)","v":71},"Plant:  Distribution Substations (Details):"]
[{"$f":"IF(LEN(B115)<>0,INT(MAX(A$8:A114))+1,0)","v":74},"Production","D04",{"$f":"SUM(E115:M115)-I115","v":66298.609999999986},66298.609999999986,null,null,null,null,null,null,null,null,null,null,{"$f":"IF(LEN(Q115)<>0,INT(MAX(P$8:P114))+1,0)","v":72},"Production",{"$f":"$C115","v":"D04"},{"$f":"SUM(T115:AA115)-W115","v":685851.66663694649},685851.66663694649]
[{"$f":"IF(LEN(B116)<>0,INT(MAX(A$8:A115))+1,0)","v":75},"Distribution","D03",{"$f":"SUM(E116:M116)-I116","v":2039117.7299999997},null,null,null,null,null,null,2039117.7299999997,null,null,null,null,{"$f":"IF(LEN(Q116)<>0,INT(MAX(P$8:P115))+1,0)","v":73},"Distribution",{"$f":"$C116","v":"D03"},{"$f":"SUM(T116:AA116)-W116","v":2137197.785455429},null,null,null,null,null,2137197.785455429]
[]
[{"$f":"IF(LEN(B118)<>0,INT(MAX(A$8:A117))+1,0)","v":76},"Total",{"$f":"+\"SPLT\"&MID(C111,5,LEN(C111)-4)+1","v":"SPLT14"},{"$f":"SUM(D115:D117)","v":2105416.34},{"$f":"SUM(E115:E117)","v":66298.609999999986},null,{"$f":"SUM(G115:G117)","v":0},{"$f":"SUM(H115:H117)","v":0},{"$f":"SUM(F118:G118)","v":0},null,{"$f":"SUM(K115:K117)","v":2039117.7299999997},null,{"$f":"SUM(M115:M117)","v":0},{"$f":"+\"To Sch 2.2D, L.\"&LALCos!$D$27","v":"To Sch 2.2D, L.6"},null,{"$f":"IF(LEN(Q118)<>0,INT(MAX(P$8:P117))+1,0)","v":74},"Total",{"$f":"+\"SPLT\"&MID(R111,5,LEN(R111)-4)+1","v":"SPLT14"},{"$f":"SUM(S115:S117)","v":2823049.4520923756},{"$f":"SUM(T115:T117)","v":685851.66663694649},null,{"$f":"SUM(V115:V117)","v":0},{"$f":"SUM(U118:V118)","v":0},null,{"$f":"SUM(Y115:Y117)","v":2137197.785455429},null,{"$f":"SUM(AA115:AA117)","v":0},{"$f":"+\"To Sch 2.2D, L.\"&LALCos!$D$27","v":"To Sch 2.2D, L.6"}]
[]
[{"$f":"IF(LEN(B120)<>0,INT(MAX(A$8:A119))+1,0)","v":77},"Plant:  Feasibility Studies (Details):",null,null,null,null,null,null,null,null,null,null,null,null,null,{"$f":"IF(LEN(Q120)<>0,INT(MAX(P$8:P119))+1,0)","v":75},"Plant:  Feasibility Studies (Details):"]
[{"$f":"IF(LEN(B121)<>0,INT(MAX(A$8:A120))+1,0)","v":78},"Production","G02",{"$f":"SUM(E121:M121)-I121","v":0},0,null,null,null,null,null,null,null,null,null,null,{"$f":"IF(LEN(Q121)<>0,INT(MAX(P$8:P120))+1,0)","v":76},"Production",{"$f":"$C121","v":"G02"},{"$f":"SUM(T121:AA121)-W121","v":0},0]
[{"$f":"IF(LEN(B122)<>0,INT(MAX(A$8:A121))+1,0)","v":79},"Transmission","G03",{"$f":"SUM(E122:M122)-I122","v":0},null,null,0,null,null,null,null,null,null,null,null,{"$f":"IF(LEN(Q122)<>0,INT(MAX(P$8:P121))+1,0)","v":77},"Transmission",{"$f":"$C122","v":"G03"},{"$f":"SUM(T122:AA122)-W122","v":0},null,null,0]
[{"$f":"IF(LEN(B123)<>0,INT(MAX(A$8:A122))+1,0)","v":80},"Distribution","G01",{"$f":"SUM(E123:M123)-I123","v":0},null,null,null,null,null,null,0,null,null,null,null,{"$f":"IF(LEN(Q123)<>0,INT(MAX(P$8:P122))+1,0)","v":78},"Distribution",{"$f":"$C123","v":"G01"},{"$f":"SUM(T123:AA123)-W123","v":0},null,null,null,null,null,0]
[]
[{"$f":"IF(LEN(B125)<>0,INT(MAX(A$8:A124))+1,0)","v":81},"Total",{"$f":"+\"SPLT\"&MID(C118,5,LEN(C118)-4)+1","v":"SPLT15"},{"$f":"SUM(D121:D124)","v":0},{"$f":"SUM(E121:E124)","v":0},null,{"$f":"SUM(G121:G124)","v":0},{"$f":"SUM(H121:H124)","v":0},{"$f":"SUM(F125:G125)","v":0},null,{"$f":"SUM(K121:K124)","v":0},null,{"$f":"SUM(M121:M124)","v":0},{"$f":"+\"To Sch 2.2D, L.\"&LALCos!$D$43","v":"To Sch 2.2D, L.20"},null,{"$f":"IF(LEN(Q125)<>0,INT(MAX(P$8:P124))+1,0)","v":79},"Total",{"$f":"+\"SPLT\"&MID(R118,5,LEN(R118)-4)+1","v":"SPLT15"},{"$f":"SUM(S121:S124)","v":0},{"$f":"SUM(T121:T124)","v":0},null,{"$f":"SUM(V121:V124)","v":0},{"$f":"SUM(U125:V125)","v":0},null,{"$f":"SUM(Y121:Y124)","v":0},null,{"$f":"SUM(AA121:AA124)","v":0},{"$f":"+\"To Sch 2.2D, L.\"&LALCos!$D$43","v":"To Sch 2.2D, L.20"}]
[]
[null,"LABRADOR INTERCONNECTED:",null,null,null,null,null,null,null,null,null,null,null,null,null,null,"LABRADOR INTERCONNECTED:"]
[{"$f":"IF(LEN(B128)<>0,INT(MAX(A$8:A127))+1,0)","v":82},"Plant:  Transmission Lines (Details):",null,null,null,null,null,null,null,null,null,null,null,null,null,{"$f":"IF(LEN(Q128)<>0,INT(MAX(P$8:P127))+1,0)","v":80},"Plant:  Transmission Lines (Details):"]
[{"$f":"IF(LEN(B129)<>0,INT(MAX(A$8:A128))+1,0)","v":83},"Transmission","T01",{"$f":"SUM(E129:M129)-I129","v":18169808.190000001},null,null,18169808.190000001,null,{"$f":"SUM(F129:G129)","v":18169808.190000001},null,null,null,null,null,null,{"$f":"IF(LEN(Q129)<>0,INT(MAX(P$8:P128))+1,0)","v":81},"Transmission",{"$f":"$C129","v":"T01"},{"$f":"SUM(T129:AA129)-W129","v":71201717.078598574},null,null,71201717.078598574,{"$f":"SUM(U129:V129)","v":71201717.078598574}]
[{"$f":"IF(LEN(B130)<>0,INT(MAX(A$8:A129))+1,0)","v":84},"Transmission Export","T03",{"$f":"SUM(E130:M130)-I130","v":24381254},null,24381254,null,null,{"$f":"SUM(F130:G130)","v":24381254}]
[{"$f":"IF(LEN(B131)<>0,INT(MAX(A$8:A130))+1,0)","v":85},"Transmission Ancillary","T04",{"$f":"SUM(E131:M131)-I131","v":0},null,null,null,0,{"$f":"SUM(F131:G131)","v":0}]
[{"$f":"IF(LEN(B132)<>0,INT(MAX(A$8:A131))+1,0)","v":86},"Rural Subtransmission","T10",{"$f":"SUM(E132:M132)-I132","v":2197029.14},null,null,null,null,null,2197029.14]
[{"$f":"IF(LEN(B133)<>0,INT(MAX(A$8:A132))+1,0)","v":87},"Distribution","T09",{"$f":"SUM(E133:M133)-I133","v":0},null,null,null,null,null,null,0,null,null,null,null,{"$f":"IF(LEN(Q133)<>0,INT(MAX(P$8:P129))+1,0)","v":82},"Distribution",{"$f":"$C133","v":"T09"},{"$f":"SUM(T133:AA133)-W133","v":0},null,null,null,null,null,0]
[]
[{"$f":"IF(LEN(B135)<>0,INT(MAX(A$8:A134))+1,0)","v":88},"Specifically Assigned:",null,null,null,null,null,null,null,null,null,null,null,null,null,{"$f":"IF(LEN(Q135)<>0,INT(MAX(P$8:P134))+1,0)","v":83},"Specifically Assigned:"]
[{"$f":"IF(LEN(B136)<>0,INT(MAX(A$8:A135))+1,0)","v":89},"CFB - Goose Bay","T04",{"$f":"SUM(E136:M136)-I136","v":0},null,null,null,null,null,null,null,null,0,null,null,{"$f":"IF(LEN(Q136)<>0,INT(MAX(P$8:P135))+1,0)","v":84},"CFB - Goose Bay",{"$f":"$C136","v":"T04"},{"$f":"SUM(T136:AA136)-W136","v":0},null,null,null,null,null,null,null,0]
[{"$f":"IF(LEN(B137)<>0,INT(MAX(A$8:A136))+1,0)","v":90},"Muskrat Falls","XC",{"$f":"SUM(E137:M137)-I137","v":0},null,null,null,null,null,null,null,null,0,null,null,{"$f":"IF(LEN(Q137)<>0,INT(MAX(P$8:P136))+1,0)","v":85},"Muskrat Falls",{"$f":"$C137","v":"XC"},{"$f":"SUM(T137:AA137)-W137","v":0},null,null,null,null,null,null,null,0]
[]
[{"$f":"IF(LEN(B139)<>0,INT(MAX(A$8:A138))+1,0)","v":91},"Total",{"$f":"+\"SPLT\"&MID(C125,5,LEN(C125)-4)+1","v":"SPLT16"},{"$f":"SUM(D129:D138)","v":44748091.329999998},{"$f":"SUM(E129:E138)","v":0},{"$f":"SUM(F129:F138)","v":24381254},{"$f":"SUM(G129:G138)","v":18169808.190000001},{"$f":"SUM(H129:H138)","v":0},{"$f":"SUM(F139:G139)","v":42551062.189999998},{"$f":"SUM(J129:J138)","v":2197029.14},{"$f":"SUM(K129:K138)","v":0},null,{"$f":"SUM(M129:M138)","v":0},{"$f":"+\"To Sch 2.2E, L.\"&LabIntCos!$D$24","v":"To Sch 2.2E, L.4"},null,{"$f":"IF(LEN(Q139)<>0,INT(MAX(P$8:P138))+1,0)","v":86},"Total",{"$f":"+\"SPLT\"&MID(R125,5,LEN(R125)-4)+1","v":"SPLT16"},{"$f":"SUM(S129:S138)","v":71201717.078598574},{"$f":"SUM(T129:T138)","v":0},null,{"$f":"SUM(V129:V138)","v":71201717.078598574},{"$f":"SUM(U139:V139)","v":71201717.078598574},null,{"$f":"SUM(Y129:Y138)","v":0},null,{"$f":"SUM(AA129:AA138)","v":0},{"$f":"+\"To Sch 2.2E, L.\"&LabIntCos!$D$24","v":"To Sch 2.2E, L.4"}]
[]
[{"$f":"IF(LEN(B141)<>0,INT(MAX(A$8:A140))+1,0)","v":92},"Plant:  Terminal Stations (Details):",null,null,null,null,null,null,null,null,null,null,null,null,null,{"$f":"IF(LEN(Q141)<>0,INT(MAX(P$8:P140))+1,0)","v":87},"Plant:  Terminal Stations (Details):"]
[{"$f":"IF(LEN(B142)<>0,INT(MAX(A$8:A141))+1,0)","v":93},"Transmission","T11",{"$f":"SUM(E142:M142)-I142","v":21390018.095000006},null,null,21390018.095000006,null,{"$f":"SUM(F142:G142)","v":21390018.095000006},null,null,null,null,null,null,{"$f":"IF(LEN(Q142)<>0,INT(MAX(P$8:P141))+1,0)","v":88},"Transmission",{"$f":"$C142","v":"T11"},{"$f":"SUM(T142:AA142)-W142","v":37397354.677520752},null,null,37397354.677520752,{"$f":"SUM(U142:V142)","v":37397354.677520752}]
[{"$f":"IF(LEN(B143)<>0,INT(MAX(A$8:A142))+1,0)","v":94},"Terminal Station Export","T13",0,null,0,null,null,0]
[{"$f":"IF(LEN(B144)<>0,INT(MAX(A$8:A143))+1,0)","v":95},"Terminal Station Ancillary","T14",0,null,null,null,0,0]
[{"$f":"IF(LEN(B145)<>0,INT(MAX(A$8:A142))+1,0)","v":94},"Rural Subtransmission","T26",4006230.2699999991,null,null,4006230.2699999991,null,4006230.2699999991,null,null,null,null,null,null,{"$f":"IF(LEN(Q145)<>0,INT(MAX(P$8:P142))+1,0)","v":89},"Rural Subtransmission","T26",5058296.31574116,null,null,5058296.31574116,5058296.31574116]
[{"$f":"IF(LEN(B146)<>0,INT(MAX(A$8:A145))+1,0)","v":96},"Distribution","T18",16393622.409999989,null,null,null,null,0,null,16393622.409999989,null,null,null,null,{"$f":"IF(LEN(Q146)<>0,INT(MAX(P$8:P145))+1,0)","v":90},"Distribution","T18",19020909.796661142,null,null,null,0,null,19020909.796661142]
[{"$f":"IF(LEN(B147)<>0,INT(MAX(A$8:A146))+1,0)","v":97},"Production","T23",0,null,null,0,null,0,null,null,null,null,null,null,{"$f":"IF(LEN(Q147)<>0,INT(MAX(P$8:P146))+1,0)","v":91},"Production","T23",0,null,null,0,0]
[]
[{"$f":"IF(LEN(B149)<>0,INT(MAX(A$8:A148))+1,0)","v":98},"Specifically Assigned:",null,null,null,null,null,null,null,null,null,null,null,null,null,{"$f":"IF(LEN(Q149)<>0,INT(MAX(P$8:P148))+1,0)","v":92},"Specifically Assigned:"]
[{"$f":"IF(LEN(B150)<>0,INT(MAX(A$8:A149))+1,0)","v":99},"CFB - Goose Bay","T17",{"$f":"SUM(E150:M150)-I150","v":0},null,null,null,null,null,null,null,null,0,null,null,{"$f":"IF(LEN(Q150)<>0,INT(MAX(P$8:P149))+1,0)","v":93},"CFB - Goose Bay",{"$f":"$C150","v":"T17"},{"$f":"SUM(T150:AA150)-W150","v":0},null,null,null,null,null,null,null,0]
[{"$f":"IF(LEN(B151)<>0,INT(MAX(A$8:A150))+1,0)","v":100},"Muskrat Falls","XC",{"$f":"SUM(E151:M151)-I151","v":0},null,null,null,null,null,null,null,null,0,null,null,{"$f":"IF(LEN(Q151)<>0,INT(MAX(P$8:P150))+1,0)","v":94},"Muskrat Falls",{"$f":"$C151","v":"XC"},{"$f":"SUM(T151:AA151)-W151","v":0},null,null,null,null,null,null,null,0]
[]
[{"$f":"IF(LEN(B153)<>0,INT(MAX(A$8:A152))+1,0)","v":101},"Total",{"$f":"+\"SPLT\"&MID(C139,5,LEN(C139)-4)+1","v":"SPLT17"},{"$f":"SUM(D142:D152)","v":41789870.774999991},{"$f":"SUM(E142:E152)","v":0},{"$f":"SUM(F142:F152)","v":0},{"$f":"SUM(G142:G152)","v":25396248.365000006},{"$f":"SUM(H142:H152)","v":0},{"$f":"SUM(F153:G153)","v":25396248.365000006},{"$f":"SUM(J142:J152)","v":0},{"$f":"SUM(K142:K152)","v":16393622.409999989},null,{"$f":"SUM(M142:M152)","v":0},{"$f":"+\"To Sch 2.2E, L.\"&LabIntCos!$D$25","v":"To Sch 2.2E, L.5"},null,{"$f":"IF(LEN(Q153)<>0,INT(MAX(P$8:P152))+1,0)","v":95},"Total",{"$f":"+\"SPLT\"&MID(R139,5,LEN(R139)-4)+1","v":"SPLT17"},{"$f":"SUM(S142:S152)","v":61476560.789923057},{"$f":"SUM(T142:T152)","v":0},null,{"$f":"SUM(V142:V152)","v":42455650.993261911},{"$f":"SUM(U153:V153)","v":42455650.993261911},{"$f":"SUM(X142:X152)","v":0},{"$f":"SUM(Y142:Y152)","v":19020909.796661142},null,{"$f":"SUM(AA142:AA152)","v":0},{"$f":"+\"To Sch 2.2E, L.\"&LabIntCos!$D$25","v":"To Sch 2.2E, L.5"}]
[]
[{"$f":"IF(LEN(B155)<>0,INT(MAX(A$8:A154))+1,0)","v":102},"Plant:  Distribution Substations (Details):",null,null,null,null,null,null,null,null,null,null,null,null,null,{"$f":"IF(LEN(Q155)<>0,INT(MAX(P$8:P154))+1,0)","v":96},"Plant:  Distribution Substations (Details):"]
[{"$f":"IF(LEN(B156)<>0,INT(MAX(A$8:A155))+1,0)","v":103},"Production","D04",{"$f":"SUM(E156:M156)-I156","v":0},0,null,null,null,null,null,null,null,null,null,null,{"$f":"IF(LEN(Q156)<>0,INT(MAX(P$8:P155))+1,0)","v":97},"Production",{"$f":"$C156","v":"D04"},{"$f":"SUM(T156:AA156)-W156","v":0},0]
[{"$f":"IF(LEN(B157)<>0,INT(MAX(A$8:A156))+1,0)","v":104},"Distribution","D03",{"$f":"SUM(E157:M157)-I157","v":9816507.9572499692},null,null,null,null,null,null,9816507.9572499692,null,null,null,null,{"$f":"IF(LEN(Q157)<>0,INT(MAX(P$8:P156))+1,0)","v":98},"Distribution",{"$f":"$C157","v":"D03"},{"$f":"SUM(T157:AA157)-W157","v":20983110.500047546},null,null,null,null,null,20983110.500047546]
[]
[{"$f":"IF(LEN(B159)<>0,INT(MAX(A$8:A158))+1,0)","v":105},"Total",{"$f":"+\"SPLT\"&MID(C153,5,LEN(C153)-4)+1","v":"SPLT18"},{"$f":"SUM(D156:D158)","v":9816507.9572499692},{"$f":"SUM(E156:E158)","v":0},null,{"$f":"SUM(G156:G158)","v":0},{"$f":"SUM(H156:H158)","v":0},{"$f":"SUM(F159:G159)","v":0},null,{"$f":"SUM(K156:K158)","v":9816507.9572499692},null,{"$f":"SUM(M156:M158)","v":0},{"$f":"+\"To Sch 2.2E, L.\"&LabIntCos!$D$29","v":"To Sch 2.2E, L.7"},null,{"$f":"IF(LEN(Q159)<>0,INT(MAX(P$8:P158))+1,0)","v":99},"Total",{"$f":"+\"SPLT\"&MID(R153,5,LEN(R153)-4)+1","v":"SPLT18"},{"$f":"SUM(S156:S158)","v":20983110.500047546},{"$f":"SUM(T156:T158)","v":0},null,{"$f":"SUM(V156:V158)","v":0},{"$f":"SUM(U159:V159)","v":0},null,{"$f":"SUM(Y156:Y158)","v":20983110.500047546},null,{"$f":"SUM(AA156:AA158)","v":0},{"$f":"+\"To Sch 2.2E, L.\"&LabIntCos!$D$29","v":"To Sch 2.2E, L.7"}]
[]
[{"$f":"IF(LEN(B161)<>0,INT(MAX(A$8:A160))+1,0)","v":106},"Plant:  Feasibility Studies (Details):",null,null,null,null,null,null,null,null,null,null,null,null,null,{"$f":"IF(LEN(Q161)<>0,INT(MAX(P$8:P160))+1,0)","v":100},"Plant:  Feasibility Studies (Details):"]
[{"$f":"IF(LEN(B162)<>0,INT(MAX(A$8:A161))+1,0)","v":107},"Production","G02",{"$f":"SUM(E162:M162)-I162","v":0},0,null,null,null,null,null,null,null,null,null,null,{"$f":"IF(LEN(Q162)<>0,INT(MAX(P$8:P161))+1,0)","v":101},"Production",{"$f":"$C162","v":"G02"},{"$f":"SUM(T162:AA162)-W162","v":0},0]
[{"$f":"IF(LEN(B163)<>0,INT(MAX(A$8:A162))+1,0)","v":108},"Transmission","G03",{"$f":"SUM(E163:M163)-I163","v":0},null,null,0,null,null,null,null,null,null,null,null,{"$f":"IF(LEN(Q163)<>0,INT(MAX(P$8:P162))+1,0)","v":102},"Transmission",{"$f":"$C163","v":"G03"},{"$f":"SUM(T163:AA163)-W163","v":0},null,null,0]
[{"$f":"IF(LEN(B164)<>0,INT(MAX(A$8:A163))+1,0)","v":109},"Distribution","G01",{"$f":"SUM(E164:M164)-I164","v":-2191.466175},null,null,null,null,null,null,-2191.466175,null,null,null,null,{"$f":"IF(LEN(Q164)<>0,INT(MAX(P$8:P163))+1,0)","v":103},"Distribution",{"$f":"$C164","v":"G01"},{"$f":"SUM(T164:AA164)-W164","v":-2191.466175},null,null,null,null,null,-2191.466175]
[]
[{"$f":"IF(LEN(B166)<>0,INT(MAX(A$8:A165))+1,0)","v":110},"Total",{"$f":"+\"SPLT\"&MID(C159,5,LEN(C159)-4)+1","v":"SPLT19"},{"$f":"SUM(D162:D165)","v":-2191.466175},{"$f":"SUM(E162:E165)","v":0},null,{"$f":"SUM(G162:G165)","v":0},{"$f":"SUM(H162:H165)","v":0},{"$f":"SUM(F166:G166)","v":0},null,{"$f":"SUM(K162:K165)","v":-2191.466175},null,{"$f":"SUM(M162:M165)","v":0},{"$f":"+\"To Sch 2.2E, L.\"&LabIntCos!$D$45","v":"To Sch 2.2E, L.21"},null,{"$f":"IF(LEN(Q166)<>0,INT(MAX(P$8:P165))+1,0)","v":104},"Total",{"$f":"+\"SPLT\"&MID(R159,5,LEN(R159)-4)+1","v":"SPLT19"},{"$f":"SUM(S162:S165)","v":-2191.466175},{"$f":"SUM(T162:T165)","v":0},null,{"$f":"SUM(V162:V165)","v":0},{"$f":"SUM(U166:V166)","v":0},null,{"$f":"SUM(Y162:Y165)","v":-2191.466175},null,{"$f":"SUM(AA162:AA165)","v":0},{"$f":"+\"To Sch 2.2E, L.\"&LabIntCos!$D$45","v":"To Sch 2.2E, L.21"}]

{"sheet":"SystemizedPlant","index":41,"n_rows":122,"n_cols":27,"rows_kept":122,"cut":false,"hidden":false,"merged":[]}
[null,null,null,null,null,null,null,null,null,null,null,null,"BkpSysPlant",null,null,null,null,null,null,null,null,null,null,null,null,null,"BkpSysPlant"]
[null,null,null,null,null,null,null,null,null,null,null,null,"Page 1 of 2",null,null,null,null,null,null,null,null,null,null,null,null,null,"Page 1 of 2"]
["NEWFOUNDLAND AND LABRADOR HYDRO",null,null,null,null,null,null,null,null,null,null,null,null,null,"NEWFOUNDLAND AND LABRADOR HYDRO"]
[{"$f":"RunName","v":"2019 Test Year Cost of Service Study"},null,null,null,null,null,null,null,null,null,null,null,null,null,{"$f":"RunName","v":"2019 Test Year Cost of Service Study"}]
["Re-Systemized Plant",null,null,null,null,null,null,null,null,null,null,null,null,null,"Re-Systemized Plant"]
[null,{"$f":"MAX(A6)+NoOne","v":1},2,3,4,5,6,7,8,9,10,null,null,null,null,{"$f":"MAX(O6)+NoOne","v":1},2,3,4,5,6,7,8,9,10]
["Line ",null,null,null,"Island","Island","Labrador","L'Anse au","All Systems","All Systems","Labrador",null,null,null,"Line ",null,null,null,"Island","Island","Labrador","L'Anse au","All Systems","All Systems","Labrador"]
["No",null,"Ref.","Total","Interconnected","Isolated","Isolated","Loup","General Plant","Meters","Interconnected",null,null,null,"No",null,"Ref.","Total","Interconnected","Isolated","Isolated","Loup","General Plant","Meters","Interconnected"]
[null,"Customers range lookup",null,null,100,200,300,700," "," ",99,null,null,null,null,"Customers range lookup",null,null,100,200,300,700," "," ",99]
[null,null,null,null,5,6,9,7,3,4,8]
[{"$f":"MAX(A7:A9)+NoOne","v":1},"METERS:",null,null,null,null,null,null,null,null,null,null,null,null,{"$f":"MAX(O7:O9)+NoOne","v":1},"METERS:"]
[{"$f":"MAX(A8:A11)+NoOne","v":2},"Allocation Basis:  Weighted Customers",null,{"$f":"SUM(E12:K12)","v":55919.03903678972},{"$f":"HLOOKUP(E$9,CUSTOMERS,3,FALSE)","v":34435.509509791285},{"$f":"HLOOKUP(F$9,CUSTOMERS,3,FALSE)","v":915.23972113273999},{"$f":"HLOOKUP(G$9,CUSTOMERS,3,FALSE)","v":3628.6922373446932},{"$f":"HLOOKUP(H$9,CUSTOMERS,3,FALSE)","v":1237.4655348568378},null,null,{"$f":"HLOOKUP(K$9,CUSTOMERS,3,FALSE)","v":15702.13203366416},null,null,null,{"$f":"MAX(O8:O11)+NoOne","v":2},"Allocation Basis:  Weighted Customers",null,{"$f":"SUM(S12:Y12)","v":55919.03903678972},{"$f":"HLOOKUP(S$9,CUSTOMERS,3,FALSE)","v":34435.509509791285},{"$f":"HLOOKUP(T$9,CUSTOMERS,3,FALSE)","v":915.23972113273999},{"$f":"HLOOKUP(U$9,CUSTOMERS,3,FALSE)","v":3628.6922373446932},{"$f":"HLOOKUP(V$9,CUSTOMERS,3,FALSE)","v":1237.4655348568378},null,null,{"$f":"HLOOKUP(Y$9,CUSTOMERS,3,FALSE)","v":15702.13203366416}]
[]
[{"$f":"MAX(A11:A13)+NoOne","v":3},"Original Cost Plant:",null,null,null,null,null,null,null,null,null,null,null,null,{"$f":"MAX(O11:O13)+NoOne","v":3},"Original Cost Plant:"]
[{"$f":"MAX(A12:A14)+NoOne","v":4},"Meters to be Allocated","D01",{"$f":"SUM(E15:K15)","v":12478938.83},2261471.0099999998,2500,null,null,0,7014039.4800000004,3200928.34,null,null,null,{"$f":"MAX(O12:O14)+NoOne","v":4},"Meters to be Allocated","D01",{"$f":"SUM(S15:Y15)","v":17768231.684148043},6108451.8986654924,9434.8015059731697,null,null,0,8000907.9623981845,3649437.0215783953]
[{"$f":"MAX(A13:A15)+NoOne","v":5},"AMR Project","G04",{"$f":"SUM(E16:K16)","v":0},null,null,null,null,null,0,null,null,null,null,{"$f":"MAX(O13:O15)+NoOne","v":5},"AMR Project","G04",{"$f":"SUM(S16:Y16)","v":0},null,null,null,null,null,0]
[{"$f":"MAX(A14:A16)+NoOne","v":6},"Meters to be Allocated",null,{"$f":"SUM(E17:K17)","v":12478938.83},{"$f":"SUM(E15:E16)","v":2261471.0099999998},2500,0,0,0,7014039.4800000004,3200928.34,null,null,null,{"$f":"MAX(O14:O16)+NoOne","v":6},"Meters to be Allocated",null,{"$f":"SUM(S17:Y17)","v":17768231.684148043},{"$f":"SUM(S15:S16)","v":6108451.8986654924},9434.8015059731697,0,0,0,8000907.9623981845,3649437.0215783953]
[]
[{"$f":"MAX(A16:A18)+NoOne","v":7},"Allocated Meters",null,{"$f":"SUM(E19:K19)","v":12478938.83},{"$f":"+E$12/$D$12*$D17","v":7684656.677841913},{"$f":"+F$12/$D$12*$D17","v":204245.65034616529},809781.94981012854,276153.82845817663,0,0,3504100.723543616,null,null,null,{"$f":"MAX(O16:O18)+NoOne","v":7},"Allocated Meters",null,{"$f":"SUM(S19:Y19)","v":12478938.83},{"$f":"+S$12/$D$12*$D17","v":7684656.677841913},{"$f":"+T$12/$D$12*$D17","v":204245.65034616529},809781.94981012854,276153.82845817663,0,0,3504100.723543616]
[{"$f":"MAX(A17:A19)+NoOne","v":8},"Direct Meters","D01",{"$f":"SUM(E20:K20)","v":0},null,null,null,null,null,null,null,null,null,null,{"$f":"MAX(O17:O19)+NoOne","v":8},"Direct Meters","D01",{"$f":"SUM(S20:Y20)","v":0}]
[{"$f":"MAX(A18:A20)+NoOne","v":9},"Total Plant Meters","SMET01",{"$f":"SUM(D19:D20)","v":12478938.83},7684656.677841913,204245.65034616529,809781.94981012854,276153.82845817663,0,0,3504100.723543616,null,null,null,{"$f":"MAX(O18:O20)+NoOne","v":9},"Total Plant Meters","SMET01",{"$f":"SUM(R19:R20)","v":12478938.83},7684656.677841913,204245.65034616529,809781.94981012854,276153.82845817663,0,0,3504100.723543616]
[]
[{"$f":"MAX(A20:A22)+NoOne","v":10},"Net Book Value:",null,null,null,null,null,null,null,null,null,null,null,null,{"$f":"MAX(O20:O22)+NoOne","v":10},"Net Book Value:"]
[{"$f":"MAX(A21:A23)+NoOne","v":11},"Meters to be Allocated","D01",{"$f":"SUM(E24:K24)","v":7884982.7751549995},393897.62274499988,9.5589999999999998E-3,null,null,0,4655600.5232961671,2835484.6195548326,null,null,null,{"$f":"MAX(O21:O23)+NoOne","v":11},"Meters to be Allocated","D01",{"$f":"SUM(S24:Y24)","v":7884982.7751549995},393897.62274499988,9.5589999999999998E-3,null,null,0,4655600.5232961671,2835484.6195548326]
[{"$f":"MAX(A22:A24)+NoOne","v":12},"AMR Project","G04",{"$f":"SUM(E25:K25)","v":0},null,null,null,null,null,0,null,null,null,null,{"$f":"MAX(O22:O24)+NoOne","v":12},"AMR Project","G04",{"$f":"SUM(S25:Y25)","v":0},null,null,null,null,null,0]
[{"$f":"MAX(A23:A25)+NoOne","v":13},null,"G05",{"$f":"SUM(E26:K26)","v":0},null,null,null,null,null,0,null,null,null,null,{"$f":"MAX(O23:O25)+NoOne","v":13},null,"G05",{"$f":"SUM(S26:Y26)","v":0},null,null,null,null,null,0]
[{"$f":"MAX(A24:A26)+NoOne","v":14},"Meters to be Allocated",null,{"$f":"SUM(E27:K27)","v":7884982.7751549995},{"$f":"SUM(E24:E25)","v":393897.62274499988},9.5589999999999998E-3,0,0,0,{"$f":"SUM(J24:J26)","v":4655600.5232961671},2835484.6195548326,null,null,null,{"$f":"MAX(O24:O26)+NoOne","v":14},"Meters to be Allocated",null,{"$f":"SUM(S27:Y27)","v":7884982.7751549995},{"$f":"SUM(S24:S25)","v":393897.62274499988},{"$f":"SUM(T24:T25)","v":9.5589999999999998E-3},{"$f":"SUM(U24:U25)","v":0},{"$f":"SUM(V24:V25)","v":0},{"$f":"SUM(W24:W25)","v":0},{"$f":"SUM(X24:X26)","v":4655600.5232961671},{"$f":"SUM(Y24:Y25)","v":2835484.6195548326}]
[]
[{"$f":"MAX(A26:A28)+NoOne","v":15},"Allocated Meters",null,{"$f":"SUM(E29:K29)","v":7884982.7751549995},{"$f":"+E$12/$D$12*$D27","v":4855652.1001684666},{"$f":"+F$12/$D$12*$D27","v":129055.31927187466},511671.4500221886,174491.45398894718,0,0,2214112.4517035224,null,null,null,{"$f":"MAX(O26:O28)+NoOne","v":15},"Allocated Meters",null,{"$f":"SUM(S29:Y29)","v":7884982.7751549995},{"$f":"+S$12/$D$12*$D27","v":4855652.1001684666},{"$f":"+T$12/$D$12*$D27","v":129055.31927187466},511671.4500221886,174491.45398894718,0,0,2214112.4517035224]
[{"$f":"MAX(A27:A29)+NoOne","v":16},"Direct Meters","D01",{"$f":"SUM(E30:K30)","v":0},null,null,null,null,null,null,null,null,null,null,{"$f":"MAX(O27:O29)+NoOne","v":16},"Direct Meters","D01",{"$f":"SUM(S30:Y30)","v":0}]
[{"$f":"MAX(A28:A30)+NoOne","v":17},"Total NBV Meters","SMET02",{"$f":"SUM(D29:D30)","v":7884982.7751549995},4855652.1001684666,129055.31927187466,511671.4500221886,174491.45398894718,0,0,2214112.4517035224,null,null,null,{"$f":"MAX(O28:O30)+NoOne","v":17},"Total NBV Meters","SMET02",{"$f":"SUM(R29:R30)","v":7884982.7751549995},4855652.1001684666,129055.31927187466,511671.4500221886,174491.45398894718,0,0,2214112.4517035224]
[]
[{"$f":"MAX(A30:A32)+NoOne","v":18},"Depreciation:",null,null,null,null,null,null,null,null,null,null,null,null,{"$f":"MAX(O30:O32)+NoOne","v":18},"Depreciation:"]
[{"$f":"MAX(A31:A33)+NoOne","v":19},"Meters to be Allocated","D01",{"$f":"SUM(E34:K34)","v":550586.4832299999},42304.518169999974,2.9399999999999999E-4,0,0,0,347253.06224699994,161028.90251900002,null,null,null,{"$f":"MAX(O31:O33)+NoOne","v":19},"Meters to be Allocated","D01",{"$f":"SUM(S34:Y34)","v":550586.4832299999},42304.518169999974,2.9399999999999999E-4,0,0,0,347253.06224699994,161028.90251900002]
[{"$f":"MAX(A32:A34)+NoOne","v":20},"AMR Project","G05",{"$f":"SUM(E35:K35)","v":0},null,null,null,null,null,0,null,null,null,null,{"$f":"MAX(O32:O34)+NoOne","v":20},"AMR Project","G05",{"$f":"SUM(S35:Y35)","v":0},null,null,null,null,null,0]
[{"$f":"MAX(A33:A35)+NoOne","v":21},"Meters to be Allocated",null,{"$f":"SUM(E36:K36)","v":550586.4832299999},{"$f":"SUM(E34:E35)","v":42304.518169999974},2.9399999999999999E-4,0,0,0,347253.06224699994,161028.90251900002,null,null,null,{"$f":"MAX(O33:O35)+NoOne","v":21},"Meters to be Allocated",null,{"$f":"SUM(S36:Y36)","v":550586.4832299999},{"$f":"SUM(S34:S35)","v":42304.518169999974},2.9399999999999999E-4,0,0,0,347253.06224699994,161028.90251900002]
[]
[{"$f":"MAX(A35:A37)+NoOne","v":22},"Allocated Meters",null,{"$f":"SUM(E38:K38)","v":550586.4832299999},{"$f":"+E$12/$D$12*$D36","v":339056.72210774937},9011.5750923285323,35728.598561380313,12184.254391548144,0,0,{"$f":"+$K$12/$D$12*$D36","v":154605.3330769935},null,null,null,{"$f":"MAX(O35:O37)+NoOne","v":22},"Allocated Meters",null,{"$f":"SUM(S38:Y38)","v":550586.4832299999},{"$f":"+S$12/$D$12*$D36","v":339056.72210774937},9011.5750923285323,35728.598561380313,12184.254391548144,0,0,{"$f":"+$K$12/$D$12*$D36","v":154605.3330769935}]
[{"$f":"MAX(A36:A38)+NoOne","v":23},"Direct Meters","D01",{"$f":"SUM(E39:K39)","v":0},null,null,null,null,null," ",null,null,null,null,{"$f":"MAX(O36:O38)+NoOne","v":23},"Direct Meters","D01",{"$f":"SUM(S39:Y39)","v":0},null,null,null,null,null," "]
[{"$f":"MAX(A37:A39)+NoOne","v":24},"Total Deprecn Meters","SMET03",{"$f":"SUM(D38:D39)","v":550586.4832299999},339056.72210774937,9011.5750923285323,35728.598561380313,12184.254391548144,0,0,154605.3330769935,null,null,null,{"$f":"MAX(O37:O39)+NoOne","v":24},"Total Deprecn Meters","SMET03",{"$f":"SUM(R38:R39)","v":550586.4832299999},339056.72210774937,9011.5750923285323,35728.598561380313,12184.254391548144,0,0,154605.3330769935]
[]
[{"$f":"MAX(A39:A41)+NoOne","v":25},"SOFTWARE CUSTOMER SERVICES",null,null,null,null,null,null,null,null,null,null,null,null,{"$f":"MAX(O39:O41)+NoOne","v":25},"SOFTWARE CUSTOMER SERVICES"]
[{"$f":"MAX(A40:A42)+NoOne","v":26},"Allocation Basis:  Customers",null,{"$f":"SUM(E43:M43)","v":40061.25},{"$f":"HLOOKUP(E$9,CUSTOMERS,4,FALSE)","v":23853},{"$f":"HLOOKUP(F$9,CUSTOMERS,4,FALSE)","v":826.5},{"$f":"HLOOKUP(G$9,CUSTOMERS,4,FALSE)","v":2789},{"$f":"HLOOKUP(H$9,CUSTOMERS,4,FALSE)","v":933.5},0,0,{"$f":"HLOOKUP(K$9,CUSTOMERS,4,FALSE)","v":11659.25},null,null,null,{"$f":"MAX(O40:O42)+NoOne","v":26},"Allocation Basis:  Customers",null,{"$f":"SUM(S43:AA43)","v":40061.25},{"$f":"HLOOKUP(S$9,CUSTOMERS,4,FALSE)","v":23853},{"$f":"HLOOKUP(T$9,CUSTOMERS,4,FALSE)","v":826.5},{"$f":"HLOOKUP(U$9,CUSTOMERS,4,FALSE)","v":2789},{"$f":"HLOOKUP(V$9,CUSTOMERS,4,FALSE)","v":933.5},0,0,{"$f":"HLOOKUP(Y$9,CUSTOMERS,4,FALSE)","v":11659.25}]
[]
[{"$f":"MAX(A42:A44)+NoOne","v":27},"Original Cost Plant:",null,null,null,null,null,null,null,null,null,null,null,null,{"$f":"MAX(O42:O44)+NoOne","v":27},"Original Cost Plant:"]
[{"$f":"MAX(A43:A45)+NoOne","v":28},"Software Cus Svcs to be Allocated","CS01",{"$f":"SUM(E46:M46)","v":0},0,null,null,null,null,null,0,null,null,null,{"$f":"MAX(O43:O45)+NoOne","v":28},"Software Cus Svcs to be Allocated","CS01",{"$f":"SUM(S46:AA46)","v":0},0,null,null,null,null,null,0]
[{"$f":"MAX(A44:A46)+NoOne","v":29},"Software Cus Svcs Allocated","SCS1_01",{"$f":"SUM(E47:L47)","v":0},{"$f":"+E$43/$D$43*$D46","v":0},{"$f":"+F$43/$D$43*$D46","v":0},{"$f":"+G$43/$D$43*$D46","v":0},{"$f":"+H$43/$D$43*$D46","v":0},null,null,{"$f":"+M$43/$D$43*$D46","v":0},null,null,null,{"$f":"MAX(O44:O46)+NoOne","v":29},"Software Cus Svcs Allocated","SCS1_01",{"$f":"SUM(S47:Z47)","v":0},{"$f":"+S$43/$D$43*$D46","v":0},{"$f":"+T$43/$D$43*$D46","v":0},{"$f":"+U$43/$D$43*$D46","v":0},{"$f":"+V$43/$D$43*$D46","v":0},null,null,{"$f":"+AA$43/$D$43*$D46","v":0}]
[]
[{"$f":"MAX(A46:A48)+NoOne","v":30},"Net Book Value:",null,null,null,null,null,null,null,null,null,null,null,null,{"$f":"MAX(O46:O48)+NoOne","v":30},"Net Book Value:"]
[{"$f":"MAX(A47:A49)+NoOne","v":31},"Software Cus Svcs to be Allocated","CS01",{"$f":"SUM(E50:L50)","v":0},0,null,null,null,null,null,0,null,null,null,{"$f":"MAX(O47:O49)+NoOne","v":31},"Software Cus Svcs to be Allocated","CS01",{"$f":"SUM(S50:Z50)","v":0},0,null,null,null,null,null,0]
[{"$f":"MAX(A48:A50)+NoOne","v":32},"Software Cus Svcs Allocated","SCS1_02",{"$f":"SUM(E51:L51)","v":0},{"$f":"+E$43/$D$43*$D50","v":0},{"$f":"+F$43/$D$43*$D50","v":0},{"$f":"+G$43/$D$43*$D50","v":0},{"$f":"+H$43/$D$43*$D50","v":0},null,null,{"$f":"+M$43/$D$43*$D50","v":0},null,null,null,{"$f":"MAX(O48:O50)+NoOne","v":32},"Software Cus Svcs Allocated","SCS1_02",{"$f":"SUM(S51:Z51)","v":0},{"$f":"+S$43/$D$43*$D50","v":0},{"$f":"+T$43/$D$43*$D50","v":0},{"$f":"+U$43/$D$43*$D50","v":0},{"$f":"+V$43/$D$43*$D50","v":0},null,null,{"$f":"+AA$43/$D$43*$D50","v":0}]
[]
[{"$f":"MAX(A50:A52)+NoOne","v":33},"Depreciation Expense",null,null,null,null,null,null,null,null,null,null,null,null,{"$f":"MAX(O50:O52)+NoOne","v":33},"Depreciation Expense"]
[{"$f":"MAX(A51:A53)+NoOne","v":34},"Software Cus Svcs to be Allocated","CS01",{"$f":"SUM(E54:L54)","v":0},0,0,0,0,0,0,0,null,null,null,{"$f":"MAX(O51:O53)+NoOne","v":34},"Software Cus Svcs to be Allocated","CS01",{"$f":"SUM(S54:Z54)","v":0},0,0,0,0,0,0,0]
[{"$f":"MAX(A52:A54)+NoOne","v":35},"Software Cus Svcs Allocated","SCS1_03",{"$f":"SUM(E55:L55)","v":0},{"$f":"+E$43/$D$43*$D54","v":0},{"$f":"+F$43/$D$43*$D54","v":0},{"$f":"+G$43/$D$43*$D54","v":0},{"$f":"+H$43/$D$43*$D54","v":0},null,null,{"$f":"+M$43/$D$43*$D54","v":0},null,null,null,{"$f":"MAX(O52:O54)+NoOne","v":35},"Software Cus Svcs Allocated","SCS1_03",{"$f":"SUM(S55:Z55)","v":0},{"$f":"+S$43/$D$43*$D54","v":0},{"$f":"+T$43/$D$43*$D54","v":0},{"$f":"+U$43/$D$43*$D54","v":0},{"$f":"+V$43/$D$43*$D54","v":0},null,null,{"$f":"+AA$43/$D$43*$D54","v":0}]
[]
[{"$f":"MAX(A54:A56)+NoOne","v":36},"COMPUTER SOFTWARE GENERAL",null,null,null,null,null,null,null,null,null,null,null,null,{"$f":"MAX(O54:O56)+NoOne","v":36},"COMPUTER SOFTWARE GENERAL"]
[{"$f":"MAX(A55:A57)+NoOne","v":37},"Original Cost Plant:",null,null,null,null,null,null,null,null,null,null,null,null,{"$f":"MAX(O55:O57)+NoOne","v":37},"Original Cost Plant:"]
[{"$f":"MAX(A56:A58)+NoOne","v":38},"Allocation Basis - Direct Plant",null,{"$f":"SUM(E59:L59)","v":3110867173.558382},{"$f":"+IslIntCos!F51","v":2745383118.4497042},{"$f":"+IslIsoCos!F39","v":15857403.246846166},{"$f":"+LabIsoCos!F39","v":126813103.82758015},{"$f":"+LALCos!F39","v":25761511.458458155},0,0,{"$f":"+LabIntCos!F41","v":197052036.57579353},null,null,null,{"$f":"MAX(O56:O58)+NoOne","v":38},"Allocation Basis - Direct Plant",null,{"$f":"SUM(S59:Z59)","v":3110867173.558382},{"$f":"+IslIntCos!F51","v":2745383118.4497042},{"$f":"+IslIsoCos!F39","v":15857403.246846166},{"$f":"+LabIsoCos!F39","v":126813103.82758015},{"$f":"+LALCos!F39","v":25761511.458458155},0,0,{"$f":"+LabIntCos!F41","v":197052036.57579353}]
[]
[{"$f":"MAX(A58:A60)+NoOne","v":39},"Software General to be Allocated","CS02",{"$f":"SUM(E61:L61)","v":1690245.8804318346},421314.78113000112,6.9490000000000003E-3,0,0,1270823.1063138333,0,-1892.0139610000001,null,null,null,{"$f":"MAX(O58:O60)+NoOne","v":39},"Software General to be Allocated","CS02",{"$f":"SUM(S61:Z61)","v":1690245.8804318346},421314.78113000112,6.9490000000000003E-3,0,0,1270823.1063138333,0,-1892.0139610000001]
[{"$f":"MAX(A59:A61)+NoOne","v":40},"Software General Allocated","SCS2_01",{"$f":"SUM(E62:L62)","v":1690245.8804318346},{"$f":"+E$59/$D$59*$D61","v":1491665.2647881461},{"$f":"+F$59/$D$59*$D61","v":8615.8967956415436},{"$f":"+G$59/$D$59*$D61","v":68902.114545817079},{"$f":"+H$59/$D$59*$D61","v":13997.154551137321},null,null,{"$f":"+K$59/$D$59*$D61","v":107065.44975109254},null,null,null,{"$f":"MAX(O59:O61)+NoOne","v":40},"Software General Allocated","SCS2_01",{"$f":"SUM(S62:Z62)","v":1690245.8804318346},{"$f":"+S$59/$D$59*$D61","v":1491665.2647881461},{"$f":"+T$59/$D$59*$D61","v":8615.8967956415436},{"$f":"+U$59/$D$59*$D61","v":68902.114545817079},{"$f":"+V$59/$D$59*$D61","v":13997.154551137321},null,null,{"$f":"+Y$59/$D$59*$D61","v":107065.44975109254}]
[]
[{"$f":"MAX(A61:A63)+NoOne","v":41},"Net Book Value:",null,null,null,null,null,null,null,null,null,null,null,null,{"$f":"MAX(O61:O63)+NoOne","v":41},"Net Book Value:"]
[{"$f":"MAX(A62:A64)+NoOne","v":42},"Allocation Basis - Direct Plant",null,{"$f":"SUM(E65:L65)","v":2076075910.9037464},{"$f":"+IslIntCos!F109","v":1841352433.4013863},{"$f":"+IslIsoCos!F88","v":15697285.133182712},{"$f":"+LabIsoCos!F88","v":82433717.455998078},{"$f":"+LALCos!F88","v":14474193.477509949},null,null,{"$f":"+LabIntCos!F91","v":122118281.43566918},null,null,null,{"$f":"MAX(O62:O64)+NoOne","v":42},"Allocation Basis - Direct Plant",null,{"$f":"SUM(S65:Z65)","v":2076075910.9037464},{"$f":"+IslIntCos!F109","v":1841352433.4013863},{"$f":"+IslIsoCos!F88","v":15697285.133182712},{"$f":"+LabIsoCos!F88","v":82433717.455998078},{"$f":"+LALCos!F88","v":14474193.477509949},null,null,{"$f":"+LabIntCos!F91","v":122118281.43566918}]
[]
[{"$f":"MAX(A64:A66)+NoOne","v":43},"Software General to be Allocated","CS02",{"$f":"SUM(E67:L67)","v":1690245.8804318346},421314.78113000112,6.9490000000000003E-3,0,0,1270823.1063138333,0,-1892.0139610000001,null,null,null,{"$f":"MAX(O64:O66)+NoOne","v":43},"Software General to be Allocated","CS02",{"$f":"SUM(S67:Z67)","v":1690245.8804318346},421314.78113000112,6.9490000000000003E-3,0,0,1270823.1063138333,0,-1892.0139610000001]
[{"$f":"MAX(A65:A67)+NoOne","v":44},"Software General Allocated","SCS2_02",{"$f":"SUM(E68:L68)","v":1690245.8804318344},{"$f":"+E$65/$D$65*$D67","v":1499144.7801275149},{"$f":"+F$65/$D$65*$D67","v":12780.010302598268},{"$f":"+G$65/$D$65*$D67","v":67113.755622755023},{"$f":"+H$65/$D$65*$D67","v":11784.225118861175},0,0,{"$f":"+K$65/$D$65*$D67","v":99423.109260105019},null,null,null,{"$f":"MAX(O65:O67)+NoOne","v":44},"Software General Allocated","SCS2_02",{"$f":"SUM(S68:Z68)","v":1690245.8804318344},{"$f":"+S$65/$D$65*$D67","v":1499144.7801275149},{"$f":"+T$65/$D$65*$D67","v":12780.010302598268},{"$f":"+U$65/$D$65*$D67","v":67113.755622755023},{"$f":"+V$65/$D$65*$D67","v":11784.225118861175},0,0,{"$f":"+Y$65/$D$65*$D67","v":99423.109260105019}]
[]
[{"$f":"MAX(A67:A69)+NoOne","v":45},"Depreciation Expense:",null,null,null,null,null,null,null,null,null,null,null,null,{"$f":"MAX(O67:O69)+NoOne","v":45},"Depreciation Expense:"]
[{"$f":"MAX(A68:A70)+NoOne","v":46},"Allocation Basis - Direct Plant",null,{"$f":"SUM(E71:L71)","v":84523268.694885045},{"$f":"+IslIntCos!F169","v":73328936.122160792},{"$f":"+IslIsoCos!F138","v":859136.7975543288},{"$f":"+LabIsoCos!F138","v":4379792.1014287118},{"$f":"+LALCos!F138","v":835775.62287754798},null,null,{"$f":"+LabIntCos!F141","v":5119628.0508636571},null,null,null,{"$f":"MAX(O68:O70)+NoOne","v":46},"Allocation Basis - Direct Plant",null,{"$f":"SUM(S71:Z71)","v":84523268.694885045},{"$f":"+IslIntCos!F169","v":73328936.122160792},{"$f":"+IslIsoCos!F138","v":859136.7975543288},{"$f":"+LabIsoCos!F138","v":4379792.1014287118},{"$f":"+LALCos!F138","v":835775.62287754798},null,null,{"$f":"+LabIntCos!F141","v":5119628.0508636571}]
[]
[{"$f":"MAX(A70:A72)+NoOne","v":47},"Software General to be Allocated","CS02",{"$f":"SUM(E73:L73)","v":911461.08214233373},299754.05339600029,2.0340000000000002E-3,0,0,611818.91073833348,0,-111.88402600000001,null,null,null,{"$f":"MAX(O70:O72)+NoOne","v":47},"Software General to be Allocated","CS02",{"$f":"SUM(S73:Z73)","v":911461.08214233373},299754.05339600029,2.0340000000000002E-3,0,0,611818.91073833348,0,-111.88402600000001]
[{"$f":"MAX(A71:A73)+NoOne","v":48},"Software General Allocated","SCS2_03",{"$f":"SUM(E74:L74)","v":911461.08214233362},{"$f":"+E$71/$D$71*$D73","v":790746.41222784808},{"$f":"+F$71/$D$71*$D73","v":9264.5465242703685},{"$f":"+G$71/$D$71*$D73","v":47229.716857462678},{"$f":"+H$71/$D$71*$D73","v":9012.6300771216156},null,null,{"$f":"+K$71/$D$71*$D73","v":55207.776455630861},null,null,null,{"$f":"MAX(O71:O73)+NoOne","v":48},"Software General Allocated","SCS2_03",{"$f":"SUM(S74:Z74)","v":911461.08214233362},{"$f":"+S$71/$D$71*$D73","v":790746.41222784808},{"$f":"+T$71/$D$71*$D73","v":9264.5465242703685},{"$f":"+U$71/$D$71*$D73","v":47229.716857462678},{"$f":"+V$71/$D$71*$D73","v":9012.6300771216156},null,null,{"$f":"+Y$71/$D$71*$D73","v":55207.776455630861}]
[]
[null,null,null,null,null,null,null,null,null,null,null,null,"BkpSysPlant",null,null,null,null,null,null,null,null,null,null,null,null,null,"BkpSysPlant"]
[null,null,null,null,null,null,null,null,null,null,null,null,"Page 2 of 2",null,null,null,null,null,null,null,null,null,null,null,null,null,"Page 2 of 2"]
[]
[{"$f":"+A3","v":"NEWFOUNDLAND AND LABRADOR HYDRO"},null,null,null,null,null,null,null,null,null,null,null,null,null,{"$f":"+O3","v":"NEWFOUNDLAND AND LABRADOR HYDRO"}]
[{"$f":"RunName","v":"2019 Test Year Cost of Service Study"},null,null,null,null,null,null,null,null,null,null,null,null,null,{"$f":"RunName","v":"2019 Test Year Cost of Service Study"}]
["Supplemental Plant Allocation - Computer Software",null,null,null,null,null,null,null,null,null,null,null,null,null,"Supplemental Plant Allocation - Computer Software"]
[]
[null,{"$f":"MAX(A83)+NoOne","v":1},2,3,4,5,6,7,8,9,10,null,null,null,null,{"$f":"MAX(O83)+NoOne","v":1},2,3,4,5,6,7,8,9,10]
[]
["Line ",null,null,null,"Island","Island","Labrador","L'Anse au","All Systems","All Systems","Labrador",null,null,null,"Line ",null,null,null,"Island","Island","Labrador","L'Anse au","All Systems","All Systems","Labrador"]
["No",null,"Ref.","Total","Interconnected","Isolated","Isolated","Loup","General Plant","Meters","Interconnected",null,null,null,"No",null,"Ref.","Total","Interconnected","Isolated","Isolated","Loup","General Plant","Meters","Interconnected"]
[null,null,null,null,100,200,300,700,null,null,99,null,null,null,null,null,null,null,100,200,300,700,null,null,99]
[]
[{"$f":"MAX(A74:A88)+NoOne","v":49},"Allocation Basis - General Plant:",null,null,null,null,null,null,null,null,null,null,null,null,{"$f":"MAX(O74:O88)+NoOne","v":49},"Allocation Basis - General Plant:"]
[{"$f":"MAX(A87:A89)+NoOne","v":50},{"$f":"+OverheadAlloc","v":"Expenses"},{"$f":"IF(OverheadAlloc=\"Expenses\",\"E-GTDC\",\"L-GTDC\")","v":"E-GTDC"},{"$f":"SUM(E90:L90)","v":1.0000000000000002},{"$f":"VLOOKUP($C90,ratiossystem,'O&M Summary'!F$114,FALSE)","v":0.74545115695017672},{"$f":"VLOOKUP($C90,ratiossystem,'O&M Summary'!G$114,FALSE)","v":4.9380817433919755E-2},{"$f":"VLOOKUP($C90,ratiossystem,'O&M Summary'!H$114,FALSE)","v":0.1171439237588574},{"$f":"VLOOKUP($C90,ratiossystem,'O&M Summary'!I$114,FALSE)","v":1.0568475046649102E-2},null,null,{"$f":"VLOOKUP($C90,ratiossystem,'O&M Summary'!J$114,FALSE)","v":7.745562681039718E-2},null,null,null,{"$f":"MAX(O87:O89)+NoOne","v":50},{"$f":"+OverheadAlloc","v":"Expenses"},{"$f":"IF(OverheadAlloc=\"Expenses\",\"E-GTDC\",\"L-GTDC\")","v":"E-GTDC"},{"$f":"SUM(S90:Z90)","v":1.0000000000000002},{"$f":"VLOOKUP($C90,ratiossystem,'O&M Summary'!F$114,FALSE)","v":0.74545115695017672},{"$f":"VLOOKUP($C90,ratiossystem,'O&M Summary'!G$114,FALSE)","v":4.9380817433919755E-2},{"$f":"VLOOKUP($C90,ratiossystem,'O&M Summary'!H$114,FALSE)","v":0.1171439237588574},{"$f":"VLOOKUP($C90,ratiossystem,'O&M Summary'!I$114,FALSE)","v":1.0568475046649102E-2},null,null,{"$f":"VLOOKUP($C90,ratiossystem,'O&M Summary'!J$114,FALSE)","v":7.745562681039718E-2}]
[]
[{"$f":"MAX(A89:A91)+NoOne","v":51},"Original Cost Plant:",null,null,null,null,null,null,null,null,null,null,null,null,{"$f":"MAX(O89:O91)+NoOne","v":51},"Original Cost Plant:"]
[52,"General Plant, by System","G04",{"$f":"SUM(E93:L93)","v":138225140.20225161},82053808.172251657,311454.27000000008,3337999.6200000024,975630.22000000009,41177101.809999965,0,10369146.109999998,null,null,null,52,"General Plant, by System","G04",{"$f":"SUM(S93:Z93)","v":178469427.49269453},99677929.074768648,423852.11492637818,3953017.0706080575,1179879.3808498599,60242878.571691953,0,12991871.279849619]
[53,"To Meters",null,0,null,null,null,null,null,{"$f":"-J93","v":0},null,null,null,null,53,"To Meters",null,0,null,null,null,null,null,{"$f":"-X93","v":0}]
[54,"Feasibility Studies General","G10",406298.56,0,0,0,0,406298.56,null,null,null,null,null,54,"Feasibility Studies General","G10",471875.89450500475,0,0,0,0,471875.89450500475]
[55,"Telecontrol, by System","G05",90798667.775000513,67328921.015000641,134440.14000000001,570460.23999999976,86828.5,20438228.439999878,0,2239789.4399999995,null,null,null,55,"Telecontrol, by System","G05",114220512.14786637,87905308.028720617,149023.80923278467,637052.73763311433,142101.75421008389,22506522.363236669,0,2880503.4548331075]
[56,"Less Hydro Place - to be re-allocated","HYPLACE_OAM",-85760955.809999853,-23739327,null,null,null,{"$f":"-(+I93+I95+I96)","v":-62021628.809999846},null,null,null,null,null,56,"Less Hydro Place - to be re-allocated","HYPLACE_OAM",-85760955.809999853,-23739327,null,null,null,{"$f":"I97","v":-62021628.809999846}]
[57,"Plus Hydro Place Allocated",null,85760955.809999868,{"$f":"-$D97*E$90","v":63930603.729717374},{"$f":"-$D97*F$90","v":4234946.1018120628},{"$f":"-$D97*G$90","v":10046374.868893363},{"$f":"-$D97*H$90","v":906362.52145475976},null,null,{"$f":"-$D97*K$90","v":6642668.588122312},null,null,null,57,"Plus Hydro Place Allocated",null,85760955.809999868,{"$f":"-$D97*S$90","v":63930603.729717374},{"$f":"-$D97*T$90","v":4234946.1018120628},{"$f":"-$D97*U$90","v":10046374.868893363},{"$f":"-$D97*V$90","v":906362.52145475976},null,null,{"$f":"-$D97*Y$90","v":6642668.588122312}]
[58,"Total OC General Plant","SGPLT01",{"$f":"SUM(D93:D98)","v":229430106.53725213},{"$f":"SUM(E93:E98)","v":189574005.91696966},4680840.5118120629,13954834.728893366,1968821.2414547601,0,0,{"$f":"SUM(K93:K98)","v":19251604.138122309},null,null,null,58,"Total OC General Plant","SGPLT01",{"$f":"SUM(R93:R98)","v":293161815.53506589},{"$f":"SUM(S93:S98)","v":227774513.83320665},4807822.0259712255,14636444.677134534,2228343.6565147038,21199648.019433774,0,{"$f":"SUM(Y93:Y98)","v":22515043.32280504}]
[]
[{"$f":"MAX(A98:A100)+NoOne","v":59},"Net Book Value",null,null,null,null,null,null,null,null,null,null,null,null,{"$f":"MAX(O98:O100)+NoOne","v":59},"Net Book Value"]
[60,"General Plant, by System","G04",{"$f":"SUM(E102:L102)","v":72672006.092520893},43325149.759373829,99367.761325666608,1706900.3694471696,376538.5236110001,21815596.442747518,0,5348453.2360157007,null,null,null,60,"General Plant, by System","G04",{"$f":"SUM(S102:Z102)","v":72672006.092520893},43325149.759373829,99367.761325666608,1706900.3694471696,376538.5236110001,21815596.442747518,0,5348453.2360157007]
[61,"To Meters",null,0,null,null,null,null,null,{"$f":"-J102","v":0},null,null,null,null,61,"To Meters",null,0,null,null,null,null,null,{"$f":"-X102","v":0}]
[62,"Feasibility Studies General","G10",-13071.4537055,0,0,0,0,-13071.4537055,null,null,null,null,null,62,"Feasibility Studies General","G10",-13071.4537055,0,0,0,0,-13071.4537055]
[63,"Telecontrol, by System","G05",23158095.049769882,18316639.077377371,6774.4805890000007,150781.7379985,1641.9470840000001,4020992.0320220124,0,661265.77469900029,null,null,null,63,"Telecontrol, by System","G05",23158095.049769882,18316639.077377371,6774.4805890000007,150781.7379985,1641.9470840000001,4020992.0320220124,0,661265.77469900029]
[64,"Less Hydro Place - to be re-allocated","HYPLACE_NBV",-33026318.021064028,-7202801,null,null,null,{"$f":"-(+I102+I104+I105)","v":-25823517.021064028},null,null,null,null,null,64,"Less Hydro Place - to be re-allocated","HYPLACE_NBV",-33026318.021064028,-7202801,null,null,null,{"$f":"-(+W102+W104+W105)","v":-25823517.021064028}]
[65,"Plus Hydro Place Allocated",null,33026318.021064036,{"$f":"-$D106*E$90","v":24619506.978606652},{"$f":"-$D106*F$90","v":1630866.5807127368},{"$f":"-$D106*G$90","v":3868832.4802953028},{"$f":"-$D106*H$90","v":349037.81788831274},null,null,{"$f":"-$D106*K$90","v":2558074.1635610303},null,null,null,65,"Plus Hydro Place Allocated",null,33026318.021064036,{"$f":"-$D106*S$90","v":24619506.978606652},{"$f":"-$D106*T$90","v":1630866.5807127368},{"$f":"-$D106*U$90","v":3868832.4802953028},{"$f":"-$D106*V$90","v":349037.81788831274},null,null,{"$f":"-$D106*Y$90","v":2558074.1635610303}]
[66,"Plus Gain or Loss on Disposal of fixed assets","Grand Total",{"$f":"SUM(E108:L108)","v":3987167.453101167},3780503.7237921669,48098.662606666665,155908.65272133335,0,null,null,2656.4139810000001]
[67,"Total NBV General Plant","SGPLT02",{"$f":"SUM(D102:D108)","v":99804197.141686454},{"$f":"SUM(E102:E108)","v":82838998.539150015},1785107.4852340699,5882423.240462306,727218.28858331288,0,0,8570449.5882567316,null,null,null,{"$f":"MAX(O105:O107)+NoOne","v":66},"Total NBV General Plant","SGPLT02",{"$f":"SUM(R102:R107)","v":95817029.688585281},79058494.815357849,1737008.8226274033,5726514.5877409726,727218.28858331288,0,0,{"$f":"SUM(Y102:Y107)","v":8567793.1742757317}]
[]
[{"$f":"MAX(A107:A110)+NoOne","v":68},"Depreciation",null,null,null,null,null,null,null,null,null,null,null,null,{"$f":"MAX(O107:O110)+NoOne","v":67},"Depreciation"]
[{"$f":"MAX(A109:A111)+NoOne","v":69},"General Plant, by System","G04",{"$f":"SUM(E112:L112)","v":4190397.4204223133},2549488.6249922006,6220.3491606666694,110767.02481300027,48138.65092599998,1167715.1191594459,0,308067.65137099981,null,null,null,{"$f":"MAX(O109:O111)+NoOne","v":68},"General Plant, by System","G04",{"$f":"SUM(S112:Z112)","v":4190397.4204223133},2549488.6249922006,6220.3491606666694,110767.02481300027,48138.65092599998,1167715.1191594459,0,308067.65137099981]
[70,"To Meters",null,0,null,null,null,null,null,{"$f":"-J112","v":0},null,null,null,null,69,"To Meters",null,0,null,null,null,null,null,{"$f":"-X112","v":0}]
[71,"Feasibility Studies General","G10",8816.0691370000004,0,0,0,0,8816.0691370000004,0,0,null,null,null,70,"Feasibility Studies General","G10",8816.0691370000004,0,0,0,0,8816.0691370000004,0,0]
[72,"Telecontrol, by System","G05",2657531.7231743336,1491644.784787996,936.52627399999994,14634.488000999998,472.98194399999994,1088427.9702173371,0,61414.971950000006,null,null,null,71,"Telecontrol, by System","G05",2657531.7231743336,1491644.784787996,936.52627399999994,14634.488000999998,472.98194399999994,1088427.9702173371,0,61414.971950000006]
[73,"Less Hydro Place - to be re-allocated","HYPLACE_DEP",-3002178.158513783,-737219,null,null,null,{"$f":"-(+I112+I114+I115)","v":-2264959.158513783},null,null,null,null,null,72,"Less Hydro Place - to be re-allocated","HYPLACE_DEP",-3002178.158513783,-737219,null,null,null,{"$f":"-(+W112+W114+W115)","v":-2264959.158513783}]
[74,"Plus Hydro Place Allocated",null,3002178.1585137835,{"$f":"-$D116*E$90","v":2237977.1816346506},{"$f":"-$D116*F$90","v":148250.01154967051},{"$f":"-$D116*G$90","v":351686.92931144551},{"$f":"-$D116*H$90","v":31728.444953847869},null,null,{"$f":"-$D116*K$90","v":232535.59106416901},null,null,null,73,"Plus Hydro Place Allocated",null,3002178.1585137835,{"$f":"-$D116*S$90","v":2237977.1816346506},{"$f":"-$D116*T$90","v":148250.01154967051},{"$f":"-$D116*U$90","v":351686.92931144551},{"$f":"-$D116*V$90","v":31728.444953847869},null,null,{"$f":"-$D116*Y$90","v":232535.59106416901}]
[]
[{"$f":"MAX(A115:A117)+NoOne","v":75},"Total Dep'n General Plant","SGPLT03",{"$f":"SUM(D112:D118)","v":6856745.2127336469},{"$f":"SUM(E112:E118)","v":5541891.5914148474},155406.88698433718,477088.44212544581,80340.077823847852,0,0,602018.21438516886,null,null,null,{"$f":"MAX(O115:O117)+NoOne","v":74},"Total Dep'n General Plant","SGPLT03",{"$f":"SUM(R112:R117)","v":6856745.2127336469},5541891.5914148474,155406.88698433718,477088.44212544581,80340.077823847852,0,0,{"$f":"SUM(Y112:Y117)","v":602018.21438516886}]
[]
[null,"NOTE:  Gain or loss on disposal of fixed assets systemized using total in-service NBV, input values."]
[" "]

{"sheet":"IndexPlt","index":42,"n_rows":102,"n_cols":28,"rows_kept":102,"cut":false,"hidden":false,"merged":[]}
[]
[null,null,null,null,null,null,null,null,null,null,null,null,null,null,null,null,null,null,null,"Schedule 2.4 I"]
[null,null,null,null,null,null,null,null,null,null,null,null,null,null,null,null,null,null,null,"Page 1 of 1"]
[]
[null,null,null,"NEWFOUNDLAND AND LABRADOR HYDRO",null,null,null,null,null,null,null,null,null,null,null,null,null,null,null,null,null,null,null,null,"NEWFOUNDLAND AND LABRADOR HYDRO"]
[null,null,null,{"$f":"RunName","v":"2019 Test Year Cost of Service Study"},null,null,null,null,null,null,null,null,null,null,null,null,null,null,null,null,null,null,null,null,{"$f":"RunName","v":"2019 Test Year Cost of Service Study"}]
[null,null,null,{"$f":"IslIntCos!B1","v":"Island Interconnected"},null,null,null,null,null,null,null,null,null,null,null,null,null,null,null,null,null,null,null,null,{"$f":"IslIntCos!B1","v":"Island Interconnected"}]
[null,null,null,"Indexed Plant in Service for the Allocation of O&M Expense",null,null,null,null,null,null,null,null,null,null,null,null,null,null,null,null,null,null,null,null,"Summary of Plant in Service before and after Indexing"]
[null,null,null,null,{"$f":"MAX(D9)+NoOne","v":1},2,3,4,5,6,7,8,9,10,11,12,13,14,15,16,17,18,null,null,null,{"$f":"MAX(Y9)+NoOne","v":1},{"$f":"MAX(Z9)+NoOne","v":2},{"$f":"MAX(AA9)+NoOne","v":3}]
[null,null,null,null,null,null,null,null,null,"Rural Prod &","Distribution",null,null,null,null,null,null,null,null,null,null,"Specifically"]
["Check","Alloc","Code","Line",null,"Total","Production","Production","Transmission","Transmission","Substations","Primary Lines",null,"Line Transformers",null,"Secondary Lines",null,"Services","Meters","Street Lighting","Accounting","Assigned",null,"Line",null,"Historical","Indexed"]
["Column","Factor","Reference","No.","Description ","Amount","Demand","Energy","Demand","Demand","Demand","Demand","Customer","Demand","Customer","Demand","Customer","Customer","Customer","Customer","Customer","Customer",null,"No.","Description ","Plant","Plant"]
[{"$f":"ROUND(SUM(A14:A728),2)","v":0},null,null,null,"Production","($)","($)","($)","($)","($)","($)","($)","($)","($)","($)","($)","($)","($)","($)","($)","($)","($)",null,null,"Production","($)","($)"]
[null,null,null,null,"Hydraulic"," ",null,null,null,null,null,null,null,null,null,null,null,null,null,null,null,null,null,null,"Hydraulic"," "]
[null,null,"P01",{"$f":"MAX(D12:D14)+NoOne","v":1},"Bay D'Espoir",1550375615.5163672,{"$f":"$F15*'Schedule 4.1'!$D$13","v":703852130.58663321},{"$f":"$F15*'Schedule 4.1'!$E$13","v":846523484.92973399},0,0,0,0,0,0,0,0,0,0,0,0,0,0,null,{"$f":"MAX(X12:X14)+NoOne","v":1},"Bay D'Espoir",{"$f":"IslIntCos!F15","v":283399657.96871012},{"$f":"F15","v":1550375615.5163672}]
[null,null,"P10",2,"Upper Salmon",493774030.62550879,{"$f":"$F16*'Schedule 4.1'!$D$13","v":224167550.11227462},{"$f":"$F16*'Schedule 4.1'!$E$13","v":269606480.51323414},0,0,0,0,0,0,0,0,0,0,0,0,0,0,null,2,"Upper Salmon",{"$f":"IslIntCos!F16","v":177079567.16704985},{"$f":"F16","v":493774030.62550879}]
[null,null,"P05",3,"Hinds Lake",275622811.07366955,{"$f":"$F17*'Schedule 4.1'!$D$13","v":125129485.31370357},{"$f":"$F17*'Schedule 4.1'!$E$13","v":150493325.75996599},0,0,0,0,0,0,0,0,0,0,0,0,0,0,null,3,"Hinds Lake",{"$f":"IslIntCos!F17","v":86138997.553250045},275622811.07366955]
[null,null,"P02",4,"Cat Arm",704124391.03887892,{"$f":"$F18*'Schedule 4.1'!$D$13","v":319664117.4375453},{"$f":"$F18*'Schedule 4.1'!$E$13","v":384460273.60133362},0,0,0,0,0,0,0,0,0,0,0,0,0,0,null,4,"Cat Arm",{"$f":"IslIntCos!F18","v":279565999.93999994},704124391.03887892]
[null,null,"P08",5,"Paradise River",54534204.705167994,{"$f":"$F19*'Schedule 4.1'!$D$13","v":24757881.759379927},{"$f":"$F19*'Schedule 4.1'!$E$13","v":29776322.945788067},0,0,0,0,0,0,0,0,0,0,0,0,0,0,null,5,"Paradise River",{"$f":"IslIntCos!F19","v":22797149.34999999},54534204.705167994]
[null,null,"P09",6,"Granite Canal",180298472.10043791,{"$f":"$F20*'Schedule 4.1'!$D$13","v":81853366.667626202},{"$f":"$F20*'Schedule 4.1'!$E$13","v":98445105.432811707},0,0,0,0,0,0,0,0,0,0,0,0,0,0,null,6,"Granite Canal",{"$f":"IslIntCos!F20","v":113415629.00999998},180298472.10043791]
[null,null,"P12",7,"Exploits",0,{"$f":"$F21*'Schedule 4.1'!$D$13","v":0},{"$f":"$F21*'Schedule 4.1'!$E$13","v":0},0,0,0,0,0,0,0,0,0,0,0,0,0,0,null,7,"Exploits",{"$f":"IslIntCos!F21","v":0},0]
[null,null,"P13",8,"Star Lake",0,{"$f":"$F22*'Schedule 4.1'!$D$13","v":0},{"$f":"$F22*'Schedule 4.1'!$E$13","v":0},0,0,0,0,0,0,0,0,0,0,0,0,0,0,null,8,"Star Lake",{"$f":"IslIntCos!F22","v":0},0]
[null,null,"P07",9,"Other Hydraulic",21137085.914486252,{"$f":"$F23*'Schedule 4.1'!$D$13","v":9595986.1638747528},{"$f":"$F23*'Schedule 4.1'!$E$13","v":11541099.750611499},0,{"$f":"+SPLTDetails!$J13","v":0},0,0,0,0,0,0,0,0,0,0,0,0,null,9,"Other Hydraulic",{"$f":"IslIntCos!F23","v":5376974.5100000016},21137085.914486252]
[{"$f":"SUM(G24:V24)-F24","v":0},null," ",{"$f":"MAX(D19:D23)+NoOne","v":10},"Subtotal Hydraulic",{"$f":"SUM(F15:F23)","v":3279866610.9745169},{"$f":"SUM(G15:G23)","v":1489020518.0410376},{"$f":"SUM(H15:H23)","v":1790846092.9334791},{"$f":"SUM(I15:I23)","v":0},{"$f":"SUM(J15:J23)","v":0},0,0,0,0,0,0,0,0,0,0,0,0,null,{"$f":"MAX(X19:X23)+NoOne","v":10},"Subtotal Hydraulic",{"$f":"SUM(Z15:Z23)","v":967773975.49900997},{"$f":"SUM(AA15:AA23)","v":3279866610.9745169}]
[null,null,"P06",{"$f":"MAX(D20:D24)+NoOne","v":11},"Holyrood",1144870403.6162236,{"$f":"$F25*'Schedule 4.1'!D15","v":796371852.75544512},{"$f":"$F25*'Schedule 4.1'!E15","v":348498550.86077845},0,0,0,0,0,0,0,0,0,0,0,0,0,0,null,{"$f":"MAX(X20:X24)+NoOne","v":11},"Holyrood",{"$f":"IslIntCos!F25","v":322171222.6700002},1144870403.6162236]
[null,null,"P04",12,"Gas Turbines",269224154.02614063,{"$f":"$F26*'Schedule 4.1'!D16","v":269224154.02614063},{"$f":"$F26*'Schedule 4.1'!E16","v":0},{"$f":"$F26*'Schedule 4.1'!H16","v":0},{"$f":"$F26*'Schedule 4.1'!I16","v":0},{"$f":"$F26*'Schedule 4.1'!J16","v":0},{"$f":"$F26*'Schedule 4.1'!K16","v":0},{"$f":"$F26*'Schedule 4.1'!L16","v":0},{"$f":"$F26*'Schedule 4.1'!M16","v":0},{"$f":"$F26*'Schedule 4.1'!N16","v":0},{"$f":"$F26*'Schedule 4.1'!O16","v":0},{"$f":"$F26*'Schedule 4.1'!P16","v":0},{"$f":"$F26*'Schedule 4.1'!Q16","v":0},{"$f":"$F26*'Schedule 4.1'!R16","v":0},{"$f":"$F26*'Schedule 4.1'!S16","v":0},{"$f":"$F26*'Schedule 4.1'!T16","v":0},{"$f":"$F26*'Schedule 4.1'!U16","v":0},null,12,"Gas Turbines",{"$f":"IslIntCos!F26","v":190828508.17500022},269224154.02614063]
[null,null,"P11",13,"Roddickton",0,{"$f":"$F27*'Schedule 4.1'!D15","v":0},{"$f":"$F27*'Schedule 4.1'!E15","v":0},{"$f":"$F27*'Schedule 4.1'!H15","v":0},{"$f":"$F27*'Schedule 4.1'!I15","v":0},{"$f":"$F27*'Schedule 4.1'!J15","v":0},{"$f":"$F27*'Schedule 4.1'!K15","v":0},{"$f":"$F27*'Schedule 4.1'!L15","v":0},{"$f":"$F27*'Schedule 4.1'!M15","v":0},{"$f":"$F27*'Schedule 4.1'!N15","v":0},{"$f":"$F27*'Schedule 4.1'!O15","v":0},{"$f":"$F27*'Schedule 4.1'!P15","v":0},{"$f":"$F27*'Schedule 4.1'!Q15","v":0},{"$f":"$F27*'Schedule 4.1'!R15","v":0},{"$f":"$F27*'Schedule 4.1'!S15","v":0},{"$f":"$F27*'Schedule 4.1'!T15","v":0},{"$f":"$F27*'Schedule 4.1'!U15","v":0},null,13,"Roddickton",{"$f":"IslIntCos!F27","v":0},0]
[null,null,{"$f":"+SPLTDetails!C18","v":"SPLT2"},14,"Diesel",{"$f":"SUM(G28:V28)","v":39123345.502399504},{"$f":"+SPLTDetails!$T18*'Schedule 4.1'!D$16","v":39123345.502399504},{"$f":"+SPLTDetails!$E18*'Schedule 4.1'!E$16","v":0},0,{"$f":"+SPLTDetails!$J18","v":0},0,0,0,0,0,0,0,0,0,0,0,0,null,14,"Diesel",{"$f":"IslIntCos!F28","v":9249661.1099999975},39123345.502399504]
[{"$f":"SUM(G29:V29)-F29","v":0},null," ",15,"Subtotal Production",{"$f":"SUM(F24:F28)","v":4733084514.1192799},{"$f":"SUM(G24:G28)","v":2593739870.3250227},{"$f":"SUM(H24:H28)","v":2139344643.7942576},{"$f":"SUM(I24:I28)","v":0},{"$f":"SUM(J24:J28)","v":0},0,0,0,0,0,0,0,0,0,0,0,0,null,15,"Subtotal Production",{"$f":"SUM(Z24:Z28)","v":1490023367.4540102},{"$f":"SUM(AA24:AA28)","v":4733084514.1192799}]
[null,null,null,null,"Transmission",null,null,null,null,null,null,null,null,null,null,null,null,null,null,null,null,null,null,null,"Transmission"]
[null,null,"SPLT3",{"$f":"MAX(D28:D30)+NoOne","v":16},"Lines",{"$f":"SUM(G31:V31)","v":1427790009.2453425},{"$f":"SPLTDetails!T35*'Schedule 4.1'!D34","v":70831451.238219604},{"$f":"SPLTDetails!T35*'Schedule 4.1'!E34","v":85189039.48594068},{"$f":"SPLTDetails!W35","v":924761093.1996758},{"$f":"SPLTDetails!X35","v":253495878.25072291},0,{"$f":"+SPLTDetails!K35","v":0},0,0,0,0,0,0,0,0,0,{"$f":"SPLTDetails!AA35","v":93512547.070783511},null,{"$f":"MAX(X28:X30)+NoOne","v":16},"Lines",{"$f":"IslIntCos!F31","v":670434679.21000051},{"$f":"F31","v":1427790009.2453425}]
[null,null,"SPLT4",17,"Terminal Stations ",{"$f":"SUM(G32:V32)","v":627932674.82972264},{"$f":"+SPLTDetails!E52*G29/F29","v":0},{"$f":"+SPLTDetails!E52*H29/F29","v":0},{"$f":"SPLTDetails!W52","v":488175296.89987034},{"$f":"SPLTDetails!X52","v":53041704.253882915},0,0,0,0,0,0,0,0,0,0,0,{"$f":"SPLTDetails!AA52","v":86715673.675969347},null,17,"Terminal Stations ",{"$f":"IslIntCos!F32","v":289486824.89590025},627932674.82972264]
[null,null,"SPLT5",{"$f":"MAX(D31:D32)+NoOne","v":18},"Term Stns - Hydraulic",{"$f":"SUM(G33:V33)","v":129537669.39153522},{"$f":"SPLTDetails!S59*'Schedule 4.1'!D34","v":58808564.634249724},{"$f":"SPLTDetails!T59*'Schedule 4.1'!E34","v":70729104.757285506},0,0,0,0,0,0,0,0,0,0,0,0,0,0,null,{"$f":"MAX(X31:X32)+NoOne","v":18},"Term Stns - Hydraulic",{"$f":"IslIntCos!F33","v":47364963.839950003},129537669.39153522]
[null,null,"T24",{"$f":"MAX(D32:D33)+NoOne","v":19},"Term Stns - Holyrood",56062510.60883712,{"$f":"$F34*'Schedule 4.1'!D$39","v":38997082.379507102},{"$f":"$F34*'Schedule 4.1'!E$39","v":17065428.229330018},0,0,0,0,0,0,0,0,0,0,0,0,0,0,null,{"$f":"MAX(X32:X33)+NoOne","v":19},"Term Stns - Holyrood",{"$f":"IslIntCos!F34","v":15100663.601999987},56062510.60883712]
[null,null,"SPLT6",{"$f":"MAX(D33:D34)+NoOne","v":20},"Term Stns - Gas Tur/Dsl",{"$f":"SUM(G35:V35)","v":772974.6296814481},{"$f":"+SPLTDetails!$T65*'Schedule 4.1'!D$40","v":772974.6296814481},{"$f":"+SPLTDetails!$T65*'Schedule 4.1'!E$40","v":0},0,{"$f":"+SPLTDetails!$J65","v":0},0,0,0,0,0,0,0,0,0,0,0,0,null,{"$f":"MAX(X33:X34)+NoOne","v":20},"Term Stns - Gas Tur/Dsl",{"$f":"IslIntCos!F35","v":763575.66999999993},772974.6296814481]
[null,null,"T18",21,"Term Stns - Distribution",34049895.341862738,0,0,0,0,{"$f":"F36","v":34049895.341862738},0,0,0,0,0,0,0,0,0,0,0,null,21,"Term Stns - Distribution",{"$f":"IslIntCos!F36","v":14079693.219999975},34049895.341862738]
[{"$f":"SUM(G37:V37)-F37","v":0},null,null,22,"Subtotal Term Stns",{"$f":"SUM(F32:F36)","v":848355724.80163932},98578621.64343828,87794532.986615524,488175296.89987034,53041704.253882915,34049895.341862738,0,0,0,0,0,0,0,0,0,0,86715673.675969347,null,22,"Subtotal Term Stns",{"$f":"SUM(Z32:Z36)","v":366795721.22785026},848355724.80163932]
[{"$f":"SUM(G38:V38)-F38","v":0},null," ",23,"Subtotal Transmission",{"$f":"SUM(F31,F37)","v":2276145734.0469818},169410072.8816579,172983572.4725562,1412936390.0995462,306537582.50460583,34049895.341862738,0,0,0,0,0,0,0,0,0,0,180228220.74675286,null,23,"Subtotal Transmission",{"$f":"SUM(Z31,Z37)","v":1037230400.4378507},2276145734.0469818]
[null,null,null,null,"Distribution",null,null,null,null,null,null,null,null,null,null,null,null,null,null,null,null,null,null,null,"Distribution"]
[null,null,"SPLT7",{"$f":"MAX(D37:D39)+NoOne","v":24},"Substations",{"$f":"SUM(G40:V40)","v":26863167.681740042},{"$f":"+SPLTDetails!T71","v":0},0,0,{"$f":"+SPLTDetails!X71","v":0},{"$f":"+SPLTDetails!Y71","v":26863167.681740042},0,0,0,0,0,0,0,0,0,0,0,null,{"$f":"MAX(X37:X39)+NoOne","v":24},"Substations",{"$f":"IslIntCos!F40","v":11859169.179999996},{"$f":"F40","v":26863167.681740042}]
[null,null,"D11",25,"Land & Land Improvements",{"$f":"DistnDetails!P13+DistnDetails!P22","v":7516751.3414082807},{"$f":"$F41*'Schedule 4.1'!D$62","v":0},{"$f":"$F41*'Schedule 4.1'!E$62","v":0},0,{"$f":"$F41*'Schedule 4.1'!I$62","v":0},{"$f":"$F41*'Schedule 4.1'!J$62","v":0},{"$f":"$F41*'Schedule 4.1'!K$62","v":5667254.6738547729},{"$f":"$F41*'Schedule 4.1'!L$62","v":721983.96634226537},{"$f":"$F41*'Schedule 4.1'!M$62","v":0},{"$f":"$F41*'Schedule 4.1'!N$62","v":0},{"$f":"$F41*'Schedule 4.1'!O$62","v":657339.90480615408},{"$f":"$F41*'Schedule 4.1'!P$62","v":470172.79640508792},{"$f":"$F41*'Schedule 4.1'!Q$62","v":0},{"$f":"$F41*'Schedule 4.1'!R$62","v":0},{"$f":"$F41*'Schedule 4.1'!S$62","v":0},{"$f":"$F41*'Schedule 4.1'!T$62","v":0},{"$f":"$F41*'Schedule 4.1'!U$62","v":0},null,25,"Land & Land Improvements",{"$f":"IslIntCos!F41","v":4396627.2930630064},7516751.3414082807]
[null,null,"D11",26,"Poles",{"$f":"DistnDetails!P16+DistnDetails!P14","v":222141385.06866121},{"$f":"$F42*'Schedule 4.1'!D$67","v":0},{"$f":"$F42*'Schedule 4.1'!E$67","v":0},0,{"$f":"$F42*'Schedule 4.1'!I$67","v":0},{"$f":"$F42*'Schedule 4.1'!J$67","v":0},{"$f":"$F42*'Schedule 4.1'!K$67","v":128475025.77169007},{"$f":"$F42*'Schedule 4.1'!L$67","v":43906689.041591033},{"$f":"$F42*'Schedule 4.1'!M$67","v":0},{"$f":"$F42*'Schedule 4.1'!N$67","v":0},{"$f":"$F42*'Schedule 4.1'!O$67","v":22740169.306708708},{"$f":"$F42*'Schedule 4.1'!P$67","v":27019500.948671404},{"$f":"$F42*'Schedule 4.1'!Q$67","v":0},{"$f":"$F42*'Schedule 4.1'!R$67","v":0},{"$f":"$F42*'Schedule 4.1'!S$67","v":0},{"$f":"$F42*'Schedule 4.1'!T$67","v":0},{"$f":"$F42*'Schedule 4.1'!U$67","v":0},null,26,"Poles",{"$f":"IslIntCos!F42","v":127498446.75693804},222141385.06866121]
[null,null,"D11",27,"Primary Conductor & Eqpt",{"$f":"DistnDetails!P17","v":47771956.053746186},{"$f":"$F43*'Schedule 4.1'!D$68","v":0},{"$f":"$F43*'Schedule 4.1'!E$68","v":0},0,{"$f":"$F43*'Schedule 4.1'!I$68","v":0},{"$f":"$F43*'Schedule 4.1'!J$68","v":0},{"$f":"$F43*'Schedule 4.1'!K$68","v":42373725.019672871},{"$f":"$F43*'Schedule 4.1'!L$68","v":5398231.0340733193},{"$f":"$F43*'Schedule 4.1'!M$68","v":0},{"$f":"$F43*'Schedule 4.1'!N$68","v":0},{"$f":"$F43*'Schedule 4.1'!O$68","v":0},{"$f":"$F43*'Schedule 4.1'!P$68","v":0},{"$f":"$F43*'Schedule 4.1'!Q$68","v":0},{"$f":"$F43*'Schedule 4.1'!R$68","v":0},{"$f":"$F43*'Schedule 4.1'!S$68","v":0},{"$f":"$F43*'Schedule 4.1'!T$68","v":0},{"$f":"$F43*'Schedule 4.1'!U$68","v":0},null,27,"Primary Conductor & Eqpt",{"$f":"IslIntCos!F43","v":25104732.789999999},47771956.053746186]
[null,null,"D05",28,"Submarine Conductor",24516423.385083489,{"$f":"$F44*'Schedule 4.1'!D$69","v":0},{"$f":"$F44*'Schedule 4.1'!E$69","v":0},0,{"$f":"$F44*'Schedule 4.1'!I$69","v":0},{"$f":"$F44*'Schedule 4.1'!J$69","v":0},{"$f":"$F44*'Schedule 4.1'!K$69","v":24516423.385083489},{"$f":"$F44*'Schedule 4.1'!L$69","v":0},{"$f":"$F44*'Schedule 4.1'!M$69","v":0},{"$f":"$F44*'Schedule 4.1'!N$69","v":0},{"$f":"$F44*'Schedule 4.1'!O$69","v":0},{"$f":"$F44*'Schedule 4.1'!P$69","v":0},{"$f":"$F44*'Schedule 4.1'!Q$69","v":0},{"$f":"$F44*'Schedule 4.1'!R$69","v":0},{"$f":"$F44*'Schedule 4.1'!S$69","v":0},{"$f":"$F44*'Schedule 4.1'!T$69","v":0},{"$f":"$F44*'Schedule 4.1'!U$69","v":0},null,28,"Submarine Conductor",{"$f":"IslIntCos!F44","v":9854684.4300000016},24516423.385083489]
[null,null,"D11",29,"Transformers",{"$f":"DistnDetails!P18","v":31126185.088577565},{"$f":"$F45*'Schedule 4.1'!D$70","v":0},{"$f":"$F45*'Schedule 4.1'!E$70","v":0},0,{"$f":"$F45*'Schedule 4.1'!I$70","v":0},{"$f":"$F45*'Schedule 4.1'!J$70","v":0},{"$f":"$F45*'Schedule 4.1'!K$70","v":0},{"$f":"$F45*'Schedule 4.1'!L$70","v":0},{"$f":"$F45*'Schedule 4.1'!M$70","v":11236552.816976501},{"$f":"$F45*'Schedule 4.1'!N$70","v":19889632.271601066},{"$f":"$F45*'Schedule 4.1'!O$70","v":0},{"$f":"$F45*'Schedule 4.1'!P$70","v":0},{"$f":"$F45*'Schedule 4.1'!Q$70","v":0},{"$f":"$F45*'Schedule 4.1'!R$70","v":0},{"$f":"$F45*'Schedule 4.1'!S$70","v":0},{"$f":"$F45*'Schedule 4.1'!T$70","v":0},{"$f":"$F45*'Schedule 4.1'!U$70","v":0},null,29,"Transformers",{"$f":"IslIntCos!F45","v":19578592},31126185.088577565]
[null,null,"D11",30,"Secondary Conductor&Eqpt",{"$f":"DistnDetails!P19","v":7437491.1830057502},{"$f":"$F46*'Schedule 4.1'!D$71","v":0},{"$f":"$F46*'Schedule 4.1'!E$71","v":0},0,{"$f":"$F46*'Schedule 4.1'!I$71","v":0},{"$f":"$F46*'Schedule 4.1'!J$71","v":0},{"$f":"$F46*'Schedule 4.1'!K$71","v":0},{"$f":"$F46*'Schedule 4.1'!L$71","v":0},{"$f":"$F46*'Schedule 4.1'!M$71","v":0},{"$f":"$F46*'Schedule 4.1'!N$71","v":0},{"$f":"$F46*'Schedule 4.1'!O$71","v":4336057.3596923519},{"$f":"$F46*'Schedule 4.1'!P$71","v":3101433.8233133978},{"$f":"$F46*'Schedule 4.1'!Q$71","v":0},{"$f":"$F46*'Schedule 4.1'!R$71","v":0},{"$f":"$F46*'Schedule 4.1'!S$71","v":0},{"$f":"$F46*'Schedule 4.1'!T$71","v":0},{"$f":"$F46*'Schedule 4.1'!U$71","v":0},null,30,"Secondary Conductor&Eqpt",{"$f":"IslIntCos!F46","v":3187147.6699999976},7437491.1830057502]
[null,null,"D11",31,"Services",{"$f":"DistnDetails!P20","v":15442965.433156868},{"$f":"$F47*'Schedule 4.1'!D$72","v":0},{"$f":"$F47*'Schedule 4.1'!E$72","v":0},0,{"$f":"$F47*'Schedule 4.1'!I$72","v":0},{"$f":"$F47*'Schedule 4.1'!J$72","v":0},{"$f":"$F47*'Schedule 4.1'!K$72","v":0},{"$f":"$F47*'Schedule 4.1'!L$72","v":0},{"$f":"$F47*'Schedule 4.1'!M$72","v":0},{"$f":"$F47*'Schedule 4.1'!N$72","v":0},{"$f":"$F47*'Schedule 4.1'!O$72","v":0},{"$f":"$F47*'Schedule 4.1'!P$72","v":0},{"$f":"$F47*'Schedule 4.1'!Q$72","v":15442965.433156868},{"$f":"$F47*'Schedule 4.1'!R$72","v":0},{"$f":"$F47*'Schedule 4.1'!S$72","v":0},{"$f":"$F47*'Schedule 4.1'!T$72","v":0},{"$f":"$F47*'Schedule 4.1'!U$72","v":0},null,31,"Services",{"$f":"IslIntCos!F47","v":6522244.4300000044},15442965.433156868]
[null,null,{"$f":"+SystemizedPlant!C21","v":"SMET01"},32,"Meters",{"$f":"SUM((IF(VLOOKUP($C48,AllocatedMeters,3,FALSE)=\"\",0,VLOOKUP($C48,AllocatedMeters,3,FALSE))))","v":7684656.677841913},{"$f":"$F48*'Schedule 4.1'!D$73","v":0},{"$f":"$F48*'Schedule 4.1'!E$73","v":0},0,{"$f":"$F48*'Schedule 4.1'!I$73","v":0},{"$f":"$F48*'Schedule 4.1'!J$73","v":0},{"$f":"$F48*'Schedule 4.1'!K$73","v":0},{"$f":"$F48*'Schedule 4.1'!L$73","v":0},{"$f":"$F48*'Schedule 4.1'!M$73","v":0},{"$f":"$F48*'Schedule 4.1'!N$73","v":0},{"$f":"$F48*'Schedule 4.1'!O$73","v":0},{"$f":"$F48*'Schedule 4.1'!P$73","v":0},{"$f":"$F48*'Schedule 4.1'!Q$73","v":0},{"$f":"$F48*'Schedule 4.1'!R$73","v":7684656.677841913},{"$f":"$F48*'Schedule 4.1'!S$73","v":0},{"$f":"$F48*'Schedule 4.1'!T$73","v":0},{"$f":"$F48*'Schedule 4.1'!U$73","v":0},null,32,"Meters",{"$f":"IslIntCos!F48","v":7684656.677841913},7684656.677841913]
[null,null,"D11",33,"Street Lighting",{"$f":"DistnDetails!P21","v":3872051.9410325456},{"$f":"$F49*'Schedule 4.1'!D$74","v":0},{"$f":"$F49*'Schedule 4.1'!E$74","v":0},0,{"$f":"$F49*'Schedule 4.1'!I$74","v":0},{"$f":"$F49*'Schedule 4.1'!J$74","v":0},{"$f":"$F49*'Schedule 4.1'!K$74","v":0},{"$f":"$F49*'Schedule 4.1'!L$74","v":0},{"$f":"$F49*'Schedule 4.1'!M$74","v":0},{"$f":"$F49*'Schedule 4.1'!N$74","v":0},{"$f":"$F49*'Schedule 4.1'!O$74","v":0},{"$f":"$F49*'Schedule 4.1'!P$74","v":0},{"$f":"$F49*'Schedule 4.1'!Q$74","v":0},{"$f":"$F49*'Schedule 4.1'!R$74","v":0},{"$f":"$F49*'Schedule 4.1'!S$74","v":3872051.9410325456},{"$f":"$F49*'Schedule 4.1'!T$74","v":0},{"$f":"$F49*'Schedule 4.1'!U$74","v":0},null,33,"Street Lighting",{"$f":"IslIntCos!F49","v":2443049.33},3872051.9410325456]
[{"$f":"SUM(G50:V50)-F50","v":0},null," ",34,"Subtotal Distribution",{"$f":"SUM(F40:F49)","v":394373033.85425383},{"$f":"SUM(G40:G49)","v":0},{"$f":"SUM(H40:H49)","v":0},0,0,26863167.681740042,201032428.85030121,50026904.042006612,11236552.816976501,19889632.271601066,27733566.571207218,30591107.568389889,15442965.433156868,7684656.677841913,3872051.9410325456,0,0,null,34,"Subtotal Distribution",{"$f":"SUM(Z40:Z49)","v":218129350.55784294},{"$f":"SUM(AA40:AA49)","v":394373033.85425383}]
[{"$f":"SUM(G51:V51)-F51","v":0},null," ",35,"Subttl Prod, Trans, & Dist",{"$f":"SUM(F50,F38,F29)","v":7403603282.0205154},2763149943.2066808,2312328216.2668138,1412936390.0995462,306537582.50460583,60913063.023602784,201032428.85030121,50026904.042006612,11236552.816976501,19889632.271601066,27733566.571207218,30591107.568389889,15442965.433156868,7684656.677841913,3872051.9410325456,0,180228220.74675286,null,35,"Subttl Prod, Trans, & Dist",{"$f":"SUM(Z50,Z38,Z29)","v":2745383118.4497042},7403603282.0205154]
[null,{"$f":"IF(OverheadAlloc=\"Expenses\",\"E-GTDC\",\"L-GTDC\")","v":"E-GTDC"},{"$f":"+SystemizedPlant!C99","v":"SGPLT01"},36,"General",{"$f":"SystemizedPlant!S99","v":227774513.83320665},{"$f":"$F52*VLOOKUP($B52,RatiosIslInt,IslIntCos!G552,FALSE)","v":107979793.5688521},{"$f":"$F52*VLOOKUP($B52,RatiosIslInt,IslIntCos!H552,FALSE)","v":52651031.710348636},{"$f":"$F52*VLOOKUP($B52,RatiosIslInt,IslIntCos!I552,FALSE)","v":25591306.018887736},{"$f":"$F52*VLOOKUP($B52,RatiosIslInt,IslIntCos!J552,FALSE)","v":4047817.0211466979},{"$f":"$F52*VLOOKUP($B52,RatiosIslInt,IslIntCos!K552,FALSE)","v":2180039.5389705426},{"$f":"$F52*VLOOKUP($B52,RatiosIslInt,IslIntCos!L552,FALSE)","v":13061361.427472953},{"$f":"$F52*VLOOKUP($B52,RatiosIslInt,IslIntCos!M552,FALSE)","v":3404773.7882791422},{"$f":"$F52*VLOOKUP($B52,RatiosIslInt,IslIntCos!N552,FALSE)","v":845571.54421867977},{"$f":"$F52*VLOOKUP($B52,RatiosIslInt,IslIntCos!O552,FALSE)","v":1496731.902370461},{"$f":"$F52*VLOOKUP($B52,RatiosIslInt,IslIntCos!P552,FALSE)","v":1829754.4627945325},{"$f":"$F52*VLOOKUP($B52,RatiosIslInt,IslIntCos!Q552,FALSE)","v":2047203.2748603746},{"$f":"$F52*VLOOKUP($B52,RatiosIslInt,IslIntCos!R552,FALSE)","v":780294.90618558461},{"$f":"$F52*VLOOKUP($B52,RatiosIslInt,IslIntCos!S552,FALSE)","v":961687.01154326834},{"$f":"$F52*VLOOKUP($B52,RatiosIslInt,IslIntCos!T552,FALSE)","v":292276.52661878301},{"$f":"$F52*VLOOKUP($B52,RatiosIslInt,IslIntCos!U552,FALSE)","v":8239031.979484587},{"$f":"$F52*VLOOKUP($B52,RatiosIslInt,IslIntCos!V552,FALSE)","v":2365839.1511725588},null,36,"General",{"$f":"IslIntCos!F52","v":189574005.91696966},{"$f":"F52","v":227774513.83320665}]
[null,null,"G06",37,"NLSO",26339449.631023161,{"$f":"$F53*(G$51/SUM($G$51:$V$51))","v":9830328.0145765115},8226460.8546301909,5026737.0442774575,1090554.2756461946,216707.52662798864,715203.57482737466,177978.35310954886,39975.753113058796,70760.405094860311,98666.399584768573,108832.53819279725,54940.708555801844,27339.34001964558,13775.416264835136,0,641189.42650212988,null,37,"NLSO",{"$f":"IslIntCos!F53","v":17679694.379999995},26339449.631023161]
[null,null,{"$f":"+SPLTDetails!C76","v":"SPLT8"},38,"Telecontrol - Custmr & Spec",{"$f":"SUM(G54:V54)","v":0},null,null,null,null,null,null,null,null,null,null,null,null,null,null,{"$f":"SPLTDetails!Z76","v":0},{"$f":"SPLTDetails!AA76","v":0},null,38,"Telecontrol - Custmr & Spec",{"$f":"IslIntCos!F54","v":0},{"$f":"F54","v":0}]
[null,null,{"$f":"+SPLTDetails!C83","v":"SPLT9"},{"$f":"MAX(D52:D54)+NoOne","v":39},"Feasibility Studies",{"$f":"SUM(G55:V55)","v":9794.4748540000492},{"$f":"+SPLTDetails!T83","v":9794.4654045000498},0,0,0,{"$f":"+SPLTDetails!Y83","v":9.4495000000000013E-3},0,0,0,0,0,0,0,0,0,0,0,null,39,"Feasibility Studies",{"$f":"IslIntCos!F55","v":9794.4748540000492},{"$f":"F55","v":9794.4748540000492}]
[null,null,"G10",{"$f":"MAX(D53:D55)+NoOne","v":40},"Feasibility Studies - General",0,{"$f":"$F56*(G$51/SUM($G$51:$V$51))","v":0},0,0,0,0,0,0,0,0,0,0,0,0,0,0,0,null,{"$f":"MAX(X52:X55)+NoOne","v":40},"Feasibility Studies - General",{"$f":"IslIntCos!F56","v":0},{"$f":"F56","v":0}]
[null,null,{"$f":"+SystemizedPlant!C62","v":"SCS2_01"},{"$f":"MAX(D53:D56)+NoOne","v":41},"Software - General",{"$f":"SystemizedPlant!S62","v":1491665.2647881461},556714.70156865206,465883.91484604415,284675.9954824936,61760.665281009315,12272.65924753364,40503.66825302806,10079.334645816612,2263.9213494522837,4007.3289260388074,5587.711327459112,6163.4437763542119,3111.4221338555371,1548.2914199355514,780.13437023566371,0,36312.072160237694,null,{"$f":"MAX(X53:X56)+NoOne","v":41},"Software - General",{"$f":"IslIntCos!F57","v":1491665.2647881461},{"$f":"F57","v":1491665.2647881461}]
[{"$f":"SUM(G58:V58)-F58","v":0},null," ",{"$f":"MAX(D55:D57)+NoOne","v":42},"Total Plant",{"$f":"SUM(F51:F57)","v":7659218705.2243872},2881526573.9570823,2373671592.7466383,1443839109.1581938,311737714.46667975,63322082.757898346,214849497.52085456,53619735.518041119,12124364.035657693,21461131.907992426,29667575.144913979,32753306.825219415,16281312.470032111,8675231.3208247628,4178884.0182863995,8239031.979484587,183271561.39658779,null,{"$f":"MAX(X55:X57)+NoOne","v":42},"Total Plant",{"$f":"SUM(Z51:Z57)","v":2954138278.4863162},{"$f":"SUM(AA51:AA57)","v":7659218705.2243872}]
[]
[]
[null,null,null,"Indexed Plant"]
[null,null,null,"Page 1 of 1"]
[]
[null,null,"NEWFOUNDLAND AND LABRADOR HYDRO"]
[null,null,"2015 Test Year Cost of Service"]
[null,null,"Supplemental Plant Details (Indexed Values)"]
[]
[null,null,null,1]
[null,"Line "]
[null,"No",null,"Total"]
[null,1,"Transmission Lines:"]
[null,2,"Island Interconnected",{"$f":"SUM(D73:D74)","v":1043482761.3333755}]
["HWIITLCOM",3,"Common (incl. Rural Subtransmission)",958693451.11781681]
[null,4,"Specifically Assigned",{"$f":"SUM(D75:D80)","v":84789310.215558648}]
["HWIITLNP",5,"NP",71574840.908061877]
["HWIITLTEC",6,"Teck Resources",6257033.1324936524]
["HWIITLCBPP",7,"CBPP - Corner Brook",0]
["HWIITLDLP",8,"CBPP - Deer Lake",0]
["HWIITLNARL",9,"North Atlantic Refining",0]
["HWIITLVALE",10,"Vale",6957436.1750031067]
[]
[null,11,"Terminal Stations:"]
[null,12,"Island Interconnected",{"$f":"SUM(D84:D85)","v":706662370.05300522}]
["HWIITSCOM",13,"Common (incl. Rural Subtransmission)",631848107.33518493]
[null,14,"Specifically Assigned",{"$f":"SUM(D86:D91)","v":74814262.717820242}]
["HWIITSNP",15,"NP",48223174.750371747]
["HWIITSTEC",16,"Teck Resources",1339017.0420986535]
["HWIITSCBPP",17,"CBPP - Corner Brook",13588201.248945003]
["HWIITSDLP",18,"CBPP - Deer Lake",71527.52953154131]
["HWIITSNARL",19,"North Atlantic Refining",6283073.0989243556]
["HWIITSVALE",20,"Vale",5309269.0479489351]
[]
[null,21,"Transmission Total:"]
[null,22,"Island Interconnected",{"$f":"SUM(D72,D83)","v":1750145131.3863807}]
[null,23,"Common (incl. Rural Subtransmission)",{"$f":"SUM(D73,D84)","v":1590541558.4530017}]
[null,24,"Specifically Assigned",159603572.93337888]
[null,25,"NP",119798015.65843362]
[null,26,"Teck Resources",7596050.1745923059]
[null,27,"CBPP - Corner Brook",13588201.248945003]
[null,28,"CBPP - Deer Lake",71527.52953154131]
[null,29,"North Atlantic Refining",6283073.0989243556]
[null,30,"Vale",12266705.222952042]

{"sheet":"PrtRanges","index":43,"n_rows":197,"n_cols":3,"rows_kept":197,"cut":false,"hidden":false,"merged":[]}
[]
["To add a schedule for printing:",null,"Create a Prt_range name for the schedule to be printed."]
[null,null,"Insert the new range name in the appropriate PrintRanges below and copy the formula for Worksheet Name."]
[null,null,"Leave the last cell in each PrintRanges blank to maintain the range for any additions."]
[null,null,"Leave only a single blank PrintRange at the end."]
[]
[]
[null,"Range Name","WorksheetName"]
[]
["PrintRanges_Summaries","Prt_TOT1.1",{"$f":"RIGHT(CELL(\"filename\",INDIRECT(B10)),LEN(CELL(\"filename\",INDIRECT(B10)))-FIND(\"]\",CELL(\"filename\",INDIRECT(B10))))","v":"Revenue Requirement"}]
[null,"Prt_TOT1.1p2","Rate Base"]
[null,"Prt_TOT1.2","Rev to Cost"]
[null,"Prt_TOT1.2.1","Rev to Cost"]
[null,"Prt_TOT1.3","Unit Costs"]
[null,"Prt_TOT1.4","NPRateCalcs"]
[null,"Prt_TOT1.5","NPRateCalcs"]
[null,"Prt_TOT1.7","Other Unit Costs"]
[]
[]
[]
[]
["PrintRanges_IslInt","Prt_IINT2.1",{"$f":"RIGHT(CELL(\"filename\",INDIRECT(B22)),LEN(CELL(\"filename\",INDIRECT(B22)))-FIND(\"]\",CELL(\"filename\",INDIRECT(B22))))","v":"IslIntCos"}]
[null,"Prt_IINT2.1p2",{"$f":"RIGHT(CELL(\"filename\",INDIRECT(B23)),LEN(CELL(\"filename\",INDIRECT(B23)))-FIND(\"]\",CELL(\"filename\",INDIRECT(B23))))","v":"IslIntCos"}]
[null,"Prt_IINT2.2","IslIntCos"]
[null,"Prt_IINT2.2p2","IslIntCos"]
[null,"Prt_IINT2.3","IslIntCos"]
[null,"Prt_IINT2.4","IslIntCos"]
[null,"Prt_IINT2.4p2","IslIntCos"]
[null,"Prt_IINT2.5","IslIntCos"]
[null,"Prt_IINT2.6","IslIntCos"]
[null,"Prt_IINT2.6p2","IslIntCos"]
[null,"Prt_IINT3.1p1","IslIntCos"]
[null,"Prt_IINT3.1p2","IslIntCos"]
[null,"Prt_IINT3.2p1","IslIntCos"]
[null,"Prt_IINT3.2p2","IslIntCos"]
[null,"Prt_IINT3.2p3","IslIntCos"]
[null,"Prt_IINT3.2p4","IslIntCos"]
[null,"Prt_IINT3.3","IslIntCos"]
[]
[]
["PrintRanges_IslIso","Prt_IISO2.1",{"$f":"RIGHT(CELL(\"filename\",INDIRECT(B41)),LEN(CELL(\"filename\",INDIRECT(B41)))-FIND(\"]\",CELL(\"filename\",INDIRECT(B41))))","v":"IslIsoCos"}]
[null,"Prt_IISO2.1p2","IslIsoCos"]
[null,"Prt_IISO2.2","IslIsoCos"]
[null,"Prt_IISO2.2p2","IslIsoCos"]
[null,"Prt_IISO2.3","IslIsoCos"]
[null,"Prt_IISO2.4","IslIsoCos"]
[null,"Prt_IISO2.4p2","IslIsoCos"]
[null,"Prt_IISO2.5","IslIsoCos"]
[null,"Prt_IISO2.6","IslIsoCos"]
[null,"Prt_IISO2.6p2","IslIsoCos"]
[null,"Prt_IISO3.1","IslIsoCos"]
[null,"Prt_IISO3.1p2","IslIsoCos"]
[null,"Prt_IISO3.2","IslIsoCos"]
[null,"Prt_IISO3.2p2","IslIsoCos"]
[null,"Prt_IISO3.2p3","IslIsoCos"]
[null,"Prt_IISO3.2p4","IslIsoCos"]
[]
[]
["PrintRanges_LabIso","Prt_LISO2.1",{"$f":"RIGHT(CELL(\"filename\",INDIRECT(B59)),LEN(CELL(\"filename\",INDIRECT(B59)))-FIND(\"]\",CELL(\"filename\",INDIRECT(B59))))","v":"LabIsoCos"}]
[null,"Prt_LISO2.1p2","LabIsoCos"]
[null,"Prt_LISO2.2","LabIsoCos"]
[null,"Prt_LISO2.2p2","LabIsoCos"]
[null,"Prt_LISO2.3","LabIsoCos"]
[null,"Prt_LISO2.4","LabIsoCos"]
[null,"Prt_LISO2.4p2","LabIsoCos"]
[null,"Prt_LISO2.5","LabIsoCos"]
[null,"Prt_LISO2.6","LabIsoCos"]
[null,"Prt_LISO2.6p2","LabIsoCos"]
[null,"Prt_LISO3.1","LabIsoCos"]
[null,"Prt_LISO3.1p2","LabIsoCos"]
[null,"Prt_LISO3.2","LabIsoCos"]
[null,"Prt_LISO3.2p2","LabIsoCos"]
[null,"Prt_LISO3.2p3","LabIsoCos"]
[null,"Prt_LISO3.2p4","LabIsoCos"]
[]
[]
["PrintRanges_LAL","Prt_LAL2.1",{"$f":"RIGHT(CELL(\"filename\",INDIRECT(B77)),LEN(CELL(\"filename\",INDIRECT(B77)))-FIND(\"]\",CELL(\"filename\",INDIRECT(B77))))","v":"LALCos"}]
[null,"Prt_LAL2.1p2","LALCos"]
[null,"Prt_LAL2.2","LALCos"]
[null,"Prt_LAL2.2p2","LALCos"]
[null,"Prt_LAL2.3","LALCos"]
[null,"Prt_LAL2.4","LALCos"]
[null,"Prt_LAL2.4p2","LALCos"]
[null,"Prt_LAL2.5","LALCos"]
[null,"Prt_LAL2.6","LALCos"]
[null,"Prt_LAL2.6p2","LALCos"]
[null,"Prt_LAL3.1","LALCos"]
[null,"Prt_LAL3.1p2","LALCos"]
[null,"Prt_LAL3.2","LALCos"]
[null,"Prt_LAL3.2p2","LALCos"]
[null,"Prt_LAL3.2p3","LALCos"]
[null,"Prt_LAL3.2p4","LALCos"]
[]
[]
["PrintRanges_LabInt","Prt_LINT2.1",{"$f":"RIGHT(CELL(\"filename\",INDIRECT(B95)),LEN(CELL(\"filename\",INDIRECT(B95)))-FIND(\"]\",CELL(\"filename\",INDIRECT(B95))))","v":"LabIntCos"}]
[null,"Prt_LINT2.1p2","LabIntCos"]
[null,"Prt_LINT2.2","LabIntCos"]
[null,"Prt_LINT2.2p2","LabIntCos"]
[null,"Prt_LINT2.3","LabIntCos"]
[null,"Prt_LINT2.4","LabIntCos"]
[null,"Prt_LINT2.4p2","LabIntCos"]
[null,"Prt_LINT2.5","LabIntCos"]
[null,"Prt_LINT2.6","LabIntCos"]
[null,"Prt_LINT2.6p2","LabIntCos"]
[null,"Prt_LINT3.1","LabIntCos"]
[null,"Prt_LINT3.1p2","LabIntCos"]
[null,"Prt_LINT3.2","LabIntCos"]
[null,"Prt_LINT3.2p2","LabIntCos"]
[null,"Prt_LINT3.2p3","LabIntCos"]
[null,"Prt_LINT3.2p4","LabIntCos"]
[]
[]
["PrintRanges_Other","Prt_TOT4.1",{"$f":"RIGHT(CELL(\"filename\",INDIRECT(B113)),LEN(CELL(\"filename\",INDIRECT(B113)))-FIND(\"]\",CELL(\"filename\",INDIRECT(B113))))","v":"Schedule 4.1"}]
[null,"Prt_TOT4.2",{"$f":"RIGHT(CELL(\"filename\",INDIRECT(B114)),LEN(CELL(\"filename\",INDIRECT(B114)))-FIND(\"]\",CELL(\"filename\",INDIRECT(B114))))","v":"Schedules 4.2,4.3,4.4"}]
[null,"Prt_TOT4.3",{"$f":"RIGHT(CELL(\"filename\",INDIRECT(B115)),LEN(CELL(\"filename\",INDIRECT(B115)))-FIND(\"]\",CELL(\"filename\",INDIRECT(B115))))","v":"Schedules 4.2,4.3,4.4"}]
[null,"Prt_TOT4.4",{"$f":"RIGHT(CELL(\"filename\",INDIRECT(B116)),LEN(CELL(\"filename\",INDIRECT(B116)))-FIND(\"]\",CELL(\"filename\",INDIRECT(B116))))","v":"Schedules 4.2,4.3,4.4"}]
[]
[]
["PrintRanges_Backup","BkpAvgCost",{"$f":"RIGHT(CELL(\"filename\",INDIRECT(B119)),LEN(CELL(\"filename\",INDIRECT(B119)))-FIND(\"]\",CELL(\"filename\",INDIRECT(B119))))","v":"Average Costs"}]
[null,"BkpReconciliation","Reconciliation"]
[null,"BkpCoverage","Coverage"]
[null,"BkpCustomers","Customers"]
[null,"BkpOAMSummary","O&M Summary"]
[null,"BkpAllocMisc","AllocMisc"]
[null,"BkpAllocPlt","AllocPlt"]
[null,"BkpIndexPlt",{"$f":"RIGHT(CELL(\"filename\",INDIRECT(B126)),LEN(CELL(\"filename\",INDIRECT(B126)))-FIND(\"]\",CELL(\"filename\",INDIRECT(B126))))","v":"AllocPlt"}]
[null,"BkpAllocNBV",{"$f":"RIGHT(CELL(\"filename\",INDIRECT(B127)),LEN(CELL(\"filename\",INDIRECT(B127)))-FIND(\"]\",CELL(\"filename\",INDIRECT(B127))))","v":"AllocNBV"}]
[null,"BkpAllocDep","AllocDep"]
[null,"BkpSPLT","SPLTDetails"]
[null,"BkpSNBV","SNBVDetails"]
[null,"BkpSDEP","SDEPDetails"]
[null,"BkpSysPlant","SystemizedPlant"]
[null,"BkpThermalDmd","Other Unit Costs"]
[null,"BkpGenAED","AED"]
[null,"BkpTransAED","AED"]
[]
[]
[]
[]
["Navigate List:"]
["Revenue Requirement","PRT_TOT1.1"]
["Return on Rate Base","PRT_TOT1.1p2"]
["Rev to Cost","PRT_TOT1.2"]
["Deficit Allocation","PRT_TOT1.2.1"]
["Unit Costs","PRT_TOT1.3"]
["Average Costs","BkpAvgCost"]
["NP Rates","PRT_TOT1.4"]
["NP thermal Generation Credit","PRT_TOT1.5"]
["Firming Up Charge","PRT_TOT1.6"]
["Wheeling Charge","PRT_TOT1.7"]
["Isl Int Rev Reqmt","PRT_IINT2.1"]
["Isl Int Plant","PRT_IINT2.2"]
["Isl Int NBV","PRT_IINT2.3"]
["Isl Int O&M Expense","PRT_IINT2.4"]
["Isl Int Depreciation","PRT_IINT2.5"]
["Isl Int Rate Base","PRT_IINT2.6"]
["Isl Int Class Alloc Basis","PRT_IINT3.1"]
["Isl Int Class Allocation ","PRT_IINT3.2"]
["Isl Int Specifically Assigned","PRT_IINT3.3"]
["Isl Iso Rev Reqmt","PRT_IISO2.1"]
["Isl Iso Plant","PRT_IISO2.2"]
["Isl Iso NBV","PRT_IISO2.3"]
["Isl Iso O&M Expense","PRT_IISO2.4"]
["Isl Iso Depreciation","PRT_IISO2.5"]
["Isl Iso Rate Base","PRT_IISO2.6"]
["Isl Iso Class Alloc Basis","PRT_IISO3.1"]
["Isl Iso Class Allocation ","PRT_IISO3.2"]
["Lab Iso Rev Reqmt","PRT_LISO2.1"]
["Lab Iso Plant","PRT_LISO2.2"]
["Lab Iso NBV","PRT_LISO2.3"]
["Lab Iso O&M Expense","PRT_LISO2.4"]
["Lab Iso Depreciation","PRT_LISO2.5"]
["Lab Iso Rate Base","PRT_LISO2.6"]
["Lab Iso Class Alloc Basis","PRT_LISO3.1"]
["Lab Iso Class Allocation ","PRT_LISO3.2"]
["LAL Rev Reqmt","PRT_LAL2.1"]
["LAL Plant","PRT_LAL2.2"]
["LAL NBV","PRT_LAL2.3"]
["LAL O&M Expense","PRT_LAL2.4"]
["LAL Depreciation","PRT_LAL2.5"]
["LAL Rate Base","PRT_LAL2.6"]
["LAL Class Alloc Basis","PRT_LAL3.1"]
["LAL Class Allocation ","PRT_LAL3.2"]
["Lab Int Rev Reqmt","PRT_LINT2.1"]
["Lab Int Plant","PRT_LINT2.2"]
["Lab Int NBV","PRT_LINT2.3"]
["Lab Int O&M Expense","PRT_LINT2.4"]
["Lab Int Depreciation","PRT_LINT2.5"]
["Lab Int Rate Base","PRT_LINT2.6"]
["Lab Int Class Alloc Basis","PRT_LINT3.1"]
["Lab Int Class Allocation ","PRT_LINT3.2"]
["Functional Classification Ratios","Prt_TOT4.1"]
["Load Factor","Prt_TOT4.2"]
["Holyrood Capacity","Prt_TOT4.3"]
["Purchased Power","Prt_TOT4.4"]
["AED Ratios","BkpGenAED"]
["Customers","BkpCustomers"]

{"sheet":"Rev to Cost (OLD)","index":44,"n_rows":329,"n_cols":11,"rows_kept":329,"cut":false,"hidden":false,"merged":[]}
[]
[null,null,null,null,null,null,null,null,"Schedule 1.2"]
[null,null,null,null,null,null,null,null,"Page 1 of 6"]
[]
[]
["NEWFOUNDLAND AND LABRADOR HYDRO"]
[{"$f":"RunName","v":"2019 Test Year Cost of Service Study"}]
["Total System"]
["Comparison of Revenue & Allocated Revenue Requirement"]
[]
[null,{"$f":"MAX(A11)+NoOne","v":1},2,3,4,5,6,7,8]
[]
[null,null,null,"Cost of Service Before",null,null,null,"Revenue Requirement ","Revenue"]
["Line",null,null,"Deficit and Revenue","Revenue",null,"RSP","After Deficit and Revenue","to Cost"]
["No.","Rate Class","Revenues","Credit Allocation","Credits","Deficit","Activity","Credit Allocation","Coverage"]
[null,null,null,null,null,null,null,"(Col.3+4+5+6)","(Col.2/3)"]
[null,null,"($)","($)","($)","($)","($)","($)"]
[]
[]
[null,"Total System"]
[{"$f":"MAX(A18:A20)+NoOne","v":1},"Newfoundland Power",{"$f":"C66","v":545410154},{"$f":"D66","v":475103607.91961205},0,53047235.035856873,0,{"$f":"SUM(D21:G21)","v":528150842.95546889}]
[{"$f":"MAX(A19:A21)+NoOne","v":2},"RSP Activity",{"$f":"C67","v":0},0,0,0,0,{"$f":"SUM(D22:G22)","v":0}]
[{"$f":"MAX(A20:A22)+NoOne","v":3},"Subtotal Newfoundland Power",{"$f":"SUM(C21:C22)","v":545410154},475103607.91961205,0,53047235.035856873,0,528150842.95546889,{"$f":"IF(D23<>0,C23/D23,0)","v":1.1479815032098932},{"$f":"H23/D23","v":1.1116540353548157}]
[]
[{"$f":"MAX(A22:A24)+NoOne","v":4},"Island Industrial ",{"$f":"C73","v":49754122.895168297},{"$f":"D73","v":49773741.238407478},{"$f":"E73","v":0},0,null,{"$f":"H73","v":49773741.238407478},{"$f":"C25/D25","v":0.99960584953529585}]
[{"$f":"MAX(A23:A25)+NoOne","v":5},"Unallocated RSP Hydraulic Variation",{"$f":"+C75","v":0},{"$f":"+D75","v":0},{"$f":"+E75","v":0},{"$f":"+F75","v":0},null,{"$f":"+H75","v":0},{"$f":"+I75","v":0}]
[{"$f":"MAX(A24:A26)+NoOne","v":6},"Labrador Industrial ",{"$f":"+C225","v":6860189.9829385635},{"$f":"+D225","v":6860189.9829385635},{"$f":"+E225","v":0},0,null,{"$f":"SUM(D27:F27)","v":6860189.9829385635},{"$f":"C27/D27","v":1}]
[{"$f":"MAX(A25:A27)+NoOne","v":7},"CFB - Goose Bay Secondary",{"$f":"+C227","v":0},{"$f":"+D227","v":0},{"$f":"+E227","v":0},0,null,{"$f":"+C28","v":0},{"$f":"IF(C28<>0,C28/D28,0)","v":0}]
[{"$f":"MAX(A26:A28)+NoOne","v":8},"Rural Labrador Interconnected",{"$f":"C238","v":22507619.990959194},{"$f":"D238","v":19651556.790840652},{"$f":"E238","v":0},{"$f":"C327","v":7388302.5121377213},null,{"$f":"SUM(D29:F29)","v":27039859.302978374},{"$f":"C29/D29","v":1.1453352134142225},{"$f":"H29/D29","v":1.3759652525636705}]
[]
[null,"Rural Deficit Areas"]
[{"$f":"MAX(A29:A31)+NoOne","v":9},"Island Interconnected",{"$f":"C87","v":53526605.962164946},{"$f":"D87","v":65005034.094614215},{"$f":"E87","v":0},{"$f":"C32-D32-E32","v":-11478428.132449269},null,{"$f":"SUM(D32:F32)","v":53526605.962164946},{"$f":"C32/D32","v":0.82342247346963116}]
[{"$f":"MAX(A30:A32)+NoOne","v":10},"Island Isolated",{"$f":"C128","v":1740167.8632971486},{"$f":"D128","v":12094867.756900139},{"$f":"E128","v":0},{"$f":"C33-D33-E33","v":-10354699.89360299},null,{"$f":"SUM(D33:F33)","v":1740167.8632971495},{"$f":"C33/D33","v":0.14387655146575543}]
[{"$f":"MAX(A31:A33)+NoOne","v":11},"Labrador Isolated",{"$f":"C166","v":9656445.569178151},{"$f":"D166","v":43754613.780720189},{"$f":"E166","v":0},{"$f":"C34-D34-E34","v":-34098168.21154204},null,{"$f":"SUM(D34:F34)","v":9656445.5691781491},{"$f":"C34/D34","v":0.22069548179701035}]
[{"$f":"MAX(A32:A34)+NoOne","v":12},"L'Anse au Loup",{"$f":"C198","v":3238389.2780072386},{"$f":"D198","v":7742630.5884075342},{"$f":"E198","v":0},{"$f":"C35-D35-E35","v":-4504241.310400296},null,{"$f":"SUM(D35:F35)","v":3238389.2780072382},{"$f":"C35/D35","v":0.41825439571608108}]
[{"$f":"MAX(A33:A35)+NoOne","v":13},{"$f":"+\"Revenue Credit Applied to Deficit (\"&FIXED(RunOptions!B21*100,1)&\"%)\"","v":"Revenue Credit Applied to Deficit (100.0%)"},0,0,{"$f":"-E227","v":0},{"$f":"C36-D36-E36","v":0},null,{"$f":"SUM(D36:F36)","v":0},{"$f":"IF(D36<>0,C36/D36,0)","v":0}]
[]
[{"$f":"MAX(A35:A37)+NoOne","v":14},"Subtotal",{"$f":"SUM(C32:C36)","v":68161608.672647476},128597146.22064207,0,-60435537.547994599,0,68161608.672647476,{"$f":"C38/D38","v":0.5300398234008894}]
[]
[{"$f":"MAX(A37:A39)+NoOne","v":15},"Total",{"$f":"SUM(C23:C29,C38)","v":692693695.54171348},679986242.15244091,0,0,0,679986242.15244079,{"$f":"C40/D40","v":1.0186878095489817}]
[]
[]
[]
[]
[]
[]
[]
[null,null,null,null,null,null,null,null,"Schedule 1.2"]
[null,null,null,null,null,null,null,null,"Page 2 of 6"]
[]
[]
[{"$f":"+A6","v":"NEWFOUNDLAND AND LABRADOR HYDRO"}]
[{"$f":"RunName","v":"2019 Test Year Cost of Service Study"}]
["Island Interconnected"]
["Comparison of Revenue & Allocated Revenue Requirement"]
[]
[null,{"$f":"MAX(A57)+NoOne","v":1},2,3,4,5,6,7,8]
[]
[null,null,null,"Cost of Service Before",null,null,null,"Revenue Requirement ","Revenue"]
["Line",null,null,"Deficit and Revenue","Revenue","Deficit","RSP","After Deficit and Revenue","to Cost"]
["No.","Rate Class","Revenues","Credit Allocation","Credit","Allocation","Activity","Credit Allocation","Coverage"]
[null,null,null,null,null,null,null,"(Col.3+4+5+6)","(Col.2/3)"]
[null,null,"($)","($)","($)","($)","($)","($)"]
[]
[null,"Island Interconnected"]
[{"$f":"MAX(A63:A65)+NoOne","v":1},"Newfoundland Power",545410154,{"$f":"IslIntCos!F483","v":475103607.91961205},{"$f":"(D66/($D$66+$D$70+$D$87))*-$E$95","v":0},{"$f":"+C323","v":53047235.035856873},{"$f":"-G67","v":0},{"$f":"SUM(D66:G66)","v":528150842.95546889}]
[{"$f":"MAX(A64:A66)+NoOne","v":2},"NLP RSP Activity",0,null,null,null,null,{"$f":"SUM(D67:G67)","v":0}]
[{"$f":"MAX(A65:A67)+NoOne","v":3},"Subtotal Newfoundland Power",{"$f":"SUM(C66:C67)","v":545410154},475103607.91961205,0,53047235.035856873,0,528150842.95546889,{"$f":"IF(D68<>0,C68/D68,0)","v":1.1479815032098932}]
[]
[{"$f":"MAX(A67:A69)+NoOne","v":4},"Industrial - Firm",49754122.895168297,{"$f":"IslIntCos!F484","v":49773741.238407478},{"$f":"(D70/($D$66+$D$70+$D$87))*-$E$95","v":0},null,null,{"$f":"SUM(D70:F70)","v":49773741.238407478}]
[{"$f":"MAX(A68:A70)+NoOne","v":5},"Industrial - Non-Firm",0,{"$f":"IslIntCos!F485","v":0},{"$f":"+E95","v":0},null,null,{"$f":"+C71","v":0}]
[{"$f":"MAX(A69:A71)+NoOne","v":6},"Industrial RSP Activity",0,null,null,null,null,{"$f":"SUM(D72:F72)","v":0}]
[{"$f":"MAX(A70:A72)+NoOne","v":7},"Subtotal Industrial",{"$f":"SUM(C70:C72)","v":49754122.895168297},{"$f":"SUM(D70:D72)","v":49773741.238407478},{"$f":"SUM(E70:E72)","v":0},{"$f":"SUM(F70:F72)","v":0},null,{"$f":"SUM(H70:H72)","v":49773741.238407478},{"$f":"IF(D73<>0,C73/D73,0)","v":0.99960584953529585}]
[]
[{"$f":"MAX(A72:A74)+NoOne","v":8},"Unallocated RSP Hydraulic Variation",0]
[]
[null,"Rural"]
[{"$f":"MAX(A75:A77)+NoOne","v":9},"1.1 Domestic",14708835.44107319,{"$f":"IslIntCos!F487","v":24451582.191863324},{"$f":"(D78/($D$66+$D$70+$D$87))*-$E$95","v":0},{"$f":"C78-D78-E78","v":-9742746.7507901341},null,{"$f":"SUM(D78:F78)","v":14708835.44107319},{"$f":"IF(D78<>0,C78/D78,0)","v":0.60154943453793364},null,"ISLINT1.1"]
[10,"1.12 Domestic All Electric ",18533125.401324272,{"$f":"IslIntCos!F488","v":27851623.120448608},0,{"$f":"C79-D79-E79","v":-9318497.7191243358},null,18533125.401324272,0.66542353101558693,null,"ISLINT1.12"]
[11,"1.3 Special",21487.532051999999,{"$f":"IslIntCos!F489","v":76406.72854940535},0,-54919.196497405355,null,21487.532051999995,0.28122565198045285,null,"ISLINT1.3"]
[12,"2.1 General Service 0-10 kW",9613910.0404861346,null,null,null,null,null,null,null,"ISLINT2.1"]
[13,"2.2 General Service 10-100 kW",0,{"$f":"IslIntCos!F491","v":0},0,0,null,0,0,null,"ISLINT2.2"]
[14,"2.3 General Service 110-1,000 kVa",6160288.529852489,{"$f":"IslIntCos!F492","v":7392213.7042125827},0,-1231925.1743600937,null,6160288.529852489,0.83334827378460941,null,"ISLINT2.3"]
[15,"2.4 General Service Over 1,000 kVa",3378237.7086544633,{"$f":"IslIntCos!F493","v":3930235.7946861647},0,-551998.08603170142,null,3378237.7086544633,{"$f":"IF(D84<>0,C84/D84,0)","v":0.85955089850384425},null,"ISLINT2.4"]
[16,"4.1 Street and Area Lighting",1110721.3087224003,{"$f":"IslIntCos!F494","v":1302972.554854135},0,-192251.24613173469,null,1110721.3087224003,0.85245180689684075,null,"ISLINT4.1"]
[]
[{"$f":"MAX(A84:A86)+NoOne","v":17},"Subtotal Rural",{"$f":"SUM(C78:C85)","v":53526605.962164946},{"$f":"SUM(D78:D85)","v":65005034.094614215},{"$f":"SUM(E78:E85)","v":0},{"$f":"SUM(F78:F85)","v":-21092338.172935404},null,{"$f":"SUM(H78:H85)","v":43912695.921678811},{"$f":"IF(D87<>0,C87/D87,0)","v":0.82342247346963116},{"$f":"0.00003*C87","v":1605.7981788649483}]
[{"$f":"MAX(A85:A87)+NoOne","v":18},"Total Island Interconnected",{"$f":"SUM(C87,C73,C68,C75)","v":648690882.85733318},{"$f":"SUM(D87,D73,D68,D75)","v":589882383.25263381},{"$f":"SUM(E87,E73,E68,E75)","v":0},{"$f":"SUM(F87,F73,F68,F75)","v":31954896.862921469},null,{"$f":"SUM(H87,H73,H68,H75)","v":621837280.11555517},{"$f":"IF(D88<>0,C88/D88,0)","v":1.0996952973581395}]
[]
[]
[null,"Note1:"]
[null,"Calculation of Island Industrial Non-Firm Revenue Credit"]
[null,"Island Industrial Non-Firm Revenues, Ln 5, Col 2",null,null,{"$f":"C71","v":0}]
[null,"Island Industrial Non-Firm Allocated Cost of Service, Ln 5, Col 3",null,null,{"$f":"-D71","v":0}]
[null,"Credit to be allocated to Island Interconnected Firm Customers ",null,null,{"$f":"SUM(E93:E94)","v":0}]
[]
[null,null,null,null,null,null,null,null,"Schedule 1.2"]
[null,null,null,null,null,null,null,null,"Page 3 of 6"]
[]
[]
[{"$f":"+A6","v":"NEWFOUNDLAND AND LABRADOR HYDRO"}]
[{"$f":"RunName","v":"2019 Test Year Cost of Service Study"}]
["Island Isolated"]
["Comparison of Revenue & Allocated Revenue Requirement"]
[]
[null,{"$f":"MAX(A106)+NoOne","v":1},2,3,4,5,6,7,8]
[]
[null,null,null,"Cost of Service Before",null,null,null,"Revenue Requirement ","Revenue"]
["Line",null,null,"Deficit and Revenue","Revenue",null,"RSP","After Deficit and Revenue","to Cost"]
["No.","Rate Class","Revenues","Credit Allocation","Credit","Deficit","Activity","Credit Allocation","Coverage"]
[null,null,null,null,null,null,null,"(Col.3+4+5+6)","(Col.2/3)"]
[null,null,"($)","($)","($)","($)","($)","($)"]
[]
[]
[null,"Island Isolated"]
[{"$f":"MAX(A113:A115)+NoOne","v":1},"1.2 Domestic Diesel",848643.79843814182,{"$f":"IslIsoCos!F420","v":9274095.4044387098},null,{"$f":"C116-D116","v":-8425451.6060005687},null,{"$f":"SUM(D116,F116)","v":848643.79843814112},{"$f":"IF(D116<>0,C116/D116,0)","v":9.1506908375340756E-2},null,"ISLISO1.2"]
[2,"1.2G Government Domestic Diesel",0,{"$f":"IslIsoCos!F421","v":0},null,{"$f":"C117-D117","v":0},null,0,0,null,"ISLISO1.2G"]
[3,"1.23 Churches, Schools & Com Halls",68579.614287483317,{"$f":"IslIsoCos!F422","v":361612.23726291786},null,-293032.62297543453,null,68579.614287483331,0.18964959484383007,null,"ISLISO1.23"]
[4,"2.1 General Service 0-10 kW",232368.09529035405,{"$f":"IslIsoCos!F423","v":980765.62617039459},null,-748397.53088004049,null,232368.0952903541,0.2369252032187181,null,"ISLISO2.1D"]
[5,"2.2 GS 10-100 kW",541732.56168036966,{"$f":"IslIsoCos!F424","v":1247182.0959655303},null,-705449.5342851606,null,541732.56168036966,0.43436524901440066,null,"ISLISO2.2D"]
[6,"2.3 GS 110-1,000 kVa",0,{"$f":"IslIsoCos!F425","v":0},null,0,null,0,0,null,"ISLISO2.3"]
[7,"2.4 General Service Over 1,000 kVa",0,{"$f":"IslIsoCos!F426","v":0},null,0,null,0,0,null,"ISLISO2.4"]
[8,"2.5 GS Diesel",0,{"$f":"IslIsoCos!F427","v":0},null,0,null,0,0,null,"ISLISO2.1G"]
[9,"2.5G Gov't General Service Diesel",0,{"$f":"IslIsoCos!F428","v":0},null,0,null,0,0,null,"ISLISO2.5G"]
[10,"4.1 Street and Area Lighting",42520.753600799981,{"$f":"IslIsoCos!F429","v":220898.11754990235},null,-178377.36394910238,null,42520.753600799973,0.19249033931307385,null,"ISLISO4.1"]
[11,"4.1G Gov't Street and Area Lighting",6323.04,{"$f":"IslIsoCos!F430","v":10314.275512684264},null,-3991.235512684264,null,6323.04,0.61303772545382051,null,"ISLISO4.1G"]
[]
[{"$f":"MAX(A125:A127)+NoOne","v":12},"      Total",{"$f":"SUM(C116:C126)","v":1740167.8632971486},{"$f":"SUM(D116:D126)","v":12094867.756900139},null,{"$f":"SUM(F116:F126)","v":-10354699.893602993},null,{"$f":"SUM(H116:H126)","v":1740167.8632971481},{"$f":"IF(D128<>0,C128/D128,0)","v":0.14387655146575543}]
[]
[]
[]
[]
[]
[]
[null,null,null,null,null,null,null,null,"Schedule 1.2"]
[null,null,null,null,null,null,null,null,"Page 4 of 6"]
[]
[]
[{"$f":"+A6","v":"NEWFOUNDLAND AND LABRADOR HYDRO"}]
[{"$f":"RunName","v":"2019 Test Year Cost of Service Study"}]
["Labrador Isolated"]
["Comparison of Revenue & Allocated Revenue Requirement"]
[]
[null,{"$f":"MAX(A144)+NoOne","v":1},2,3,4,5,6,7,8]
[]
[null,null,null,"Cost of Service Before",null,null,null,"Revenue Requirement ","Revenue"]
["Line",null,null,"Deficit and Revenue","Revenue",null,"RSP","After Deficit and Revenue","to Cost"]
["No.","Rate Class","Revenues","Credit Allocation","Credit","Deficit","Activity","Credit Allocation","Coverage"]
[null,null,null,null,null,null,null,"(Col.3+4+5+6)","(Col.2/3)"]
[null,null,"($)","($)","($)","($)","($)","($)"]
[]
[]
[null,"Labrador Isolated"]
[{"$f":"MAX(A151:A153)+NoOne","v":1},"1.2 Domestic Diesel",3325540.7394235041,{"$f":"LabIsoCos!F421","v":23516331.125814438},null,{"$f":"C154-D154","v":-20190790.386390932},null,{"$f":"SUM(D154,F154)","v":3325540.739423506},{"$f":"IF(D154<>0,C154/D154,0)","v":0.1414140973620234},null,"LABISO1.2"]
[2,"1.2G Government Domestic Diesel",668148.84746889293,{"$f":"LabIsoCos!F422","v":628099.33194790233},null,{"$f":"C155-D155","v":40049.515520990593},null,668148.84746889293,1.0637630283681188,null,"LABISO1.2G"]
[3,"1.23 Churches, Schools & Com Halls",301419.01768583327,{"$f":"LabIsoCos!F423","v":1283899.6118939507},null,-982480.59420811746,null,301419.01768583327,0.23476836887674851,null,"LABISO1.23"]
[4,"2.1 General Service 0-10 kW",1397564.3994720904,{"$f":"LabIsoCos!F424","v":4345644.3631630223},null,-2948079.9636909319,null,1397564.3994720904,0.32160119022138728,null,"LABISO2.1D"]
[5,"2.2 GS 10-100 kW",3336130.8805633564,{"$f":"LabIsoCos!F425","v":10103273.797523256},null,-6767142.9169599004,null,3336130.880563356,0.33020295672687644,null,"LABISO2.2"]
[6,"2.3 GS 110-1,000 kVa",259744.19517038233,{"$f":"LabIsoCos!F426","v":1605874.3566697568},null,-1346130.1614993745,null,259744.19517038227,0.16174627491346008,null,"LABISO2.3"]
[7,"2.4 General Service Over 1,000 kVa",235104.00647968909,{"$f":"LabIsoCos!F427","v":1850536.26289166},null,-1615432.2564119708,null,235104.00647968915,0.12704641956721996,null,"LABISO2.4"]
[8,"2.5 GS Diesel",0,{"$f":"LabIsoCos!F428","v":0},null,0,null,0,0,null,"LABISO2.5"]
[9,"2.5G Gov't General Service Diesel",0,{"$f":"LabIsoCos!F429","v":0},null,0,null,0,0,null,"LABISO2.5G"]
[10,"4.1 Street and Area Lighting",123929.92291439998,{"$f":"LabIsoCos!F430","v":411064.95952958916},null,-287135.03661518916,null,123929.9229144,0.30148500873492551,null,"LABISO4.1"]
[11,"4.1G Gov't Street and Area Lighting",8863.56,{"$f":"LabIsoCos!F431","v":9889.9712866247046},null,{"$f":"C164-D164","v":-1026.4112866247051},null,8863.56,0.89621695990029482,null,"LABISO4.1G"]
[]
[{"$f":"MAX(A163:A165)+NoOne","v":12},"      Total",{"$f":"SUM(C154:C164)","v":9656445.569178151},{"$f":"SUM(D154:D164)","v":43754613.780720189},null,-34098168.21154204,null,{"$f":"SUM(H154:H164)","v":9656445.569178151},{"$f":"IF(D166<>0,C166/D166,0)","v":0.22069548179701035}]
[]
[]
[]
[]
[]
[]
[null,null,null,null,null,null,null,null,"Schedule 1.2"]
[null,null,null,null,null,null,null,null,"Page 5 of 6"]
[]
[]
[{"$f":"+A6","v":"NEWFOUNDLAND AND LABRADOR HYDRO"}]
[{"$f":"RunName","v":"2019 Test Year Cost of Service Study"}]
["L'Anse au Loup"]
["Comparison of Revenue & Allocated Revenue Requirement"]
[]
[null,{"$f":"MAX(A182)+NoOne","v":1},2,3,4,5,6,7,8]
[]
[null,null,null,"Cost of Service Before",null,null,null,"Revenue Requirement ","Revenue"]
["Line",null,null,"Deficit and Revenue","Revenue",null,"RSP","After Deficit and Revenue","to Cost"]
["No.","Rate Class","Revenues","Credit Allocation","Credit","Deficit","Activity","Credit Allocation","Coverage"]
[null,null,null,null,null,null,null,"(Col.3+4+5+6)","(Col.2/3)"]
[null,null,"($)","($)","($)","($)","($)","($)"]
[]
[null,"L'Anse au Loup"]
[{"$f":"MAX(A188:A190)+NoOne","v":1},"1.1 Domestic",596496.26495162677,{"$f":"LALCos!F395","v":1603999.3196259073},null,{"$f":"C191-D191","v":-1007503.0546742806},null,{"$f":"SUM(D191,F191)","v":596496.26495162677},{"$f":"IF(D191<>0,C191/D191,0)","v":0.37188062217554091},null,"LAL1.2"]
[2,"1.12 Domestic All Electric ",1431038.465207919,{"$f":"LALCos!F396","v":3616545.6555972747},null,{"$f":"C192-D192","v":-2185507.1903893556},null,1431038.465207919,0.39569207787910038,null,"LAL1.12"]
[3,"2.1 General Service 0-10 kW",859548.49587483029,{"$f":"LALCos!F397","v":1826265.1471213726},null,-966716.65124654234,null,859548.49587483029,0.47065920150186447,null,"LAL2.1"]
[4,"2.2 General Service 10-100 kW",0,{"$f":"LALCos!F398","v":0},null,0,null,0,0,null,"LAL2.2"]
[5,"2.3 General Service 110-1,000 kVa",330152.37845126266,{"$f":"LALCos!F399","v":648270.03716497507},null,-318117.65871371242,null,330152.37845126266,0.50928218107239742,null,"LAL2.3"]
[6,"4.1 Street and Area Lighting",21153.673521600002,{"$f":"LALCos!F400","v":47550.428898004517},null,-26396.755376404515,null,21153.673521600002,0.44486819597304889,null,"LAL4.1"]
[]
[{"$f":"MAX(A195:A197)+NoOne","v":7},"Total L'Anse Au Loup",{"$f":"SUM(C191:C196)","v":3238389.2780072386},{"$f":"SUM(D191:D196)","v":7742630.5884075342},null,-4504241.310400296,null,{"$f":"SUM(H191:H196)","v":3238389.2780072386},{"$f":"IF(D198<>0,C198/D198,0)","v":0.41825439571608108}]
[]
[]
[]
[]
[]
[]
[null,null,null,null,null,null,null,null,"Schedule 1.2"]
[null,null,null,null,null,null,null,null,"Page 6 of 6"]
[]
[]
[{"$f":"+A6","v":"NEWFOUNDLAND AND LABRADOR HYDRO"}]
[{"$f":"RunName","v":"2019 Test Year Cost of Service Study"}]
["Labrador Interconnected"]
["Comparison of Revenue & Allocated Revenue Requirement"]
[null,{"$f":"MAX(A213)+NoOne","v":1},2,3,4,5,6,7,8]
[]
[null,null,null,"Cost of Service Before",null,null,null,"Revenue Requirement ","Revenue"]
["Line",null,null,"Deficit and Revenue","Revenue","Deficit","RSP","After Deficit and Revenue","to Cost"]
["No.","Rate Class","Revenues","Credit Allocation","Credit","Allocation","Activity","Credit Allocation","Coverage"]
[null,null,null,null,null,null,null,"(Col.3+4+5+6)","(Col.2/3)"]
[null,null,"($)","($)","($)","($)","($)","($)"]
[]
[null,"Labrador Interconnected"]
[{"$f":"MAX(A219:A221)+NoOne","v":1},"Labrador Industrial Firm",{"$f":"+D222","v":6860189.9829385635},{"$f":"LabIntCos!F454","v":6860189.9829385635},null,{"$f":"$F$27*(D222/SUM($D$222:$D$223))","v":0},null,{"$f":"SUM(D222:F222)","v":6860189.9829385635},{"$f":"IF(D222<>0,C222/D222,0)","v":1}]
[{"$f":"MAX(A220:A222)+NoOne","v":2},"Labrador Industrial Non-Firm",{"$f":"+D223","v":0},{"$f":"+LabIntCos!F455","v":0},null,{"$f":"$F$27*(D223/SUM($D$222:$D$223))","v":0},null,{"$f":"SUM(D223:F223)","v":0},{"$f":"IF(D223<>0,C223/D223,0)","v":0}]
[{"$f":"MAX(A221:A223)+NoOne","v":3},"MFP Construction",0,{"$f":"+LabIntCos!F456","v":0},{"$f":"+C224-D224","v":0},{"$f":"$F$27*(D224/SUM($D$222:$D$223))","v":0},null,{"$f":"SUM(D224:F224)","v":0},{"$f":"IF(D224<>0,C224/D224,0)","v":0}]
[{"$f":"MAX(A222:A224)+NoOne","v":4},"Subtotal Industrial",{"$f":"+C222+C223+C224","v":6860189.9829385635},{"$f":"+D222+D223+D224","v":6860189.9829385635},{"$f":"+E222+E223+E224","v":0},{"$f":"+F222+F223","v":0},null,{"$f":"+H222+H223+H224","v":6860189.9829385635},{"$f":"IF(D225<>0,C225/D225,0)","v":1}]
[]
[{"$f":"MAX(A224:A226)+NoOne","v":5},"CFB - Goose Bay Secondary",0,{"$f":"LabIntCos!F453","v":0},{"$f":"+E246","v":0},0,null,{"$f":"SUM(D227:F227)","v":0},{"$f":"IF(D227<>0,C227/D227,0)","v":0}]
[]
[null,"Rural"]
[{"$f":"MAX(A227:A229)+NoOne","v":6},"1.1 Domestic ",109454.85680270228,{"$f":"LabIntCos!F458","v":215092.65899860079},{"$f":"-$E$249*(D230/$D$238)","v":0},{"$f":"(D230/$D$238)*$F$29","v":80867.365865000407},null,{"$f":"SUM(D230:F230)","v":295960.0248636012},{"$f":"IF(D230<>0,C230/D230,0)","v":0.50887304714297243},null,"LEINT1.1"]
[7,"1.1A Domestic All Electric ",12338690.184692886,{"$f":"LabIntCos!F459","v":12011207.327792181},0,4515796.5965879979,null,16527003.924380179,1.0272647743031591,null,"LEINT1.12"]
[8,"2.1 General Service 0-10 kW",455136.11659505049,{"$f":"LabIntCos!F460","v":394806.49354968488},0,148433.52306118445,null,543240.01661086932,1.1528080820123932,null,"LEINT2.1"]
[9,"2.2 General Service 10-100 kW",2508183.0379712135,{"$f":"LabIntCos!F461","v":1867500.4616819066},0,702115.28273900948,null,2569615.7444209158,1.3430695678180962,null,"LEINT2.2"]
[10,"2.3 General Service 110-1,000 kVa",3890717.1723198113,{"$f":"LabIntCos!F462","v":2586689.6382659478},0,972505.42315448681,null,3559195.0614204346,1.5041298788856829,null,"LEINT2.3"]
[11,"2.4 General Service Over 1,000 kVa",2844173.4625775311,{"$f":"LabIntCos!F463","v":2272282.3225295786},0,854299.19728579698,null,3126581.5198153756,1.251681375319289,null,"LEINT2.4"]
[12,"4.1 Street and Area Lighting",361265.16,{"$f":"LabIntCos!F464","v":303977.88802275388},0,114285.12344424584,null,418263.01146699971,1.188458681484615,null,"LEINT4.1"]
[]
[{"$f":"MAX(A235:A237)+NoOne","v":13},"Subtotal Rural",{"$f":"SUM(C230:C236)","v":22507619.990959194},{"$f":"SUM(D230:D236)","v":19651556.790840652},{"$f":"SUM(E230:E236)","v":0},{"$f":"SUM(F230:F236)","v":7388302.5121377222},null,{"$f":"SUM(D238:F238)","v":27039859.302978374},{"$f":"IF(D238<>0,C238/D238,0)","v":1.1453352134142225}]
[{"$f":"MAX(A236:A238)+NoOne","v":14},"Total Labrador Interconnected",{"$f":"+C238+C227+C225","v":29367809.973897755},{"$f":"+D238+D227+D225","v":26511746.773779213},{"$f":"+E238+E227+E225","v":0},{"$f":"+F238+F227+F225","v":7388302.5121377222},null,{"$f":"SUM(D239:F239)","v":33900049.285916939},{"$f":"IF(D239<>0,C239/D239,0)","v":1.107728216646338}]
[]
[null,"Note1:"]
[null,"Calculation of CFB - Goose Bay Secondary Revenue Credit"]
[null,"CFB - Goose Bay Secondary Revenues, Ln 4, Col 2",null,null,{"$f":"+C227","v":0}]
[null,"CFB - Goose Bay Secondary Allocated Cost of Service, Ln 4, Col 3",null,null,{"$f":"-D227","v":0}]
[null,"CFB - Goose Bay Secondary Allocated Deficit, Ln 4, Col 5",null,null,0]
[null,"Revenue Credit",null,null,{"$f":"SUM(E243:E245)","v":0}]
[]
[null,"Revenue Credit Applied to Deficit",null,{"$f":"+RunOptions!B21","v":1},{"$f":"+E246*D248","v":0}]
[null,"Revenue Credit Applied to Firm Regulated Labrador Interconnected Customers",null,null,{"$f":"+E246-E248","v":0}]
[null,null,null,null,{"$f":"SUM(E248:E249)","v":0}]
[null,null,null,null,null,null,null,"Schedule 1.2.1"]
[null,null,null,null,null,null,null,"Page 1 of 2"]
[]
[]
[{"$f":"+A6","v":"NEWFOUNDLAND AND LABRADOR HYDRO"}]
[{"$f":"RunName","v":"2019 Test Year Cost of Service Study"}]
["Total System"]
["Rural Deficit Allocation"]
[]
[null,{"$f":"MAX(A260)+NoOne","v":1},2,3,4,5,6]
[]
[null,null,"Before Deficit and Revenue Credit Allocation"]
["Line",null,"Allocated"]
["No.","Rate Class","Revenue Reqt","Demand","Energy","Customer","         Source"]
[null,null,"($)","($)","($)","($)"]
[]
[null,"CLASSIFICATION TO DEMAND, ENERGY, CUSTOMERS:"]
[{"$f":"MAX(A265:A267)+NoOne","v":1},"  Newfoundland Power",{"$f":"SUM(D268:F268)","v":475103607.91961211},{"$f":"'Unit Costs'!Q17","v":191763061.75673005},{"$f":"'Unit Costs'!R17","v":279710698.68565392},{"$f":"'Unit Costs'!S17","v":3629847.4772280767},"  Schedule 1.3.1, p. 1"]
[{"$f":"MAX(A266:A268)+NoOne","v":2},"  Rural Labrador Interconnected",{"$f":"SUM(D269:F269)","v":19651556.790840652},{"$f":"'Unit Costs'!Q126","v":12727263.161686681},{"$f":"'Unit Costs'!R126","v":1050258.6541835847},{"$f":"'Unit Costs'!S126","v":5874034.9749703864},"  Schedule 1.3.1, p. 3"]
[]
[{"$f":"MAX(A268:A270)+NoOne","v":3},"    Total",{"$f":"SUM(C268:C269)","v":494755164.71045274},{"$f":"SUM(D268:D269)","v":204490324.91841674},{"$f":"SUM(E268:E269)","v":280760957.33983749},{"$f":"SUM(F268:F269)","v":9503882.4521984626}]
[]
[{"$f":"MAX(A270:A272)+NoOne","v":4},"    Deficit Classified",{"$f":"-1*F38","v":60435537.547994599},{"$f":"C273-SUM(E273:F273)","v":24978986.762151718},{"$f":"E$271/$C$271*$C$273","v":34295628.605014898},{"$f":"F$271/$C$271*$C$273","v":1160922.1808279839},"  Prorated on Line 3"]
[]
[null,"UNIT COSTS OF DEFICIT:",null,{"$f":"IF(CP_AED_Switch=0,\"AED kW\",\"CP kW\")","v":"CP kW"},"MWH","Customers *"]
[null,"  Island Interconnected:"]
[{"$f":"MAX(A273:A276)+NoOne","v":5},"    Newfoundland Power",null,{"$f":"IF(CP_AED_Switch=0,AED!K17,IslIntCos!G346)","v":1297608.198255355},{"$f":"+IslIntCos!H346","v":6005327.8242558762},{"$f":"F268/$D$292","v":6625.5782391328321}]
[{"$f":"MAX(A275:A277)+NoOne","v":6},"      Subtotal Island Interconnected",null,{"$f":"SUM(D277)","v":1297608.198255355},{"$f":"SUM(E277)","v":6005327.8242558762},{"$f":"SUM(F277)","v":6625.5782391328321}]
[]
[null,"  Labrador Interconnected:"]
[{"$f":"MAX(A278:A280)+NoOne","v":7},"    Rural Labrador Interconnected",null,{"$f":"IF(CP_AED_Switch=0,SUM(AED!K139:K145),LabIntCos!G323)","v":172258.25068021228},{"$f":"+LabIntCos!H323","v":730791.04123374238},{"$f":"F269/$D$293","v":11659.25}]
[{"$f":"MAX(A279:A281)+NoOne","v":8},"      Subtotal Labrador Interconnected",null,{"$f":"SUM(D281)","v":172258.25068021228},{"$f":"SUM(E281)","v":730791.04123374238},{"$f":"SUM(F281)","v":11659.25}]
[{"$f":"MAX(A280:A282)+NoOne","v":9},"  Total",null,{"$f":"SUM(D282,D278)","v":1469866.4489355674},{"$f":"SUM(E282,E278)","v":6736118.8654896189},{"$f":"SUM(F282,F278)","v":18284.828239132832}]
[]
[{"$f":"MAX(A282:A284)+NoOne","v":10},"  Deficit Unit Costs",null,{"$f":"D273/D283","v":16.994051929167266},{"$f":"E273/E283","v":5.0913039525946813},{"$f":"F273/F283","v":63.491008263528606},"  Line 4 / Line 9"]
[null,null,null,"$/KW","$/MWH  ","$/Customer"]
[]
[null,"* Specifically assigned costs are converted to equivalent unweighted customers"]
[null,"  by dividing the assigned cost by the allocated customer cost per unweighted customer."]
[]
[null,"  Rural Customer Costs per Rural Customer:"]
[null,"    Island Interconnected:  ",null,{"$f":"'Unit Costs'!$S$30/('Unit Costs'!$AD$30/12)","v":547.85368857151366}," "]
[null,"    Labrador Interconnected:   ",null,{"$f":"'Unit Costs'!$S$126/('Unit Costs'!$AD$126/12)","v":503.80899071298637}]
[null,null,null,null,null,null,null,"Schedule 1.2.1"]
[null,null,null,null,null,null,null,"Page 2 of 2"]
[]
[]
[{"$f":"+A6","v":"NEWFOUNDLAND AND LABRADOR HYDRO"}]
[{"$f":"RunName","v":"2019 Test Year Cost of Service Study"}]
["Total System"]
["Rural Deficit Allocation"]
[]
["Line",{"$f":"MAX(A303)+NoOne","v":1},2,3,4,5,6]
["No."]
[null,null,"Deficit Allocation"]
[null,null,"Allocated"]
[null,"Rate Class","Revenue Reqt","Demand","Energy","Customer","         Source"]
[null,null,"($)","($)","($)","($)"]
[]
[]
[]
[]
[null,"ALLOCATION OF DEFICIT:"]
[]
[{"$f":"MAX(A285:A314)+NoOne","v":11},"  Island Interconnected",{"$f":"SUM(D315:F315)","v":53047235.035856873},{"$f":"D278*D285","v":22051621.104864676},{"$f":"E278*E285","v":30574949.288260762},{"$f":"F278*F285","v":420664.64273143793},"Line 6 x Line 10"]
[{"$f":"MAX(A313:A315)+NoOne","v":12},"  Labrador Interconnected",{"$f":"SUM(D316:F316)","v":7388302.5121377213},{"$f":"D282*D285","v":2927365.6572870403},{"$f":"E282*E285","v":3720679.3167541353},{"$f":"F282*F285","v":740257.53809654585},"Line 8 x Line 10"]
[]
[{"$f":"MAX(A315:A317)+NoOne","v":13},"    Allocated Totals",{"$f":"SUM(C315:C316)","v":60435537.547994591},{"$f":"SUM(D315:D316)","v":24978986.762151714},{"$f":"SUM(E315:E316)","v":34295628.605014898},{"$f":"SUM(F315:F316)","v":1160922.1808279837}]
[]
[null,"CUSTOMER DEFICIT ALLOCATION:"]
[null,null,"Amount","Percent"]
[null,"  Island Interconnected:"]
[{"$f":"MAX(A318:A322)+NoOne","v":14},"    Newfoundland Power",{"$f":"C268/SUM($C$268:$C$268)*$C$315","v":53047235.035856873},{"$f":"+C323/C329","v":0.87774903952380112}]
[{"$f":"MAX(A321:A323)+NoOne","v":15},"     Sub-Total Island Interconnected",{"$f":"SUM(C323:C323)","v":53047235.035856873}]
[]
[null,"  Labrador Interconnected:"]
[{"$f":"MAX(A324:A326)+NoOne","v":16},"    Rural Labrador Interconnected",{"$f":"C269/SUM($C$269:$C$269)*$C$316","v":7388302.5121377213},{"$f":"+C327/C329","v":0.12225096047619891}]
[{"$f":"MAX(A325:A327)+NoOne","v":17},"      Subtotal Labrador Interconnected",{"$f":"SUM(C327:C327)","v":7388302.5121377213}]
[{"$f":"MAX(A326:A328)+NoOne","v":18},"  Total",{"$f":"SUM(C328,C324)","v":60435537.547994591},{"$f":"+C329/$C$329","v":1}]